{"text_format":"1","workbook":"xlsx","n_sheets":17,"sheets":["MENU","Catégories","liste engagés","scratch","cat1","cat3","cat2","cat4","cat5","cat6","cat7","cat8","cat9","cat10","cat11","cat12","records"],"not_rendered":{"charts":0,"images":0,"macros":1,"external_links":0,"defined_names":44,"comments":0,"pivot_tables":0},"unopened":[],"bounds":{"document_bytes":16777216,"sheet_cells":100000,"rows_first":2000,"rows_last":500,"rows_between":2000,"halvings":0,"cell_chars":16384,"cell_head_chars":4096},"cells_cut":0,"cells_raw":0,"read":"whole","date_system":"1900"}

{"sheet":"MENU","index":0,"n_rows":22,"n_cols":10,"rows_kept":22,"cut":false,"hidden":false,"merged":[[21,5,21,9],[8,0,8,2],[9,0,9,2],[10,5,10,9],[13,0,13,1],[19,5,19,9],[2,0,2,9],[5,0,5,2],[6,0,6,2],[7,0,7,2],[7,5,7,9]]}
["CHRONO DES LIMOUCHES ",null,null,null,null,null,null,null,"EDITION",2018]
[]
["MENU"]
[]
[]
["PARAMETRES DE DEPART"]
["Heure de départ  du chronomètre :",null,null,0.34375]
["Nombre de minutes séparant les concurents :",null,null,6.9444444444444447E-4,null,"Liste des catégories"]
["Premier N°de dossard",null,null,1]
["distance du parcours en km",null,null,11.4]
[null,null,null,null,null,"Liste des engagés"]
[]
[]
["contrôle nbre concurents :"]
["liste des engagés",{"$f":"+'liste engagés'!M216","v":91}]
["scratch",{"$f":"+scratch!I217","v":90}]
["par catégorie",{"$f":"+'cat1'!I217+'cat2'!I217+'cat3'!I217+'cat4'!I217+'cat5'!I217+'cat6'!I217+'cat7'!I217+'cat8'!I217+'cat9'!I217+'cat10'!I217+#REF!+#REF!+#REF!","v":{"$error":"#REF!"}}]
[]
[]
[null,null," Alerte général",null,{"$f":"+records!D4","v":0},"Résultats par catégorie"]
[null,null," Alerte catégorie",null,{"$f":"+records!D10","v":0}]
[null,null,null,null,null,"Records de l'épreuve"]

{"sheet":"Catégories","index":1,"n_rows":17,"n_cols":5,"rows_kept":17,"cut":false,"hidden":false,"merged":[[0,0,0,3]]}
["LISTE  DES CATEGORIES",null,null,null,"MENU"]
[]
[null,"code ","Catégorie","Nom Catégorie"]
[null,1,"FSGT 1-2","FSGT 1-2"]
[null,{"$f":"+B4+1","v":2},"FSGT 3","FSGT 3"]
[null,3,"FSGT 4","FSGT 4"]
[null,4,"FSGT 5","FSGT 5","Liste des engagés"]
[null,5,"+ 60 ans","Autres fédés / non licenciés + 60 ans"]
[null,6,"50-59 ans","Autres fédés / NL : 50-59 ans"]
[null,7,"40-49 ans","Autres fédés / NL : 40-49 ans"]
[null,8,"30-39 ans","Autres fédés / NL : 30-39 ans"]
[null,9,"17-29 ans","Autres fédés / NL : 17-29 ans"]
[null,10,"Féminines","Féminines"]
[null,11,"Cadets","Cadets"]
[null,12,"Minimes","Minimes"]
[null,13]
[null,14]

{"sheet":"liste engagés","index":2,"n_rows":216,"n_cols":13,"rows_kept":216,"cut":false,"hidden":false,"merged":[[4,5,4,6]]}
["LISTE DES ENGAGES ",null,null,null,null,null,null,null,null,null,{"$f":"+MENU!$I$1","v":"EDITION"},2018]
[]
[null,null,null,null,null,null,null,null,null,null,null,"MENU"]
[]
["N°de DOSSARD","Nom ","Prénom","Club","Fédération","code catégorie",null,"Catégorie","Heure de départ","Heure arrivée","Temps","Moyenne"]
[1,"ESCHARD","GUILLAUME","UCMV","FFC","Code",8,{"$f":"+IF(G6=\"\",\"\",VLOOKUP(G6,Catégories!$B$3:$C$17,2))","v":"30-39 ans"},0.34375,"08:48:52",{"$f":"+IF(J6=\"\",\"\",J6-I6)","v":"00:33:52"},{"$f":"IF(K6=\"\",\"\",MENU!$D$10/('liste engagés'!K6*24))","v":20.19685039370081},{"$f":"+IF(B6=\"\",0,1)","v":1}]
[2,"TERRON","SERGE","CS COUXOIS","FSGT","Code",4,{"$f":"+IF(G7=\"\",\"\",VLOOKUP(G7,Catégories!$B$3:$C$17,2))","v":"FSGT 5"},0.3444444444444445,0.3767361111111111,"00:46:30",{"$f":"IF(K7=\"\",\"\",MENU!$D$10/('liste engagés'!K7*24))","v":14.709677419354867},1]
[3,"HERBAUT","BAPTISTE","UCMV","FFC","Code",9,{"$f":"+IF(G8=\"\",\"\",VLOOKUP(G8,Catégories!$B$3:$C$17,2))","v":"17-29 ans"},0.34513888888888888,0.37986111111111115,"00:50:00",{"$f":"IF(K8=\"\",\"\",MENU!$D$10/('liste engagés'!K8*24))","v":13.679999999999984},1]
[4,null,null,null,null,"Code",null,{"$f":"+IF(G9=\"\",\"\",VLOOKUP(G9,Catégories!$B$3:$C$17,2))","v":""},0.34583333333333338,null,"",{"$f":"IF(K9=\"\",\"\",MENU!$D$10/('liste engagés'!K9*24))","v":""},0]
[5,null,null,null,null,"Code",null,{"$f":"+IF(G10=\"\",\"\",VLOOKUP(G10,Catégories!$B$3:$C$17,2))","v":""},0.34652777777777777,null,"",{"$f":"IF(K10=\"\",\"\",MENU!$D$10/('liste engagés'!K10*24))","v":""},0]
[6,"DIDIER","PHILIPPE","UCMV","FSGT","Code",4,{"$f":"+IF(G11=\"\",\"\",VLOOKUP(G11,Catégories!$B$3:$C$17,2))","v":"FSGT 5"},0.34722222222222227,0.37717592592592591,"00:43:08",{"$f":"IF(K11=\"\",\"\",MENU!$D$10/('liste engagés'!K11*24))","v":15.857805255023214},1]
[7,"LAFFONT","FRANCIS","NON LICENCIE","NL","Code",6,{"$f":"+IF(G12=\"\",\"\",VLOOKUP(G12,Catégories!$B$3:$C$17,2))","v":"50-59 ans"},0.34791666666666665,0.3828125,"00:50:15",{"$f":"IF(K12=\"\",\"\",MENU!$D$10/('liste engagés'!K12*24))","v":13.611940298507458},1]
[8,null,null,null,null,"Code",null,{"$f":"+IF(G13=\"\",\"\",VLOOKUP(G13,Catégories!$B$3:$C$17,2))","v":""},0.34861111111111098,null,"",{"$f":"IF(K13=\"\",\"\",MENU!$D$10/('liste engagés'!K13*24))","v":""},0]
[9,null,null,null,null,"Code",null,{"$f":"+IF(G14=\"\",\"\",VLOOKUP(G14,Catégories!$B$3:$C$17,2))","v":""},0.34930555555555598,null,"",{"$f":"IF(K14=\"\",\"\",MENU!$D$10/('liste engagés'!K14*24))","v":""},0]
[10,null,null,null,null,"Code",null,{"$f":"+IF(G15=\"\",\"\",VLOOKUP(G15,Catégories!$B$3:$C$17,2))","v":""},0.35,null,"",{"$f":"IF(K15=\"\",\"\",MENU!$D$10/('liste engagés'!K15*24))","v":""},0]
[11,null,null,null,null,"Code",null,{"$f":"+IF(G16=\"\",\"\",VLOOKUP(G16,Catégories!$B$3:$C$17,2))","v":""},0.35069444444444497,null,"",{"$f":"IF(K16=\"\",\"\",MENU!$D$10/('liste engagés'!K16*24))","v":""},0]
[12,null,null,null,null,"Code",null,{"$f":"+IF(G17=\"\",\"\",VLOOKUP(G17,Catégories!$B$3:$C$17,2))","v":""},0.35138888888888897,null,"",{"$f":"IF(K17=\"\",\"\",MENU!$D$10/('liste engagés'!K17*24))","v":""},0]
[13,null,null,null,null,"Code",null,{"$f":"+IF(G18=\"\",\"\",VLOOKUP(G18,Catégories!$B$3:$C$17,2))","v":""},0.35208333333333403,null,"",{"$f":"IF(K18=\"\",\"\",MENU!$D$10/('liste engagés'!K18*24))","v":""},0]
[14,null,null,null,null,"Code",null,{"$f":"+IF(G19=\"\",\"\",VLOOKUP(G19,Catégories!$B$3:$C$17,2))","v":""},0.35277777777777802,null,"",{"$f":"IF(K19=\"\",\"\",MENU!$D$10/('liste engagés'!K19*24))","v":""},0]
[15,null,null,null,null,"Code",null,{"$f":"+IF(G20=\"\",\"\",VLOOKUP(G20,Catégories!$B$3:$C$17,2))","v":""},0.35347222222222302,null,"",{"$f":"IF(K20=\"\",\"\",MENU!$D$10/('liste engagés'!K20*24))","v":""},0]
[16,"HEROLD","GABIN","UCMV","FFC","Code",12,{"$f":"+IF(G21=\"\",\"\",VLOOKUP(G21,Catégories!$B$3:$C$17,2))","v":"Minimes"},0.35416666666666802,0.38549768518518518,"00:45:07",{"$f":"IF(K21=\"\",\"\",MENU!$D$10/('liste engagés'!K21*24))","v":15.160694495752411},1]
[17,"ZOULIAMIS","NICOLAS","CS PANTIN","FSGT","Code",1,{"$f":"+IF(G22=\"\",\"\",VLOOKUP(G22,Catégories!$B$3:$C$17,2))","v":"FSGT 1-2"},0.35486111111111202,0.38381944444444444,"00:41:42",{"$f":"IF(K22=\"\",\"\",MENU!$D$10/('liste engagés'!K22*24))","v":16.402877697842243},1]
[18,"BOYER","FRANCK","UCMV","FFC","Code",7,{"$f":"+IF(G23=\"\",\"\",VLOOKUP(G23,Catégories!$B$3:$C$17,2))","v":"40-49 ans"},0.35555555555555701,0.38563657407407409,"00:43:19",{"$f":"IF(K23=\"\",\"\",MENU!$D$10/('liste engagés'!K23*24))","v":15.790688726434},1]
[19,null,null,null,null,"Code",null,{"$f":"+IF(G24=\"\",\"\",VLOOKUP(G24,Catégories!$B$3:$C$17,2))","v":""},0.35625000000000101,null,"",{"$f":"IF(K24=\"\",\"\",MENU!$D$10/('liste engagés'!K24*24))","v":""},0]
[20,null,null,null,null,"Code",null,{"$f":"+IF(G25=\"\",\"\",VLOOKUP(G25,Catégories!$B$3:$C$17,2))","v":""},0.35694444444444601,null,"",{"$f":"IF(K25=\"\",\"\",MENU!$D$10/('liste engagés'!K25*24))","v":""},0]
[21,null,null,null,null,"Code",null,{"$f":"+IF(G26=\"\",\"\",VLOOKUP(G26,Catégories!$B$3:$C$17,2))","v":""},0.35763888888889001,null,"",{"$f":"IF(K26=\"\",\"\",MENU!$D$10/('liste engagés'!K26*24))","v":""},0]
[22,null,null,null,null,"Code",null,{"$f":"+IF(G27=\"\",\"\",VLOOKUP(G27,Catégories!$B$3:$C$17,2))","v":""},0.358333333333334,null,"",{"$f":"IF(K27=\"\",\"\",MENU!$D$10/('liste engagés'!K27*24))","v":""},0]
[23,null,null,null,null,"Code",null,{"$f":"+IF(G28=\"\",\"\",VLOOKUP(G28,Catégories!$B$3:$C$17,2))","v":""},0.359027777777779,null,"",{"$f":"IF(K28=\"\",\"\",MENU!$D$10/('liste engagés'!K28*24))","v":""},0]
[24,null,null,null,null,"Code",null,{"$f":"+IF(G29=\"\",\"\",VLOOKUP(G29,Catégories!$B$3:$C$17,2))","v":""},0.359722222222223,null,"",{"$f":"IF(K29=\"\",\"\",MENU!$D$10/('liste engagés'!K29*24))","v":""},0]
[25,null,null,null,null,"Code",null,{"$f":"+IF(G30=\"\",\"\",VLOOKUP(G30,Catégories!$B$3:$C$17,2))","v":""},0.360416666666668,null,"",{"$f":"IF(K30=\"\",\"\",MENU!$D$10/('liste engagés'!K30*24))","v":""},0]
[26,"BOYER","AXEL","UCMV","FFC","Code",9,{"$f":"+IF(G31=\"\",\"\",VLOOKUP(G31,Catégories!$B$3:$C$17,2))","v":"17-29 ans"},0.36111111111111199,0.38819444444444445,"00:39:00",{"$f":"IF(K31=\"\",\"\",MENU!$D$10/('liste engagés'!K31*24))","v":17.538461538462105},1]
[27,null,null,null,null,"Code",null,{"$f":"+IF(G32=\"\",\"\",VLOOKUP(G32,Catégories!$B$3:$C$17,2))","v":""},0.36180555555555699,null,"",{"$f":"IF(K32=\"\",\"\",MENU!$D$10/('liste engagés'!K32*24))","v":""},0]
[28,null,null,null,null,"Code",null,{"$f":"+IF(G33=\"\",\"\",VLOOKUP(G33,Catégories!$B$3:$C$17,2))","v":""},0.36250000000000099,null,"",{"$f":"IF(K33=\"\",\"\",MENU!$D$10/('liste engagés'!K33*24))","v":""},0]
[29,null,null,null,null,"Code",null,{"$f":"+IF(G34=\"\",\"\",VLOOKUP(G34,Catégories!$B$3:$C$17,2))","v":""},0.36319444444444599,null,"",{"$f":"IF(K34=\"\",\"\",MENU!$D$10/('liste engagés'!K34*24))","v":""},0]
[30,null,null,null,null,"Code",null,{"$f":"+IF(G35=\"\",\"\",VLOOKUP(G35,Catégories!$B$3:$C$17,2))","v":""},0.36388888888888998,null,"",{"$f":"IF(K35=\"\",\"\",MENU!$D$10/('liste engagés'!K35*24))","v":""},0]
[31,null,null,null,null,"Code",null,{"$f":"+IF(G36=\"\",\"\",VLOOKUP(G36,Catégories!$B$3:$C$17,2))","v":""},0.36458333333333498,null,"",{"$f":"IF(K36=\"\",\"\",MENU!$D$10/('liste engagés'!K36*24))","v":""},0]
[32,null,null,null,null,"Code",null,{"$f":"+IF(G37=\"\",\"\",VLOOKUP(G37,Catégories!$B$3:$C$17,2))","v":""},0.36527777777777898,null,"",{"$f":"IF(K37=\"\",\"\",MENU!$D$10/('liste engagés'!K37*24))","v":""},0]
[33,null,null,null,null,"Code",null,{"$f":"+IF(G38=\"\",\"\",VLOOKUP(G38,Catégories!$B$3:$C$17,2))","v":""},0.36597222222222398,null,"",{"$f":"IF(K38=\"\",\"\",MENU!$D$10/('liste engagés'!K38*24))","v":""},0]
[34,null,null,null,null,"Code",null,{"$f":"+IF(G39=\"\",\"\",VLOOKUP(G39,Catégories!$B$3:$C$17,2))","v":""},0.36666666666666797,null,"",{"$f":"IF(K39=\"\",\"\",MENU!$D$10/('liste engagés'!K39*24))","v":""},0]
[35,null,null,null,null,"Code",null,{"$f":"+IF(G40=\"\",\"\",VLOOKUP(G40,Catégories!$B$3:$C$17,2))","v":""},0.36736111111111303,null,"",{"$f":"IF(K40=\"\",\"\",MENU!$D$10/('liste engagés'!K40*24))","v":""},0]
[36,null,null,null,null,"Code",null,{"$f":"+IF(G41=\"\",\"\",VLOOKUP(G41,Catégories!$B$3:$C$17,2))","v":""},0.36805555555555702,null,"",{"$f":"IF(K41=\"\",\"\",MENU!$D$10/('liste engagés'!K41*24))","v":""},0]
[37,null,null,null,null,"Code",null,{"$f":"+IF(G42=\"\",\"\",VLOOKUP(G42,Catégories!$B$3:$C$17,2))","v":""},0.36875000000000202,null,"",{"$f":"IF(K42=\"\",\"\",MENU!$D$10/('liste engagés'!K42*24))","v":""},0]
[38,null,null,null,null,"Code",null,{"$f":"+IF(G43=\"\",\"\",VLOOKUP(G43,Catégories!$B$3:$C$17,2))","v":""},0.36944444444444602,null,"",{"$f":"IF(K43=\"\",\"\",MENU!$D$10/('liste engagés'!K43*24))","v":""},0]
[39,null,null,null,null,"Code",null,{"$f":"+IF(G44=\"\",\"\",VLOOKUP(G44,Catégories!$B$3:$C$17,2))","v":""},0.37013888888889102,null,"",{"$f":"IF(K44=\"\",\"\",MENU!$D$10/('liste engagés'!K44*24))","v":""},0]
[40,null,null,null,null,"Code",null,{"$f":"+IF(G45=\"\",\"\",VLOOKUP(G45,Catégories!$B$3:$C$17,2))","v":""},0.37083333333333335,null,"",{"$f":"IF(K45=\"\",\"\",MENU!$D$10/('liste engagés'!K45*24))","v":""},0]
[41,null,null,null,null,"Code",null,{"$f":"+IF(G46=\"\",\"\",VLOOKUP(G46,Catégories!$B$3:$C$17,2))","v":""},0.37152777777778001,null,"",{"$f":"IF(K46=\"\",\"\",MENU!$D$10/('liste engagés'!K46*24))","v":""},0]
[42,null,null,null,null,"Code",null,{"$f":"+IF(G47=\"\",\"\",VLOOKUP(G47,Catégories!$B$3:$C$17,2))","v":""},0.37222222222222401,null,"",{"$f":"IF(K47=\"\",\"\",MENU!$D$10/('liste engagés'!K47*24))","v":""},0]
[43,null,null,null,null,"Code",null,{"$f":"+IF(G48=\"\",\"\",VLOOKUP(G48,Catégories!$B$3:$C$17,2))","v":""},0.37291666666666901,null,"",{"$f":"IF(K48=\"\",\"\",MENU!$D$10/('liste engagés'!K48*24))","v":""},0]
[44,null,null,null,null,"Code",null,{"$f":"+IF(G49=\"\",\"\",VLOOKUP(G49,Catégories!$B$3:$C$17,2))","v":""},0.373611111111113,null,"",{"$f":"IF(K49=\"\",\"\",MENU!$D$10/('liste engagés'!K49*24))","v":""},0]
[45,null,null,null,null,"Code",null,{"$f":"+IF(G50=\"\",\"\",VLOOKUP(G50,Catégories!$B$3:$C$17,2))","v":""},0.374305555555558,null,"",{"$f":"IF(K50=\"\",\"\",MENU!$D$10/('liste engagés'!K50*24))","v":""},0]
[46,null,null,null,null,"Code",null,{"$f":"+IF(G51=\"\",\"\",VLOOKUP(G51,Catégories!$B$3:$C$17,2))","v":""},0.375000000000002,null,"",{"$f":"IF(K51=\"\",\"\",MENU!$D$10/('liste engagés'!K51*24))","v":""},0]
[47," ",null,null,null,"Code",null,{"$f":"+IF(G52=\"\",\"\",VLOOKUP(G52,Catégories!$B$3:$C$17,2))","v":""},0.375694444444447,null,"",{"$f":"IF(K52=\"\",\"\",MENU!$D$10/('liste engagés'!K52*24))","v":""},1]
[48,null,null,null,null,"Code",null,{"$f":"+IF(G53=\"\",\"\",VLOOKUP(G53,Catégories!$B$3:$C$17,2))","v":""},0.37638888888889099,null,"",{"$f":"IF(K53=\"\",\"\",MENU!$D$10/('liste engagés'!K53*24))","v":""},0]
[49,null,null,null,null,"Code",null,{"$f":"+IF(G54=\"\",\"\",VLOOKUP(G54,Catégories!$B$3:$C$17,2))","v":""},0.37708333333333599,null,"",{"$f":"IF(K54=\"\",\"\",MENU!$D$10/('liste engagés'!K54*24))","v":""},0]
[50,null,null,null,null,"Code",null,{"$f":"+IF(G55=\"\",\"\",VLOOKUP(G55,Catégories!$B$3:$C$17,2))","v":""},0.37777777777777999,null,"",{"$f":"IF(K55=\"\",\"\",MENU!$D$10/('liste engagés'!K55*24))","v":""},0]
[51,"DEUMIER","XAVIER","CC ST PERAY","FSGT","Code",4,{"$f":"+IF(G56=\"\",\"\",VLOOKUP(G56,Catégories!$B$3:$C$17,2))","v":"FSGT 5"},0.37847222222222499,0.40879629629629632,"00:43:40",{"$f":"IF(K56=\"\",\"\",MENU!$D$10/('liste engagés'!K56*24))","v":15.664122137405993},1]
[52,"LECOMTE","MARC","CS COUXOIS","FSGT","Code",4,{"$f":"+IF(G57=\"\",\"\",VLOOKUP(G57,Catégories!$B$3:$C$17,2))","v":"FSGT 5"},0.37916666666666898,0.41287037037037039,"00:48:32",{"$f":"IF(K57=\"\",\"\",MENU!$D$10/('liste engagés'!K57*24))","v":14.093406593407556},1]
[53,"LECOMTE","CLEMENT","NON LICENCIE","NL","Code",9,{"$f":"+IF(G58=\"\",\"\",VLOOKUP(G58,Catégories!$B$3:$C$17,2))","v":"17-29 ans"},0.37986111111111398,0.41739583333333335,"00:54:03",{"$f":"IF(K58=\"\",\"\",MENU!$D$10/('liste engagés'!K58*24))","v":12.65494912118505},1]
[54,"BRUN","HERVE","CS COUXOIS","FSGT","Code",4,{"$f":"+IF(G59=\"\",\"\",VLOOKUP(G59,Catégories!$B$3:$C$17,2))","v":"FSGT 5"},0.38055555555555798,0.42260416666666667,"01:00:33",{"$f":"IF(K59=\"\",\"\",MENU!$D$10/('liste engagés'!K59*24))","v":11.29644921552501},1]
[55,"PERMINGEAT","EVANN","UCMV","FFC","Code",12,{"$f":"+IF(G60=\"\",\"\",VLOOKUP(G60,Catégories!$B$3:$C$17,2))","v":"Minimes"},0.38125000000000298,0.42318287037037039,"01:00:23",{"$f":"IF(K60=\"\",\"\",MENU!$D$10/('liste engagés'!K60*24))","v":11.327629036710707},1]
[56,"DENURRA","LOUIS","BRIGNAISVC","FSGT","Code",3,{"$f":"+IF(G61=\"\",\"\",VLOOKUP(G61,Catégories!$B$3:$C$17,2))","v":"FSGT 4"},0.38194444444444697,0.40925925925925927,"00:39:20",{"$f":"IF(K61=\"\",\"\",MENU!$D$10/('liste engagés'!K61*24))","v":17.38983050847618},1]
[57,null,null,null,null,"Code",null,{"$f":"+IF(G62=\"\",\"\",VLOOKUP(G62,Catégories!$B$3:$C$17,2))","v":""},0.38263888888889203,null,"",{"$f":"IF(K62=\"\",\"\",MENU!$D$10/('liste engagés'!K62*24))","v":""},0]
[58,null,null,null,null,"Code",null,{"$f":"+IF(G63=\"\",\"\",VLOOKUP(G63,Catégories!$B$3:$C$17,2))","v":""},0.38333333333333602,null,"",{"$f":"IF(K63=\"\",\"\",MENU!$D$10/('liste engagés'!K63*24))","v":""},0]
[59,null,null,null,null,"Code",null,{"$f":"+IF(G64=\"\",\"\",VLOOKUP(G64,Catégories!$B$3:$C$17,2))","v":""},0.38402777777778102,null,"",{"$f":"IF(K64=\"\",\"\",MENU!$D$10/('liste engagés'!K64*24))","v":""},0]
[60,null,null,null,null,"Code",null,{"$f":"+IF(G65=\"\",\"\",VLOOKUP(G65,Catégories!$B$3:$C$17,2))","v":""},0.38472222222222502,null,"",{"$f":"IF(K65=\"\",\"\",MENU!$D$10/('liste engagés'!K65*24))","v":""},0]
[61,"BUATOIS","GILLES","UC PIERRELATTE","FSGT","Code",3,{"$f":"+IF(G66=\"\",\"\",VLOOKUP(G66,Catégories!$B$3:$C$17,2))","v":"FSGT 4"},0.38541666666667002,0.41531249999999997,"00:43:03",{"$f":"IF(K66=\"\",\"\",MENU!$D$10/('liste engagés'!K66*24))","v":15.888501742162074},1]
[62,"GARCIN","PATRICK","UCMV","NL","Code",6,{"$f":"+IF(G67=\"\",\"\",VLOOKUP(G67,Catégories!$B$3:$C$17,2))","v":"50-59 ans"},0.38611111111111401,0.41468750000000004,"00:41:09",{"$f":"IF(K67=\"\",\"\",MENU!$D$10/('liste engagés'!K67*24))","v":16.62211421628356},1]
[63,null,null,null,null,"Code",null,{"$f":"+IF(G68=\"\",\"\",VLOOKUP(G68,Catégories!$B$3:$C$17,2))","v":""},0.38680555555555901,null,"",{"$f":"IF(K68=\"\",\"\",MENU!$D$10/('liste engagés'!K68*24))","v":""},0]
[64,null,null,null,null,"Code",null,{"$f":"+IF(G69=\"\",\"\",VLOOKUP(G69,Catégories!$B$3:$C$17,2))","v":""},0.38750000000000301,null,"",{"$f":"IF(K69=\"\",\"\",MENU!$D$10/('liste engagés'!K69*24))","v":""},0]
[65,null,null,null,null,"Code",null,{"$f":"+IF(G70=\"\",\"\",VLOOKUP(G70,Catégories!$B$3:$C$17,2))","v":""},0.38819444444444801,null,{"$f":"+IF(J70=\"\",\"\",J70-I70)","v":""},{"$f":"IF(K70=\"\",\"\",MENU!$D$10/('liste engagés'!K70*24))","v":""},{"$f":"+IF(B70=\"\",0,1)","v":0}]
[66,null,null,null,null,"Code",null,{"$f":"+IF(G71=\"\",\"\",VLOOKUP(G71,Catégories!$B$3:$C$17,2))","v":""},0.388888888888892,null,"",{"$f":"IF(K71=\"\",\"\",MENU!$D$10/('liste engagés'!K71*24))","v":""},0]
[67,null,null,null,null,"Code",null,{"$f":"+IF(G72=\"\",\"\",VLOOKUP(G72,Catégories!$B$3:$C$17,2))","v":""},0.389583333333337,null,"",{"$f":"IF(K72=\"\",\"\",MENU!$D$10/('liste engagés'!K72*24))","v":""},0]
[68,null,null,null,null,"Code",null,{"$f":"+IF(G73=\"\",\"\",VLOOKUP(G73,Catégories!$B$3:$C$17,2))","v":""},0.390277777777781,null,"",{"$f":"IF(K73=\"\",\"\",MENU!$D$10/('liste engagés'!K73*24))","v":""},0]
[69,null,null,null,null,"Code",null,{"$f":"+IF(G74=\"\",\"\",VLOOKUP(G74,Catégories!$B$3:$C$17,2))","v":""},0.390972222222226,null,"",{"$f":"IF(K74=\"\",\"\",MENU!$D$10/('liste engagés'!K74*24))","v":""},0]
[70,null,null,null,null,"Code",null,{"$f":"+IF(G75=\"\",\"\",VLOOKUP(G75,Catégories!$B$3:$C$17,2))","v":""},0.39166666666666999,null,"",{"$f":"IF(K75=\"\",\"\",MENU!$D$10/('liste engagés'!K75*24))","v":""},0]
[71,"BERNARD","CLAUDE","FRIOL CLUB","VELO RANDO","Code",5,{"$f":"+IF(G76=\"\",\"\",VLOOKUP(G76,Catégories!$B$3:$C$17,2))","v":"+ 60 ans"},0.39236111111111499,0.42081018518518515,"00:40:58",{"$f":"IF(K76=\"\",\"\",MENU!$D$10/('liste engagés'!K76*24))","v":16.696501220506775},1]
[72,null,null,null,null,"Code",null,{"$f":"+IF(G77=\"\",\"\",VLOOKUP(G77,Catégories!$B$3:$C$17,2))","v":""},0.39305555555555899,null,"",{"$f":"IF(K77=\"\",\"\",MENU!$D$10/('liste engagés'!K77*24))","v":""},0]
[73,null,null,null,null,"Code",null,{"$f":"+IF(G78=\"\",\"\",VLOOKUP(G78,Catégories!$B$3:$C$17,2))","v":""},0.39375000000000399,null,"",{"$f":"IF(K78=\"\",\"\",MENU!$D$10/('liste engagés'!K78*24))","v":""},0]
[74,null,null,null,null,"Code",null,{"$f":"+IF(G79=\"\",\"\",VLOOKUP(G79,Catégories!$B$3:$C$17,2))","v":""},0.39444444444444798,null,"",{"$f":"IF(K79=\"\",\"\",MENU!$D$10/('liste engagés'!K79*24))","v":""},0]
[75,"NACCARATO","MARIO","TEAM ATC 26 DONZERE","FSGT","Code",3,{"$f":"+IF(G80=\"\",\"\",VLOOKUP(G80,Catégories!$B$3:$C$17,2))","v":"FSGT 4"},0.39513888888889298,0.42982638888888891,"00:49:57",{"$f":"IF(K80=\"\",\"\",MENU!$D$10/('liste engagés'!K80*24))","v":13.693693693695302},1]
[76,"GILLES","PATRICK","CC ST PERAY","FSGT","Code",4,{"$f":"+IF(G81=\"\",\"\",VLOOKUP(G81,Catégories!$B$3:$C$17,2))","v":"FSGT 5"},0.39583333333333698,0.43224537037037036,"00:52:26",{"$f":"IF(K81=\"\",\"\",MENU!$D$10/('liste engagés'!K81*24))","v":13.045136681501626},1]
[77,"GILLES","CYRIL","SC GRETZ TOURNAN","UFOLEP 3","Code",8,{"$f":"+IF(G82=\"\",\"\",VLOOKUP(G82,Catégories!$B$3:$C$17,2))","v":"30-39 ans"},0.39652777777778198,0.42396990740740742,"00:39:31",{"$f":"IF(K82=\"\",\"\",MENU!$D$10/('liste engagés'!K82*24))","v":17.309152256434526},1]
[78,"BRISSAUD","SIMON","UCMV","FFC","Code",11,{"$f":"+IF(G83=\"\",\"\",VLOOKUP(G83,Catégories!$B$3:$C$17,2))","v":"Cadets"},0.39722222222222597,0.42131944444444441,"00:34:42",{"$f":"IF(K83=\"\",\"\",MENU!$D$10/('liste engagés'!K83*24))","v":19.711815561962748},1]
[79,"GRESSE","GUI GUI","UCMV","FFC","Code",9,{"$f":"+IF(G84=\"\",\"\",VLOOKUP(G84,Catégories!$B$3:$C$17,2))","v":"17-29 ans"},0.39791666666667103,0.42432870370370374,"00:38:02",{"$f":"IF(K84=\"\",\"\",MENU!$D$10/('liste engagés'!K84*24))","v":17.984224364595409},1]
[80,"HEYRAUD","FABIEN","C PRO","FFC","Code",7,{"$f":"+IF(G85=\"\",\"\",VLOOKUP(G85,Catégories!$B$3:$C$17,2))","v":"40-49 ans"},0.39861111111111502,0.42238425925925926,"00:34:14",{"$f":"IF(K85=\"\",\"\",MENU!$D$10/('liste engagés'!K85*24))","v":19.980525803313899},1]
[81,"HEYRAUD","VINCENT","C PRO","FFC","Code",8,{"$f":"+IF(G86=\"\",\"\",VLOOKUP(G86,Catégories!$B$3:$C$17,2))","v":"30-39 ans"},0.39930555555556002,0.42438657407407404,"00:36:07",{"$f":"IF(K86=\"\",\"\",MENU!$D$10/('liste engagés'!K86*24))","v":18.938624826953099},1]
[82,"CAPELLI","LORIS","UCMV","FFC","Code",11,{"$f":"+IF(G87=\"\",\"\",VLOOKUP(G87,Catégories!$B$3:$C$17,2))","v":"Cadets"},0.40000000000000402,0.43385416666666665,"00:48:45",{"$f":"IF(K87=\"\",\"\",MENU!$D$10/('liste engagés'!K87*24))","v":14.030769230770902},1]
[83,"GONZALEZ","MIGUEL","UC PIERRELATTE","FSGT","Code",4,{"$f":"+IF(G88=\"\",\"\",VLOOKUP(G88,Catégories!$B$3:$C$17,2))","v":"FSGT 5"},0.40069444444444902,0.43223379629629632,"00:45:25",{"$f":"IF(K88=\"\",\"\",MENU!$D$10/('liste engagés'!K88*24))","v":15.060550458717767},1]
[84,"ROSADO","BRUNO","UC PIERRELATTE","FSGT","Code",3,{"$f":"+IF(G89=\"\",\"\",VLOOKUP(G89,Catégories!$B$3:$C$17,2))","v":"FSGT 4"},0.40138888888889301,0.4291550925925926,"00:39:59",{"$f":"IF(K89=\"\",\"\",MENU!$D$10/('liste engagés'!K89*24))","v":17.107127969990032},1]
[85,"SOLER","DIEGO","TEAM MONTAGNAC","FSGT","Code",3,{"$f":"+IF(G90=\"\",\"\",VLOOKUP(G90,Catégories!$B$3:$C$17,2))","v":"FSGT 4"},0.40208333333333801,"10:16:34","00:37:34",{"$f":"IF(K90=\"\",\"\",MENU!$D$10/('liste engagés'!K90*24))","v":18.207630878441595},1]
[86,"POLIGNE","ALEXANDRE","NL","NL","Code",9,{"$f":"+IF(G91=\"\",\"\",VLOOKUP(G91,Catégories!$B$3:$C$17,2))","v":"17-29 ans"},0.40277777777778201,0.42815972222222221,"00:36:33",{"$f":"IF(K91=\"\",\"\",MENU!$D$10/('liste engagés'!K91*24))","v":18.714090287280836},1]
[87,"GUIBOUD","ELODIE","SC BLV","FFC","Code",10,{"$f":"+IF(G92=\"\",\"\",VLOOKUP(G92,Catégories!$B$3:$C$17,2))","v":"Féminines"},0.40347222222222701,0.44381944444444449,"00:58:06",{"$f":"IF(K92=\"\",\"\",MENU!$D$10/('liste engagés'!K92*24))","v":11.77280550774665},1]
[88,"ARGAUD","FRANCIS","SC BLV","FFC","Code",6,{"$f":"+IF(G93=\"\",\"\",VLOOKUP(G93,Catégories!$B$3:$C$17,2))","v":"50-59 ans"},0.404166666666671,0.43937500000000002,"00:50:42",{"$f":"IF(K93=\"\",\"\",MENU!$D$10/('liste engagés'!K93*24))","v":13.491124260356687},1]
[89,"AURECHE","ETIENNE","AC TOURRETTOISE","FSGT","Code",4,{"$f":"+IF(G94=\"\",\"\",VLOOKUP(G94,Catégories!$B$3:$C$17,2))","v":"FSGT 5"},0.404861111111116,0.43418981481481483,"00:42:14",{"$f":"IF(K94=\"\",\"\",MENU!$D$10/('liste engagés'!K94*24))","v":16.195737963696455},1]
[90,"BARTHES","SERGE","UC ST SATURNIN","UFOLEP","Code",5,{"$f":"+IF(G95=\"\",\"\",VLOOKUP(G95,Catégories!$B$3:$C$17,2))","v":"+ 60 ans"},0.40555555555556,0.43253472222222222,"00:38:51",{"$f":"IF(K95=\"\",\"\",MENU!$D$10/('liste engagés'!K95*24))","v":17.606177606180506},1]
[91,"BUATOIS","MURIELLE","VC PIERRELATTE","FSGT","Code",10,{"$f":"+IF(G96=\"\",\"\",VLOOKUP(G96,Catégories!$B$3:$C$17,2))","v":"Féminines"},0.406250000000005,0.45122685185185185,"01:04:46",{"$f":"IF(K96=\"\",\"\",MENU!$D$10/('liste engagés'!K96*24))","v":10.560988162636274},1]
[92,"DEVICE","BRUNO","NL","NL","Code",6,{"$f":"+IF(G97=\"\",\"\",VLOOKUP(G97,Catégories!$B$3:$C$17,2))","v":"50-59 ans"},0.40694444444444899,0.43702546296296302,"00:43:19",{"$f":"IF(K97=\"\",\"\",MENU!$D$10/('liste engagés'!K97*24))","v":15.790688726435603},1]
[93,"COTTE MARINON","PIERRE LOUIS","C PRO","FFC","Code",9,{"$f":"+IF(G98=\"\",\"\",VLOOKUP(G98,Catégories!$B$3:$C$17,2))","v":"17-29 ans"},0.40763888888889399,0.43072916666666666,"00:33:15",{"$f":"IF(K98=\"\",\"\",MENU!$D$10/('liste engagés'!K98*24))","v":20.57142857143312},1]
[94,"PEYRONNET","FABRICE","TEAM VERCOES","FFC","Code",8,{"$f":"+IF(G99=\"\",\"\",VLOOKUP(G99,Catégories!$B$3:$C$17,2))","v":"30-39 ans"},0.40833333333333799,0.43037037037037035,"00:31:44",{"$f":"IF(K99=\"\",\"\",MENU!$D$10/('liste engagés'!K99*24))","v":21.554621848744073},1]
[95,"GARCIN","GUILLAUME","UCMV","FFC","Code",11,{"$f":"+IF(G100=\"\",\"\",VLOOKUP(G100,Catégories!$B$3:$C$17,2))","v":"Cadets"},0.40902777777778299,0.4359837962962963,"00:38:49",{"$f":"IF(K100=\"\",\"\",MENU!$D$10/('liste engagés'!K100*24))","v":17.621296693863428},1]
[96,"WAGNER","DANIEL","UCMV","FSGT","Code",3,{"$f":"+IF(G101=\"\",\"\",VLOOKUP(G101,Catégories!$B$3:$C$17,2))","v":"FSGT 4"},0.40972222222222698,0.43842592592592594,"00:41:20",{"$f":"IF(K101=\"\",\"\",MENU!$D$10/('liste engagés'!K101*24))","v":16.548387096776931},1]
[97,"DUROUX","JORIS","NL","NL","Code",9,{"$f":"+IF(G102=\"\",\"\",VLOOKUP(G102,Catégories!$B$3:$C$17,2))","v":"17-29 ans"},0.41041666666667198,0.43503472222222223,"00:35:27",{"$f":"IF(K102=\"\",\"\",MENU!$D$10/('liste engagés'!K102*24))","v":19.294781382232653},1]
[98,null,null,null,null,"Code",null,{"$f":"+IF(G103=\"\",\"\",VLOOKUP(G103,Catégories!$B$3:$C$17,2))","v":""},0.41111111111111598,null,"",{"$f":"IF(K103=\"\",\"\",MENU!$D$10/('liste engagés'!K103*24))","v":""},0]
[99,null,null,null,null,"Code",null,{"$f":"+IF(G104=\"\",\"\",VLOOKUP(G104,Catégories!$B$3:$C$17,2))","v":""},0.41180555555556098,null,"",{"$f":"IF(K104=\"\",\"\",MENU!$D$10/('liste engagés'!K104*24))","v":""},0]
[100,null,null,null,null,"Code",null,{"$f":"+IF(G105=\"\",\"\",VLOOKUP(G105,Catégories!$B$3:$C$17,2))","v":""},0.41250000000000497,null,"",{"$f":"IF(K105=\"\",\"\",MENU!$D$10/('liste engagés'!K105*24))","v":""},0]
[101,"BEUGNOT","PASCAL","NL","NL","Code",6,{"$f":"+IF(G106=\"\",\"\",VLOOKUP(G106,Catégories!$B$3:$C$17,2))","v":"50-59 ans"},0.41319444444445003,0.44309027777777782,"00:43:03",{"$f":"IF(K106=\"\",\"\",MENU!$D$10/('liste engagés'!K106*24))","v":15.888501742163223},1]
[102,"POINT ","LORICK","UCMV","FFC","Code",12,{"$f":"+IF(G107=\"\",\"\",VLOOKUP(G107,Catégories!$B$3:$C$17,2))","v":"Minimes"},0.41388888888889402,0.45141203703703708,"00:54:02",{"$f":"IF(K107=\"\",\"\",MENU!$D$10/('liste engagés'!K107*24))","v":12.658852560149773},1]
[103,null,null,null,null,"Code",null,{"$f":"+IF(G108=\"\",\"\",VLOOKUP(G108,Catégories!$B$3:$C$17,2))","v":""},0.41458333333333902,null,"",{"$f":"IF(K108=\"\",\"\",MENU!$D$10/('liste engagés'!K108*24))","v":""},0]
[104,null,null,null,null,"Code",null,{"$f":"+IF(G109=\"\",\"\",VLOOKUP(G109,Catégories!$B$3:$C$17,2))","v":""},0.41527777777778302,null,"",{"$f":"IF(K109=\"\",\"\",MENU!$D$10/('liste engagés'!K109*24))","v":""},0]
[105,"SAADIA","OLIVIER","NL","NL","Code",7,{"$f":"+IF(G110=\"\",\"\",VLOOKUP(G110,Catégories!$B$3:$C$17,2))","v":"40-49 ans"},0.41597222222222802,0.44375000000000003,"00:40:00",{"$f":"IF(K110=\"\",\"\",MENU!$D$10/('liste engagés'!K110*24))","v":17.100000000003547},1]
[106,"MEUNIER","PHILIPPE","FONTANIL","UFOLEP","Code",8,{"$f":"+IF(G111=\"\",\"\",VLOOKUP(G111,Catégories!$B$3:$C$17,2))","v":"30-39 ans"},0.41666666666667201,0.43866898148148148,"00:31:41",{"$f":"IF(K111=\"\",\"\",MENU!$D$10/('liste engagés'!K111*24))","v":21.58863755918463},1]
[107,"MARRONE","AMELIE","FONTANIL","UFOLEP","Code",10,{"$f":"+IF(G112=\"\",\"\",VLOOKUP(G112,Catégories!$B$3:$C$17,2))","v":"Féminines"},0.41736111111111701,0.44673611111111106,"00:42:18",{"$f":"IF(K112=\"\",\"\",MENU!$D$10/('liste engagés'!K112*24))","v":16.170212765960727},1]
[108,"ANKRI","NORBERT","MARSEILLE","FFC","Code",6,{"$f":"+IF(G113=\"\",\"\",VLOOKUP(G113,Catégories!$B$3:$C$17,2))","v":"50-59 ans"},0.41805555555556101,0.4418171296296296,"00:34:13",{"$f":"IF(K113=\"\",\"\",MENU!$D$10/('liste engagés'!K113*24))","v":19.990258158796625},1]
[109," "," "," "," ","Code"," "," ",0.41875000000000601,null,"",{"$f":"IF(K114=\"\",\"\",MENU!$D$10/('liste engagés'!K114*24))","v":""},1]
[110,"CHEYTION","ANTHONY","UC ALBENNASSIENNE","FFC","Code",7,{"$f":"+IF(G115=\"\",\"\",VLOOKUP(G115,Catégories!$B$3:$C$17,2))","v":"40-49 ans"},0.41944444444445,0.44034722222222222,"00:30:06",{"$f":"IF(K115=\"\",\"\",MENU!$D$10/('liste engagés'!K115*24))","v":22.724252491700398},1]
[111,"PHILIPPE","FRANCOIS","MAX BAREL VC","FSGT","Code",1,{"$f":"+IF(G116=\"\",\"\",VLOOKUP(G116,Catégories!$B$3:$C$17,2))","v":"FSGT 1-2"},0.420138888888895,0.44535879629629632,"00:36:19",{"$f":"IF(K116=\"\",\"\",MENU!$D$10/('liste engagés'!K116*24))","v":18.834327673249152},1]
[112,"BELCHI","LEO","UCMV","FFC","Code",9,{"$f":"+IF(G117=\"\",\"\",VLOOKUP(G117,Catégories!$B$3:$C$17,2))","v":"17-29 ans"},0.420833333333339,0.44651620370370365,"00:36:59",{"$f":"IF(K117=\"\",\"\",MENU!$D$10/('liste engagés'!K117*24))","v":18.494817485357881},1]
[113,"DUPIN","DIDIER","CS COUXOIS","FSGT","Code",2,{"$f":"+IF(G118=\"\",\"\",VLOOKUP(G118,Catégories!$B$3:$C$17,2))","v":"FSGT 3"},0.421527777777784,0.44738425925925923,"00:37:14",{"$f":"IF(K118=\"\",\"\",MENU!$D$10/('liste engagés'!K118*24))","v":18.370635631159317},1]
[114,"PINATEL","J RENE","CS LA VOULTE","FSGT","Code",3,{"$f":"+IF(G119=\"\",\"\",VLOOKUP(G119,Catégories!$B$3:$C$17,2))","v":"FSGT 4"},0.42222222222222799,0.45040509259259259,"00:40:35",{"$f":"IF(K119=\"\",\"\",MENU!$D$10/('liste engagés'!K119*24))","v":16.854209445588669},1]
[115,"BOUSBIA","RAYAN","SC BLV","FFC","Code",11,{"$f":"+IF(G120=\"\",\"\",VLOOKUP(G120,Catégories!$B$3:$C$17,2))","v":"Cadets"},0.42291666666667299,0.44943287037037033,"00:38:11",{"$f":"IF(K120=\"\",\"\",MENU!$D$10/('liste engagés'!K120*24))","v":17.913574858144852},1]
[116,"DONCIEUX","NICOLAS","UCVM","FSGT","Code",1,{"$f":"+IF(G121=\"\",\"\",VLOOKUP(G121,Catégories!$B$3:$C$17,2))","v":"FSGT 1-2"},0.42361111111111699,0.44746527777777773,"00:34:21",{"$f":"IF(K121=\"\",\"\",MENU!$D$10/('liste engagés'!K121*24))","v":19.912663755463466},1]
[117,"BOIS","FREDERIC","CS COUXOIS","FSGT","Code",3,{"$f":"+IF(G122=\"\",\"\",VLOOKUP(G122,Catégories!$B$3:$C$17,2))","v":"FSGT 4"},0.42430555555556199,0.45179398148148148,"00:39:35",{"$f":"IF(K122=\"\",\"\",MENU!$D$10/('liste engagés'!K122*24))","v":17.280000000004044},1]
[118,"ANDRE","NOAH","VC PAYS VALLONNAIS","FFC","Code",12,{"$f":"+IF(G123=\"\",\"\",VLOOKUP(G123,Catégories!$B$3:$C$17,2))","v":"Minimes"},0.42500000000000598,0.45067129629629626,"00:36:58",{"$f":"IF(K123=\"\",\"\",MENU!$D$10/('liste engagés'!K123*24))","v":18.503155996397485},1]
[119,"DOYON","NICOLAS","VSRP","FFC","Code",9,{"$f":"+IF(G124=\"\",\"\",VLOOKUP(G124,Catégories!$B$3:$C$17,2))","v":"17-29 ans"},0.42569444444445098,0.44953703703703707,"00:34:20",{"$f":"IF(K124=\"\",\"\",MENU!$D$10/('liste engagés'!K124*24))","v":19.922330097092814},1]
[120,"BLACHE ","SYLVAIN","UCMV","FFC","Code",9,{"$f":"+IF(G125=\"\",\"\",VLOOKUP(G125,Catégories!$B$3:$C$17,2))","v":"17-29 ans"},0.42638888888889498,0.45177083333333329,"00:36:33",{"$f":"IF(K125=\"\",\"\",MENU!$D$10/('liste engagés'!K125*24))","v":18.714090287282225},1]
[121,"SCHWIND","MICHEL","UC PIERRELATTE","FSGT","Code",4,{"$f":"+IF(G126=\"\",\"\",VLOOKUP(G126,Catégories!$B$3:$C$17,2))","v":"FSGT 5"},0.42708333333333998,0.45519675925925923,"00:40:29",{"$f":"IF(K126=\"\",\"\",MENU!$D$10/('liste engagés'!K126*24))","v":16.895841910255143},1]
[122," "," "," "," ","Code"," "," ",0.42777777777778397,null,"",{"$f":"IF(K127=\"\",\"\",MENU!$D$10/('liste engagés'!K127*24))","v":""},1]
[123,"MAZA","SAMUEL","CS COUXOIS","FSGT","Code",1,{"$f":"+IF(G128=\"\",\"\",VLOOKUP(G128,Catégories!$B$3:$C$17,2))","v":"FSGT 1-2"},0.42847222222222903,0.45281250000000001,"00:35:03",{"$f":"IF(K128=\"\",\"\",MENU!$D$10/('liste engagés'!K128*24))","v":19.514978602002596},1]
[124,"COURTIAL","JULIEN"," C PRO","FFC","Code",8,{"$f":"+IF(G129=\"\",\"\",VLOOKUP(G129,Catégories!$B$3:$C$17,2))","v":"30-39 ans"},0.42916666666667302,0.45498842592592598,"00:37:11",{"$f":"IF(K129=\"\",\"\",MENU!$D$10/('liste engagés'!K129*24))","v":18.395338413272086},1]
[125,"ARLAUD","JEROME","C PRO","FFC","Code",7,{"$f":"+IF(G130=\"\",\"\",VLOOKUP(G130,Catégories!$B$3:$C$17,2))","v":"40-49 ans"},0.42986111111111802,0.4519097222222222,"00:31:45",{"$f":"IF(K130=\"\",\"\",MENU!$D$10/('liste engagés'!K130*24))","v":21.543307086620949},1]
[126," "," "," "," ","Code"," "," ",0.43055555555556202,null,"",{"$f":"IF(K131=\"\",\"\",MENU!$D$10/('liste engagés'!K131*24))","v":""},1]
[127,"DURAND","MAXIME","UCMV","FFC","Code",11,{"$f":"+IF(G132=\"\",\"\",VLOOKUP(G132,Catégories!$B$3:$C$17,2))","v":"Cadets"},0.43125000000000702,0.45784722222222224,"00:38:18",{"$f":"IF(K132=\"\",\"\",MENU!$D$10/('liste engagés'!K132*24))","v":17.859007832902872},1]
[128,"REYNAUD","EMMANUEL","UCMV","FSGT","Code",2,{"$f":"+IF(G133=\"\",\"\",VLOOKUP(G133,Catégories!$B$3:$C$17,2))","v":"FSGT 3"},0.43194444444445101,0.45822916666666669,"00:37:51",{"$f":"IF(K133=\"\",\"\",MENU!$D$10/('liste engagés'!K133*24))","v":18.071334214007145},1]
[129,"ESTORGES","LUCAS","UCMV","FFC","Code",9,{"$f":"+IF(G134=\"\",\"\",VLOOKUP(G134,Catégories!$B$3:$C$17,2))","v":"17-29 ans"},0.43263888888889601,0.46597222222222223,{"$f":"+IF(J134=\"\",\"\",J134-I134)","v":"00:48:00"},{"$f":"IF(K134=\"\",\"\",MENU!$D$10/('liste engagés'!K134*24))","v":14.250000000003041},{"$f":"+IF(B134=\"\",0,1)","v":1}]
[130,"LEMAIRE","MATHIAS","UCMV","FFC","Code",12,{"$f":"+IF(G135=\"\",\"\",VLOOKUP(G135,Catégories!$B$3:$C$17,2))","v":"Minimes"},0.43333333333334001,0.46497685185185184,"00:45:34",{"$f":"IF(K135=\"\",\"\",MENU!$D$10/('liste engagés'!K135*24))","v":15.010972933434045},1]
[131,"LEMAIRE","YANNIS","UCMV","FFC","Code",9,{"$f":"+IF(G136=\"\",\"\",VLOOKUP(G136,Catégories!$B$3:$C$17,2))","v":"17-29 ans"},0.43402777777778501,0.45944444444444449,"00:36:36",{"$f":"IF(K136=\"\",\"\",MENU!$D$10/('liste engagés'!K136*24))","v":18.688524590169219},1]
[132,"GONZALVEZ","LILIAN","USC BERG & COIRON","FSGT","Code",1,{"$f":"+IF(G137=\"\",\"\",VLOOKUP(G137,Catégories!$B$3:$C$17,2))","v":"FSGT 1-2"},0.434722222222229,0.45901620370370372,"00:34:59",{"$f":"IF(K137=\"\",\"\",MENU!$D$10/('liste engagés'!K137*24))","v":19.552167698909688},1]
[133,"DEBANNE","CAROLE","UC PIERRELATTE","FSGT","Code",10,{"$f":"+IF(G138=\"\",\"\",VLOOKUP(G138,Catégories!$B$3:$C$17,2))","v":"Féminines"},0.435416666666674,0.47369212962962964,"00:55:07",{"$f":"IF(K138=\"\",\"\",MENU!$D$10/('liste engagés'!K138*24))","v":12.410039310555746},1]
[134,"DEBANNE","WILLIAM","UC PIERRELATTE","FSGT","Code",3,{"$f":"+IF(G139=\"\",\"\",VLOOKUP(G139,Catégories!$B$3:$C$17,2))","v":"FSGT 4"},0.436111111111118,0.46399305555555559,"00:40:09",{"$f":"IF(K139=\"\",\"\",MENU!$D$10/('liste engagés'!K139*24))","v":17.036114570365335},1]
[135,"CROSET","DIDIER","VC FROGES VILLARD BONNOT","FSGT","Code",2,{"$f":"+IF(G140=\"\",\"\",VLOOKUP(G140,Catégories!$B$3:$C$17,2))","v":"FSGT 3"},0.436805555555563,0.46232638888888888,"00:36:45",{"$f":"IF(K140=\"\",\"\",MENU!$D$10/('liste engagés'!K140*24))","v":18.612244897964615},1]
[136,"HAYET","JUSTIN","AC BOLLENE","FFC","Code",11,{"$f":"+IF(G141=\"\",\"\",VLOOKUP(G141,Catégories!$B$3:$C$17,2))","v":"Cadets"},0.43750000000000699,0.46456018518518521,"00:38:58",{"$f":"IF(K141=\"\",\"\",MENU!$D$10/('liste engagés'!K141*24))","v":17.553464499576801},1]
[137,"PECOULT","CHRISTIAN","VC ISLOIS","UFOLEP","Code",6,{"$f":"+IF(G142=\"\",\"\",VLOOKUP(G142,Catégories!$B$3:$C$17,2))","v":"50-59 ans"},0.43819444444444444,0.46717592592592588,"00:41:44",{"$f":"IF(K142=\"\",\"\",MENU!$D$10/('liste engagés'!K142*24))","v":16.3897763578275},1]
[138,"FARAVELON","BORIS","VSRP","FFC","Code",9,{"$f":"+IF(G143=\"\",\"\",VLOOKUP(G143,Catégories!$B$3:$C$17,2))","v":"17-29 ans"},0.43888888888889599,0.46077546296296296,"00:31:31",{"$f":"IF(K143=\"\",\"\",MENU!$D$10/('liste engagés'!K143*24))","v":21.702802749874841},1]
[139,"COSTECHAREYRE","CLAUDE","VC VALRHONA","FFC","Code",7,{"$f":"+IF(G144=\"\",\"\",VLOOKUP(G144,Catégories!$B$3:$C$17,2))","v":"40-49 ans"},0.43958333333334099,0.4616898148148148,"00:31:50",{"$f":"IF(K144=\"\",\"\",MENU!$D$10/('liste engagés'!K144*24))","v":21.486910994771847},1]
[140,"PEREZ","RAPHAEL","UC PIERRELATTE","FSGT","Code",4,{"$f":"+IF(G145=\"\",\"\",VLOOKUP(G145,Catégories!$B$3:$C$17,2))","v":"FSGT 5"},0.44027777777778498,0.46873842592592596,"00:40:59",{"$f":"IF(K145=\"\",\"\",MENU!$D$10/('liste engagés'!K145*24))","v":16.68971126474597},1]
[141,"BARRIER","NICOLAS","UCMV","FFC","Code",7,{"$f":"+IF(G146=\"\",\"\",VLOOKUP(G146,Catégories!$B$3:$C$17,2))","v":"40-49 ans"},0.44097222222222998,0.46572916666666669,"00:35:39",{"$f":"IF(K146=\"\",\"\",MENU!$D$10/('liste engagés'!K146*24))","v":19.186535764381869},1]
[142,"DALAYGUE","HERVE","VC SOYONNAIS","FSGT","Code",4,{"$f":"+IF(G147=\"\",\"\",VLOOKUP(G147,Catégories!$B$3:$C$17,2))","v":"FSGT 5"},0.44166666666667398,0.47805555555555551,"00:52:24",{"$f":"IF(K147=\"\",\"\",MENU!$D$10/('liste engagés'!K147*24))","v":13.053435114506456},1]
[143,null,null,null,null,"Code",null,{"$f":"+IF(G148=\"\",\"\",VLOOKUP(G148,Catégories!$B$3:$C$17,2))","v":""},0.44236111111111898,null,"",{"$f":"IF(K148=\"\",\"\",MENU!$D$10/('liste engagés'!K148*24))","v":""},0]
[144,null,null,null,null,"Code",null,{"$f":"+IF(G149=\"\",\"\",VLOOKUP(G149,Catégories!$B$3:$C$17,2))","v":""},0.44305555555556297,null,"",{"$f":"IF(K149=\"\",\"\",MENU!$D$10/('liste engagés'!K149*24))","v":""},0]
[145,null,null,null,null,"Code",null,{"$f":"+IF(G150=\"\",\"\",VLOOKUP(G150,Catégories!$B$3:$C$17,2))","v":""},0.44375000000000803,null,"",{"$f":"IF(K150=\"\",\"\",MENU!$D$10/('liste engagés'!K150*24))","v":""},0]
[146,"HAREL","MARCEL","VC SOYONNAIS","FSGT","Code",4,{"$f":"+IF(G151=\"\",\"\",VLOOKUP(G151,Catégories!$B$3:$C$17,2))","v":"FSGT 5"},0.44444444444445202,0.47484953703703708,"00:43:47",{"$f":"IF(K151=\"\",\"\",MENU!$D$10/('liste engagés'!K151*24))","v":15.622382946330479},1]
[147,null,null,null,null,"Code",null,{"$f":"+IF(G152=\"\",\"\",VLOOKUP(G152,Catégories!$B$3:$C$17,2))","v":""},0.44513888888889702,null,"",{"$f":"IF(K152=\"\",\"\",MENU!$D$10/('liste engagés'!K152*24))","v":""},0]
[148,"JOUFFRET","DIDIER","CC ST PERAY","FSGT","Code",3,{"$f":"+IF(G153=\"\",\"\",VLOOKUP(G153,Catégories!$B$3:$C$17,2))","v":"FSGT 4"},0.44583333333334102,0.4737615740740741,"00:40:13",{"$f":"IF(K153=\"\",\"\",MENU!$D$10/('liste engagés'!K153*24))","v":17.007874015752698},1]
[149,"LOPEZ","BRICE","NL","NL","Code",7,{"$f":"+IF(G154=\"\",\"\",VLOOKUP(G154,Catégories!$B$3:$C$17,2))","v":"40-49 ans"},0.44652777777778602,0.46938657407407408,"00:32:55",{"$f":"IF(K154=\"\",\"\",MENU!$D$10/('liste engagés'!K154*24))","v":20.779746835450521},1]
[150,"CHASSON CHABONNET","JULES","CS COUXOIS","FSGT","Code",11,{"$f":"+IF(G155=\"\",\"\",VLOOKUP(G155,Catégories!$B$3:$C$17,2))","v":"Cadets"},0.44722222222223001,0.47371527777777778,"00:38:09",{"$f":"IF(K155=\"\",\"\",MENU!$D$10/('liste engagés'!K155*24))","v":17.929226736571461},1]
[151,null,null,null,null,"Code",null,{"$f":"+IF(G156=\"\",\"\",VLOOKUP(G156,Catégories!$B$3:$C$17,2))","v":""},0.44791666666667501,null,"",{"$f":"IF(K156=\"\",\"\",MENU!$D$10/('liste engagés'!K156*24))","v":""},0]
[152,null,null,null,null,"Code",null,{"$f":"+IF(G157=\"\",\"\",VLOOKUP(G157,Catégories!$B$3:$C$17,2))","v":""},0.44861111111111901,null,"",{"$f":"IF(K157=\"\",\"\",MENU!$D$10/('liste engagés'!K157*24))","v":""},0]
[153,null,null,null,null,"Code",null,{"$f":"+IF(G158=\"\",\"\",VLOOKUP(G158,Catégories!$B$3:$C$17,2))","v":""},0.44930555555556401,null,"",{"$f":"IF(K158=\"\",\"\",MENU!$D$10/('liste engagés'!K158*24))","v":""},0]
[154,null,null,null,null,"Code",null,{"$f":"+IF(G159=\"\",\"\",VLOOKUP(G159,Catégories!$B$3:$C$17,2))","v":""},0.450000000000008,null,"",{"$f":"IF(K159=\"\",\"\",MENU!$D$10/('liste engagés'!K159*24))","v":""},0]
[155,null,null,null,null,"Code",null,{"$f":"+IF(G160=\"\",\"\",VLOOKUP(G160,Catégories!$B$3:$C$17,2))","v":""},0.450694444444453,null,"",{"$f":"IF(K160=\"\",\"\",MENU!$D$10/('liste engagés'!K160*24))","v":""},0]
[156,null,null,null,null,"Code",null,{"$f":"+IF(G161=\"\",\"\",VLOOKUP(G161,Catégories!$B$3:$C$17,2))","v":""},0.451388888888897,null,"",{"$f":"IF(K161=\"\",\"\",MENU!$D$10/('liste engagés'!K161*24))","v":""},0]
[157,null,null,null,null,"Code",null,{"$f":"+IF(G162=\"\",\"\",VLOOKUP(G162,Catégories!$B$3:$C$17,2))","v":""},0.452083333333342,null,"",{"$f":"IF(K162=\"\",\"\",MENU!$D$10/('liste engagés'!K162*24))","v":""},0]
[158,null,null,null,null,"Code",null,{"$f":"+IF(G163=\"\",\"\",VLOOKUP(G163,Catégories!$B$3:$C$17,2))","v":""},0.45277777777778599,null,"",{"$f":"IF(K163=\"\",\"\",MENU!$D$10/('liste engagés'!K163*24))","v":""},0]
[159,null,null,null,null,"Code",null,{"$f":"+IF(G164=\"\",\"\",VLOOKUP(G164,Catégories!$B$3:$C$17,2))","v":""},0.45347222222223099,null,"",{"$f":"IF(K164=\"\",\"\",MENU!$D$10/('liste engagés'!K164*24))","v":""},0]
[160,null,null,null,null,"Code",null,{"$f":"+IF(G165=\"\",\"\",VLOOKUP(G165,Catégories!$B$3:$C$17,2))","v":""},0.45416666666667499,null,"",{"$f":"IF(K165=\"\",\"\",MENU!$D$10/('liste engagés'!K165*24))","v":""},0]
[161,null,null,null,null,"Code",null,{"$f":"+IF(G166=\"\",\"\",VLOOKUP(G166,Catégories!$B$3:$C$17,2))","v":""},0.45486111111111999,null,"",{"$f":"IF(K166=\"\",\"\",MENU!$D$10/('liste engagés'!K166*24))","v":""},0]
[162,null,null,null,null,"Code",null,{"$f":"+IF(G167=\"\",\"\",VLOOKUP(G167,Catégories!$B$3:$C$17,2))","v":""},0.45555555555556398,null,"",{"$f":"IF(K167=\"\",\"\",MENU!$D$10/('liste engagés'!K167*24))","v":""},0]
[163,null,null,null,null,"Code",null,{"$f":"+IF(G168=\"\",\"\",VLOOKUP(G168,Catégories!$B$3:$C$17,2))","v":""},0.45625000000000898,null,"",{"$f":"IF(K168=\"\",\"\",MENU!$D$10/('liste engagés'!K168*24))","v":""},0]
[164,null,null,null,null,"Code",null,{"$f":"+IF(G169=\"\",\"\",VLOOKUP(G169,Catégories!$B$3:$C$17,2))","v":""},0.45694444444445298,null,"",{"$f":"IF(K169=\"\",\"\",MENU!$D$10/('liste engagés'!K169*24))","v":""},0]
[165,"SORIN","ALEXIS","UCMV","FSGT","Code",2,{"$f":"+IF(G170=\"\",\"\",VLOOKUP(G170,Catégories!$B$3:$C$17,2))","v":"FSGT 3"},0.45763888888889798,"11:33:33","00:34:33",{"$f":"IF(K170=\"\",\"\",MENU!$D$10/('liste engagés'!K170*24))","v":19.797395079602321},1]
[166,"COMTE","SERGE","VSRP","FSGT","Code",3,{"$f":"+IF(G171=\"\",\"\",VLOOKUP(G171,Catégories!$B$3:$C$17,2))","v":"FSGT 4"},0.45833333333334197,"11:41:26","00:41:26",{"$f":"IF(K171=\"\",\"\",MENU!$D$10/('liste engagés'!K171*24))","v":16.508447304912462},1]
[167,"BAFFERT","ROMAIN","C PRO","FFC","Code",8,{"$f":"+IF(G172=\"\",\"\",VLOOKUP(G172,Catégories!$B$3:$C$17,2))","v":"30-39 ans"},0.45902777777778703,"11:43:06","00:42:06",{"$f":"IF(K172=\"\",\"\",MENU!$D$10/('liste engagés'!K172*24))","v":16.247030878865001},1]
[168,null,null,null,null,"Code",null,{"$f":"+IF(G173=\"\",\"\",VLOOKUP(G173,Catégories!$B$3:$C$17,2))","v":""},0.45972222222223103,null,"",{"$f":"IF(K173=\"\",\"\",MENU!$D$10/('liste engagés'!K173*24))","v":""},0]
[169,null,null,null,null,"Code",null,{"$f":"+IF(G174=\"\",\"\",VLOOKUP(G174,Catégories!$B$3:$C$17,2))","v":""},0.46041666666667602,null,"",{"$f":"IF(K174=\"\",\"\",MENU!$D$10/('liste engagés'!K174*24))","v":""},0]
[170,null,null,null,null,"Code",null,{"$f":"+IF(G175=\"\",\"\",VLOOKUP(G175,Catégories!$B$3:$C$17,2))","v":""},0.46111111111112002,null,"",{"$f":"IF(K175=\"\",\"\",MENU!$D$10/('liste engagés'!K175*24))","v":""},0]
[171,null,null,null,null,"Code",null,{"$f":"+IF(G176=\"\",\"\",VLOOKUP(G176,Catégories!$B$3:$C$17,2))","v":""},0.46180555555556502,null,"",{"$f":"IF(K176=\"\",\"\",MENU!$D$10/('liste engagés'!K176*24))","v":""},0]
[172,null,null,null,null,"Code",null,{"$f":"+IF(G177=\"\",\"\",VLOOKUP(G177,Catégories!$B$3:$C$17,2))","v":""},0.46250000000000902,null,"",{"$f":"IF(K177=\"\",\"\",MENU!$D$10/('liste engagés'!K177*24))","v":""},0]
[173,null,null,null,null,"Code",null,{"$f":"+IF(G178=\"\",\"\",VLOOKUP(G178,Catégories!$B$3:$C$17,2))","v":""},0.46319444444445401,null,"",{"$f":"IF(K178=\"\",\"\",MENU!$D$10/('liste engagés'!K178*24))","v":""},0]
[174,"VASNIER","DYLAN","UCMV","FFC","Code",9,{"$f":"+IF(G179=\"\",\"\",VLOOKUP(G179,Catégories!$B$3:$C$17,2))","v":"17-29 ans"},0.46388888888889801,"11:41:19","00:33:19",{"$f":"IF(K179=\"\",\"\",MENU!$D$10/('liste engagés'!K179*24))","v":20.530265132574389},1]
[175,"DREVON","SEB","UCMV","FSGT","Code",3,{"$f":"+IF(G180=\"\",\"\",VLOOKUP(G180,Catégories!$B$3:$C$17,2))","v":"FSGT 4"},0.46458333333334301,"11:57:20","00:48:20",{"$f":"IF(K180=\"\",\"\",MENU!$D$10/('liste engagés'!K180*24))","v":14.151724137935103},1]
[176,null,null,null,null,"Code",null,{"$f":"+IF(G181=\"\",\"\",VLOOKUP(G181,Catégories!$B$3:$C$17,2))","v":""},0.465277777777787,null,"",{"$f":"IF(K181=\"\",\"\",MENU!$D$10/('liste engagés'!K181*24))","v":""},0]
[177,null,null,null,null,"Code",null,{"$f":"+IF(G182=\"\",\"\",VLOOKUP(G182,Catégories!$B$3:$C$17,2))","v":""},0.465972222222232,null,"",{"$f":"IF(K182=\"\",\"\",MENU!$D$10/('liste engagés'!K182*24))","v":""},0]
[178,null,null,null,null,"Code",null,{"$f":"+IF(G183=\"\",\"\",VLOOKUP(G183,Catégories!$B$3:$C$17,2))","v":""},0.466666666666676,null,"",{"$f":"IF(K183=\"\",\"\",MENU!$D$10/('liste engagés'!K183*24))","v":""},0]
[179,null,null,null,null,"Code",null,{"$f":"+IF(G184=\"\",\"\",VLOOKUP(G184,Catégories!$B$3:$C$17,2))","v":""},0.467361111111121,null,"",{"$f":"IF(K184=\"\",\"\",MENU!$D$10/('liste engagés'!K184*24))","v":""},0]
[180,null,null,null,null,"Code",null,{"$f":"+IF(G185=\"\",\"\",VLOOKUP(G185,Catégories!$B$3:$C$17,2))","v":""},0.46805555555556499,null,"",{"$f":"IF(K185=\"\",\"\",MENU!$D$10/('liste engagés'!K185*24))","v":""},0]
[181,null,null,null,null,"Code",null,{"$f":"+IF(G186=\"\",\"\",VLOOKUP(G186,Catégories!$B$3:$C$17,2))","v":""},0.46875000000000999,null,"",{"$f":"IF(K186=\"\",\"\",MENU!$D$10/('liste engagés'!K186*24))","v":""},0]
[182,null,null,null,null,"Code",null,{"$f":"+IF(G187=\"\",\"\",VLOOKUP(G187,Catégories!$B$3:$C$17,2))","v":""},0.46944444444445399,null,"",{"$f":"IF(K187=\"\",\"\",MENU!$D$10/('liste engagés'!K187*24))","v":""},0]
[183,null,null,null,null,"Code",null,{"$f":"+IF(G188=\"\",\"\",VLOOKUP(G188,Catégories!$B$3:$C$17,2))","v":""},0.47013888888889899,null,"",{"$f":"IF(K188=\"\",\"\",MENU!$D$10/('liste engagés'!K188*24))","v":""},0]
[184,null,null,null,null,"Code",null,{"$f":"+IF(G189=\"\",\"\",VLOOKUP(G189,Catégories!$B$3:$C$17,2))","v":""},0.47083333333334298,null,"",{"$f":"IF(K189=\"\",\"\",MENU!$D$10/('liste engagés'!K189*24))","v":""},0]
[185,null,null,null,null,"Code",null,{"$f":"+IF(G190=\"\",\"\",VLOOKUP(G190,Catégories!$B$3:$C$17,2))","v":""},0.47152777777778798,null,"",{"$f":"IF(K190=\"\",\"\",MENU!$D$10/('liste engagés'!K190*24))","v":""},0]
[186,null,null,null,null,"Code",null,{"$f":"+IF(G191=\"\",\"\",VLOOKUP(G191,Catégories!$B$3:$C$17,2))","v":""},0.47222222222223198,null,"",{"$f":"IF(K191=\"\",\"\",MENU!$D$10/('liste engagés'!K191*24))","v":""},0]
[187,null,null,null,null,"Code",null,{"$f":"+IF(G192=\"\",\"\",VLOOKUP(G192,Catégories!$B$3:$C$17,2))","v":""},0.47291666666667698,null,"",{"$f":"IF(K192=\"\",\"\",MENU!$D$10/('liste engagés'!K192*24))","v":""},0]
[188,null,null,null,null,"Code",null,{"$f":"+IF(G193=\"\",\"\",VLOOKUP(G193,Catégories!$B$3:$C$17,2))","v":""},0.47361111111112097,null,"",{"$f":"IF(K193=\"\",\"\",MENU!$D$10/('liste engagés'!K193*24))","v":""},0]
[189,null,null,null,null,"Code",null,{"$f":"+IF(G194=\"\",\"\",VLOOKUP(G194,Catégories!$B$3:$C$17,2))","v":""},0.47430555555556603,null,"",{"$f":"IF(K194=\"\",\"\",MENU!$D$10/('liste engagés'!K194*24))","v":""},0]
[190,null,null,null,null,"Code",null,{"$f":"+IF(G195=\"\",\"\",VLOOKUP(G195,Catégories!$B$3:$C$17,2))","v":""},0.47500000000001003,null,"",{"$f":"IF(K195=\"\",\"\",MENU!$D$10/('liste engagés'!K195*24))","v":""},0]
[191,null,null,null,null,"Code",null,{"$f":"+IF(G196=\"\",\"\",VLOOKUP(G196,Catégories!$B$3:$C$17,2))","v":""},0.47569444444445502,null,"",{"$f":"IF(K196=\"\",\"\",MENU!$D$10/('liste engagés'!K196*24))","v":""},0]
[192,null,null,null,null,"Code",null,{"$f":"+IF(G197=\"\",\"\",VLOOKUP(G197,Catégories!$B$3:$C$17,2))","v":""},0.47638888888889902,null,"",{"$f":"IF(K197=\"\",\"\",MENU!$D$10/('liste engagés'!K197*24))","v":""},0]
[193,null,null,null,null,"Code",null,{"$f":"+IF(G198=\"\",\"\",VLOOKUP(G198,Catégories!$B$3:$C$17,2))","v":""},0.47708333333334402,null,{"$f":"+IF(J198=\"\",\"\",J198-I198)","v":""},{"$f":"IF(K198=\"\",\"\",MENU!$D$10/('liste engagés'!K198*24))","v":""},{"$f":"+IF(B198=\"\",0,1)","v":0}]
[194,null,null,null,null,"Code",null,{"$f":"+IF(G199=\"\",\"\",VLOOKUP(G199,Catégories!$B$3:$C$17,2))","v":""},0.47777777777778802,null,"",{"$f":"IF(K199=\"\",\"\",MENU!$D$10/('liste engagés'!K199*24))","v":""},0]
[195,null,null,null,null,"Code",null,{"$f":"+IF(G200=\"\",\"\",VLOOKUP(G200,Catégories!$B$3:$C$17,2))","v":""},0.47847222222223301,null,"",{"$f":"IF(K200=\"\",\"\",MENU!$D$10/('liste engagés'!K200*24))","v":""},0]
[196,null,null,null,null,"Code",null,{"$f":"+IF(G201=\"\",\"\",VLOOKUP(G201,Catégories!$B$3:$C$17,2))","v":""},0.47916666666667701,null,"",{"$f":"IF(K201=\"\",\"\",MENU!$D$10/('liste engagés'!K201*24))","v":""},0]
[197,null,null,null,null,"Code",null,{"$f":"+IF(G202=\"\",\"\",VLOOKUP(G202,Catégories!$B$3:$C$17,2))","v":""},0.47986111111112201,null,"",{"$f":"IF(K202=\"\",\"\",MENU!$D$10/('liste engagés'!K202*24))","v":""},0]
[198,null,null,null,null,"Code",null,{"$f":"+IF(G203=\"\",\"\",VLOOKUP(G203,Catégories!$B$3:$C$17,2))","v":""},0.48055555555556601,null,"",{"$f":"IF(K203=\"\",\"\",MENU!$D$10/('liste engagés'!K203*24))","v":""},0]
[199,null,null,null,null,"Code",null,{"$f":"+IF(G204=\"\",\"\",VLOOKUP(G204,Catégories!$B$3:$C$17,2))","v":""},0.481250000000011,null,"",{"$f":"IF(K204=\"\",\"\",MENU!$D$10/('liste engagés'!K204*24))","v":""},0]
[200,null,null,null,null,"Code",null,{"$f":"+IF(G205=\"\",\"\",VLOOKUP(G205,Catégories!$B$3:$C$17,2))","v":""},0.481944444444455,null,"",{"$f":"IF(K205=\"\",\"\",MENU!$D$10/('liste engagés'!K205*24))","v":""},0]
[201,null,null,null,null,"Code",null,{"$f":"+IF(G206=\"\",\"\",VLOOKUP(G206,Catégories!$B$3:$C$17,2))","v":""},0.482638888888899,null,"",{"$f":"IF(K206=\"\",\"\",MENU!$D$10/('liste engagés'!K206*24))","v":""},0]
[202,null,null,null,null,"Code",null,{"$f":"+IF(G207=\"\",\"\",VLOOKUP(G207,Catégories!$B$3:$C$17,2))","v":""},0.483333333333344,null,"",{"$f":"IF(K207=\"\",\"\",MENU!$D$10/('liste engagés'!K207*24))","v":""},0]
[203,null,null,null,null,"Code",null,{"$f":"+IF(G208=\"\",\"\",VLOOKUP(G208,Catégories!$B$3:$C$17,2))","v":""},0.48402777777778799,null,"",{"$f":"IF(K208=\"\",\"\",MENU!$D$10/('liste engagés'!K208*24))","v":""},0]
[204,null,null,null,null,"Code",null,{"$f":"+IF(G209=\"\",\"\",VLOOKUP(G209,Catégories!$B$3:$C$17,2))","v":""},0.48472222222223299,null,"",{"$f":"IF(K209=\"\",\"\",MENU!$D$10/('liste engagés'!K209*24))","v":""},0]
[205,null,null,null,null,"Code",null,{"$f":"+IF(G210=\"\",\"\",VLOOKUP(G210,Catégories!$B$3:$C$17,2))","v":""},0.48541666666667699,null,"",{"$f":"IF(K210=\"\",\"\",MENU!$D$10/('liste engagés'!K210*24))","v":""},0]
[206,null,null,null,null,"Code",null,{"$f":"+IF(G211=\"\",\"\",VLOOKUP(G211,Catégories!$B$3:$C$17,2))","v":""},0.48611111111112199,null,"",{"$f":"IF(K211=\"\",\"\",MENU!$D$10/('liste engagés'!K211*24))","v":""},0]
[207,null,null,null,null,"Code",null,{"$f":"+IF(G212=\"\",\"\",VLOOKUP(G212,Catégories!$B$3:$C$17,2))","v":""},0.48680555555556598,null,"",{"$f":"IF(K212=\"\",\"\",MENU!$D$10/('liste engagés'!K212*24))","v":""},0]
[208,null,null,null,null,"Code",null,{"$f":"+IF(G213=\"\",\"\",VLOOKUP(G213,Catégories!$B$3:$C$17,2))","v":""},0.48750000000001098,null,"",{"$f":"IF(K213=\"\",\"\",MENU!$D$10/('liste engagés'!K213*24))","v":""},0]
[209,null,null,null,null,"Code",null,{"$f":"+IF(G214=\"\",\"\",VLOOKUP(G214,Catégories!$B$3:$C$17,2))","v":""},0.48819444444445498,null,"",{"$f":"IF(K214=\"\",\"\",MENU!$D$10/('liste engagés'!K214*24))","v":""},0]
[210,null,null,null,null,"Code",null,{"$f":"+IF(G215=\"\",\"\",VLOOKUP(G215,Catégories!$B$3:$C$17,2))","v":""},0.48888888888889998,null,"",{"$f":"IF(K215=\"\",\"\",MENU!$D$10/('liste engagés'!K215*24))","v":""},0]
[null,null,null,null,null,null,null,null,null,null,null,null,{"$f":"SUM(M6:M215)","v":91}]

{"sheet":"scratch","index":3,"n_rows":217,"n_cols":9,"rows_kept":217,"cut":false,"hidden":false,"merged":[[2,0,2,7]]}
[{"$f":"+MENU!A1","v":"CHRONO DES LIMOUCHES "},null,null,null,null,null,{"$f":"+MENU!I1","v":"EDITION"},{"$f":"+MENU!J1","v":2018}]
[]
["CLASSEMENT GENERAL"]
[]
[]
[null,"N°de DOSSARD","Nom ","Prénom","Club","Catégorie","Temps","Moyenne"]
[1,{"$f":"IF('liste engagés'!$G115=\"\",\"\",'liste engagés'!A115)","v":110},{"$f":"IF('liste engagés'!$G115=\"\",\"\",'liste engagés'!B115)","v":"CHEYTION"},{"$f":"IF('liste engagés'!$G115=\"\",\"\",'liste engagés'!C115)","v":"ANTHONY"},{"$f":"IF('liste engagés'!$G115=\"\",\"\",'liste engagés'!D115)","v":"UC ALBENNASSIENNE"},{"$f":"IF('liste engagés'!$G115=\"\",\"\",'liste engagés'!G115)","v":7},{"$f":"IF('liste engagés'!$G115=\"\",\"\",'liste engagés'!K115)","v":2.0902777777772219E-2},{"$f":"IF('liste engagés'!$G115=\"\",\"\",'liste engagés'!L115)","v":22.724252491700398},{"$f":"+IF(C7=\"\",0,1)","v":1}]
[{"$f":"+A7+1","v":2},{"$f":"IF('liste engagés'!$G143=\"\",\"\",'liste engagés'!A143)","v":138},{"$f":"IF('liste engagés'!$G143=\"\",\"\",'liste engagés'!B143)","v":"FARAVELON"},{"$f":"IF('liste engagés'!$G143=\"\",\"\",'liste engagés'!C143)","v":"BORIS"},{"$f":"IF('liste engagés'!$G143=\"\",\"\",'liste engagés'!D143)","v":"VSRP"},{"$f":"IF('liste engagés'!$G143=\"\",\"\",'liste engagés'!G143)","v":9},{"$f":"IF('liste engagés'!$G143=\"\",\"\",'liste engagés'!K143)","v":2.1886574074066967E-2},{"$f":"IF('liste engagés'!$G143=\"\",\"\",'liste engagés'!L143)","v":21.702802749874841},1]
[3,{"$f":"IF('liste engagés'!$G111=\"\",\"\",'liste engagés'!A111)","v":106},{"$f":"IF('liste engagés'!$G111=\"\",\"\",'liste engagés'!B111)","v":"MEUNIER"},{"$f":"IF('liste engagés'!$G111=\"\",\"\",'liste engagés'!C111)","v":"PHILIPPE"},{"$f":"IF('liste engagés'!$G111=\"\",\"\",'liste engagés'!D111)","v":"FONTANIL"},{"$f":"IF('liste engagés'!$G111=\"\",\"\",'liste engagés'!G111)","v":8},{"$f":"IF('liste engagés'!$G111=\"\",\"\",'liste engagés'!K111)","v":2.2002314814809465E-2},{"$f":"IF('liste engagés'!$G111=\"\",\"\",'liste engagés'!L111)","v":21.58863755918463},1]
[4,{"$f":"IF('liste engagés'!$G99=\"\",\"\",'liste engagés'!A99)","v":94},{"$f":"IF('liste engagés'!$G99=\"\",\"\",'liste engagés'!B99)","v":"PEYRONNET"},{"$f":"IF('liste engagés'!$G99=\"\",\"\",'liste engagés'!C99)","v":"FABRICE"},{"$f":"IF('liste engagés'!$G99=\"\",\"\",'liste engagés'!D99)","v":"TEAM VERCOES"},{"$f":"IF('liste engagés'!$G99=\"\",\"\",'liste engagés'!G99)","v":8},{"$f":"IF('liste engagés'!$G99=\"\",\"\",'liste engagés'!K99)","v":2.2037037037032359E-2},{"$f":"IF('liste engagés'!$G99=\"\",\"\",'liste engagés'!L99)","v":21.554621848744073},1]
[5,{"$f":"IF('liste engagés'!$G130=\"\",\"\",'liste engagés'!A130)","v":125},{"$f":"IF('liste engagés'!$G130=\"\",\"\",'liste engagés'!B130)","v":"ARLAUD"},{"$f":"IF('liste engagés'!$G130=\"\",\"\",'liste engagés'!C130)","v":"JEROME"},{"$f":"IF('liste engagés'!$G130=\"\",\"\",'liste engagés'!D130)","v":"C PRO"},{"$f":"IF('liste engagés'!$G130=\"\",\"\",'liste engagés'!G130)","v":7},{"$f":"IF('liste engagés'!$G130=\"\",\"\",'liste engagés'!K130)","v":2.2048611111104177E-2},{"$f":"IF('liste engagés'!$G130=\"\",\"\",'liste engagés'!L130)","v":21.543307086620949},1]
[6,{"$f":"IF('liste engagés'!$G144=\"\",\"\",'liste engagés'!A144)","v":139},{"$f":"IF('liste engagés'!$G144=\"\",\"\",'liste engagés'!B144)","v":"COSTECHAREYRE"},{"$f":"IF('liste engagés'!$G144=\"\",\"\",'liste engagés'!C144)","v":"CLAUDE"},{"$f":"IF('liste engagés'!$G144=\"\",\"\",'liste engagés'!D144)","v":"VC VALRHONA"},{"$f":"IF('liste engagés'!$G144=\"\",\"\",'liste engagés'!G144)","v":7},{"$f":"IF('liste engagés'!$G144=\"\",\"\",'liste engagés'!K144)","v":2.2106481481473816E-2},{"$f":"IF('liste engagés'!$G144=\"\",\"\",'liste engagés'!L144)","v":21.486910994771847},1]
[7,{"$f":"IF('liste engagés'!$G154=\"\",\"\",'liste engagés'!A154)","v":149},{"$f":"IF('liste engagés'!$G154=\"\",\"\",'liste engagés'!B154)","v":"LOPEZ"},{"$f":"IF('liste engagés'!$G154=\"\",\"\",'liste engagés'!C154)","v":"BRICE"},{"$f":"IF('liste engagés'!$G154=\"\",\"\",'liste engagés'!D154)","v":"NL"},{"$f":"IF('liste engagés'!$G154=\"\",\"\",'liste engagés'!G154)","v":7},{"$f":"IF('liste engagés'!$G154=\"\",\"\",'liste engagés'!K154)","v":2.2858796296288064E-2},{"$f":"IF('liste engagés'!$G154=\"\",\"\",'liste engagés'!L154)","v":20.779746835450521},1]
[8,{"$f":"IF('liste engagés'!$G98=\"\",\"\",'liste engagés'!A98)","v":93},{"$f":"IF('liste engagés'!$G98=\"\",\"\",'liste engagés'!B98)","v":"COTTE MARINON"},{"$f":"IF('liste engagés'!$G98=\"\",\"\",'liste engagés'!C98)","v":"PIERRE LOUIS"},{"$f":"IF('liste engagés'!$G98=\"\",\"\",'liste engagés'!D98)","v":"C PRO"},{"$f":"IF('liste engagés'!$G98=\"\",\"\",'liste engagés'!G98)","v":9},{"$f":"IF('liste engagés'!$G98=\"\",\"\",'liste engagés'!K98)","v":2.3090277777772672E-2},{"$f":"IF('liste engagés'!$G98=\"\",\"\",'liste engagés'!L98)","v":20.57142857143312},1]
[9,{"$f":"IF('liste engagés'!$G179=\"\",\"\",'liste engagés'!A179)","v":174},{"$f":"IF('liste engagés'!$G179=\"\",\"\",'liste engagés'!B179)","v":"VASNIER"},{"$f":"IF('liste engagés'!$G179=\"\",\"\",'liste engagés'!C179)","v":"DYLAN"},{"$f":"IF('liste engagés'!$G179=\"\",\"\",'liste engagés'!D179)","v":"UCMV"},{"$f":"IF('liste engagés'!$G179=\"\",\"\",'liste engagés'!G179)","v":9},{"$f":"IF('liste engagés'!$G179=\"\",\"\",'liste engagés'!K179)","v":2.3136574074064942E-2},{"$f":"IF('liste engagés'!$G179=\"\",\"\",'liste engagés'!L179)","v":20.530265132574389},1]
[10,{"$f":"IF('liste engagés'!$G6=\"\",\"\",'liste engagés'!A6)","v":1},{"$f":"IF('liste engagés'!$G6=\"\",\"\",'liste engagés'!B6)","v":"ESCHARD"},{"$f":"IF('liste engagés'!$G6=\"\",\"\",'liste engagés'!C6)","v":"GUILLAUME"},{"$f":"IF('liste engagés'!$G6=\"\",\"\",'liste engagés'!D6)","v":"UCMV"},{"$f":"IF('liste engagés'!$G6=\"\",\"\",'liste engagés'!G6)","v":8},{"$f":"IF('liste engagés'!$G6=\"\",\"\",'liste engagés'!K6)","v":2.3518518518518494E-2},{"$f":"IF('liste engagés'!$G6=\"\",\"\",'liste engagés'!L6)","v":20.19685039370081},1]
[11,{"$f":"IF('liste engagés'!$G113=\"\",\"\",'liste engagés'!A113)","v":108},{"$f":"IF('liste engagés'!$G113=\"\",\"\",'liste engagés'!B113)","v":"ANKRI"},{"$f":"IF('liste engagés'!$G113=\"\",\"\",'liste engagés'!C113)","v":"NORBERT"},{"$f":"IF('liste engagés'!$G113=\"\",\"\",'liste engagés'!D113)","v":"MARSEILLE"},{"$f":"IF('liste engagés'!$G113=\"\",\"\",'liste engagés'!G113)","v":6},{"$f":"IF('liste engagés'!$G113=\"\",\"\",'liste engagés'!K113)","v":2.3761574074068592E-2},{"$f":"IF('liste engagés'!$G113=\"\",\"\",'liste engagés'!L113)","v":19.990258158796625},1]
[12,{"$f":"IF('liste engagés'!$G85=\"\",\"\",'liste engagés'!A85)","v":80},{"$f":"IF('liste engagés'!$G85=\"\",\"\",'liste engagés'!B85)","v":"HEYRAUD"},{"$f":"IF('liste engagés'!$G85=\"\",\"\",'liste engagés'!C85)","v":"FABIEN"},{"$f":"IF('liste engagés'!$G85=\"\",\"\",'liste engagés'!D85)","v":"C PRO"},{"$f":"IF('liste engagés'!$G85=\"\",\"\",'liste engagés'!G85)","v":7},{"$f":"IF('liste engagés'!$G85=\"\",\"\",'liste engagés'!K85)","v":2.3773148148144241E-2},{"$f":"IF('liste engagés'!$G85=\"\",\"\",'liste engagés'!L85)","v":19.980525803313899},1]
[13,{"$f":"IF('liste engagés'!$G124=\"\",\"\",'liste engagés'!A124)","v":119},{"$f":"IF('liste engagés'!$G124=\"\",\"\",'liste engagés'!B124)","v":"DOYON"},{"$f":"IF('liste engagés'!$G124=\"\",\"\",'liste engagés'!C124)","v":"NICOLAS"},{"$f":"IF('liste engagés'!$G124=\"\",\"\",'liste engagés'!D124)","v":"VSRP"},{"$f":"IF('liste engagés'!$G124=\"\",\"\",'liste engagés'!G124)","v":9},{"$f":"IF('liste engagés'!$G124=\"\",\"\",'liste engagés'!K124)","v":2.3842592592586087E-2},{"$f":"IF('liste engagés'!$G124=\"\",\"\",'liste engagés'!L124)","v":19.922330097092814},1]
[14,{"$f":"IF('liste engagés'!$G121=\"\",\"\",'liste engagés'!A121)","v":116},{"$f":"IF('liste engagés'!$G121=\"\",\"\",'liste engagés'!B121)","v":"DONCIEUX"},{"$f":"IF('liste engagés'!$G121=\"\",\"\",'liste engagés'!C121)","v":"NICOLAS"},{"$f":"IF('liste engagés'!$G121=\"\",\"\",'liste engagés'!D121)","v":"UCVM"},{"$f":"IF('liste engagés'!$G121=\"\",\"\",'liste engagés'!G121)","v":1},{"$f":"IF('liste engagés'!$G121=\"\",\"\",'liste engagés'!K121)","v":2.3854166666660737E-2},{"$f":"IF('liste engagés'!$G121=\"\",\"\",'liste engagés'!L121)","v":19.912663755463466},1]
[15,{"$f":"IF('liste engagés'!$G170=\"\",\"\",'liste engagés'!A170)","v":165},{"$f":"IF('liste engagés'!$G170=\"\",\"\",'liste engagés'!B170)","v":"SORIN"},{"$f":"IF('liste engagés'!$G170=\"\",\"\",'liste engagés'!C170)","v":"ALEXIS"},{"$f":"IF('liste engagés'!$G170=\"\",\"\",'liste engagés'!D170)","v":"UCMV"},{"$f":"IF('liste engagés'!$G170=\"\",\"\",'liste engagés'!G170)","v":2},{"$f":"IF('liste engagés'!$G170=\"\",\"\",'liste engagés'!K170)","v":2.3993055555546428E-2},{"$f":"IF('liste engagés'!$G170=\"\",\"\",'liste engagés'!L170)","v":19.797395079602321},1]
[16,{"$f":"IF('liste engagés'!$G83=\"\",\"\",'liste engagés'!A83)","v":78},{"$f":"IF('liste engagés'!$G83=\"\",\"\",'liste engagés'!B83)","v":"BRISSAUD"},{"$f":"IF('liste engagés'!$G83=\"\",\"\",'liste engagés'!C83)","v":"SIMON"},{"$f":"IF('liste engagés'!$G83=\"\",\"\",'liste engagés'!D83)","v":"UCMV"},{"$f":"IF('liste engagés'!$G83=\"\",\"\",'liste engagés'!G83)","v":11},{"$f":"IF('liste engagés'!$G83=\"\",\"\",'liste engagés'!K83)","v":2.409722222221844E-2},{"$f":"IF('liste engagés'!$G83=\"\",\"\",'liste engagés'!L83)","v":19.711815561962748},1]
[17,{"$f":"IF('liste engagés'!$G137=\"\",\"\",'liste engagés'!A137)","v":132},{"$f":"IF('liste engagés'!$G137=\"\",\"\",'liste engagés'!B137)","v":"GONZALVEZ"},{"$f":"IF('liste engagés'!$G137=\"\",\"\",'liste engagés'!C137)","v":"LILIAN"},{"$f":"IF('liste engagés'!$G137=\"\",\"\",'liste engagés'!D137)","v":"USC BERG & COIRON"},{"$f":"IF('liste engagés'!$G137=\"\",\"\",'liste engagés'!G137)","v":1},{"$f":"IF('liste engagés'!$G137=\"\",\"\",'liste engagés'!K137)","v":2.4293981481474713E-2},{"$f":"IF('liste engagés'!$G137=\"\",\"\",'liste engagés'!L137)","v":19.552167698909688},1]
[18,{"$f":"IF('liste engagés'!$G128=\"\",\"\",'liste engagés'!A128)","v":123},{"$f":"IF('liste engagés'!$G128=\"\",\"\",'liste engagés'!B128)","v":"MAZA"},{"$f":"IF('liste engagés'!$G128=\"\",\"\",'liste engagés'!C128)","v":"SAMUEL"},{"$f":"IF('liste engagés'!$G128=\"\",\"\",'liste engagés'!D128)","v":"CS COUXOIS"},{"$f":"IF('liste engagés'!$G128=\"\",\"\",'liste engagés'!G128)","v":1},{"$f":"IF('liste engagés'!$G128=\"\",\"\",'liste engagés'!K128)","v":2.434027777777098E-2},{"$f":"IF('liste engagés'!$G128=\"\",\"\",'liste engagés'!L128)","v":19.514978602002596},1]
[19,{"$f":"IF('liste engagés'!$G102=\"\",\"\",'liste engagés'!A102)","v":97},{"$f":"IF('liste engagés'!$G102=\"\",\"\",'liste engagés'!B102)","v":"DUROUX"},{"$f":"IF('liste engagés'!$G102=\"\",\"\",'liste engagés'!C102)","v":"JORIS"},{"$f":"IF('liste engagés'!$G102=\"\",\"\",'liste engagés'!D102)","v":"NL"},{"$f":"IF('liste engagés'!$G102=\"\",\"\",'liste engagés'!G102)","v":9},{"$f":"IF('liste engagés'!$G102=\"\",\"\",'liste engagés'!K102)","v":2.4618055555550244E-2},{"$f":"IF('liste engagés'!$G102=\"\",\"\",'liste engagés'!L102)","v":19.294781382232653},1]
[20,{"$f":"IF('liste engagés'!$G146=\"\",\"\",'liste engagés'!A146)","v":141},{"$f":"IF('liste engagés'!$G146=\"\",\"\",'liste engagés'!B146)","v":"BARRIER"},{"$f":"IF('liste engagés'!$G146=\"\",\"\",'liste engagés'!C145)","v":"RAPHAEL"},{"$f":"IF('liste engagés'!$G146=\"\",\"\",'liste engagés'!D146)","v":"UCMV"},{"$f":"IF('liste engagés'!$G146=\"\",\"\",'liste engagés'!G146)","v":7},{"$f":"IF('liste engagés'!$G146=\"\",\"\",'liste engagés'!K146)","v":2.4756944444436713E-2},{"$f":"IF('liste engagés'!$G146=\"\",\"\",'liste engagés'!L146)","v":19.186535764381869},1]
[21,{"$f":"IF('liste engagés'!$G86=\"\",\"\",'liste engagés'!A86)","v":81},{"$f":"IF('liste engagés'!$G86=\"\",\"\",'liste engagés'!B86)","v":"HEYRAUD"},{"$f":"IF('liste engagés'!$G86=\"\",\"\",'liste engagés'!C86)","v":"VINCENT"},{"$f":"IF('liste engagés'!$G86=\"\",\"\",'liste engagés'!D86)","v":"C PRO"},{"$f":"IF('liste engagés'!$G86=\"\",\"\",'liste engagés'!G86)","v":8},{"$f":"IF('liste engagés'!$G86=\"\",\"\",'liste engagés'!K86)","v":2.508101851851402E-2},{"$f":"IF('liste engagés'!$G86=\"\",\"\",'liste engagés'!L86)","v":18.938624826953099},1]
[22,{"$f":"IF('liste engagés'!$G116=\"\",\"\",'liste engagés'!A116)","v":111},{"$f":"IF('liste engagés'!$G116=\"\",\"\",'liste engagés'!B116)","v":"PHILIPPE"},{"$f":"IF('liste engagés'!$G116=\"\",\"\",'liste engagés'!C116)","v":"FRANCOIS"},{"$f":"IF('liste engagés'!$G116=\"\",\"\",'liste engagés'!D116)","v":"MAX BAREL VC"},{"$f":"IF('liste engagés'!$G116=\"\",\"\",'liste engagés'!G116)","v":1},{"$f":"IF('liste engagés'!$G116=\"\",\"\",'liste engagés'!K116)","v":2.5219907407401321E-2},{"$f":"IF('liste engagés'!$G116=\"\",\"\",'liste engagés'!L116)","v":18.834327673249152},1]
[23,{"$f":"IF('liste engagés'!$G125=\"\",\"\",'liste engagés'!A125)","v":120},{"$f":"IF('liste engagés'!$G125=\"\",\"\",'liste engagés'!B125)","v":"BLACHE "},{"$f":"IF('liste engagés'!$G125=\"\",\"\",'liste engagés'!C125)","v":"SYLVAIN"},{"$f":"IF('liste engagés'!$G125=\"\",\"\",'liste engagés'!D125)","v":"UCMV"},{"$f":"IF('liste engagés'!$G125=\"\",\"\",'liste engagés'!G125)","v":9},{"$f":"IF('liste engagés'!$G125=\"\",\"\",'liste engagés'!K125)","v":2.5381944444438309E-2},{"$f":"IF('liste engagés'!$G125=\"\",\"\",'liste engagés'!L125)","v":18.714090287282225},1]
[24,{"$f":"IF('liste engagés'!$G91=\"\",\"\",'liste engagés'!A91)","v":86},{"$f":"IF('liste engagés'!$G91=\"\",\"\",'liste engagés'!B91)","v":"POLIGNE"},{"$f":"IF('liste engagés'!$G91=\"\",\"\",'liste engagés'!C91)","v":"ALEXANDRE"},{"$f":"IF('liste engagés'!$G91=\"\",\"\",'liste engagés'!D91)","v":"NL"},{"$f":"IF('liste engagés'!$G91=\"\",\"\",'liste engagés'!G91)","v":9},{"$f":"IF('liste engagés'!$G91=\"\",\"\",'liste engagés'!K91)","v":2.5381944444440196E-2},{"$f":"IF('liste engagés'!$G91=\"\",\"\",'liste engagés'!L91)","v":18.714090287280836},1]
[25,{"$f":"IF('liste engagés'!$G136=\"\",\"\",'liste engagés'!A136)","v":131},{"$f":"IF('liste engagés'!$G136=\"\",\"\",'liste engagés'!B136)","v":"LEMAIRE"},{"$f":"IF('liste engagés'!$G136=\"\",\"\",'liste engagés'!C136)","v":"YANNIS"},{"$f":"IF('liste engagés'!$G136=\"\",\"\",'liste engagés'!D136)","v":"UCMV"},{"$f":"IF('liste engagés'!$G136=\"\",\"\",'liste engagés'!G136)","v":9},{"$f":"IF('liste engagés'!$G136=\"\",\"\",'liste engagés'!K136)","v":2.5416666666659482E-2},{"$f":"IF('liste engagés'!$G136=\"\",\"\",'liste engagés'!L136)","v":18.688524590169219},1]
[26,{"$f":"IF('liste engagés'!$G140=\"\",\"\",'liste engagés'!A140)","v":135},{"$f":"IF('liste engagés'!$G140=\"\",\"\",'liste engagés'!B140)","v":"CROSET"},{"$f":"IF('liste engagés'!$G140=\"\",\"\",'liste engagés'!C140)","v":"DIDIER"},{"$f":"IF('liste engagés'!$G140=\"\",\"\",'liste engagés'!D140)","v":"VC FROGES VILLARD BONNOT"},{"$f":"IF('liste engagés'!$G140=\"\",\"\",'liste engagés'!G140)","v":2},{"$f":"IF('liste engagés'!$G140=\"\",\"\",'liste engagés'!K140)","v":2.5520833333325887E-2},{"$f":"IF('liste engagés'!$G140=\"\",\"\",'liste engagés'!L140)","v":18.612244897964615},1]
[27,{"$f":"IF('liste engagés'!$G123=\"\",\"\",'liste engagés'!A123)","v":118},{"$f":"IF('liste engagés'!$G123=\"\",\"\",'liste engagés'!B123)","v":"ANDRE"},{"$f":"IF('liste engagés'!$G123=\"\",\"\",'liste engagés'!C123)","v":"NOAH"},{"$f":"IF('liste engagés'!$G123=\"\",\"\",'liste engagés'!D123)","v":"VC PAYS VALLONNAIS"},{"$f":"IF('liste engagés'!$G123=\"\",\"\",'liste engagés'!G123)","v":12},{"$f":"IF('liste engagés'!$G123=\"\",\"\",'liste engagés'!K123)","v":2.567129629629028E-2},{"$f":"IF('liste engagés'!$G123=\"\",\"\",'liste engagés'!L123)","v":18.503155996397485},1]
[28,{"$f":"IF('liste engagés'!$G117=\"\",\"\",'liste engagés'!A117)","v":112},{"$f":"IF('liste engagés'!$G117=\"\",\"\",'liste engagés'!B117)","v":"BELCHI"},{"$f":"IF('liste engagés'!$G117=\"\",\"\",'liste engagés'!C117)","v":"LEO"},{"$f":"IF('liste engagés'!$G117=\"\",\"\",'liste engagés'!D117)","v":"UCMV"},{"$f":"IF('liste engagés'!$G117=\"\",\"\",'liste engagés'!G117)","v":9},{"$f":"IF('liste engagés'!$G117=\"\",\"\",'liste engagés'!K117)","v":2.5682870370364652E-2},{"$f":"IF('liste engagés'!$G117=\"\",\"\",'liste engagés'!L117)","v":18.494817485357881},1]
[29,{"$f":"IF('liste engagés'!$G129=\"\",\"\",'liste engagés'!A129)","v":124},{"$f":"IF('liste engagés'!$G129=\"\",\"\",'liste engagés'!B129)","v":"COURTIAL"},{"$f":"IF('liste engagés'!$G129=\"\",\"\",'liste engagés'!C129)","v":"JULIEN"},{"$f":"IF('liste engagés'!$G129=\"\",\"\",'liste engagés'!D129)","v":" C PRO"},{"$f":"IF('liste engagés'!$G129=\"\",\"\",'liste engagés'!G129)","v":8},{"$f":"IF('liste engagés'!$G129=\"\",\"\",'liste engagés'!K129)","v":2.5821759259252952E-2},{"$f":"IF('liste engagés'!$G129=\"\",\"\",'liste engagés'!L129)","v":18.395338413272086},1]
[30,{"$f":"IF('liste engagés'!$G118=\"\",\"\",'liste engagés'!A118)","v":113},{"$f":"IF('liste engagés'!$G118=\"\",\"\",'liste engagés'!B118)","v":"DUPIN"},{"$f":"IF('liste engagés'!$G118=\"\",\"\",'liste engagés'!C118)","v":"DIDIER"},{"$f":"IF('liste engagés'!$G118=\"\",\"\",'liste engagés'!D118)","v":"CS COUXOIS"},{"$f":"IF('liste engagés'!$G118=\"\",\"\",'liste engagés'!G118)","v":2},{"$f":"IF('liste engagés'!$G118=\"\",\"\",'liste engagés'!K118)","v":2.5856481481475235E-2},{"$f":"IF('liste engagés'!$G118=\"\",\"\",'liste engagés'!L118)","v":18.370635631159317},1]
[31,{"$f":"IF('liste engagés'!$G90=\"\",\"\",'liste engagés'!A90)","v":85},{"$f":"IF('liste engagés'!$G90=\"\",\"\",'liste engagés'!B90)","v":"SOLER"},{"$f":"IF('liste engagés'!$G90=\"\",\"\",'liste engagés'!C90)","v":"DIEGO"},{"$f":"IF('liste engagés'!$G90=\"\",\"\",'liste engagés'!D90)","v":"TEAM MONTAGNAC"},{"$f":"IF('liste engagés'!$G90=\"\",\"\",'liste engagés'!G90)","v":3},{"$f":"IF('liste engagés'!$G90=\"\",\"\",'liste engagés'!K90)","v":2.6087962962958289E-2},{"$f":"IF('liste engagés'!$G90=\"\",\"\",'liste engagés'!L90)","v":18.207630878441595},1]
[32,{"$f":"IF('liste engagés'!$G133=\"\",\"\",'liste engagés'!A133)","v":128},{"$f":"IF('liste engagés'!$G133=\"\",\"\",'liste engagés'!B133)","v":"REYNAUD"},{"$f":"IF('liste engagés'!$G133=\"\",\"\",'liste engagés'!C133)","v":"EMMANUEL"},{"$f":"IF('liste engagés'!$G133=\"\",\"\",'liste engagés'!D133)","v":"UCMV"},{"$f":"IF('liste engagés'!$G133=\"\",\"\",'liste engagés'!G133)","v":2},{"$f":"IF('liste engagés'!$G133=\"\",\"\",'liste engagés'!K133)","v":2.6284722222215673E-2},{"$f":"IF('liste engagés'!$G133=\"\",\"\",'liste engagés'!L133)","v":18.071334214007145},1]
[33,{"$f":"IF('liste engagés'!$G84=\"\",\"\",'liste engagés'!A84)","v":79},{"$f":"IF('liste engagés'!$G84=\"\",\"\",'liste engagés'!B84)","v":"GRESSE"},{"$f":"IF('liste engagés'!$G84=\"\",\"\",'liste engagés'!C84)","v":"GUI GUI"},{"$f":"IF('liste engagés'!$G84=\"\",\"\",'liste engagés'!D84)","v":"UCMV"},{"$f":"IF('liste engagés'!$G84=\"\",\"\",'liste engagés'!G84)","v":9},{"$f":"IF('liste engagés'!$G84=\"\",\"\",'liste engagés'!K84)","v":2.641203703703271E-2},{"$f":"IF('liste engagés'!$G84=\"\",\"\",'liste engagés'!L84)","v":17.984224364595409},1]
[34,{"$f":"IF('liste engagés'!$G155=\"\",\"\",'liste engagés'!A155)","v":150},{"$f":"IF('liste engagés'!$G155=\"\",\"\",'liste engagés'!B155)","v":"CHASSON CHABONNET"},{"$f":"IF('liste engagés'!$G155=\"\",\"\",'liste engagés'!C155)","v":"JULES"},{"$f":"IF('liste engagés'!$G155=\"\",\"\",'liste engagés'!D155)","v":"CS COUXOIS"},{"$f":"IF('liste engagés'!$G155=\"\",\"\",'liste engagés'!G155)","v":11},{"$f":"IF('liste engagés'!$G155=\"\",\"\",'liste engagés'!K155)","v":2.6493055555547762E-2},{"$f":"IF('liste engagés'!$G155=\"\",\"\",'liste engagés'!L155)","v":17.929226736571461},1]
[35,{"$f":"IF('liste engagés'!$G120=\"\",\"\",'liste engagés'!A120)","v":115},{"$f":"IF('liste engagés'!$G120=\"\",\"\",'liste engagés'!B120)","v":"BOUSBIA"},{"$f":"IF('liste engagés'!$G120=\"\",\"\",'liste engagés'!C120)","v":"RAYAN"},{"$f":"IF('liste engagés'!$G120=\"\",\"\",'liste engagés'!D120)","v":"SC BLV"},{"$f":"IF('liste engagés'!$G120=\"\",\"\",'liste engagés'!G120)","v":11},{"$f":"IF('liste engagés'!$G120=\"\",\"\",'liste engagés'!K120)","v":2.6516203703697339E-2},{"$f":"IF('liste engagés'!$G120=\"\",\"\",'liste engagés'!L120)","v":17.913574858144852},1]
[36,{"$f":"IF('liste engagés'!$G132=\"\",\"\",'liste engagés'!A132)","v":127},{"$f":"IF('liste engagés'!$G132=\"\",\"\",'liste engagés'!B132)","v":"DURAND"},{"$f":"IF('liste engagés'!$G132=\"\",\"\",'liste engagés'!C132)","v":"MAXIME"},{"$f":"IF('liste engagés'!$G132=\"\",\"\",'liste engagés'!D132)","v":"UCMV"},{"$f":"IF('liste engagés'!$G132=\"\",\"\",'liste engagés'!G132)","v":11},{"$f":"IF('liste engagés'!$G132=\"\",\"\",'liste engagés'!K132)","v":2.6597222222215222E-2},{"$f":"IF('liste engagés'!$G132=\"\",\"\",'liste engagés'!L132)","v":17.859007832902872},1]
[37,{"$f":"IF('liste engagés'!$G100=\"\",\"\",'liste engagés'!A100)","v":95},{"$f":"IF('liste engagés'!$G100=\"\",\"\",'liste engagés'!B100)","v":"GARCIN"},{"$f":"IF('liste engagés'!$G100=\"\",\"\",'liste engagés'!C100)","v":"GUILLAUME"},{"$f":"IF('liste engagés'!$G100=\"\",\"\",'liste engagés'!D100)","v":"UCMV"},{"$f":"IF('liste engagés'!$G100=\"\",\"\",'liste engagés'!G100)","v":11},{"$f":"IF('liste engagés'!$G100=\"\",\"\",'liste engagés'!K100)","v":2.6956018518513314E-2},{"$f":"IF('liste engagés'!$G100=\"\",\"\",'liste engagés'!L100)","v":17.621296693863428},1]
[38,{"$f":"IF('liste engagés'!$G95=\"\",\"\",'liste engagés'!A95)","v":90},{"$f":"IF('liste engagés'!$G95=\"\",\"\",'liste engagés'!B95)","v":"BARTHES"},{"$f":"IF('liste engagés'!$G95=\"\",\"\",'liste engagés'!C95)","v":"SERGE"},{"$f":"IF('liste engagés'!$G95=\"\",\"\",'liste engagés'!D95)","v":"UC ST SATURNIN"},{"$f":"IF('liste engagés'!$G95=\"\",\"\",'liste engagés'!G95)","v":5},{"$f":"IF('liste engagés'!$G95=\"\",\"\",'liste engagés'!K95)","v":2.6979166666662224E-2},{"$f":"IF('liste engagés'!$G95=\"\",\"\",'liste engagés'!L95)","v":17.606177606180506},1]
[39,{"$f":"IF('liste engagés'!$G141=\"\",\"\",'liste engagés'!A141)","v":136},{"$f":"IF('liste engagés'!$G141=\"\",\"\",'liste engagés'!B141)","v":"HAYET"},{"$f":"IF('liste engagés'!$G141=\"\",\"\",'liste engagés'!C141)","v":"JUSTIN"},{"$f":"IF('liste engagés'!$G141=\"\",\"\",'liste engagés'!D141)","v":"AC BOLLENE"},{"$f":"IF('liste engagés'!$G141=\"\",\"\",'liste engagés'!G141)","v":11},{"$f":"IF('liste engagés'!$G141=\"\",\"\",'liste engagés'!K141)","v":2.706018518517822E-2},{"$f":"IF('liste engagés'!$G141=\"\",\"\",'liste engagés'!L141)","v":17.553464499576801},1]
[40,{"$f":"IF('liste engagés'!$G31=\"\",\"\",'liste engagés'!A31)","v":26},{"$f":"IF('liste engagés'!$G31=\"\",\"\",'liste engagés'!B31)","v":"BOYER"},{"$f":"IF('liste engagés'!$G31=\"\",\"\",'liste engagés'!C31)","v":"AXEL"},{"$f":"IF('liste engagés'!$G31=\"\",\"\",'liste engagés'!D31)","v":"UCMV"},{"$f":"IF('liste engagés'!$G31=\"\",\"\",'liste engagés'!G31)","v":9},{"$f":"IF('liste engagés'!$G31=\"\",\"\",'liste engagés'!K31)","v":2.708333333333246E-2},{"$f":"IF('liste engagés'!$G31=\"\",\"\",'liste engagés'!L31)","v":17.538461538462105},1]
[41,{"$f":"IF('liste engagés'!$G61=\"\",\"\",'liste engagés'!A61)","v":56},{"$f":"IF('liste engagés'!$G61=\"\",\"\",'liste engagés'!B61)","v":"DENURRA"},{"$f":"IF('liste engagés'!$G61=\"\",\"\",'liste engagés'!C61)","v":"LOUIS"},{"$f":"IF('liste engagés'!$G61=\"\",\"\",'liste engagés'!D61)","v":"BRIGNAISVC"},{"$f":"IF('liste engagés'!$G61=\"\",\"\",'liste engagés'!G61)","v":3},{"$f":"IF('liste engagés'!$G61=\"\",\"\",'liste engagés'!K61)","v":2.7314814814812294E-2},{"$f":"IF('liste engagés'!$G61=\"\",\"\",'liste engagés'!L61)","v":17.38983050847618},1]
[42,{"$f":"IF('liste engagés'!$G82=\"\",\"\",'liste engagés'!A82)","v":77},{"$f":"IF('liste engagés'!$G82=\"\",\"\",'liste engagés'!B82)","v":"GILLES"},{"$f":"IF('liste engagés'!$G82=\"\",\"\",'liste engagés'!C82)","v":"CYRIL"},{"$f":"IF('liste engagés'!$G82=\"\",\"\",'liste engagés'!D82)","v":"SC GRETZ TOURNAN"},{"$f":"IF('liste engagés'!$G82=\"\",\"\",'liste engagés'!G82)","v":8},{"$f":"IF('liste engagés'!$G82=\"\",\"\",'liste engagés'!K82)","v":2.7442129629625445E-2},{"$f":"IF('liste engagés'!$G82=\"\",\"\",'liste engagés'!L82)","v":17.309152256434526},1]
[43,{"$f":"IF('liste engagés'!$G122=\"\",\"\",'liste engagés'!A122)","v":117},{"$f":"IF('liste engagés'!$G122=\"\",\"\",'liste engagés'!B122)","v":"BOIS"},{"$f":"IF('liste engagés'!$G122=\"\",\"\",'liste engagés'!C122)","v":"FREDERIC"},{"$f":"IF('liste engagés'!$G122=\"\",\"\",'liste engagés'!D122)","v":"CS COUXOIS"},{"$f":"IF('liste engagés'!$G122=\"\",\"\",'liste engagés'!G122)","v":3},{"$f":"IF('liste engagés'!$G122=\"\",\"\",'liste engagés'!K122)","v":2.7488425925919491E-2},{"$f":"IF('liste engagés'!$G122=\"\",\"\",'liste engagés'!L122)","v":17.280000000004044},1]
[44,{"$f":"IF('liste engagés'!$G89=\"\",\"\",'liste engagés'!A89)","v":84},{"$f":"IF('liste engagés'!$G89=\"\",\"\",'liste engagés'!B89)","v":"ROSADO"},{"$f":"IF('liste engagés'!$G89=\"\",\"\",'liste engagés'!C89)","v":"BRUNO"},{"$f":"IF('liste engagés'!$G89=\"\",\"\",'liste engagés'!D89)","v":"UC PIERRELATTE"},{"$f":"IF('liste engagés'!$G89=\"\",\"\",'liste engagés'!G89)","v":3},{"$f":"IF('liste engagés'!$G89=\"\",\"\",'liste engagés'!K89)","v":2.7766203703699588E-2},{"$f":"IF('liste engagés'!$G89=\"\",\"\",'liste engagés'!L89)","v":17.107127969990032},1]
[45,{"$f":"IF('liste engagés'!$G110=\"\",\"\",'liste engagés'!A110)","v":105},{"$f":"IF('liste engagés'!$G110=\"\",\"\",'liste engagés'!B110)","v":"SAADIA"},{"$f":"IF('liste engagés'!$G110=\"\",\"\",'liste engagés'!C110)","v":"OLIVIER"},{"$f":"IF('liste engagés'!$G110=\"\",\"\",'liste engagés'!D110)","v":"NL"},{"$f":"IF('liste engagés'!$G110=\"\",\"\",'liste engagés'!G110)","v":7},{"$f":"IF('liste engagés'!$G110=\"\",\"\",'liste engagés'!K110)","v":2.7777777777772017E-2},{"$f":"IF('liste engagés'!$G110=\"\",\"\",'liste engagés'!L110)","v":17.100000000003547},1]
[46,{"$f":"IF('liste engagés'!$G139=\"\",\"\",'liste engagés'!A139)","v":134},{"$f":"IF('liste engagés'!$G139=\"\",\"\",'liste engagés'!B139)","v":"DEBANNE"},{"$f":"IF('liste engagés'!$G139=\"\",\"\",'liste engagés'!C139)","v":"WILLIAM"},{"$f":"IF('liste engagés'!$G139=\"\",\"\",'liste engagés'!D139)","v":"UC PIERRELATTE"},{"$f":"IF('liste engagés'!$G139=\"\",\"\",'liste engagés'!G139)","v":3},{"$f":"IF('liste engagés'!$G139=\"\",\"\",'liste engagés'!K139)","v":2.788194444443759E-2},{"$f":"IF('liste engagés'!$G139=\"\",\"\",'liste engagés'!L139)","v":17.036114570365335},1]
[47,{"$f":"IF('liste engagés'!$G153=\"\",\"\",'liste engagés'!A153)","v":148},{"$f":"IF('liste engagés'!$G153=\"\",\"\",'liste engagés'!B153)","v":"JOUFFRET"},{"$f":"IF('liste engagés'!$G153=\"\",\"\",'liste engagés'!C153)","v":"DIDIER"},{"$f":"IF('liste engagés'!$G153=\"\",\"\",'liste engagés'!D153)","v":"CC ST PERAY"},{"$f":"IF('liste engagés'!$G153=\"\",\"\",'liste engagés'!G153)","v":3},{"$f":"IF('liste engagés'!$G153=\"\",\"\",'liste engagés'!K153)","v":2.7928240740733079E-2},{"$f":"IF('liste engagés'!$G153=\"\",\"\",'liste engagés'!L153)","v":17.007874015752698},1]
[48,{"$f":"IF('liste engagés'!$G126=\"\",\"\",'liste engagés'!A126)","v":121},{"$f":"IF('liste engagés'!$G126=\"\",\"\",'liste engagés'!B126)","v":"SCHWIND"},{"$f":"IF('liste engagés'!$G126=\"\",\"\",'liste engagés'!C126)","v":"MICHEL"},{"$f":"IF('liste engagés'!$G126=\"\",\"\",'liste engagés'!D126)","v":"UC PIERRELATTE"},{"$f":"IF('liste engagés'!$G126=\"\",\"\",'liste engagés'!G126)","v":4},{"$f":"IF('liste engagés'!$G126=\"\",\"\",'liste engagés'!K126)","v":2.8113425925919255E-2},{"$f":"IF('liste engagés'!$G126=\"\",\"\",'liste engagés'!L126)","v":16.895841910255143},1]
[49,{"$f":"IF('liste engagés'!$G119=\"\",\"\",'liste engagés'!A119)","v":114},{"$f":"IF('liste engagés'!$G119=\"\",\"\",'liste engagés'!B119)","v":"PINATEL"},{"$f":"IF('liste engagés'!$G119=\"\",\"\",'liste engagés'!C119)","v":"J RENE"},{"$f":"IF('liste engagés'!$G119=\"\",\"\",'liste engagés'!D119)","v":"CS LA VOULTE"},{"$f":"IF('liste engagés'!$G119=\"\",\"\",'liste engagés'!G119)","v":3},{"$f":"IF('liste engagés'!$G119=\"\",\"\",'liste engagés'!K119)","v":2.8182870370364599E-2},{"$f":"IF('liste engagés'!$G119=\"\",\"\",'liste engagés'!L119)","v":16.854209445588669},1]
[50,{"$f":"IF('liste engagés'!$G76=\"\",\"\",'liste engagés'!A76)","v":71},{"$f":"IF('liste engagés'!$G76=\"\",\"\",'liste engagés'!B76)","v":"BERNARD"},{"$f":"IF('liste engagés'!$G76=\"\",\"\",'liste engagés'!C76)","v":"CLAUDE"},{"$f":"IF('liste engagés'!$G76=\"\",\"\",'liste engagés'!D76)","v":"FRIOL CLUB"},{"$f":"IF('liste engagés'!$G76=\"\",\"\",'liste engagés'!G76)","v":5},{"$f":"IF('liste engagés'!$G76=\"\",\"\",'liste engagés'!K76)","v":2.8449074074070158E-2},{"$f":"IF('liste engagés'!$G76=\"\",\"\",'liste engagés'!L76)","v":16.696501220506775},1]
[51,{"$f":"IF('liste engagés'!$G145=\"\",\"\",'liste engagés'!A145)","v":140},{"$f":"IF('liste engagés'!$G145=\"\",\"\",'liste engagés'!B145)","v":"PEREZ"},{"$f":"IF('liste engagés'!$G145=\"\",\"\",'liste engagés'!#REF!)","v":{"$error":"#REF!"}},{"$f":"IF('liste engagés'!$G145=\"\",\"\",'liste engagés'!D145)","v":"UC PIERRELATTE"},{"$f":"IF('liste engagés'!$G145=\"\",\"\",'liste engagés'!G145)","v":4},{"$f":"IF('liste engagés'!$G145=\"\",\"\",'liste engagés'!K145)","v":2.8460648148140977E-2},{"$f":"IF('liste engagés'!$G145=\"\",\"\",'liste engagés'!L145)","v":16.68971126474597},1]
[52,{"$f":"IF('liste engagés'!$G67=\"\",\"\",'liste engagés'!A67)","v":62},{"$f":"IF('liste engagés'!$G67=\"\",\"\",'liste engagés'!B67)","v":"GARCIN"},{"$f":"IF('liste engagés'!$G67=\"\",\"\",'liste engagés'!C67)","v":"PATRICK"},{"$f":"IF('liste engagés'!$G67=\"\",\"\",'liste engagés'!D67)","v":"UCMV"},{"$f":"IF('liste engagés'!$G67=\"\",\"\",'liste engagés'!G67)","v":6},{"$f":"IF('liste engagés'!$G67=\"\",\"\",'liste engagés'!K67)","v":2.8576388888886028E-2},{"$f":"IF('liste engagés'!$G67=\"\",\"\",'liste engagés'!L67)","v":16.62211421628356},1]
[53,{"$f":"IF('liste engagés'!$G101=\"\",\"\",'liste engagés'!A101)","v":96},{"$f":"IF('liste engagés'!$G101=\"\",\"\",'liste engagés'!B101)","v":"WAGNER"},{"$f":"IF('liste engagés'!$G101=\"\",\"\",'liste engagés'!C101)","v":"DANIEL"},{"$f":"IF('liste engagés'!$G101=\"\",\"\",'liste engagés'!D101)","v":"UCMV"},{"$f":"IF('liste engagés'!$G101=\"\",\"\",'liste engagés'!G101)","v":3},{"$f":"IF('liste engagés'!$G101=\"\",\"\",'liste engagés'!K101)","v":2.8703703703698957E-2},{"$f":"IF('liste engagés'!$G101=\"\",\"\",'liste engagés'!L101)","v":16.548387096776931},1]
[54,{"$f":"IF('liste engagés'!$G171=\"\",\"\",'liste engagés'!A171)","v":166},{"$f":"IF('liste engagés'!$G171=\"\",\"\",'liste engagés'!B171)","v":"COMTE"},{"$f":"IF('liste engagés'!$G171=\"\",\"\",'liste engagés'!C171)","v":"SERGE"},{"$f":"IF('liste engagés'!$G171=\"\",\"\",'liste engagés'!D171)","v":"VSRP"},{"$f":"IF('liste engagés'!$G171=\"\",\"\",'liste engagés'!G171)","v":3},{"$f":"IF('liste engagés'!$G171=\"\",\"\",'liste engagés'!K171)","v":2.8773148148139471E-2},{"$f":"IF('liste engagés'!$G171=\"\",\"\",'liste engagés'!L171)","v":16.508447304912462},1]
[55,{"$f":"IF('liste engagés'!$G22=\"\",\"\",'liste engagés'!A22)","v":17},{"$f":"IF('liste engagés'!$G22=\"\",\"\",'liste engagés'!B22)","v":"ZOULIAMIS"},{"$f":"IF('liste engagés'!$G22=\"\",\"\",'liste engagés'!C22)","v":"NICOLAS"},{"$f":"IF('liste engagés'!$G22=\"\",\"\",'liste engagés'!D22)","v":"CS PANTIN"},{"$f":"IF('liste engagés'!$G22=\"\",\"\",'liste engagés'!G22)","v":1},{"$f":"IF('liste engagés'!$G22=\"\",\"\",'liste engagés'!K22)","v":2.895833333333242E-2},{"$f":"IF('liste engagés'!$G22=\"\",\"\",'liste engagés'!L22)","v":16.402877697842243},1]
[56,{"$f":"IF('liste engagés'!$G142=\"\",\"\",'liste engagés'!A142)","v":137},{"$f":"IF('liste engagés'!$G142=\"\",\"\",'liste engagés'!B142)","v":"PECOULT"},{"$f":"IF('liste engagés'!$G142=\"\",\"\",'liste engagés'!C142)","v":"CHRISTIAN"},{"$f":"IF('liste engagés'!$G142=\"\",\"\",'liste engagés'!D142)","v":"VC ISLOIS"},{"$f":"IF('liste engagés'!$G142=\"\",\"\",'liste engagés'!G142)","v":6},{"$f":"IF('liste engagés'!$G142=\"\",\"\",'liste engagés'!K142)","v":2.8981481481481441E-2},{"$f":"IF('liste engagés'!$G142=\"\",\"\",'liste engagés'!L142)","v":16.3897763578275},1]
[57,{"$f":"IF('liste engagés'!$G172=\"\",\"\",'liste engagés'!A172)","v":167},{"$f":"IF('liste engagés'!$G172=\"\",\"\",'liste engagés'!B172)","v":"BAFFERT"},{"$f":"IF('liste engagés'!$G172=\"\",\"\",'liste engagés'!C172)","v":"ROMAIN"},{"$f":"IF('liste engagés'!$G172=\"\",\"\",'liste engagés'!D172)","v":"C PRO"},{"$f":"IF('liste engagés'!$G172=\"\",\"\",'liste engagés'!G172)","v":8},{"$f":"IF('liste engagés'!$G172=\"\",\"\",'liste engagés'!K172)","v":2.9236111111101859E-2},{"$f":"IF('liste engagés'!$G172=\"\",\"\",'liste engagés'!L172)","v":16.247030878865001},1]
[58,{"$f":"IF('liste engagés'!$G94=\"\",\"\",'liste engagés'!A94)","v":89},{"$f":"IF('liste engagés'!$G94=\"\",\"\",'liste engagés'!B94)","v":"AURECHE"},{"$f":"IF('liste engagés'!$G94=\"\",\"\",'liste engagés'!C94)","v":"ETIENNE"},{"$f":"IF('liste engagés'!$G94=\"\",\"\",'liste engagés'!D94)","v":"AC TOURRETTOISE"},{"$f":"IF('liste engagés'!$G94=\"\",\"\",'liste engagés'!G94)","v":4},{"$f":"IF('liste engagés'!$G94=\"\",\"\",'liste engagés'!K94)","v":2.9328703703698833E-2},{"$f":"IF('liste engagés'!$G94=\"\",\"\",'liste engagés'!L94)","v":16.195737963696455},1]
[59,{"$f":"IF('liste engagés'!$G112=\"\",\"\",'liste engagés'!A112)","v":107},{"$f":"IF('liste engagés'!$G112=\"\",\"\",'liste engagés'!B112)","v":"MARRONE"},{"$f":"IF('liste engagés'!$G112=\"\",\"\",'liste engagés'!C112)","v":"AMELIE"},{"$f":"IF('liste engagés'!$G112=\"\",\"\",'liste engagés'!D112)","v":"FONTANIL"},{"$f":"IF('liste engagés'!$G112=\"\",\"\",'liste engagés'!G112)","v":10},{"$f":"IF('liste engagés'!$G112=\"\",\"\",'liste engagés'!K112)","v":2.9374999999994045E-2},{"$f":"IF('liste engagés'!$G112=\"\",\"\",'liste engagés'!L112)","v":16.170212765960727},1]
[60,{"$f":"IF('liste engagés'!$G106=\"\",\"\",'liste engagés'!A106)","v":101},{"$f":"IF('liste engagés'!$G106=\"\",\"\",'liste engagés'!B106)","v":"BEUGNOT"},{"$f":"IF('liste engagés'!$G106=\"\",\"\",'liste engagés'!C106)","v":"PASCAL"},{"$f":"IF('liste engagés'!$G106=\"\",\"\",'liste engagés'!D106)","v":"NL"},{"$f":"IF('liste engagés'!$G106=\"\",\"\",'liste engagés'!G106)","v":6},{"$f":"IF('liste engagés'!$G106=\"\",\"\",'liste engagés'!K106)","v":2.9895833333327793E-2},{"$f":"IF('liste engagés'!$G106=\"\",\"\",'liste engagés'!L106)","v":15.888501742163223},1]
[61,{"$f":"IF('liste engagés'!$G66=\"\",\"\",'liste engagés'!A66)","v":61},{"$f":"IF('liste engagés'!$G66=\"\",\"\",'liste engagés'!B66)","v":"BUATOIS"},{"$f":"IF('liste engagés'!$G66=\"\",\"\",'liste engagés'!C66)","v":"GILLES"},{"$f":"IF('liste engagés'!$G66=\"\",\"\",'liste engagés'!D66)","v":"UC PIERRELATTE"},{"$f":"IF('liste engagés'!$G66=\"\",\"\",'liste engagés'!G66)","v":3},{"$f":"IF('liste engagés'!$G66=\"\",\"\",'liste engagés'!K66)","v":2.9895833333329958E-2},{"$f":"IF('liste engagés'!$G66=\"\",\"\",'liste engagés'!L66)","v":15.888501742162074},1]
[62,{"$f":"IF('liste engagés'!$G11=\"\",\"\",'liste engagés'!A11)","v":6},{"$f":"IF('liste engagés'!$G11=\"\",\"\",'liste engagés'!B11)","v":"DIDIER"},{"$f":"IF('liste engagés'!$G11=\"\",\"\",'liste engagés'!C11)","v":"PHILIPPE"},{"$f":"IF('liste engagés'!$G11=\"\",\"\",'liste engagés'!D11)","v":"UCMV"},{"$f":"IF('liste engagés'!$G11=\"\",\"\",'liste engagés'!G11)","v":4},{"$f":"IF('liste engagés'!$G11=\"\",\"\",'liste engagés'!K11)","v":2.9953703703703649E-2},{"$f":"IF('liste engagés'!$G11=\"\",\"\",'liste engagés'!L11)","v":15.857805255023214},1]
[63,{"$f":"IF('liste engagés'!$G97=\"\",\"\",'liste engagés'!A97)","v":92},{"$f":"IF('liste engagés'!$G97=\"\",\"\",'liste engagés'!B97)","v":"DEVICE"},{"$f":"IF('liste engagés'!$G97=\"\",\"\",'liste engagés'!C97)","v":"BRUNO"},{"$f":"IF('liste engagés'!$G97=\"\",\"\",'liste engagés'!D97)","v":"NL"},{"$f":"IF('liste engagés'!$G97=\"\",\"\",'liste engagés'!G97)","v":6},{"$f":"IF('liste engagés'!$G97=\"\",\"\",'liste engagés'!K97)","v":3.0081018518514024E-2},{"$f":"IF('liste engagés'!$G97=\"\",\"\",'liste engagés'!L97)","v":15.790688726435603},1]
[64,{"$f":"IF('liste engagés'!$G23=\"\",\"\",'liste engagés'!A23)","v":18},{"$f":"IF('liste engagés'!$G23=\"\",\"\",'liste engagés'!B23)","v":"BOYER"},{"$f":"IF('liste engagés'!$G23=\"\",\"\",'liste engagés'!C23)","v":"FRANCK"},{"$f":"IF('liste engagés'!$G23=\"\",\"\",'liste engagés'!D23)","v":"UCMV"},{"$f":"IF('liste engagés'!$G23=\"\",\"\",'liste engagés'!G23)","v":7},{"$f":"IF('liste engagés'!$G23=\"\",\"\",'liste engagés'!K23)","v":3.0081018518517078E-2},{"$f":"IF('liste engagés'!$G23=\"\",\"\",'liste engagés'!L23)","v":15.790688726434},1]
[65,{"$f":"IF('liste engagés'!$G56=\"\",\"\",'liste engagés'!A56)","v":51},{"$f":"IF('liste engagés'!$G56=\"\",\"\",'liste engagés'!B56)","v":"DEUMIER"},{"$f":"IF('liste engagés'!$G56=\"\",\"\",'liste engagés'!C56)","v":"XAVIER"},{"$f":"IF('liste engagés'!$G56=\"\",\"\",'liste engagés'!D56)","v":"CC ST PERAY"},{"$f":"IF('liste engagés'!$G56=\"\",\"\",'liste engagés'!G56)","v":4},{"$f":"IF('liste engagés'!$G56=\"\",\"\",'liste engagés'!K56)","v":3.0324074074071339E-2},{"$f":"IF('liste engagés'!$G56=\"\",\"\",'liste engagés'!L56)","v":15.664122137405993},{"$f":"+IF(C71=\"\",0,1)","v":1}]
[{"$f":"+A71+1","v":66},{"$f":"IF('liste engagés'!$G151=\"\",\"\",'liste engagés'!A151)","v":146},{"$f":"IF('liste engagés'!$G151=\"\",\"\",'liste engagés'!B151)","v":"HAREL"},{"$f":"IF('liste engagés'!$G151=\"\",\"\",'liste engagés'!C151)","v":"MARCEL"},{"$f":"IF('liste engagés'!$G151=\"\",\"\",'liste engagés'!D151)","v":"VC SOYONNAIS"},{"$f":"IF('liste engagés'!$G151=\"\",\"\",'liste engagés'!G151)","v":4},{"$f":"IF('liste engagés'!$G151=\"\",\"\",'liste engagés'!K151)","v":3.0405092592585059E-2},{"$f":"IF('liste engagés'!$G151=\"\",\"\",'liste engagés'!L151)","v":15.622382946330479},1]
[67,{"$f":"IF('liste engagés'!$G21=\"\",\"\",'liste engagés'!A21)","v":16},{"$f":"IF('liste engagés'!$G21=\"\",\"\",'liste engagés'!B21)","v":"HEROLD"},{"$f":"IF('liste engagés'!$G21=\"\",\"\",'liste engagés'!C21)","v":"GABIN"},{"$f":"IF('liste engagés'!$G21=\"\",\"\",'liste engagés'!D21)","v":"UCMV"},{"$f":"IF('liste engagés'!$G21=\"\",\"\",'liste engagés'!G21)","v":12},{"$f":"IF('liste engagés'!$G21=\"\",\"\",'liste engagés'!K21)","v":3.1331018518517162E-2},{"$f":"IF('liste engagés'!$G21=\"\",\"\",'liste engagés'!L21)","v":15.160694495752411},1]
[68,{"$f":"IF('liste engagés'!$G88=\"\",\"\",'liste engagés'!A88)","v":83},{"$f":"IF('liste engagés'!$G88=\"\",\"\",'liste engagés'!B88)","v":"GONZALEZ"},{"$f":"IF('liste engagés'!$G88=\"\",\"\",'liste engagés'!C88)","v":"MIGUEL"},{"$f":"IF('liste engagés'!$G88=\"\",\"\",'liste engagés'!D88)","v":"UC PIERRELATTE"},{"$f":"IF('liste engagés'!$G88=\"\",\"\",'liste engagés'!G88)","v":4},{"$f":"IF('liste engagés'!$G88=\"\",\"\",'liste engagés'!K88)","v":3.1539351851847308E-2},{"$f":"IF('liste engagés'!$G88=\"\",\"\",'liste engagés'!L88)","v":15.060550458717767},1]
[69,{"$f":"IF('liste engagés'!$G135=\"\",\"\",'liste engagés'!A135)","v":130},{"$f":"IF('liste engagés'!$G135=\"\",\"\",'liste engagés'!B135)","v":"LEMAIRE"},{"$f":"IF('liste engagés'!$G135=\"\",\"\",'liste engagés'!C135)","v":"MATHIAS"},{"$f":"IF('liste engagés'!$G135=\"\",\"\",'liste engagés'!D135)","v":"UCMV"},{"$f":"IF('liste engagés'!$G135=\"\",\"\",'liste engagés'!G135)","v":12},{"$f":"IF('liste engagés'!$G135=\"\",\"\",'liste engagés'!K135)","v":3.1643518518511826E-2},{"$f":"IF('liste engagés'!$G135=\"\",\"\",'liste engagés'!L135)","v":15.010972933434045},1]
[70,{"$f":"IF('liste engagés'!$G7=\"\",\"\",'liste engagés'!A7)","v":2},{"$f":"IF('liste engagés'!$G7=\"\",\"\",'liste engagés'!B7)","v":"TERRON"},{"$f":"IF('liste engagés'!$G7=\"\",\"\",'liste engagés'!C7)","v":"SERGE"},{"$f":"IF('liste engagés'!$G7=\"\",\"\",'liste engagés'!D7)","v":"CS COUXOIS"},{"$f":"IF('liste engagés'!$G7=\"\",\"\",'liste engagés'!G7)","v":4},{"$f":"IF('liste engagés'!$G7=\"\",\"\",'liste engagés'!K7)","v":3.2291666666666607E-2},{"$f":"IF('liste engagés'!$G7=\"\",\"\",'liste engagés'!L7)","v":14.709677419354867},1]
[71,{"$f":"IF('liste engagés'!$G134=\"\",\"\",'liste engagés'!A134)","v":129},{"$f":"IF('liste engagés'!$G134=\"\",\"\",'liste engagés'!B134)","v":"ESTORGES"},{"$f":"IF('liste engagés'!$G134=\"\",\"\",'liste engagés'!C134)","v":"LUCAS"},{"$f":"IF('liste engagés'!$G134=\"\",\"\",'liste engagés'!D134)","v":"UCMV"},{"$f":"IF('liste engagés'!$G134=\"\",\"\",'liste engagés'!G134)","v":9},{"$f":"IF('liste engagés'!$G134=\"\",\"\",'liste engagés'!K134)","v":3.3333333333326221E-2},{"$f":"IF('liste engagés'!$G134=\"\",\"\",'liste engagés'!L134)","v":14.250000000003041},1]
[72,{"$f":"IF('liste engagés'!$G180=\"\",\"\",'liste engagés'!A180)","v":175},{"$f":"IF('liste engagés'!$G180=\"\",\"\",'liste engagés'!B180)","v":"DREVON"},{"$f":"IF('liste engagés'!$G180=\"\",\"\",'liste engagés'!C180)","v":"SEB"},{"$f":"IF('liste engagés'!$G180=\"\",\"\",'liste engagés'!D180)","v":"UCMV"},{"$f":"IF('liste engagés'!$G180=\"\",\"\",'liste engagés'!G180)","v":3},{"$f":"IF('liste engagés'!$G180=\"\",\"\",'liste engagés'!K180)","v":3.3564814814805166E-2},{"$f":"IF('liste engagés'!$G180=\"\",\"\",'liste engagés'!L180)","v":14.151724137935103},1]
[73,{"$f":"IF('liste engagés'!$G57=\"\",\"\",'liste engagés'!A57)","v":52},{"$f":"IF('liste engagés'!$G57=\"\",\"\",'liste engagés'!B57)","v":"LECOMTE"},{"$f":"IF('liste engagés'!$G57=\"\",\"\",'liste engagés'!C57)","v":"MARC"},{"$f":"IF('liste engagés'!$G57=\"\",\"\",'liste engagés'!D57)","v":"CS COUXOIS"},{"$f":"IF('liste engagés'!$G57=\"\",\"\",'liste engagés'!G57)","v":4},{"$f":"IF('liste engagés'!$G57=\"\",\"\",'liste engagés'!K57)","v":3.3703703703701404E-2},{"$f":"IF('liste engagés'!$G57=\"\",\"\",'liste engagés'!L57)","v":14.093406593407556},1]
[74,{"$f":"IF('liste engagés'!$G87=\"\",\"\",'liste engagés'!A87)","v":82},{"$f":"IF('liste engagés'!$G87=\"\",\"\",'liste engagés'!B87)","v":"CAPELLI"},{"$f":"IF('liste engagés'!$G87=\"\",\"\",'liste engagés'!C87)","v":"LORIS"},{"$f":"IF('liste engagés'!$G87=\"\",\"\",'liste engagés'!D87)","v":"UCMV"},{"$f":"IF('liste engagés'!$G87=\"\",\"\",'liste engagés'!G87)","v":11},{"$f":"IF('liste engagés'!$G87=\"\",\"\",'liste engagés'!K87)","v":3.3854166666662633E-2},{"$f":"IF('liste engagés'!$G87=\"\",\"\",'liste engagés'!L87)","v":14.030769230770902},1]
[75,{"$f":"IF('liste engagés'!$G80=\"\",\"\",'liste engagés'!A80)","v":75},{"$f":"IF('liste engagés'!$G80=\"\",\"\",'liste engagés'!B80)","v":"NACCARATO"},{"$f":"IF('liste engagés'!$G80=\"\",\"\",'liste engagés'!C80)","v":"MARIO"},{"$f":"IF('liste engagés'!$G80=\"\",\"\",'liste engagés'!D80)","v":"TEAM ATC 26 DONZERE"},{"$f":"IF('liste engagés'!$G80=\"\",\"\",'liste engagés'!G80)","v":3},{"$f":"IF('liste engagés'!$G80=\"\",\"\",'liste engagés'!K80)","v":3.468749999999593E-2},{"$f":"IF('liste engagés'!$G80=\"\",\"\",'liste engagés'!L80)","v":13.693693693695302},1]
[76,{"$f":"IF('liste engagés'!$G8=\"\",\"\",'liste engagés'!A8)","v":3},{"$f":"IF('liste engagés'!$G8=\"\",\"\",'liste engagés'!B8)","v":"HERBAUT"},{"$f":"IF('liste engagés'!$G8=\"\",\"\",'liste engagés'!C8)","v":"BAPTISTE"},{"$f":"IF('liste engagés'!$G8=\"\",\"\",'liste engagés'!D8)","v":"UCMV"},{"$f":"IF('liste engagés'!$G8=\"\",\"\",'liste engagés'!G8)","v":9},{"$f":"IF('liste engagés'!$G8=\"\",\"\",'liste engagés'!K8)","v":3.4722222222222265E-2},{"$f":"IF('liste engagés'!$G8=\"\",\"\",'liste engagés'!L8)","v":13.679999999999984},1]
[77,{"$f":"IF('liste engagés'!$G12=\"\",\"\",'liste engagés'!A12)","v":7},{"$f":"IF('liste engagés'!$G12=\"\",\"\",'liste engagés'!B12)","v":"LAFFONT"},{"$f":"IF('liste engagés'!$G12=\"\",\"\",'liste engagés'!C12)","v":"FRANCIS"},{"$f":"IF('liste engagés'!$G12=\"\",\"\",'liste engagés'!D12)","v":"NON LICENCIE"},{"$f":"IF('liste engagés'!$G12=\"\",\"\",'liste engagés'!G12)","v":6},{"$f":"IF('liste engagés'!$G12=\"\",\"\",'liste engagés'!K12)","v":3.4895833333333348E-2},{"$f":"IF('liste engagés'!$G12=\"\",\"\",'liste engagés'!L12)","v":13.611940298507458},1]
[78,{"$f":"IF('liste engagés'!$G93=\"\",\"\",'liste engagés'!A93)","v":88},{"$f":"IF('liste engagés'!$G93=\"\",\"\",'liste engagés'!B93)","v":"ARGAUD"},{"$f":"IF('liste engagés'!$G93=\"\",\"\",'liste engagés'!C93)","v":"FRANCIS"},{"$f":"IF('liste engagés'!$G93=\"\",\"\",'liste engagés'!D93)","v":"SC BLV"},{"$f":"IF('liste engagés'!$G93=\"\",\"\",'liste engagés'!G93)","v":6},{"$f":"IF('liste engagés'!$G93=\"\",\"\",'liste engagés'!K93)","v":3.5208333333329012E-2},{"$f":"IF('liste engagés'!$G93=\"\",\"\",'liste engagés'!L93)","v":13.491124260356687},1]
[79,{"$f":"IF('liste engagés'!$G147=\"\",\"\",'liste engagés'!A147)","v":142},{"$f":"IF('liste engagés'!$G147=\"\",\"\",'liste engagés'!B147)","v":"DALAYGUE"},{"$f":"IF('liste engagés'!$G147=\"\",\"\",'liste engagés'!C147)","v":"HERVE"},{"$f":"IF('liste engagés'!$G147=\"\",\"\",'liste engagés'!D147)","v":"VC SOYONNAIS"},{"$f":"IF('liste engagés'!$G147=\"\",\"\",'liste engagés'!G147)","v":4},{"$f":"IF('liste engagés'!$G147=\"\",\"\",'liste engagés'!K147)","v":3.6388888888881532E-2},{"$f":"IF('liste engagés'!$G147=\"\",\"\",'liste engagés'!L147)","v":13.053435114506456},1]
[80,{"$f":"IF('liste engagés'!$G81=\"\",\"\",'liste engagés'!A81)","v":76},{"$f":"IF('liste engagés'!$G81=\"\",\"\",'liste engagés'!B81)","v":"GILLES"},{"$f":"IF('liste engagés'!$G81=\"\",\"\",'liste engagés'!C81)","v":"PATRICK"},{"$f":"IF('liste engagés'!$G81=\"\",\"\",'liste engagés'!D81)","v":"CC ST PERAY"},{"$f":"IF('liste engagés'!$G81=\"\",\"\",'liste engagés'!G81)","v":4},{"$f":"IF('liste engagés'!$G81=\"\",\"\",'liste engagés'!K81)","v":3.6412037037033385E-2},{"$f":"IF('liste engagés'!$G81=\"\",\"\",'liste engagés'!L81)","v":13.045136681501626},1]
[81,{"$f":"IF('liste engagés'!$G107=\"\",\"\",'liste engagés'!A107)","v":102},{"$f":"IF('liste engagés'!$G107=\"\",\"\",'liste engagés'!B107)","v":"POINT "},{"$f":"IF('liste engagés'!$G107=\"\",\"\",'liste engagés'!C107)","v":"LORICK"},{"$f":"IF('liste engagés'!$G107=\"\",\"\",'liste engagés'!D107)","v":"UCMV"},{"$f":"IF('liste engagés'!$G107=\"\",\"\",'liste engagés'!G107)","v":12},{"$f":"IF('liste engagés'!$G107=\"\",\"\",'liste engagés'!K107)","v":3.752314814814306E-2},{"$f":"IF('liste engagés'!$G107=\"\",\"\",'liste engagés'!L107)","v":12.658852560149773},1]
[82,{"$f":"IF('liste engagés'!$G58=\"\",\"\",'liste engagés'!A58)","v":53},{"$f":"IF('liste engagés'!$G58=\"\",\"\",'liste engagés'!B58)","v":"LECOMTE"},{"$f":"IF('liste engagés'!$G58=\"\",\"\",'liste engagés'!C58)","v":"CLEMENT"},{"$f":"IF('liste engagés'!$G58=\"\",\"\",'liste engagés'!D58)","v":"NON LICENCIE"},{"$f":"IF('liste engagés'!$G58=\"\",\"\",'liste engagés'!G58)","v":9},{"$f":"IF('liste engagés'!$G58=\"\",\"\",'liste engagés'!K58)","v":3.7534722222219374E-2},{"$f":"IF('liste engagés'!$G58=\"\",\"\",'liste engagés'!L58)","v":12.65494912118505},1]
[83,{"$f":"IF('liste engagés'!$G138=\"\",\"\",'liste engagés'!A138)","v":133},{"$f":"IF('liste engagés'!$G138=\"\",\"\",'liste engagés'!B138)","v":"DEBANNE"},{"$f":"IF('liste engagés'!$G138=\"\",\"\",'liste engagés'!C138)","v":"CAROLE"},{"$f":"IF('liste engagés'!$G138=\"\",\"\",'liste engagés'!D138)","v":"UC PIERRELATTE"},{"$f":"IF('liste engagés'!$G138=\"\",\"\",'liste engagés'!G138)","v":10},{"$f":"IF('liste engagés'!$G138=\"\",\"\",'liste engagés'!K138)","v":3.8275462962955642E-2},{"$f":"IF('liste engagés'!$G138=\"\",\"\",'liste engagés'!L138)","v":12.410039310555746},1]
[84,{"$f":"IF('liste engagés'!$G92=\"\",\"\",'liste engagés'!A92)","v":87},{"$f":"IF('liste engagés'!$G92=\"\",\"\",'liste engagés'!B92)","v":"GUIBOUD"},{"$f":"IF('liste engagés'!$G92=\"\",\"\",'liste engagés'!C92)","v":"ELODIE"},{"$f":"IF('liste engagés'!$G92=\"\",\"\",'liste engagés'!D92)","v":"SC BLV"},{"$f":"IF('liste engagés'!$G92=\"\",\"\",'liste engagés'!G92)","v":10},{"$f":"IF('liste engagés'!$G92=\"\",\"\",'liste engagés'!K92)","v":4.0347222222217483E-2},{"$f":"IF('liste engagés'!$G92=\"\",\"\",'liste engagés'!L92)","v":11.77280550774665},1]
[85,{"$f":"IF('liste engagés'!$G60=\"\",\"\",'liste engagés'!A60)","v":55},{"$f":"IF('liste engagés'!$G60=\"\",\"\",'liste engagés'!B60)","v":"PERMINGEAT"},{"$f":"IF('liste engagés'!$G60=\"\",\"\",'liste engagés'!C60)","v":"EVANN"},{"$f":"IF('liste engagés'!$G60=\"\",\"\",'liste engagés'!D60)","v":"UCMV"},{"$f":"IF('liste engagés'!$G60=\"\",\"\",'liste engagés'!G60)","v":12},{"$f":"IF('liste engagés'!$G60=\"\",\"\",'liste engagés'!K60)","v":4.1932870370367414E-2},{"$f":"IF('liste engagés'!$G60=\"\",\"\",'liste engagés'!L60)","v":11.327629036710707},1]
[86,{"$f":"IF('liste engagés'!$G59=\"\",\"\",'liste engagés'!A59)","v":54},{"$f":"IF('liste engagés'!$G59=\"\",\"\",'liste engagés'!B59)","v":"BRUN"},{"$f":"IF('liste engagés'!$G59=\"\",\"\",'liste engagés'!C59)","v":"HERVE"},{"$f":"IF('liste engagés'!$G59=\"\",\"\",'liste engagés'!D59)","v":"CS COUXOIS"},{"$f":"IF('liste engagés'!$G59=\"\",\"\",'liste engagés'!G59)","v":4},{"$f":"IF('liste engagés'!$G59=\"\",\"\",'liste engagés'!K59)","v":4.2048611111108691E-2},{"$f":"IF('liste engagés'!$G59=\"\",\"\",'liste engagés'!L59)","v":11.29644921552501},1]
[87,{"$f":"IF('liste engagés'!$G96=\"\",\"\",'liste engagés'!A96)","v":91},{"$f":"IF('liste engagés'!$G96=\"\",\"\",'liste engagés'!B96)","v":"BUATOIS"},{"$f":"IF('liste engagés'!$G96=\"\",\"\",'liste engagés'!C96)","v":"MURIELLE"},{"$f":"IF('liste engagés'!$G96=\"\",\"\",'liste engagés'!D96)","v":"VC PIERRELATTE"},{"$f":"IF('liste engagés'!$G96=\"\",\"\",'liste engagés'!G96)","v":10},{"$f":"IF('liste engagés'!$G96=\"\",\"\",'liste engagés'!K96)","v":4.4976851851846855E-2},{"$f":"IF('liste engagés'!$G96=\"\",\"\",'liste engagés'!L96)","v":10.560988162636274},1]
[88,{"$f":"IF('liste engagés'!$G9=\"\",\"\",'liste engagés'!A9)","v":""},{"$f":"IF('liste engagés'!$G9=\"\",\"\",'liste engagés'!B9)","v":""},{"$f":"IF('liste engagés'!$G9=\"\",\"\",'liste engagés'!C9)","v":""},{"$f":"IF('liste engagés'!$G9=\"\",\"\",'liste engagés'!D9)","v":""},{"$f":"IF('liste engagés'!$G9=\"\",\"\",'liste engagés'!G9)","v":""},{"$f":"IF('liste engagés'!$G9=\"\",\"\",'liste engagés'!K9)","v":""},{"$f":"IF('liste engagés'!$G9=\"\",\"\",'liste engagés'!L9)","v":""},0]
[89,{"$f":"IF('liste engagés'!$G10=\"\",\"\",'liste engagés'!A10)","v":""},{"$f":"IF('liste engagés'!$G10=\"\",\"\",'liste engagés'!B10)","v":""},{"$f":"IF('liste engagés'!$G10=\"\",\"\",'liste engagés'!C10)","v":""},{"$f":"IF('liste engagés'!$G10=\"\",\"\",'liste engagés'!D10)","v":""},{"$f":"IF('liste engagés'!$G10=\"\",\"\",'liste engagés'!G10)","v":""},{"$f":"IF('liste engagés'!$G10=\"\",\"\",'liste engagés'!K10)","v":""},{"$f":"IF('liste engagés'!$G10=\"\",\"\",'liste engagés'!L10)","v":""},0]
[90,{"$f":"IF('liste engagés'!$G13=\"\",\"\",'liste engagés'!A13)","v":""},{"$f":"IF('liste engagés'!$G13=\"\",\"\",'liste engagés'!B13)","v":""},{"$f":"IF('liste engagés'!$G13=\"\",\"\",'liste engagés'!C13)","v":""},{"$f":"IF('liste engagés'!$G13=\"\",\"\",'liste engagés'!D13)","v":""},{"$f":"IF('liste engagés'!$G13=\"\",\"\",'liste engagés'!G13)","v":""},{"$f":"IF('liste engagés'!$G13=\"\",\"\",'liste engagés'!K13)","v":""},{"$f":"IF('liste engagés'!$G13=\"\",\"\",'liste engagés'!L13)","v":""},0]
[91,{"$f":"IF('liste engagés'!$G14=\"\",\"\",'liste engagés'!A14)","v":""},{"$f":"IF('liste engagés'!$G14=\"\",\"\",'liste engagés'!B14)","v":""},{"$f":"IF('liste engagés'!$G14=\"\",\"\",'liste engagés'!C14)","v":""},{"$f":"IF('liste engagés'!$G14=\"\",\"\",'liste engagés'!D14)","v":""},{"$f":"IF('liste engagés'!$G14=\"\",\"\",'liste engagés'!G14)","v":""},{"$f":"IF('liste engagés'!$G14=\"\",\"\",'liste engagés'!K14)","v":""},{"$f":"IF('liste engagés'!$G14=\"\",\"\",'liste engagés'!L14)","v":""},0]
[92,{"$f":"IF('liste engagés'!$G15=\"\",\"\",'liste engagés'!A15)","v":""},{"$f":"IF('liste engagés'!$G15=\"\",\"\",'liste engagés'!B15)","v":""},{"$f":"IF('liste engagés'!$G15=\"\",\"\",'liste engagés'!C15)","v":""},{"$f":"IF('liste engagés'!$G15=\"\",\"\",'liste engagés'!D15)","v":""},{"$f":"IF('liste engagés'!$G15=\"\",\"\",'liste engagés'!G15)","v":""},{"$f":"IF('liste engagés'!$G15=\"\",\"\",'liste engagés'!K15)","v":""},{"$f":"IF('liste engagés'!$G15=\"\",\"\",'liste engagés'!L15)","v":""},0]
[93,{"$f":"IF('liste engagés'!$G16=\"\",\"\",'liste engagés'!A16)","v":""},{"$f":"IF('liste engagés'!$G16=\"\",\"\",'liste engagés'!B16)","v":""},{"$f":"IF('liste engagés'!$G16=\"\",\"\",'liste engagés'!C16)","v":""},{"$f":"IF('liste engagés'!$G16=\"\",\"\",'liste engagés'!D16)","v":""},{"$f":"IF('liste engagés'!$G16=\"\",\"\",'liste engagés'!G16)","v":""},{"$f":"IF('liste engagés'!$G16=\"\",\"\",'liste engagés'!K16)","v":""},{"$f":"IF('liste engagés'!$G16=\"\",\"\",'liste engagés'!L16)","v":""},0]
[94,{"$f":"IF('liste engagés'!$G17=\"\",\"\",'liste engagés'!A17)","v":""},{"$f":"IF('liste engagés'!$G17=\"\",\"\",'liste engagés'!B17)","v":""},{"$f":"IF('liste engagés'!$G17=\"\",\"\",'liste engagés'!C17)","v":""},{"$f":"IF('liste engagés'!$G17=\"\",\"\",'liste engagés'!D17)","v":""},{"$f":"IF('liste engagés'!$G17=\"\",\"\",'liste engagés'!G17)","v":""},{"$f":"IF('liste engagés'!$G17=\"\",\"\",'liste engagés'!K17)","v":""},{"$f":"IF('liste engagés'!$G17=\"\",\"\",'liste engagés'!L17)","v":""},0]
[95,{"$f":"IF('liste engagés'!$G18=\"\",\"\",'liste engagés'!A18)","v":""},{"$f":"IF('liste engagés'!$G18=\"\",\"\",'liste engagés'!B18)","v":""},{"$f":"IF('liste engagés'!$G18=\"\",\"\",'liste engagés'!C18)","v":""},{"$f":"IF('liste engagés'!$G18=\"\",\"\",'liste engagés'!D18)","v":""},{"$f":"IF('liste engagés'!$G18=\"\",\"\",'liste engagés'!G18)","v":""},{"$f":"IF('liste engagés'!$G18=\"\",\"\",'liste engagés'!K18)","v":""},{"$f":"IF('liste engagés'!$G18=\"\",\"\",'liste engagés'!L18)","v":""},0]
[96,{"$f":"IF('liste engagés'!$G19=\"\",\"\",'liste engagés'!A19)","v":""},{"$f":"IF('liste engagés'!$G19=\"\",\"\",'liste engagés'!B19)","v":""},{"$f":"IF('liste engagés'!$G19=\"\",\"\",'liste engagés'!C19)","v":""},{"$f":"IF('liste engagés'!$G19=\"\",\"\",'liste engagés'!D19)","v":""},{"$f":"IF('liste engagés'!$G19=\"\",\"\",'liste engagés'!G19)","v":""},{"$f":"IF('liste engagés'!$G19=\"\",\"\",'liste engagés'!K19)","v":""},{"$f":"IF('liste engagés'!$G19=\"\",\"\",'liste engagés'!L19)","v":""},0]
[97,{"$f":"IF('liste engagés'!$G20=\"\",\"\",'liste engagés'!A20)","v":""},{"$f":"IF('liste engagés'!$G20=\"\",\"\",'liste engagés'!B20)","v":""},{"$f":"IF('liste engagés'!$G20=\"\",\"\",'liste engagés'!C20)","v":""},{"$f":"IF('liste engagés'!$G20=\"\",\"\",'liste engagés'!D20)","v":""},{"$f":"IF('liste engagés'!$G20=\"\",\"\",'liste engagés'!G20)","v":""},{"$f":"IF('liste engagés'!$G20=\"\",\"\",'liste engagés'!K20)","v":""},{"$f":"IF('liste engagés'!$G20=\"\",\"\",'liste engagés'!L20)","v":""},0]
[98,{"$f":"IF('liste engagés'!$G24=\"\",\"\",'liste engagés'!A24)","v":""},{"$f":"IF('liste engagés'!$G24=\"\",\"\",'liste engagés'!B24)","v":""},{"$f":"IF('liste engagés'!$G24=\"\",\"\",'liste engagés'!C24)","v":""},{"$f":"IF('liste engagés'!$G24=\"\",\"\",'liste engagés'!D24)","v":""},{"$f":"IF('liste engagés'!$G24=\"\",\"\",'liste engagés'!G24)","v":""},{"$f":"IF('liste engagés'!$G24=\"\",\"\",'liste engagés'!K24)","v":""},{"$f":"IF('liste engagés'!$G24=\"\",\"\",'liste engagés'!L24)","v":""},0]
[99,{"$f":"IF('liste engagés'!$G25=\"\",\"\",'liste engagés'!A25)","v":""},{"$f":"IF('liste engagés'!$G25=\"\",\"\",'liste engagés'!B25)","v":""},{"$f":"IF('liste engagés'!$G25=\"\",\"\",'liste engagés'!C25)","v":""},{"$f":"IF('liste engagés'!$G25=\"\",\"\",'liste engagés'!D25)","v":""},{"$f":"IF('liste engagés'!$G25=\"\",\"\",'liste engagés'!G25)","v":""},{"$f":"IF('liste engagés'!$G25=\"\",\"\",'liste engagés'!K25)","v":""},{"$f":"IF('liste engagés'!$G25=\"\",\"\",'liste engagés'!L25)","v":""},0]
[100,{"$f":"IF('liste engagés'!$G26=\"\",\"\",'liste engagés'!A26)","v":""},{"$f":"IF('liste engagés'!$G26=\"\",\"\",'liste engagés'!B26)","v":""},{"$f":"IF('liste engagés'!$G26=\"\",\"\",'liste engagés'!C26)","v":""},{"$f":"IF('liste engagés'!$G26=\"\",\"\",'liste engagés'!D26)","v":""},{"$f":"IF('liste engagés'!$G26=\"\",\"\",'liste engagés'!G26)","v":""},{"$f":"IF('liste engagés'!$G26=\"\",\"\",'liste engagés'!K26)","v":""},{"$f":"IF('liste engagés'!$G26=\"\",\"\",'liste engagés'!L26)","v":""},0]
[101,{"$f":"IF('liste engagés'!$G27=\"\",\"\",'liste engagés'!A27)","v":""},{"$f":"IF('liste engagés'!$G27=\"\",\"\",'liste engagés'!B27)","v":""},{"$f":"IF('liste engagés'!$G27=\"\",\"\",'liste engagés'!C27)","v":""},{"$f":"IF('liste engagés'!$G27=\"\",\"\",'liste engagés'!D27)","v":""},{"$f":"IF('liste engagés'!$G27=\"\",\"\",'liste engagés'!G27)","v":""},{"$f":"IF('liste engagés'!$G27=\"\",\"\",'liste engagés'!K27)","v":""},{"$f":"IF('liste engagés'!$G27=\"\",\"\",'liste engagés'!L27)","v":""},0]
[102,{"$f":"IF('liste engagés'!$G28=\"\",\"\",'liste engagés'!A28)","v":""},{"$f":"IF('liste engagés'!$G28=\"\",\"\",'liste engagés'!B28)","v":""},{"$f":"IF('liste engagés'!$G28=\"\",\"\",'liste engagés'!C28)","v":""},{"$f":"IF('liste engagés'!$G28=\"\",\"\",'liste engagés'!D28)","v":""},{"$f":"IF('liste engagés'!$G28=\"\",\"\",'liste engagés'!G28)","v":""},{"$f":"IF('liste engagés'!$G28=\"\",\"\",'liste engagés'!K28)","v":""},{"$f":"IF('liste engagés'!$G28=\"\",\"\",'liste engagés'!L28)","v":""},0]
[103,{"$f":"IF('liste engagés'!$G29=\"\",\"\",'liste engagés'!A29)","v":""},{"$f":"IF('liste engagés'!$G29=\"\",\"\",'liste engagés'!B29)","v":""},{"$f":"IF('liste engagés'!$G29=\"\",\"\",'liste engagés'!C29)","v":""},{"$f":"IF('liste engagés'!$G29=\"\",\"\",'liste engagés'!D29)","v":""},{"$f":"IF('liste engagés'!$G29=\"\",\"\",'liste engagés'!G29)","v":""},{"$f":"IF('liste engagés'!$G29=\"\",\"\",'liste engagés'!K29)","v":""},{"$f":"IF('liste engagés'!$G29=\"\",\"\",'liste engagés'!L29)","v":""},0]
[104,{"$f":"IF('liste engagés'!$G30=\"\",\"\",'liste engagés'!A30)","v":""},{"$f":"IF('liste engagés'!$G30=\"\",\"\",'liste engagés'!B30)","v":""},{"$f":"IF('liste engagés'!$G30=\"\",\"\",'liste engagés'!C30)","v":""},{"$f":"IF('liste engagés'!$G30=\"\",\"\",'liste engagés'!D30)","v":""},{"$f":"IF('liste engagés'!$G30=\"\",\"\",'liste engagés'!G30)","v":""},{"$f":"IF('liste engagés'!$G30=\"\",\"\",'liste engagés'!K30)","v":""},{"$f":"IF('liste engagés'!$G30=\"\",\"\",'liste engagés'!L30)","v":""},0]
[105,{"$f":"IF('liste engagés'!$G32=\"\",\"\",'liste engagés'!A32)","v":""},{"$f":"IF('liste engagés'!$G32=\"\",\"\",'liste engagés'!B32)","v":""},{"$f":"IF('liste engagés'!$G32=\"\",\"\",'liste engagés'!C32)","v":""},{"$f":"IF('liste engagés'!$G32=\"\",\"\",'liste engagés'!D32)","v":""},{"$f":"IF('liste engagés'!$G32=\"\",\"\",'liste engagés'!G32)","v":""},{"$f":"IF('liste engagés'!$G32=\"\",\"\",'liste engagés'!K32)","v":""},{"$f":"IF('liste engagés'!$G32=\"\",\"\",'liste engagés'!L32)","v":""},0]
[106,{"$f":"IF('liste engagés'!$G33=\"\",\"\",'liste engagés'!A33)","v":""},{"$f":"IF('liste engagés'!$G33=\"\",\"\",'liste engagés'!B33)","v":""},{"$f":"IF('liste engagés'!$G33=\"\",\"\",'liste engagés'!C33)","v":""},{"$f":"IF('liste engagés'!$G33=\"\",\"\",'liste engagés'!D33)","v":""},{"$f":"IF('liste engagés'!$G33=\"\",\"\",'liste engagés'!G33)","v":""},{"$f":"IF('liste engagés'!$G33=\"\",\"\",'liste engagés'!K33)","v":""},{"$f":"IF('liste engagés'!$G33=\"\",\"\",'liste engagés'!L33)","v":""},0]
[107,{"$f":"IF('liste engagés'!$G34=\"\",\"\",'liste engagés'!A34)","v":""},{"$f":"IF('liste engagés'!$G34=\"\",\"\",'liste engagés'!B34)","v":""},{"$f":"IF('liste engagés'!$G34=\"\",\"\",'liste engagés'!C34)","v":""},{"$f":"IF('liste engagés'!$G34=\"\",\"\",'liste engagés'!D34)","v":""},{"$f":"IF('liste engagés'!$G34=\"\",\"\",'liste engagés'!G34)","v":""},{"$f":"IF('liste engagés'!$G34=\"\",\"\",'liste engagés'!K34)","v":""},{"$f":"IF('liste engagés'!$G34=\"\",\"\",'liste engagés'!L34)","v":""},0]
[108,{"$f":"IF('liste engagés'!$G35=\"\",\"\",'liste engagés'!A35)","v":""},{"$f":"IF('liste engagés'!$G35=\"\",\"\",'liste engagés'!B35)","v":""},{"$f":"IF('liste engagés'!$G35=\"\",\"\",'liste engagés'!C35)","v":""},{"$f":"IF('liste engagés'!$G35=\"\",\"\",'liste engagés'!D35)","v":""},{"$f":"IF('liste engagés'!$G35=\"\",\"\",'liste engagés'!G35)","v":""},{"$f":"IF('liste engagés'!$G35=\"\",\"\",'liste engagés'!K35)","v":""},{"$f":"IF('liste engagés'!$G35=\"\",\"\",'liste engagés'!L35)","v":""},0]
[109,{"$f":"IF('liste engagés'!$G36=\"\",\"\",'liste engagés'!A36)","v":""},{"$f":"IF('liste engagés'!$G36=\"\",\"\",'liste engagés'!B36)","v":""},{"$f":"IF('liste engagés'!$G36=\"\",\"\",'liste engagés'!C36)","v":""},{"$f":"IF('liste engagés'!$G36=\"\",\"\",'liste engagés'!D36)","v":""},{"$f":"IF('liste engagés'!$G36=\"\",\"\",'liste engagés'!G36)","v":""},{"$f":"IF('liste engagés'!$G36=\"\",\"\",'liste engagés'!K36)","v":""},{"$f":"IF('liste engagés'!$G36=\"\",\"\",'liste engagés'!L36)","v":""},0]
[110,{"$f":"IF('liste engagés'!$G37=\"\",\"\",'liste engagés'!A37)","v":""},{"$f":"IF('liste engagés'!$G37=\"\",\"\",'liste engagés'!B37)","v":""},{"$f":"IF('liste engagés'!$G37=\"\",\"\",'liste engagés'!C37)","v":""},{"$f":"IF('liste engagés'!$G37=\"\",\"\",'liste engagés'!D37)","v":""},{"$f":"IF('liste engagés'!$G37=\"\",\"\",'liste engagés'!G37)","v":""},{"$f":"IF('liste engagés'!$G37=\"\",\"\",'liste engagés'!K37)","v":""},{"$f":"IF('liste engagés'!$G37=\"\",\"\",'liste engagés'!L37)","v":""},0]
[111,{"$f":"IF('liste engagés'!$G38=\"\",\"\",'liste engagés'!A38)","v":""},{"$f":"IF('liste engagés'!$G38=\"\",\"\",'liste engagés'!B38)","v":""},{"$f":"IF('liste engagés'!$G38=\"\",\"\",'liste engagés'!C38)","v":""},{"$f":"IF('liste engagés'!$G38=\"\",\"\",'liste engagés'!D38)","v":""},{"$f":"IF('liste engagés'!$G38=\"\",\"\",'liste engagés'!G38)","v":""},{"$f":"IF('liste engagés'!$G38=\"\",\"\",'liste engagés'!K38)","v":""},{"$f":"IF('liste engagés'!$G38=\"\",\"\",'liste engagés'!L38)","v":""},0]
[112,{"$f":"IF('liste engagés'!$G39=\"\",\"\",'liste engagés'!A39)","v":""},{"$f":"IF('liste engagés'!$G39=\"\",\"\",'liste engagés'!B39)","v":""},{"$f":"IF('liste engagés'!$G39=\"\",\"\",'liste engagés'!C39)","v":""},{"$f":"IF('liste engagés'!$G39=\"\",\"\",'liste engagés'!D39)","v":""},{"$f":"IF('liste engagés'!$G39=\"\",\"\",'liste engagés'!G39)","v":""},{"$f":"IF('liste engagés'!$G39=\"\",\"\",'liste engagés'!K39)","v":""},{"$f":"IF('liste engagés'!$G39=\"\",\"\",'liste engagés'!L39)","v":""},0]
[113,{"$f":"IF('liste engagés'!$G40=\"\",\"\",'liste engagés'!A40)","v":""},{"$f":"IF('liste engagés'!$G40=\"\",\"\",'liste engagés'!B40)","v":""},{"$f":"IF('liste engagés'!$G40=\"\",\"\",'liste engagés'!C40)","v":""},{"$f":"IF('liste engagés'!$G40=\"\",\"\",'liste engagés'!D40)","v":""},{"$f":"IF('liste engagés'!$G40=\"\",\"\",'liste engagés'!G40)","v":""},{"$f":"IF('liste engagés'!$G40=\"\",\"\",'liste engagés'!K40)","v":""},{"$f":"IF('liste engagés'!$G40=\"\",\"\",'liste engagés'!L40)","v":""},0]
[114,{"$f":"IF('liste engagés'!$G41=\"\",\"\",'liste engagés'!A41)","v":""},{"$f":"IF('liste engagés'!$G41=\"\",\"\",'liste engagés'!B41)","v":""},{"$f":"IF('liste engagés'!$G41=\"\",\"\",'liste engagés'!C41)","v":""},{"$f":"IF('liste engagés'!$G41=\"\",\"\",'liste engagés'!D41)","v":""},{"$f":"IF('liste engagés'!$G41=\"\",\"\",'liste engagés'!G41)","v":""},{"$f":"IF('liste engagés'!$G41=\"\",\"\",'liste engagés'!K41)","v":""},{"$f":"IF('liste engagés'!$G41=\"\",\"\",'liste engagés'!L41)","v":""},0]
[115,{"$f":"IF('liste engagés'!$G42=\"\",\"\",'liste engagés'!A42)","v":""},{"$f":"IF('liste engagés'!$G42=\"\",\"\",'liste engagés'!B42)","v":""},{"$f":"IF('liste engagés'!$G42=\"\",\"\",'liste engagés'!C42)","v":""},{"$f":"IF('liste engagés'!$G42=\"\",\"\",'liste engagés'!D42)","v":""},{"$f":"IF('liste engagés'!$G42=\"\",\"\",'liste engagés'!G42)","v":""},{"$f":"IF('liste engagés'!$G42=\"\",\"\",'liste engagés'!K42)","v":""},{"$f":"IF('liste engagés'!$G42=\"\",\"\",'liste engagés'!L42)","v":""},0]
[116,{"$f":"IF('liste engagés'!$G43=\"\",\"\",'liste engagés'!A43)","v":""},{"$f":"IF('liste engagés'!$G43=\"\",\"\",'liste engagés'!B43)","v":""},{"$f":"IF('liste engagés'!$G43=\"\",\"\",'liste engagés'!C43)","v":""},{"$f":"IF('liste engagés'!$G43=\"\",\"\",'liste engagés'!D43)","v":""},{"$f":"IF('liste engagés'!$G43=\"\",\"\",'liste engagés'!G43)","v":""},{"$f":"IF('liste engagés'!$G43=\"\",\"\",'liste engagés'!K43)","v":""},{"$f":"IF('liste engagés'!$G43=\"\",\"\",'liste engagés'!L43)","v":""},0]
[117,{"$f":"IF('liste engagés'!$G44=\"\",\"\",'liste engagés'!A44)","v":""},{"$f":"IF('liste engagés'!$G44=\"\",\"\",'liste engagés'!B44)","v":""},{"$f":"IF('liste engagés'!$G44=\"\",\"\",'liste engagés'!C44)","v":""},{"$f":"IF('liste engagés'!$G44=\"\",\"\",'liste engagés'!D44)","v":""},{"$f":"IF('liste engagés'!$G44=\"\",\"\",'liste engagés'!G44)","v":""},{"$f":"IF('liste engagés'!$G44=\"\",\"\",'liste engagés'!K44)","v":""},{"$f":"IF('liste engagés'!$G44=\"\",\"\",'liste engagés'!L44)","v":""},0]
[118,{"$f":"IF('liste engagés'!$G45=\"\",\"\",'liste engagés'!A45)","v":""},{"$f":"IF('liste engagés'!$G45=\"\",\"\",'liste engagés'!B45)","v":""},{"$f":"IF('liste engagés'!$G45=\"\",\"\",'liste engagés'!C45)","v":""},{"$f":"IF('liste engagés'!$G45=\"\",\"\",'liste engagés'!D45)","v":""},{"$f":"IF('liste engagés'!$G45=\"\",\"\",'liste engagés'!G45)","v":""},{"$f":"IF('liste engagés'!$G45=\"\",\"\",'liste engagés'!K45)","v":""},{"$f":"IF('liste engagés'!$G45=\"\",\"\",'liste engagés'!L45)","v":""},0]
[119,{"$f":"IF('liste engagés'!$G46=\"\",\"\",'liste engagés'!A46)","v":""},{"$f":"IF('liste engagés'!$G46=\"\",\"\",'liste engagés'!B46)","v":""},{"$f":"IF('liste engagés'!$G46=\"\",\"\",'liste engagés'!C46)","v":""},{"$f":"IF('liste engagés'!$G46=\"\",\"\",'liste engagés'!D46)","v":""},{"$f":"IF('liste engagés'!$G46=\"\",\"\",'liste engagés'!G46)","v":""},{"$f":"IF('liste engagés'!$G46=\"\",\"\",'liste engagés'!K46)","v":""},{"$f":"IF('liste engagés'!$G46=\"\",\"\",'liste engagés'!L46)","v":""},0]
[120,{"$f":"IF('liste engagés'!$G47=\"\",\"\",'liste engagés'!A47)","v":""},{"$f":"IF('liste engagés'!$G47=\"\",\"\",'liste engagés'!B47)","v":""},{"$f":"IF('liste engagés'!$G47=\"\",\"\",'liste engagés'!C47)","v":""},{"$f":"IF('liste engagés'!$G47=\"\",\"\",'liste engagés'!D47)","v":""},{"$f":"IF('liste engagés'!$G47=\"\",\"\",'liste engagés'!G47)","v":""},{"$f":"IF('liste engagés'!$G47=\"\",\"\",'liste engagés'!K47)","v":""},{"$f":"IF('liste engagés'!$G47=\"\",\"\",'liste engagés'!L47)","v":""},0]
[121,{"$f":"IF('liste engagés'!$G48=\"\",\"\",'liste engagés'!A48)","v":""},{"$f":"IF('liste engagés'!$G48=\"\",\"\",'liste engagés'!B48)","v":""},{"$f":"IF('liste engagés'!$G48=\"\",\"\",'liste engagés'!C48)","v":""},{"$f":"IF('liste engagés'!$G48=\"\",\"\",'liste engagés'!D48)","v":""},{"$f":"IF('liste engagés'!$G48=\"\",\"\",'liste engagés'!G48)","v":""},{"$f":"IF('liste engagés'!$G48=\"\",\"\",'liste engagés'!K48)","v":""},{"$f":"IF('liste engagés'!$G48=\"\",\"\",'liste engagés'!L48)","v":""},0]
[122,{"$f":"IF('liste engagés'!$G49=\"\",\"\",'liste engagés'!A49)","v":""},{"$f":"IF('liste engagés'!$G49=\"\",\"\",'liste engagés'!B49)","v":""},{"$f":"IF('liste engagés'!$G49=\"\",\"\",'liste engagés'!C49)","v":""},{"$f":"IF('liste engagés'!$G49=\"\",\"\",'liste engagés'!D49)","v":""},{"$f":"IF('liste engagés'!$G49=\"\",\"\",'liste engagés'!G49)","v":""},{"$f":"IF('liste engagés'!$G49=\"\",\"\",'liste engagés'!K49)","v":""},{"$f":"IF('liste engagés'!$G49=\"\",\"\",'liste engagés'!L49)","v":""},0]
[123,{"$f":"IF('liste engagés'!$G50=\"\",\"\",'liste engagés'!A50)","v":""},{"$f":"IF('liste engagés'!$G50=\"\",\"\",'liste engagés'!B50)","v":""},{"$f":"IF('liste engagés'!$G50=\"\",\"\",'liste engagés'!C50)","v":""},{"$f":"IF('liste engagés'!$G50=\"\",\"\",'liste engagés'!D50)","v":""},{"$f":"IF('liste engagés'!$G50=\"\",\"\",'liste engagés'!G50)","v":""},{"$f":"IF('liste engagés'!$G50=\"\",\"\",'liste engagés'!K50)","v":""},{"$f":"IF('liste engagés'!$G50=\"\",\"\",'liste engagés'!L50)","v":""},0]
[124,{"$f":"IF('liste engagés'!$G51=\"\",\"\",'liste engagés'!A51)","v":""},{"$f":"IF('liste engagés'!$G51=\"\",\"\",'liste engagés'!B51)","v":""},{"$f":"IF('liste engagés'!$G51=\"\",\"\",'liste engagés'!C51)","v":""},{"$f":"IF('liste engagés'!$G51=\"\",\"\",'liste engagés'!D51)","v":""},{"$f":"IF('liste engagés'!$G51=\"\",\"\",'liste engagés'!G51)","v":""},{"$f":"IF('liste engagés'!$G51=\"\",\"\",'liste engagés'!K51)","v":""},{"$f":"IF('liste engagés'!$G51=\"\",\"\",'liste engagés'!L51)","v":""},0]
[125,{"$f":"IF('liste engagés'!$G52=\"\",\"\",'liste engagés'!A52)","v":""},{"$f":"IF('liste engagés'!$G52=\"\",\"\",'liste engagés'!B52)","v":""},{"$f":"IF('liste engagés'!$G52=\"\",\"\",'liste engagés'!C52)","v":""},{"$f":"IF('liste engagés'!$G52=\"\",\"\",'liste engagés'!D52)","v":""},{"$f":"IF('liste engagés'!$G52=\"\",\"\",'liste engagés'!G52)","v":""},{"$f":"IF('liste engagés'!$G52=\"\",\"\",'liste engagés'!K52)","v":""},{"$f":"IF('liste engagés'!$G52=\"\",\"\",'liste engagés'!L52)","v":""},0]
[126,{"$f":"IF('liste engagés'!$G53=\"\",\"\",'liste engagés'!A53)","v":""},{"$f":"IF('liste engagés'!$G53=\"\",\"\",'liste engagés'!B53)","v":""},{"$f":"IF('liste engagés'!$G53=\"\",\"\",'liste engagés'!C53)","v":""},{"$f":"IF('liste engagés'!$G53=\"\",\"\",'liste engagés'!D53)","v":""},{"$f":"IF('liste engagés'!$G53=\"\",\"\",'liste engagés'!G53)","v":""},{"$f":"IF('liste engagés'!$G53=\"\",\"\",'liste engagés'!K53)","v":""},{"$f":"IF('liste engagés'!$G53=\"\",\"\",'liste engagés'!L53)","v":""},0]
[127,{"$f":"IF('liste engagés'!$G54=\"\",\"\",'liste engagés'!A54)","v":""},{"$f":"IF('liste engagés'!$G54=\"\",\"\",'liste engagés'!B54)","v":""},{"$f":"IF('liste engagés'!$G54=\"\",\"\",'liste engagés'!C54)","v":""},{"$f":"IF('liste engagés'!$G54=\"\",\"\",'liste engagés'!D54)","v":""},{"$f":"IF('liste engagés'!$G54=\"\",\"\",'liste engagés'!G54)","v":""},{"$f":"IF('liste engagés'!$G54=\"\",\"\",'liste engagés'!K54)","v":""},{"$f":"IF('liste engagés'!$G54=\"\",\"\",'liste engagés'!L54)","v":""},0]
[128,{"$f":"IF('liste engagés'!$G55=\"\",\"\",'liste engagés'!A55)","v":""},{"$f":"IF('liste engagés'!$G55=\"\",\"\",'liste engagés'!B55)","v":""},{"$f":"IF('liste engagés'!$G55=\"\",\"\",'liste engagés'!C55)","v":""},{"$f":"IF('liste engagés'!$G55=\"\",\"\",'liste engagés'!D55)","v":""},{"$f":"IF('liste engagés'!$G55=\"\",\"\",'liste engagés'!G55)","v":""},{"$f":"IF('liste engagés'!$G55=\"\",\"\",'liste engagés'!K55)","v":""},{"$f":"IF('liste engagés'!$G55=\"\",\"\",'liste engagés'!L55)","v":""},0]
[129,{"$f":"IF('liste engagés'!$G62=\"\",\"\",'liste engagés'!A62)","v":""},{"$f":"IF('liste engagés'!$G62=\"\",\"\",'liste engagés'!B62)","v":""},{"$f":"IF('liste engagés'!$G62=\"\",\"\",'liste engagés'!C62)","v":""},{"$f":"IF('liste engagés'!$G62=\"\",\"\",'liste engagés'!D62)","v":""},{"$f":"IF('liste engagés'!$G62=\"\",\"\",'liste engagés'!G62)","v":""},{"$f":"IF('liste engagés'!$G62=\"\",\"\",'liste engagés'!K62)","v":""},{"$f":"IF('liste engagés'!$G62=\"\",\"\",'liste engagés'!L62)","v":""},{"$f":"+IF(C135=\"\",0,1)","v":0}]
[{"$f":"+A135+1","v":130},{"$f":"IF('liste engagés'!$G63=\"\",\"\",'liste engagés'!A63)","v":""},{"$f":"IF('liste engagés'!$G63=\"\",\"\",'liste engagés'!B63)","v":""},{"$f":"IF('liste engagés'!$G63=\"\",\"\",'liste engagés'!C63)","v":""},{"$f":"IF('liste engagés'!$G63=\"\",\"\",'liste engagés'!D63)","v":""},{"$f":"IF('liste engagés'!$G63=\"\",\"\",'liste engagés'!G63)","v":""},{"$f":"IF('liste engagés'!$G63=\"\",\"\",'liste engagés'!K63)","v":""},{"$f":"IF('liste engagés'!$G63=\"\",\"\",'liste engagés'!L63)","v":""},0]
[131,{"$f":"IF('liste engagés'!$G64=\"\",\"\",'liste engagés'!A64)","v":""},{"$f":"IF('liste engagés'!$G64=\"\",\"\",'liste engagés'!B64)","v":""},{"$f":"IF('liste engagés'!$G64=\"\",\"\",'liste engagés'!C64)","v":""},{"$f":"IF('liste engagés'!$G64=\"\",\"\",'liste engagés'!D64)","v":""},{"$f":"IF('liste engagés'!$G64=\"\",\"\",'liste engagés'!G64)","v":""},{"$f":"IF('liste engagés'!$G64=\"\",\"\",'liste engagés'!K64)","v":""},{"$f":"IF('liste engagés'!$G64=\"\",\"\",'liste engagés'!L64)","v":""},0]
[132,{"$f":"IF('liste engagés'!$G65=\"\",\"\",'liste engagés'!A65)","v":""},{"$f":"IF('liste engagés'!$G65=\"\",\"\",'liste engagés'!B65)","v":""},{"$f":"IF('liste engagés'!$G65=\"\",\"\",'liste engagés'!C65)","v":""},{"$f":"IF('liste engagés'!$G65=\"\",\"\",'liste engagés'!D65)","v":""},{"$f":"IF('liste engagés'!$G65=\"\",\"\",'liste engagés'!G65)","v":""},{"$f":"IF('liste engagés'!$G65=\"\",\"\",'liste engagés'!K65)","v":""},{"$f":"IF('liste engagés'!$G65=\"\",\"\",'liste engagés'!L65)","v":""},0]
[133,{"$f":"IF('liste engagés'!$G68=\"\",\"\",'liste engagés'!A68)","v":""},{"$f":"IF('liste engagés'!$G68=\"\",\"\",'liste engagés'!B68)","v":""},{"$f":"IF('liste engagés'!$G68=\"\",\"\",'liste engagés'!C68)","v":""},{"$f":"IF('liste engagés'!$G68=\"\",\"\",'liste engagés'!D68)","v":""},{"$f":"IF('liste engagés'!$G68=\"\",\"\",'liste engagés'!G68)","v":""},{"$f":"IF('liste engagés'!$G68=\"\",\"\",'liste engagés'!K68)","v":""},{"$f":"IF('liste engagés'!$G68=\"\",\"\",'liste engagés'!L68)","v":""},0]
[134,{"$f":"IF('liste engagés'!$G69=\"\",\"\",'liste engagés'!A69)","v":""},{"$f":"IF('liste engagés'!$G69=\"\",\"\",'liste engagés'!B69)","v":""},{"$f":"IF('liste engagés'!$G69=\"\",\"\",'liste engagés'!C69)","v":""},{"$f":"IF('liste engagés'!$G69=\"\",\"\",'liste engagés'!D69)","v":""},{"$f":"IF('liste engagés'!$G69=\"\",\"\",'liste engagés'!G69)","v":""},{"$f":"IF('liste engagés'!$G69=\"\",\"\",'liste engagés'!K69)","v":""},{"$f":"IF('liste engagés'!$G69=\"\",\"\",'liste engagés'!L69)","v":""},0]
[135,{"$f":"IF('liste engagés'!$G70=\"\",\"\",'liste engagés'!A70)","v":""},{"$f":"IF('liste engagés'!$G70=\"\",\"\",'liste engagés'!B70)","v":""},{"$f":"IF('liste engagés'!$G70=\"\",\"\",'liste engagés'!C70)","v":""},{"$f":"IF('liste engagés'!$G70=\"\",\"\",'liste engagés'!D70)","v":""},{"$f":"IF('liste engagés'!$G70=\"\",\"\",'liste engagés'!G70)","v":""},{"$f":"IF('liste engagés'!$G70=\"\",\"\",'liste engagés'!K70)","v":""},{"$f":"IF('liste engagés'!$G70=\"\",\"\",'liste engagés'!L70)","v":""},0]
[136,{"$f":"IF('liste engagés'!$G71=\"\",\"\",'liste engagés'!A71)","v":""},{"$f":"IF('liste engagés'!$G71=\"\",\"\",'liste engagés'!B71)","v":""},{"$f":"IF('liste engagés'!$G71=\"\",\"\",'liste engagés'!C71)","v":""},{"$f":"IF('liste engagés'!$G71=\"\",\"\",'liste engagés'!D71)","v":""},{"$f":"IF('liste engagés'!$G71=\"\",\"\",'liste engagés'!G71)","v":""},{"$f":"IF('liste engagés'!$G71=\"\",\"\",'liste engagés'!K71)","v":""},{"$f":"IF('liste engagés'!$G71=\"\",\"\",'liste engagés'!L71)","v":""},0]
[137,{"$f":"IF('liste engagés'!$G72=\"\",\"\",'liste engagés'!A72)","v":""},{"$f":"IF('liste engagés'!$G72=\"\",\"\",'liste engagés'!B72)","v":""},{"$f":"IF('liste engagés'!$G72=\"\",\"\",'liste engagés'!C72)","v":""},{"$f":"IF('liste engagés'!$G72=\"\",\"\",'liste engagés'!D72)","v":""},{"$f":"IF('liste engagés'!$G72=\"\",\"\",'liste engagés'!G72)","v":""},{"$f":"IF('liste engagés'!$G72=\"\",\"\",'liste engagés'!K72)","v":""},{"$f":"IF('liste engagés'!$G72=\"\",\"\",'liste engagés'!L72)","v":""},0]
[138,{"$f":"IF('liste engagés'!$G73=\"\",\"\",'liste engagés'!A73)","v":""},{"$f":"IF('liste engagés'!$G73=\"\",\"\",'liste engagés'!B73)","v":""},{"$f":"IF('liste engagés'!$G73=\"\",\"\",'liste engagés'!C73)","v":""},{"$f":"IF('liste engagés'!$G73=\"\",\"\",'liste engagés'!D73)","v":""},{"$f":"IF('liste engagés'!$G73=\"\",\"\",'liste engagés'!G73)","v":""},{"$f":"IF('liste engagés'!$G73=\"\",\"\",'liste engagés'!K73)","v":""},{"$f":"IF('liste engagés'!$G73=\"\",\"\",'liste engagés'!L73)","v":""},0]
[139,{"$f":"IF('liste engagés'!$G74=\"\",\"\",'liste engagés'!A74)","v":""},{"$f":"IF('liste engagés'!$G74=\"\",\"\",'liste engagés'!B74)","v":""},{"$f":"IF('liste engagés'!$G74=\"\",\"\",'liste engagés'!C74)","v":""},{"$f":"IF('liste engagés'!$G74=\"\",\"\",'liste engagés'!D74)","v":""},{"$f":"IF('liste engagés'!$G74=\"\",\"\",'liste engagés'!G74)","v":""},{"$f":"IF('liste engagés'!$G74=\"\",\"\",'liste engagés'!K74)","v":""},{"$f":"IF('liste engagés'!$G74=\"\",\"\",'liste engagés'!L74)","v":""},0]
[140,{"$f":"IF('liste engagés'!$G75=\"\",\"\",'liste engagés'!A75)","v":""},{"$f":"IF('liste engagés'!$G75=\"\",\"\",'liste engagés'!B75)","v":""},{"$f":"IF('liste engagés'!$G75=\"\",\"\",'liste engagés'!C75)","v":""},{"$f":"IF('liste engagés'!$G75=\"\",\"\",'liste engagés'!D75)","v":""},{"$f":"IF('liste engagés'!$G75=\"\",\"\",'liste engagés'!G75)","v":""},{"$f":"IF('liste engagés'!$G75=\"\",\"\",'liste engagés'!K75)","v":""},{"$f":"IF('liste engagés'!$G75=\"\",\"\",'liste engagés'!L75)","v":""},0]
[141,{"$f":"IF('liste engagés'!$G77=\"\",\"\",'liste engagés'!A77)","v":""},{"$f":"IF('liste engagés'!$G77=\"\",\"\",'liste engagés'!B77)","v":""},{"$f":"IF('liste engagés'!$G77=\"\",\"\",'liste engagés'!C77)","v":""},{"$f":"IF('liste engagés'!$G77=\"\",\"\",'liste engagés'!D77)","v":""},{"$f":"IF('liste engagés'!$G77=\"\",\"\",'liste engagés'!G77)","v":""},{"$f":"IF('liste engagés'!$G77=\"\",\"\",'liste engagés'!K77)","v":""},{"$f":"IF('liste engagés'!$G77=\"\",\"\",'liste engagés'!L77)","v":""},0]
[142,{"$f":"IF('liste engagés'!$G78=\"\",\"\",'liste engagés'!A78)","v":""},{"$f":"IF('liste engagés'!$G78=\"\",\"\",'liste engagés'!B78)","v":""},{"$f":"IF('liste engagés'!$G78=\"\",\"\",'liste engagés'!C78)","v":""},{"$f":"IF('liste engagés'!$G78=\"\",\"\",'liste engagés'!D78)","v":""},{"$f":"IF('liste engagés'!$G78=\"\",\"\",'liste engagés'!G78)","v":""},{"$f":"IF('liste engagés'!$G78=\"\",\"\",'liste engagés'!K78)","v":""},{"$f":"IF('liste engagés'!$G78=\"\",\"\",'liste engagés'!L78)","v":""},0]
[143,{"$f":"IF('liste engagés'!$G79=\"\",\"\",'liste engagés'!A79)","v":""},{"$f":"IF('liste engagés'!$G79=\"\",\"\",'liste engagés'!B79)","v":""},{"$f":"IF('liste engagés'!$G79=\"\",\"\",'liste engagés'!C79)","v":""},{"$f":"IF('liste engagés'!$G79=\"\",\"\",'liste engagés'!D79)","v":""},{"$f":"IF('liste engagés'!$G79=\"\",\"\",'liste engagés'!G79)","v":""},{"$f":"IF('liste engagés'!$G79=\"\",\"\",'liste engagés'!K79)","v":""},{"$f":"IF('liste engagés'!$G79=\"\",\"\",'liste engagés'!L79)","v":""},0]
[144,{"$f":"IF('liste engagés'!$G103=\"\",\"\",'liste engagés'!A103)","v":""},{"$f":"IF('liste engagés'!$G103=\"\",\"\",'liste engagés'!B103)","v":""},{"$f":"IF('liste engagés'!$G103=\"\",\"\",'liste engagés'!C103)","v":""},{"$f":"IF('liste engagés'!$G103=\"\",\"\",'liste engagés'!D103)","v":""},{"$f":"IF('liste engagés'!$G103=\"\",\"\",'liste engagés'!G103)","v":""},{"$f":"IF('liste engagés'!$G103=\"\",\"\",'liste engagés'!K103)","v":""},{"$f":"IF('liste engagés'!$G103=\"\",\"\",'liste engagés'!L103)","v":""},0]
[145,{"$f":"IF('liste engagés'!$G104=\"\",\"\",'liste engagés'!A104)","v":""},{"$f":"IF('liste engagés'!$G104=\"\",\"\",'liste engagés'!B104)","v":""},{"$f":"IF('liste engagés'!$G104=\"\",\"\",'liste engagés'!C104)","v":""},{"$f":"IF('liste engagés'!$G104=\"\",\"\",'liste engagés'!D104)","v":""},{"$f":"IF('liste engagés'!$G104=\"\",\"\",'liste engagés'!G104)","v":""},{"$f":"IF('liste engagés'!$G104=\"\",\"\",'liste engagés'!K104)","v":""},{"$f":"IF('liste engagés'!$G104=\"\",\"\",'liste engagés'!L104)","v":""},0]
[146,{"$f":"IF('liste engagés'!$G105=\"\",\"\",'liste engagés'!A105)","v":""},{"$f":"IF('liste engagés'!$G105=\"\",\"\",'liste engagés'!B105)","v":""},{"$f":"IF('liste engagés'!$G105=\"\",\"\",'liste engagés'!C105)","v":""},{"$f":"IF('liste engagés'!$G105=\"\",\"\",'liste engagés'!D105)","v":""},{"$f":"IF('liste engagés'!$G105=\"\",\"\",'liste engagés'!G105)","v":""},{"$f":"IF('liste engagés'!$G105=\"\",\"\",'liste engagés'!K105)","v":""},{"$f":"IF('liste engagés'!$G105=\"\",\"\",'liste engagés'!L105)","v":""},0]
[147,{"$f":"IF('liste engagés'!$G108=\"\",\"\",'liste engagés'!A108)","v":""},{"$f":"IF('liste engagés'!$G108=\"\",\"\",'liste engagés'!B108)","v":""},{"$f":"IF('liste engagés'!$G108=\"\",\"\",'liste engagés'!C108)","v":""},{"$f":"IF('liste engagés'!$G108=\"\",\"\",'liste engagés'!D108)","v":""},{"$f":"IF('liste engagés'!$G108=\"\",\"\",'liste engagés'!G108)","v":""},{"$f":"IF('liste engagés'!$G108=\"\",\"\",'liste engagés'!K108)","v":""},{"$f":"IF('liste engagés'!$G108=\"\",\"\",'liste engagés'!L108)","v":""},0]
[148,{"$f":"IF('liste engagés'!$G109=\"\",\"\",'liste engagés'!A109)","v":""},{"$f":"IF('liste engagés'!$G109=\"\",\"\",'liste engagés'!B109)","v":""},{"$f":"IF('liste engagés'!$G109=\"\",\"\",'liste engagés'!C109)","v":""},{"$f":"IF('liste engagés'!$G109=\"\",\"\",'liste engagés'!D109)","v":""},{"$f":"IF('liste engagés'!$G109=\"\",\"\",'liste engagés'!G109)","v":""},{"$f":"IF('liste engagés'!$G109=\"\",\"\",'liste engagés'!K109)","v":""},{"$f":"IF('liste engagés'!$G109=\"\",\"\",'liste engagés'!L109)","v":""},0]
[149,{"$f":"IF('liste engagés'!$G114=\"\",\"\",'liste engagés'!A114)","v":109},{"$f":"IF('liste engagés'!$G114=\"\",\"\",'liste engagés'!B114)","v":" "},{"$f":"IF('liste engagés'!$G114=\"\",\"\",'liste engagés'!C114)","v":" "},{"$f":"IF('liste engagés'!$G114=\"\",\"\",'liste engagés'!D114)","v":" "},{"$f":"IF('liste engagés'!$G114=\"\",\"\",'liste engagés'!G114)","v":" "},{"$f":"IF('liste engagés'!$G114=\"\",\"\",'liste engagés'!K114)","v":""},{"$f":"IF('liste engagés'!$G114=\"\",\"\",'liste engagés'!L114)","v":""},1]
[150,{"$f":"IF('liste engagés'!$G127=\"\",\"\",'liste engagés'!A127)","v":122},{"$f":"IF('liste engagés'!$G127=\"\",\"\",'liste engagés'!B127)","v":" "},{"$f":"IF('liste engagés'!$G127=\"\",\"\",'liste engagés'!C127)","v":" "},{"$f":"IF('liste engagés'!$G127=\"\",\"\",'liste engagés'!D127)","v":" "},{"$f":"IF('liste engagés'!$G127=\"\",\"\",'liste engagés'!G127)","v":" "},{"$f":"IF('liste engagés'!$G127=\"\",\"\",'liste engagés'!K127)","v":""},{"$f":"IF('liste engagés'!$G127=\"\",\"\",'liste engagés'!L127)","v":""},1]
[151,{"$f":"IF('liste engagés'!$G131=\"\",\"\",'liste engagés'!A131)","v":126},{"$f":"IF('liste engagés'!$G131=\"\",\"\",'liste engagés'!B131)","v":" "},{"$f":"IF('liste engagés'!$G131=\"\",\"\",'liste engagés'!C131)","v":" "},{"$f":"IF('liste engagés'!$G131=\"\",\"\",'liste engagés'!D131)","v":" "},{"$f":"IF('liste engagés'!$G131=\"\",\"\",'liste engagés'!G131)","v":" "},{"$f":"IF('liste engagés'!$G131=\"\",\"\",'liste engagés'!K131)","v":""},{"$f":"IF('liste engagés'!$G131=\"\",\"\",'liste engagés'!L131)","v":""},1]
[152,{"$f":"IF('liste engagés'!$G148=\"\",\"\",'liste engagés'!A148)","v":""},{"$f":"IF('liste engagés'!$G148=\"\",\"\",'liste engagés'!B148)","v":""},{"$f":"IF('liste engagés'!$G148=\"\",\"\",'liste engagés'!C148)","v":""},{"$f":"IF('liste engagés'!$G148=\"\",\"\",'liste engagés'!D148)","v":""},{"$f":"IF('liste engagés'!$G148=\"\",\"\",'liste engagés'!G148)","v":""},{"$f":"IF('liste engagés'!$G148=\"\",\"\",'liste engagés'!K148)","v":""},{"$f":"IF('liste engagés'!$G148=\"\",\"\",'liste engagés'!L148)","v":""},0]
[153,{"$f":"IF('liste engagés'!$G149=\"\",\"\",'liste engagés'!A149)","v":""},{"$f":"IF('liste engagés'!$G149=\"\",\"\",'liste engagés'!B149)","v":""},{"$f":"IF('liste engagés'!$G149=\"\",\"\",'liste engagés'!C149)","v":""},{"$f":"IF('liste engagés'!$G149=\"\",\"\",'liste engagés'!D149)","v":""},{"$f":"IF('liste engagés'!$G149=\"\",\"\",'liste engagés'!G149)","v":""},{"$f":"IF('liste engagés'!$G149=\"\",\"\",'liste engagés'!K149)","v":""},{"$f":"IF('liste engagés'!$G149=\"\",\"\",'liste engagés'!L149)","v":""},0]
[154,{"$f":"IF('liste engagés'!$G150=\"\",\"\",'liste engagés'!A150)","v":""},{"$f":"IF('liste engagés'!$G150=\"\",\"\",'liste engagés'!B150)","v":""},{"$f":"IF('liste engagés'!$G150=\"\",\"\",'liste engagés'!C150)","v":""},{"$f":"IF('liste engagés'!$G150=\"\",\"\",'liste engagés'!D150)","v":""},{"$f":"IF('liste engagés'!$G150=\"\",\"\",'liste engagés'!G150)","v":""},{"$f":"IF('liste engagés'!$G150=\"\",\"\",'liste engagés'!K150)","v":""},{"$f":"IF('liste engagés'!$G150=\"\",\"\",'liste engagés'!L150)","v":""},0]
[155,{"$f":"IF('liste engagés'!$G152=\"\",\"\",'liste engagés'!A152)","v":""},{"$f":"IF('liste engagés'!$G152=\"\",\"\",'liste engagés'!B152)","v":""},{"$f":"IF('liste engagés'!$G152=\"\",\"\",'liste engagés'!C152)","v":""},{"$f":"IF('liste engagés'!$G152=\"\",\"\",'liste engagés'!D152)","v":""},{"$f":"IF('liste engagés'!$G152=\"\",\"\",'liste engagés'!G152)","v":""},{"$f":"IF('liste engagés'!$G152=\"\",\"\",'liste engagés'!K152)","v":""},{"$f":"IF('liste engagés'!$G152=\"\",\"\",'liste engagés'!L152)","v":""},0]
[156,{"$f":"IF('liste engagés'!$G156=\"\",\"\",'liste engagés'!A156)","v":""},{"$f":"IF('liste engagés'!$G156=\"\",\"\",'liste engagés'!B156)","v":""},{"$f":"IF('liste engagés'!$G156=\"\",\"\",'liste engagés'!C156)","v":""},{"$f":"IF('liste engagés'!$G156=\"\",\"\",'liste engagés'!D156)","v":""},{"$f":"IF('liste engagés'!$G156=\"\",\"\",'liste engagés'!G156)","v":""},{"$f":"IF('liste engagés'!$G156=\"\",\"\",'liste engagés'!K156)","v":""},{"$f":"IF('liste engagés'!$G156=\"\",\"\",'liste engagés'!L156)","v":""},0]
[157,{"$f":"IF('liste engagés'!$G157=\"\",\"\",'liste engagés'!A157)","v":""},{"$f":"IF('liste engagés'!$G157=\"\",\"\",'liste engagés'!B157)","v":""},{"$f":"IF('liste engagés'!$G157=\"\",\"\",'liste engagés'!C157)","v":""},{"$f":"IF('liste engagés'!$G157=\"\",\"\",'liste engagés'!D157)","v":""},{"$f":"IF('liste engagés'!$G157=\"\",\"\",'liste engagés'!G157)","v":""},{"$f":"IF('liste engagés'!$G157=\"\",\"\",'liste engagés'!K157)","v":""},{"$f":"IF('liste engagés'!$G157=\"\",\"\",'liste engagés'!L157)","v":""},0]
[158,{"$f":"IF('liste engagés'!$G158=\"\",\"\",'liste engagés'!A158)","v":""},{"$f":"IF('liste engagés'!$G158=\"\",\"\",'liste engagés'!B158)","v":""},{"$f":"IF('liste engagés'!$G158=\"\",\"\",'liste engagés'!C158)","v":""},{"$f":"IF('liste engagés'!$G158=\"\",\"\",'liste engagés'!D158)","v":""},{"$f":"IF('liste engagés'!$G158=\"\",\"\",'liste engagés'!G158)","v":""},{"$f":"IF('liste engagés'!$G158=\"\",\"\",'liste engagés'!K158)","v":""},{"$f":"IF('liste engagés'!$G158=\"\",\"\",'liste engagés'!L158)","v":""},0]
[159,{"$f":"IF('liste engagés'!$G159=\"\",\"\",'liste engagés'!A159)","v":""},{"$f":"IF('liste engagés'!$G159=\"\",\"\",'liste engagés'!B159)","v":""},{"$f":"IF('liste engagés'!$G159=\"\",\"\",'liste engagés'!C159)","v":""},{"$f":"IF('liste engagés'!$G159=\"\",\"\",'liste engagés'!D159)","v":""},{"$f":"IF('liste engagés'!$G159=\"\",\"\",'liste engagés'!G159)","v":""},{"$f":"IF('liste engagés'!$G159=\"\",\"\",'liste engagés'!K159)","v":""},{"$f":"IF('liste engagés'!$G159=\"\",\"\",'liste engagés'!L159)","v":""},0]
[160,{"$f":"IF('liste engagés'!$G160=\"\",\"\",'liste engagés'!A160)","v":""},{"$f":"IF('liste engagés'!$G160=\"\",\"\",'liste engagés'!B160)","v":""},{"$f":"IF('liste engagés'!$G160=\"\",\"\",'liste engagés'!C160)","v":""},{"$f":"IF('liste engagés'!$G160=\"\",\"\",'liste engagés'!D160)","v":""},{"$f":"IF('liste engagés'!$G160=\"\",\"\",'liste engagés'!G160)","v":""},{"$f":"IF('liste engagés'!$G160=\"\",\"\",'liste engagés'!K160)","v":""},{"$f":"IF('liste engagés'!$G160=\"\",\"\",'liste engagés'!L160)","v":""},0]
[161,{"$f":"IF('liste engagés'!$G161=\"\",\"\",'liste engagés'!A161)","v":""},{"$f":"IF('liste engagés'!$G161=\"\",\"\",'liste engagés'!B161)","v":""},{"$f":"IF('liste engagés'!$G161=\"\",\"\",'liste engagés'!C161)","v":""},{"$f":"IF('liste engagés'!$G161=\"\",\"\",'liste engagés'!D161)","v":""},{"$f":"IF('liste engagés'!$G161=\"\",\"\",'liste engagés'!G161)","v":""},{"$f":"IF('liste engagés'!$G161=\"\",\"\",'liste engagés'!K161)","v":""},{"$f":"IF('liste engagés'!$G161=\"\",\"\",'liste engagés'!L161)","v":""},0]
[162,{"$f":"IF('liste engagés'!$G162=\"\",\"\",'liste engagés'!A162)","v":""},{"$f":"IF('liste engagés'!$G162=\"\",\"\",'liste engagés'!B162)","v":""},{"$f":"IF('liste engagés'!$G162=\"\",\"\",'liste engagés'!C162)","v":""},{"$f":"IF('liste engagés'!$G162=\"\",\"\",'liste engagés'!D162)","v":""},{"$f":"IF('liste engagés'!$G162=\"\",\"\",'liste engagés'!G162)","v":""},{"$f":"IF('liste engagés'!$G162=\"\",\"\",'liste engagés'!K162)","v":""},{"$f":"IF('liste engagés'!$G162=\"\",\"\",'liste engagés'!L162)","v":""},0]
[163,{"$f":"IF('liste engagés'!$G163=\"\",\"\",'liste engagés'!A163)","v":""},{"$f":"IF('liste engagés'!$G163=\"\",\"\",'liste engagés'!B163)","v":""},{"$f":"IF('liste engagés'!$G163=\"\",\"\",'liste engagés'!C163)","v":""},{"$f":"IF('liste engagés'!$G163=\"\",\"\",'liste engagés'!D163)","v":""},{"$f":"IF('liste engagés'!$G163=\"\",\"\",'liste engagés'!G163)","v":""},{"$f":"IF('liste engagés'!$G163=\"\",\"\",'liste engagés'!K163)","v":""},{"$f":"IF('liste engagés'!$G163=\"\",\"\",'liste engagés'!L163)","v":""},0]
[164,{"$f":"IF('liste engagés'!$G164=\"\",\"\",'liste engagés'!A164)","v":""},{"$f":"IF('liste engagés'!$G164=\"\",\"\",'liste engagés'!B164)","v":""},{"$f":"IF('liste engagés'!$G164=\"\",\"\",'liste engagés'!C164)","v":""},{"$f":"IF('liste engagés'!$G164=\"\",\"\",'liste engagés'!D164)","v":""},{"$f":"IF('liste engagés'!$G164=\"\",\"\",'liste engagés'!G164)","v":""},{"$f":"IF('liste engagés'!$G164=\"\",\"\",'liste engagés'!K164)","v":""},{"$f":"IF('liste engagés'!$G164=\"\",\"\",'liste engagés'!L164)","v":""},0]
[165,{"$f":"IF('liste engagés'!$G165=\"\",\"\",'liste engagés'!A165)","v":""},{"$f":"IF('liste engagés'!$G165=\"\",\"\",'liste engagés'!B165)","v":""},{"$f":"IF('liste engagés'!$G165=\"\",\"\",'liste engagés'!C165)","v":""},{"$f":"IF('liste engagés'!$G165=\"\",\"\",'liste engagés'!D165)","v":""},{"$f":"IF('liste engagés'!$G165=\"\",\"\",'liste engagés'!G165)","v":""},{"$f":"IF('liste engagés'!$G165=\"\",\"\",'liste engagés'!K165)","v":""},{"$f":"IF('liste engagés'!$G165=\"\",\"\",'liste engagés'!L165)","v":""},0]
[166,{"$f":"IF('liste engagés'!$G166=\"\",\"\",'liste engagés'!A166)","v":""},{"$f":"IF('liste engagés'!$G166=\"\",\"\",'liste engagés'!B166)","v":""},{"$f":"IF('liste engagés'!$G166=\"\",\"\",'liste engagés'!C166)","v":""},{"$f":"IF('liste engagés'!$G166=\"\",\"\",'liste engagés'!D166)","v":""},{"$f":"IF('liste engagés'!$G166=\"\",\"\",'liste engagés'!G166)","v":""},{"$f":"IF('liste engagés'!$G166=\"\",\"\",'liste engagés'!K166)","v":""},{"$f":"IF('liste engagés'!$G166=\"\",\"\",'liste engagés'!L166)","v":""},0]
[167,{"$f":"IF('liste engagés'!$G167=\"\",\"\",'liste engagés'!A167)","v":""},{"$f":"IF('liste engagés'!$G167=\"\",\"\",'liste engagés'!B167)","v":""},{"$f":"IF('liste engagés'!$G167=\"\",\"\",'liste engagés'!C167)","v":""},{"$f":"IF('liste engagés'!$G167=\"\",\"\",'liste engagés'!D167)","v":""},{"$f":"IF('liste engagés'!$G167=\"\",\"\",'liste engagés'!G167)","v":""},{"$f":"IF('liste engagés'!$G167=\"\",\"\",'liste engagés'!K167)","v":""},{"$f":"IF('liste engagés'!$G167=\"\",\"\",'liste engagés'!L167)","v":""},0]
[168,{"$f":"IF('liste engagés'!$G168=\"\",\"\",'liste engagés'!A168)","v":""},{"$f":"IF('liste engagés'!$G168=\"\",\"\",'liste engagés'!B168)","v":""},{"$f":"IF('liste engagés'!$G168=\"\",\"\",'liste engagés'!C168)","v":""},{"$f":"IF('liste engagés'!$G168=\"\",\"\",'liste engagés'!D168)","v":""},{"$f":"IF('liste engagés'!$G168=\"\",\"\",'liste engagés'!G168)","v":""},{"$f":"IF('liste engagés'!$G168=\"\",\"\",'liste engagés'!K168)","v":""},{"$f":"IF('liste engagés'!$G168=\"\",\"\",'liste engagés'!L168)","v":""},0]
[169,{"$f":"IF('liste engagés'!$G169=\"\",\"\",'liste engagés'!A169)","v":""},{"$f":"IF('liste engagés'!$G169=\"\",\"\",'liste engagés'!B169)","v":""},{"$f":"IF('liste engagés'!$G169=\"\",\"\",'liste engagés'!C169)","v":""},{"$f":"IF('liste engagés'!$G169=\"\",\"\",'liste engagés'!D169)","v":""},{"$f":"IF('liste engagés'!$G169=\"\",\"\",'liste engagés'!G169)","v":""},{"$f":"IF('liste engagés'!$G169=\"\",\"\",'liste engagés'!K169)","v":""},{"$f":"IF('liste engagés'!$G169=\"\",\"\",'liste engagés'!L169)","v":""},0]
[170,{"$f":"IF('liste engagés'!$G173=\"\",\"\",'liste engagés'!A173)","v":""},{"$f":"IF('liste engagés'!$G173=\"\",\"\",'liste engagés'!B173)","v":""},{"$f":"IF('liste engagés'!$G173=\"\",\"\",'liste engagés'!C173)","v":""},{"$f":"IF('liste engagés'!$G173=\"\",\"\",'liste engagés'!D173)","v":""},{"$f":"IF('liste engagés'!$G173=\"\",\"\",'liste engagés'!G173)","v":""},{"$f":"IF('liste engagés'!$G173=\"\",\"\",'liste engagés'!K173)","v":""},{"$f":"IF('liste engagés'!$G173=\"\",\"\",'liste engagés'!L173)","v":""},0]
[171,{"$f":"IF('liste engagés'!$G174=\"\",\"\",'liste engagés'!A174)","v":""},{"$f":"IF('liste engagés'!$G174=\"\",\"\",'liste engagés'!B174)","v":""},{"$f":"IF('liste engagés'!$G174=\"\",\"\",'liste engagés'!C174)","v":""},{"$f":"IF('liste engagés'!$G174=\"\",\"\",'liste engagés'!D174)","v":""},{"$f":"IF('liste engagés'!$G174=\"\",\"\",'liste engagés'!G174)","v":""},{"$f":"IF('liste engagés'!$G174=\"\",\"\",'liste engagés'!K174)","v":""},{"$f":"IF('liste engagés'!$G174=\"\",\"\",'liste engagés'!L174)","v":""},0]
[172,{"$f":"IF('liste engagés'!$G175=\"\",\"\",'liste engagés'!A175)","v":""},{"$f":"IF('liste engagés'!$G175=\"\",\"\",'liste engagés'!B175)","v":""},{"$f":"IF('liste engagés'!$G175=\"\",\"\",'liste engagés'!C175)","v":""},{"$f":"IF('liste engagés'!$G175=\"\",\"\",'liste engagés'!D175)","v":""},{"$f":"IF('liste engagés'!$G175=\"\",\"\",'liste engagés'!G175)","v":""},{"$f":"IF('liste engagés'!$G175=\"\",\"\",'liste engagés'!K175)","v":""},{"$f":"IF('liste engagés'!$G175=\"\",\"\",'liste engagés'!L175)","v":""},0]
[173,{"$f":"IF('liste engagés'!$G176=\"\",\"\",'liste engagés'!A176)","v":""},{"$f":"IF('liste engagés'!$G176=\"\",\"\",'liste engagés'!B176)","v":""},{"$f":"IF('liste engagés'!$G176=\"\",\"\",'liste engagés'!C176)","v":""},{"$f":"IF('liste engagés'!$G176=\"\",\"\",'liste engagés'!D176)","v":""},{"$f":"IF('liste engagés'!$G176=\"\",\"\",'liste engagés'!G176)","v":""},{"$f":"IF('liste engagés'!$G176=\"\",\"\",'liste engagés'!K176)","v":""},{"$f":"IF('liste engagés'!$G176=\"\",\"\",'liste engagés'!L176)","v":""},0]
[174,{"$f":"IF('liste engagés'!$G177=\"\",\"\",'liste engagés'!A177)","v":""},{"$f":"IF('liste engagés'!$G177=\"\",\"\",'liste engagés'!B177)","v":""},{"$f":"IF('liste engagés'!$G177=\"\",\"\",'liste engagés'!C177)","v":""},{"$f":"IF('liste engagés'!$G177=\"\",\"\",'liste engagés'!D177)","v":""},{"$f":"IF('liste engagés'!$G177=\"\",\"\",'liste engagés'!G177)","v":""},{"$f":"IF('liste engagés'!$G177=\"\",\"\",'liste engagés'!K177)","v":""},{"$f":"IF('liste engagés'!$G177=\"\",\"\",'liste engagés'!L177)","v":""},0]
[175,{"$f":"IF('liste engagés'!$G178=\"\",\"\",'liste engagés'!A178)","v":""},{"$f":"IF('liste engagés'!$G178=\"\",\"\",'liste engagés'!B178)","v":""},{"$f":"IF('liste engagés'!$G178=\"\",\"\",'liste engagés'!C178)","v":""},{"$f":"IF('liste engagés'!$G178=\"\",\"\",'liste engagés'!D178)","v":""},{"$f":"IF('liste engagés'!$G178=\"\",\"\",'liste engagés'!G178)","v":""},{"$f":"IF('liste engagés'!$G178=\"\",\"\",'liste engagés'!K178)","v":""},{"$f":"IF('liste engagés'!$G178=\"\",\"\",'liste engagés'!L178)","v":""},0]
[176,{"$f":"IF('liste engagés'!$G181=\"\",\"\",'liste engagés'!A181)","v":""},{"$f":"IF('liste engagés'!$G181=\"\",\"\",'liste engagés'!B181)","v":""},{"$f":"IF('liste engagés'!$G181=\"\",\"\",'liste engagés'!C181)","v":""},{"$f":"IF('liste engagés'!$G181=\"\",\"\",'liste engagés'!D181)","v":""},{"$f":"IF('liste engagés'!$G181=\"\",\"\",'liste engagés'!G181)","v":""},{"$f":"IF('liste engagés'!$G181=\"\",\"\",'liste engagés'!K181)","v":""},{"$f":"IF('liste engagés'!$G181=\"\",\"\",'liste engagés'!L181)","v":""},0]
[177,{"$f":"IF('liste engagés'!$G182=\"\",\"\",'liste engagés'!A182)","v":""},{"$f":"IF('liste engagés'!$G182=\"\",\"\",'liste engagés'!B182)","v":""},{"$f":"IF('liste engagés'!$G182=\"\",\"\",'liste engagés'!C182)","v":""},{"$f":"IF('liste engagés'!$G182=\"\",\"\",'liste engagés'!D182)","v":""},{"$f":"IF('liste engagés'!$G182=\"\",\"\",'liste engagés'!G182)","v":""},{"$f":"IF('liste engagés'!$G182=\"\",\"\",'liste engagés'!K182)","v":""},{"$f":"IF('liste engagés'!$G182=\"\",\"\",'liste engagés'!L182)","v":""},0]
[178,{"$f":"IF('liste engagés'!$G183=\"\",\"\",'liste engagés'!A183)","v":""},{"$f":"IF('liste engagés'!$G183=\"\",\"\",'liste engagés'!B183)","v":""},{"$f":"IF('liste engagés'!$G183=\"\",\"\",'liste engagés'!C183)","v":""},{"$f":"IF('liste engagés'!$G183=\"\",\"\",'liste engagés'!D183)","v":""},{"$f":"IF('liste engagés'!$G183=\"\",\"\",'liste engagés'!G183)","v":""},{"$f":"IF('liste engagés'!$G183=\"\",\"\",'liste engagés'!K183)","v":""},{"$f":"IF('liste engagés'!$G183=\"\",\"\",'liste engagés'!L183)","v":""},0]
[179,{"$f":"IF('liste engagés'!$G184=\"\",\"\",'liste engagés'!A184)","v":""},{"$f":"IF('liste engagés'!$G184=\"\",\"\",'liste engagés'!B184)","v":""},{"$f":"IF('liste engagés'!$G184=\"\",\"\",'liste engagés'!C184)","v":""},{"$f":"IF('liste engagés'!$G184=\"\",\"\",'liste engagés'!D184)","v":""},{"$f":"IF('liste engagés'!$G184=\"\",\"\",'liste engagés'!G184)","v":""},{"$f":"IF('liste engagés'!$G184=\"\",\"\",'liste engagés'!K184)","v":""},{"$f":"IF('liste engagés'!$G184=\"\",\"\",'liste engagés'!L184)","v":""},0]
[180,{"$f":"IF('liste engagés'!$G185=\"\",\"\",'liste engagés'!A185)","v":""},{"$f":"IF('liste engagés'!$G185=\"\",\"\",'liste engagés'!B185)","v":""},{"$f":"IF('liste engagés'!$G185=\"\",\"\",'liste engagés'!C185)","v":""},{"$f":"IF('liste engagés'!$G185=\"\",\"\",'liste engagés'!D185)","v":""},{"$f":"IF('liste engagés'!$G185=\"\",\"\",'liste engagés'!G185)","v":""},{"$f":"IF('liste engagés'!$G185=\"\",\"\",'liste engagés'!K185)","v":""},{"$f":"IF('liste engagés'!$G185=\"\",\"\",'liste engagés'!L185)","v":""},0]
[181,{"$f":"IF('liste engagés'!$G186=\"\",\"\",'liste engagés'!A186)","v":""},{"$f":"IF('liste engagés'!$G186=\"\",\"\",'liste engagés'!B186)","v":""},{"$f":"IF('liste engagés'!$G186=\"\",\"\",'liste engagés'!C186)","v":""},{"$f":"IF('liste engagés'!$G186=\"\",\"\",'liste engagés'!D186)","v":""},{"$f":"IF('liste engagés'!$G186=\"\",\"\",'liste engagés'!G186)","v":""},{"$f":"IF('liste engagés'!$G186=\"\",\"\",'liste engagés'!K186)","v":""},{"$f":"IF('liste engagés'!$G186=\"\",\"\",'liste engagés'!L186)","v":""},0]
[182,{"$f":"IF('liste engagés'!$G187=\"\",\"\",'liste engagés'!A187)","v":""},{"$f":"IF('liste engagés'!$G187=\"\",\"\",'liste engagés'!B187)","v":""},{"$f":"IF('liste engagés'!$G187=\"\",\"\",'liste engagés'!C187)","v":""},{"$f":"IF('liste engagés'!$G187=\"\",\"\",'liste engagés'!D187)","v":""},{"$f":"IF('liste engagés'!$G187=\"\",\"\",'liste engagés'!G187)","v":""},{"$f":"IF('liste engagés'!$G187=\"\",\"\",'liste engagés'!K187)","v":""},{"$f":"IF('liste engagés'!$G187=\"\",\"\",'liste engagés'!L187)","v":""},0]
[183,{"$f":"IF('liste engagés'!$G188=\"\",\"\",'liste engagés'!A188)","v":""},{"$f":"IF('liste engagés'!$G188=\"\",\"\",'liste engagés'!B188)","v":""},{"$f":"IF('liste engagés'!$G188=\"\",\"\",'liste engagés'!C188)","v":""},{"$f":"IF('liste engagés'!$G188=\"\",\"\",'liste engagés'!D188)","v":""},{"$f":"IF('liste engagés'!$G188=\"\",\"\",'liste engagés'!G188)","v":""},{"$f":"IF('liste engagés'!$G188=\"\",\"\",'liste engagés'!K188)","v":""},{"$f":"IF('liste engagés'!$G188=\"\",\"\",'liste engagés'!L188)","v":""},0]
[184,{"$f":"IF('liste engagés'!$G189=\"\",\"\",'liste engagés'!A189)","v":""},{"$f":"IF('liste engagés'!$G189=\"\",\"\",'liste engagés'!B189)","v":""},{"$f":"IF('liste engagés'!$G189=\"\",\"\",'liste engagés'!C189)","v":""},{"$f":"IF('liste engagés'!$G189=\"\",\"\",'liste engagés'!D189)","v":""},{"$f":"IF('liste engagés'!$G189=\"\",\"\",'liste engagés'!G189)","v":""},{"$f":"IF('liste engagés'!$G189=\"\",\"\",'liste engagés'!K189)","v":""},{"$f":"IF('liste engagés'!$G189=\"\",\"\",'liste engagés'!L189)","v":""},0]
[185,{"$f":"IF('liste engagés'!$G190=\"\",\"\",'liste engagés'!A190)","v":""},{"$f":"IF('liste engagés'!$G190=\"\",\"\",'liste engagés'!B190)","v":""},{"$f":"IF('liste engagés'!$G190=\"\",\"\",'liste engagés'!C190)","v":""},{"$f":"IF('liste engagés'!$G190=\"\",\"\",'liste engagés'!D190)","v":""},{"$f":"IF('liste engagés'!$G190=\"\",\"\",'liste engagés'!G190)","v":""},{"$f":"IF('liste engagés'!$G190=\"\",\"\",'liste engagés'!K190)","v":""},{"$f":"IF('liste engagés'!$G190=\"\",\"\",'liste engagés'!L190)","v":""},0]
[186,{"$f":"IF('liste engagés'!$G191=\"\",\"\",'liste engagés'!A191)","v":""},{"$f":"IF('liste engagés'!$G191=\"\",\"\",'liste engagés'!B191)","v":""},{"$f":"IF('liste engagés'!$G191=\"\",\"\",'liste engagés'!C191)","v":""},{"$f":"IF('liste engagés'!$G191=\"\",\"\",'liste engagés'!D191)","v":""},{"$f":"IF('liste engagés'!$G191=\"\",\"\",'liste engagés'!G191)","v":""},{"$f":"IF('liste engagés'!$G191=\"\",\"\",'liste engagés'!K191)","v":""},{"$f":"IF('liste engagés'!$G191=\"\",\"\",'liste engagés'!L191)","v":""},0]
[187,{"$f":"IF('liste engagés'!$G192=\"\",\"\",'liste engagés'!A192)","v":""},{"$f":"IF('liste engagés'!$G192=\"\",\"\",'liste engagés'!B192)","v":""},{"$f":"IF('liste engagés'!$G192=\"\",\"\",'liste engagés'!C192)","v":""},{"$f":"IF('liste engagés'!$G192=\"\",\"\",'liste engagés'!D192)","v":""},{"$f":"IF('liste engagés'!$G192=\"\",\"\",'liste engagés'!G192)","v":""},{"$f":"IF('liste engagés'!$G192=\"\",\"\",'liste engagés'!K192)","v":""},{"$f":"IF('liste engagés'!$G192=\"\",\"\",'liste engagés'!L192)","v":""},0]
[188,{"$f":"IF('liste engagés'!$G193=\"\",\"\",'liste engagés'!A193)","v":""},{"$f":"IF('liste engagés'!$G193=\"\",\"\",'liste engagés'!B193)","v":""},{"$f":"IF('liste engagés'!$G193=\"\",\"\",'liste engagés'!C193)","v":""},{"$f":"IF('liste engagés'!$G193=\"\",\"\",'liste engagés'!D193)","v":""},{"$f":"IF('liste engagés'!$G193=\"\",\"\",'liste engagés'!G193)","v":""},{"$f":"IF('liste engagés'!$G193=\"\",\"\",'liste engagés'!K193)","v":""},{"$f":"IF('liste engagés'!$G193=\"\",\"\",'liste engagés'!L193)","v":""},0]
[189,{"$f":"IF('liste engagés'!$G194=\"\",\"\",'liste engagés'!A194)","v":""},{"$f":"IF('liste engagés'!$G194=\"\",\"\",'liste engagés'!B194)","v":""},{"$f":"IF('liste engagés'!$G194=\"\",\"\",'liste engagés'!C194)","v":""},{"$f":"IF('liste engagés'!$G194=\"\",\"\",'liste engagés'!D194)","v":""},{"$f":"IF('liste engagés'!$G194=\"\",\"\",'liste engagés'!G194)","v":""},{"$f":"IF('liste engagés'!$G194=\"\",\"\",'liste engagés'!K194)","v":""},{"$f":"IF('liste engagés'!$G194=\"\",\"\",'liste engagés'!L194)","v":""},0]
[190,{"$f":"IF('liste engagés'!$G195=\"\",\"\",'liste engagés'!A195)","v":""},{"$f":"IF('liste engagés'!$G195=\"\",\"\",'liste engagés'!B195)","v":""},{"$f":"IF('liste engagés'!$G195=\"\",\"\",'liste engagés'!C195)","v":""},{"$f":"IF('liste engagés'!$G195=\"\",\"\",'liste engagés'!D195)","v":""},{"$f":"IF('liste engagés'!$G195=\"\",\"\",'liste engagés'!G195)","v":""},{"$f":"IF('liste engagés'!$G195=\"\",\"\",'liste engagés'!K195)","v":""},{"$f":"IF('liste engagés'!$G195=\"\",\"\",'liste engagés'!L195)","v":""},0]
[191,{"$f":"IF('liste engagés'!$G196=\"\",\"\",'liste engagés'!A196)","v":""},{"$f":"IF('liste engagés'!$G196=\"\",\"\",'liste engagés'!B196)","v":""},{"$f":"IF('liste engagés'!$G196=\"\",\"\",'liste engagés'!C196)","v":""},{"$f":"IF('liste engagés'!$G196=\"\",\"\",'liste engagés'!D196)","v":""},{"$f":"IF('liste engagés'!$G196=\"\",\"\",'liste engagés'!G196)","v":""},{"$f":"IF('liste engagés'!$G196=\"\",\"\",'liste engagés'!K196)","v":""},{"$f":"IF('liste engagés'!$G196=\"\",\"\",'liste engagés'!L196)","v":""},0]
[192,{"$f":"IF('liste engagés'!$G197=\"\",\"\",'liste engagés'!A197)","v":""},{"$f":"IF('liste engagés'!$G197=\"\",\"\",'liste engagés'!B197)","v":""},{"$f":"IF('liste engagés'!$G197=\"\",\"\",'liste engagés'!C197)","v":""},{"$f":"IF('liste engagés'!$G197=\"\",\"\",'liste engagés'!D197)","v":""},{"$f":"IF('liste engagés'!$G197=\"\",\"\",'liste engagés'!G197)","v":""},{"$f":"IF('liste engagés'!$G197=\"\",\"\",'liste engagés'!K197)","v":""},{"$f":"IF('liste engagés'!$G197=\"\",\"\",'liste engagés'!L197)","v":""},0]
[193,{"$f":"IF('liste engagés'!$G198=\"\",\"\",'liste engagés'!A198)","v":""},{"$f":"IF('liste engagés'!$G198=\"\",\"\",'liste engagés'!B198)","v":""},{"$f":"IF('liste engagés'!$G198=\"\",\"\",'liste engagés'!C198)","v":""},{"$f":"IF('liste engagés'!$G198=\"\",\"\",'liste engagés'!D198)","v":""},{"$f":"IF('liste engagés'!$G198=\"\",\"\",'liste engagés'!G198)","v":""},{"$f":"IF('liste engagés'!$G198=\"\",\"\",'liste engagés'!K198)","v":""},{"$f":"IF('liste engagés'!$G198=\"\",\"\",'liste engagés'!L198)","v":""},{"$f":"+IF(C199=\"\",0,1)","v":0}]
[{"$f":"+A199+1","v":194},{"$f":"IF('liste engagés'!$G199=\"\",\"\",'liste engagés'!A199)","v":""},{"$f":"IF('liste engagés'!$G199=\"\",\"\",'liste engagés'!B199)","v":""},{"$f":"IF('liste engagés'!$G199=\"\",\"\",'liste engagés'!C199)","v":""},{"$f":"IF('liste engagés'!$G199=\"\",\"\",'liste engagés'!D199)","v":""},{"$f":"IF('liste engagés'!$G199=\"\",\"\",'liste engagés'!G199)","v":""},{"$f":"IF('liste engagés'!$G199=\"\",\"\",'liste engagés'!K199)","v":""},{"$f":"IF('liste engagés'!$G199=\"\",\"\",'liste engagés'!L199)","v":""},0]
[195,{"$f":"IF('liste engagés'!$G200=\"\",\"\",'liste engagés'!A200)","v":""},{"$f":"IF('liste engagés'!$G200=\"\",\"\",'liste engagés'!B200)","v":""},{"$f":"IF('liste engagés'!$G200=\"\",\"\",'liste engagés'!C200)","v":""},{"$f":"IF('liste engagés'!$G200=\"\",\"\",'liste engagés'!D200)","v":""},{"$f":"IF('liste engagés'!$G200=\"\",\"\",'liste engagés'!G200)","v":""},{"$f":"IF('liste engagés'!$G200=\"\",\"\",'liste engagés'!K200)","v":""},{"$f":"IF('liste engagés'!$G200=\"\",\"\",'liste engagés'!L200)","v":""},0]
[196,{"$f":"IF('liste engagés'!$G201=\"\",\"\",'liste engagés'!A201)","v":""},{"$f":"IF('liste engagés'!$G201=\"\",\"\",'liste engagés'!B201)","v":""},{"$f":"IF('liste engagés'!$G201=\"\",\"\",'liste engagés'!C201)","v":""},{"$f":"IF('liste engagés'!$G201=\"\",\"\",'liste engagés'!D201)","v":""},{"$f":"IF('liste engagés'!$G201=\"\",\"\",'liste engagés'!G201)","v":""},{"$f":"IF('liste engagés'!$G201=\"\",\"\",'liste engagés'!K201)","v":""},{"$f":"IF('liste engagés'!$G201=\"\",\"\",'liste engagés'!L201)","v":""},0]
[197,{"$f":"IF('liste engagés'!$G202=\"\",\"\",'liste engagés'!A202)","v":""},{"$f":"IF('liste engagés'!$G202=\"\",\"\",'liste engagés'!B202)","v":""},{"$f":"IF('liste engagés'!$G202=\"\",\"\",'liste engagés'!C202)","v":""},{"$f":"IF('liste engagés'!$G202=\"\",\"\",'liste engagés'!D202)","v":""},{"$f":"IF('liste engagés'!$G202=\"\",\"\",'liste engagés'!G202)","v":""},{"$f":"IF('liste engagés'!$G202=\"\",\"\",'liste engagés'!K202)","v":""},{"$f":"IF('liste engagés'!$G202=\"\",\"\",'liste engagés'!L202)","v":""},0]
[198,{"$f":"IF('liste engagés'!$G203=\"\",\"\",'liste engagés'!A203)","v":""},{"$f":"IF('liste engagés'!$G203=\"\",\"\",'liste engagés'!B203)","v":""},{"$f":"IF('liste engagés'!$G203=\"\",\"\",'liste engagés'!C203)","v":""},{"$f":"IF('liste engagés'!$G203=\"\",\"\",'liste engagés'!D203)","v":""},{"$f":"IF('liste engagés'!$G203=\"\",\"\",'liste engagés'!G203)","v":""},{"$f":"IF('liste engagés'!$G203=\"\",\"\",'liste engagés'!K203)","v":""},{"$f":"IF('liste engagés'!$G203=\"\",\"\",'liste engagés'!L203)","v":""},0]
[199,{"$f":"IF('liste engagés'!$G204=\"\",\"\",'liste engagés'!A204)","v":""},{"$f":"IF('liste engagés'!$G204=\"\",\"\",'liste engagés'!B204)","v":""},{"$f":"IF('liste engagés'!$G204=\"\",\"\",'liste engagés'!C204)","v":""},{"$f":"IF('liste engagés'!$G204=\"\",\"\",'liste engagés'!D204)","v":""},{"$f":"IF('liste engagés'!$G204=\"\",\"\",'liste engagés'!G204)","v":""},{"$f":"IF('liste engagés'!$G204=\"\",\"\",'liste engagés'!K204)","v":""},{"$f":"IF('liste engagés'!$G204=\"\",\"\",'liste engagés'!L204)","v":""},0]
[200,{"$f":"IF('liste engagés'!$G205=\"\",\"\",'liste engagés'!A205)","v":""},{"$f":"IF('liste engagés'!$G205=\"\",\"\",'liste engagés'!B205)","v":""},{"$f":"IF('liste engagés'!$G205=\"\",\"\",'liste engagés'!C205)","v":""},{"$f":"IF('liste engagés'!$G205=\"\",\"\",'liste engagés'!D205)","v":""},{"$f":"IF('liste engagés'!$G205=\"\",\"\",'liste engagés'!G205)","v":""},{"$f":"IF('liste engagés'!$G205=\"\",\"\",'liste engagés'!K205)","v":""},{"$f":"IF('liste engagés'!$G205=\"\",\"\",'liste engagés'!L205)","v":""},0]
[201,{"$f":"IF('liste engagés'!$G206=\"\",\"\",'liste engagés'!A206)","v":""},{"$f":"IF('liste engagés'!$G206=\"\",\"\",'liste engagés'!B206)","v":""},{"$f":"IF('liste engagés'!$G206=\"\",\"\",'liste engagés'!C206)","v":""},{"$f":"IF('liste engagés'!$G206=\"\",\"\",'liste engagés'!D206)","v":""},{"$f":"IF('liste engagés'!$G206=\"\",\"\",'liste engagés'!G206)","v":""},{"$f":"IF('liste engagés'!$G206=\"\",\"\",'liste engagés'!K206)","v":""},{"$f":"IF('liste engagés'!$G206=\"\",\"\",'liste engagés'!L206)","v":""},0]
[202,{"$f":"IF('liste engagés'!$G207=\"\",\"\",'liste engagés'!A207)","v":""},{"$f":"IF('liste engagés'!$G207=\"\",\"\",'liste engagés'!B207)","v":""},{"$f":"IF('liste engagés'!$G207=\"\",\"\",'liste engagés'!C207)","v":""},{"$f":"IF('liste engagés'!$G207=\"\",\"\",'liste engagés'!D207)","v":""},{"$f":"IF('liste engagés'!$G207=\"\",\"\",'liste engagés'!G207)","v":""},{"$f":"IF('liste engagés'!$G207=\"\",\"\",'liste engagés'!K207)","v":""},{"$f":"IF('liste engagés'!$G207=\"\",\"\",'liste engagés'!L207)","v":""},0]
[203,{"$f":"IF('liste engagés'!$G208=\"\",\"\",'liste engagés'!A208)","v":""},{"$f":"IF('liste engagés'!$G208=\"\",\"\",'liste engagés'!B208)","v":""},{"$f":"IF('liste engagés'!$G208=\"\",\"\",'liste engagés'!C208)","v":""},{"$f":"IF('liste engagés'!$G208=\"\",\"\",'liste engagés'!D208)","v":""},{"$f":"IF('liste engagés'!$G208=\"\",\"\",'liste engagés'!G208)","v":""},{"$f":"IF('liste engagés'!$G208=\"\",\"\",'liste engagés'!K208)","v":""},{"$f":"IF('liste engagés'!$G208=\"\",\"\",'liste engagés'!L208)","v":""},0]
[204,{"$f":"IF('liste engagés'!$G209=\"\",\"\",'liste engagés'!A209)","v":""},{"$f":"IF('liste engagés'!$G209=\"\",\"\",'liste engagés'!B209)","v":""},{"$f":"IF('liste engagés'!$G209=\"\",\"\",'liste engagés'!C209)","v":""},{"$f":"IF('liste engagés'!$G209=\"\",\"\",'liste engagés'!D209)","v":""},{"$f":"IF('liste engagés'!$G209=\"\",\"\",'liste engagés'!G209)","v":""},{"$f":"IF('liste engagés'!$G209=\"\",\"\",'liste engagés'!K209)","v":""},{"$f":"IF('liste engagés'!$G209=\"\",\"\",'liste engagés'!L209)","v":""},0]
[205,{"$f":"IF('liste engagés'!$G210=\"\",\"\",'liste engagés'!A210)","v":""},{"$f":"IF('liste engagés'!$G210=\"\",\"\",'liste engagés'!B210)","v":""},{"$f":"IF('liste engagés'!$G210=\"\",\"\",'liste engagés'!C210)","v":""},{"$f":"IF('liste engagés'!$G210=\"\",\"\",'liste engagés'!D210)","v":""},{"$f":"IF('liste engagés'!$G210=\"\",\"\",'liste engagés'!G210)","v":""},{"$f":"IF('liste engagés'!$G210=\"\",\"\",'liste engagés'!K210)","v":""},{"$f":"IF('liste engagés'!$G210=\"\",\"\",'liste engagés'!L210)","v":""},0]
[206,{"$f":"IF('liste engagés'!$G211=\"\",\"\",'liste engagés'!A211)","v":""},{"$f":"IF('liste engagés'!$G211=\"\",\"\",'liste engagés'!B211)","v":""},{"$f":"IF('liste engagés'!$G211=\"\",\"\",'liste engagés'!C211)","v":""},{"$f":"IF('liste engagés'!$G211=\"\",\"\",'liste engagés'!D211)","v":""},{"$f":"IF('liste engagés'!$G211=\"\",\"\",'liste engagés'!G211)","v":""},{"$f":"IF('liste engagés'!$G211=\"\",\"\",'liste engagés'!K211)","v":""},{"$f":"IF('liste engagés'!$G211=\"\",\"\",'liste engagés'!L211)","v":""},0]
[207,{"$f":"IF('liste engagés'!$G212=\"\",\"\",'liste engagés'!A212)","v":""},{"$f":"IF('liste engagés'!$G212=\"\",\"\",'liste engagés'!B212)","v":""},{"$f":"IF('liste engagés'!$G212=\"\",\"\",'liste engagés'!C212)","v":""},{"$f":"IF('liste engagés'!$G212=\"\",\"\",'liste engagés'!D212)","v":""},{"$f":"IF('liste engagés'!$G212=\"\",\"\",'liste engagés'!G212)","v":""},{"$f":"IF('liste engagés'!$G212=\"\",\"\",'liste engagés'!K212)","v":""},{"$f":"IF('liste engagés'!$G212=\"\",\"\",'liste engagés'!L212)","v":""},0]
[208,{"$f":"IF('liste engagés'!$G213=\"\",\"\",'liste engagés'!A213)","v":""},{"$f":"IF('liste engagés'!$G213=\"\",\"\",'liste engagés'!B213)","v":""},{"$f":"IF('liste engagés'!$G213=\"\",\"\",'liste engagés'!C213)","v":""},{"$f":"IF('liste engagés'!$G213=\"\",\"\",'liste engagés'!D213)","v":""},{"$f":"IF('liste engagés'!$G213=\"\",\"\",'liste engagés'!G213)","v":""},{"$f":"IF('liste engagés'!$G213=\"\",\"\",'liste engagés'!K213)","v":""},{"$f":"IF('liste engagés'!$G213=\"\",\"\",'liste engagés'!L213)","v":""},0]
[209,{"$f":"IF('liste engagés'!$G214=\"\",\"\",'liste engagés'!A214)","v":""},{"$f":"IF('liste engagés'!$G214=\"\",\"\",'liste engagés'!B214)","v":""},{"$f":"IF('liste engagés'!$G214=\"\",\"\",'liste engagés'!C214)","v":""},{"$f":"IF('liste engagés'!$G214=\"\",\"\",'liste engagés'!D214)","v":""},{"$f":"IF('liste engagés'!$G214=\"\",\"\",'liste engagés'!G214)","v":""},{"$f":"IF('liste engagés'!$G214=\"\",\"\",'liste engagés'!K214)","v":""},{"$f":"IF('liste engagés'!$G214=\"\",\"\",'liste engagés'!L214)","v":""},0]
[210,{"$f":"IF('liste engagés'!$G215=\"\",\"\",'liste engagés'!A215)","v":""},{"$f":"IF('liste engagés'!$G215=\"\",\"\",'liste engagés'!B215)","v":""},{"$f":"IF('liste engagés'!$G215=\"\",\"\",'liste engagés'!C215)","v":""},{"$f":"IF('liste engagés'!$G215=\"\",\"\",'liste engagés'!D215)","v":""},{"$f":"IF('liste engagés'!$G215=\"\",\"\",'liste engagés'!G215)","v":""},{"$f":"IF('liste engagés'!$G215=\"\",\"\",'liste engagés'!K215)","v":""},{"$f":"IF('liste engagés'!$G215=\"\",\"\",'liste engagés'!L215)","v":""},0]
[null,{"$f":"+IF(G216=\"\",\"\",'liste engagés'!A216)","v":""},null,null,null,null,null,null,{"$f":"SUM(I7:I216)","v":90}]

{"sheet":"cat1","index":4,"n_rows":217,"n_cols":10,"rows_kept":217,"cut":false,"hidden":false,"merged":[]}
[{"$f":"+MENU!A1","v":"CHRONO DES LIMOUCHES "},null,null,null,null,null,{"$f":"+MENU!I1","v":"EDITION"},{"$f":"+MENU!J1","v":2018}]
[null,null,null,null,null,null,null,null,"code cat",1]
["CLASSEMENT :",null,{"$f":"+IF(J2=\"\",\"\",VLOOKUP($J$2,Catégories!B3:D17,3))","v":"FSGT 1-2"}]
[]
[]
[null,"N°de DOSSARD","Nom ","Prénom","Club","Fédération","Temps","Moyenne"]
[1,{"$f":"IF('liste engagés'!$G121=1,'liste engagés'!A121,\"\")","v":116},{"$f":"IF('liste engagés'!$G121=1,'liste engagés'!B121,\"\")","v":"DONCIEUX"},{"$f":"IF('liste engagés'!$G121=1,'liste engagés'!C121,\"\")","v":"NICOLAS"},{"$f":"IF('liste engagés'!$G121=1,'liste engagés'!D121,\"\")","v":"UCVM"},{"$f":"IF('liste engagés'!$G121=1,'liste engagés'!E121,\"\")","v":"FSGT"},{"$f":"IF('liste engagés'!$G121=1,'liste engagés'!K121,\"\")","v":2.3854166666660737E-2},{"$f":"IF('liste engagés'!$G121=1,'liste engagés'!L121,\"\")","v":19.912663755463466},{"$f":"+IF(C7=\"\",0,1)","v":1}]
[{"$f":"+A7+1","v":2},{"$f":"IF('liste engagés'!$G137=1,'liste engagés'!A137,\"\")","v":132},{"$f":"IF('liste engagés'!$G137=1,'liste engagés'!B137,\"\")","v":"GONZALVEZ"},{"$f":"IF('liste engagés'!$G137=1,'liste engagés'!C137,\"\")","v":"LILIAN"},{"$f":"IF('liste engagés'!$G137=1,'liste engagés'!D137,\"\")","v":"USC BERG & COIRON"},{"$f":"IF('liste engagés'!$G137=1,'liste engagés'!E137,\"\")","v":"FSGT"},{"$f":"IF('liste engagés'!$G137=1,'liste engagés'!K137,\"\")","v":2.4293981481474713E-2},{"$f":"IF('liste engagés'!$G137=1,'liste engagés'!L137,\"\")","v":19.552167698909688},1]
[3,{"$f":"IF('liste engagés'!$G128=1,'liste engagés'!A128,\"\")","v":123},{"$f":"IF('liste engagés'!$G128=1,'liste engagés'!B128,\"\")","v":"MAZA"},{"$f":"IF('liste engagés'!$G128=1,'liste engagés'!C128,\"\")","v":"SAMUEL"},{"$f":"IF('liste engagés'!$G128=1,'liste engagés'!D128,\"\")","v":"CS COUXOIS"},{"$f":"IF('liste engagés'!$G128=1,'liste engagés'!E128,\"\")","v":"FSGT"},{"$f":"IF('liste engagés'!$G128=1,'liste engagés'!K128,\"\")","v":2.434027777777098E-2},{"$f":"IF('liste engagés'!$G128=1,'liste engagés'!L128,\"\")","v":19.514978602002596},1]
[4,{"$f":"IF('liste engagés'!$G116=1,'liste engagés'!A116,\"\")","v":111},{"$f":"IF('liste engagés'!$G116=1,'liste engagés'!B116,\"\")","v":"PHILIPPE"},{"$f":"IF('liste engagés'!$G116=1,'liste engagés'!C116,\"\")","v":"FRANCOIS"},{"$f":"IF('liste engagés'!$G116=1,'liste engagés'!D116,\"\")","v":"MAX BAREL VC"},{"$f":"IF('liste engagés'!$G116=1,'liste engagés'!E116,\"\")","v":"FSGT"},{"$f":"IF('liste engagés'!$G116=1,'liste engagés'!K116,\"\")","v":2.5219907407401321E-2},{"$f":"IF('liste engagés'!$G116=1,'liste engagés'!L116,\"\")","v":18.834327673249152},1]
[5,{"$f":"IF('liste engagés'!$G22=1,'liste engagés'!A22,\"\")","v":17},{"$f":"IF('liste engagés'!$G22=1,'liste engagés'!B22,\"\")","v":"ZOULIAMIS"},{"$f":"IF('liste engagés'!$G22=1,'liste engagés'!C22,\"\")","v":"NICOLAS"},{"$f":"IF('liste engagés'!$G22=1,'liste engagés'!D22,\"\")","v":"CS PANTIN"},{"$f":"IF('liste engagés'!$G22=1,'liste engagés'!E22,\"\")","v":"FSGT"},{"$f":"IF('liste engagés'!$G22=1,'liste engagés'!K22,\"\")","v":2.895833333333242E-2},{"$f":"IF('liste engagés'!$G22=1,'liste engagés'!L22,\"\")","v":16.402877697842243},1]
[6,{"$f":"IF('liste engagés'!$G6=1,'liste engagés'!A6,\"\")","v":""},{"$f":"IF('liste engagés'!$G6=1,'liste engagés'!B6,\"\")","v":""},{"$f":"IF('liste engagés'!$G6=1,'liste engagés'!C6,\"\")","v":""},{"$f":"IF('liste engagés'!$G6=1,'liste engagés'!D6,\"\")","v":""},{"$f":"IF('liste engagés'!$G6=1,'liste engagés'!E6,\"\")","v":""},{"$f":"IF('liste engagés'!$G6=1,'liste engagés'!K6,\"\")","v":""},{"$f":"IF('liste engagés'!$G6=1,'liste engagés'!L6,\"\")","v":""},0]
[7,{"$f":"IF('liste engagés'!$G7=1,'liste engagés'!A7,\"\")","v":""},{"$f":"IF('liste engagés'!$G7=1,'liste engagés'!B7,\"\")","v":""},{"$f":"IF('liste engagés'!$G7=1,'liste engagés'!C7,\"\")","v":""},{"$f":"IF('liste engagés'!$G7=1,'liste engagés'!D7,\"\")","v":""},{"$f":"IF('liste engagés'!$G7=1,'liste engagés'!E7,\"\")","v":""},{"$f":"IF('liste engagés'!$G7=1,'liste engagés'!K7,\"\")","v":""},{"$f":"IF('liste engagés'!$G7=1,'liste engagés'!L7,\"\")","v":""},0]
[8,{"$f":"IF('liste engagés'!$G8=1,'liste engagés'!A8,\"\")","v":""},{"$f":"IF('liste engagés'!$G8=1,'liste engagés'!B8,\"\")","v":""},{"$f":"IF('liste engagés'!$G8=1,'liste engagés'!C8,\"\")","v":""},{"$f":"IF('liste engagés'!$G8=1,'liste engagés'!D8,\"\")","v":""},{"$f":"IF('liste engagés'!$G8=1,'liste engagés'!E8,\"\")","v":""},{"$f":"IF('liste engagés'!$G8=1,'liste engagés'!K8,\"\")","v":""},{"$f":"IF('liste engagés'!$G8=1,'liste engagés'!L8,\"\")","v":""},0]
[9,{"$f":"IF('liste engagés'!$G9=1,'liste engagés'!A9,\"\")","v":""},{"$f":"IF('liste engagés'!$G9=1,'liste engagés'!B9,\"\")","v":""},{"$f":"IF('liste engagés'!$G9=1,'liste engagés'!C9,\"\")","v":""},{"$f":"IF('liste engagés'!$G9=1,'liste engagés'!D9,\"\")","v":""},{"$f":"IF('liste engagés'!$G9=1,'liste engagés'!E9,\"\")","v":""},{"$f":"IF('liste engagés'!$G9=1,'liste engagés'!K9,\"\")","v":""},{"$f":"IF('liste engagés'!$G9=1,'liste engagés'!L9,\"\")","v":""},0]
[10,{"$f":"IF('liste engagés'!$G10=1,'liste engagés'!A10,\"\")","v":""},{"$f":"IF('liste engagés'!$G10=1,'liste engagés'!B10,\"\")","v":""},{"$f":"IF('liste engagés'!$G10=1,'liste engagés'!C10,\"\")","v":""},{"$f":"IF('liste engagés'!$G10=1,'liste engagés'!D10,\"\")","v":""},{"$f":"IF('liste engagés'!$G10=1,'liste engagés'!E10,\"\")","v":""},{"$f":"IF('liste engagés'!$G10=1,'liste engagés'!K10,\"\")","v":""},{"$f":"IF('liste engagés'!$G10=1,'liste engagés'!L10,\"\")","v":""},0]
[11,{"$f":"IF('liste engagés'!$G11=1,'liste engagés'!A11,\"\")","v":""},{"$f":"IF('liste engagés'!$G11=1,'liste engagés'!B11,\"\")","v":""},{"$f":"IF('liste engagés'!$G11=1,'liste engagés'!C11,\"\")","v":""},{"$f":"IF('liste engagés'!$G11=1,'liste engagés'!D11,\"\")","v":""},{"$f":"IF('liste engagés'!$G11=1,'liste engagés'!E11,\"\")","v":""},{"$f":"IF('liste engagés'!$G11=1,'liste engagés'!K11,\"\")","v":""},{"$f":"IF('liste engagés'!$G11=1,'liste engagés'!L11,\"\")","v":""},0]
[12,{"$f":"IF('liste engagés'!$G12=1,'liste engagés'!A12,\"\")","v":""},{"$f":"IF('liste engagés'!$G12=1,'liste engagés'!B12,\"\")","v":""},{"$f":"IF('liste engagés'!$G12=1,'liste engagés'!C12,\"\")","v":""},{"$f":"IF('liste engagés'!$G12=1,'liste engagés'!D12,\"\")","v":""},{"$f":"IF('liste engagés'!$G12=1,'liste engagés'!E12,\"\")","v":""},{"$f":"IF('liste engagés'!$G12=1,'liste engagés'!K12,\"\")","v":""},{"$f":"IF('liste engagés'!$G12=1,'liste engagés'!L12,\"\")","v":""},0]
[13,{"$f":"IF('liste engagés'!$G13=1,'liste engagés'!A13,\"\")","v":""},{"$f":"IF('liste engagés'!$G13=1,'liste engagés'!B13,\"\")","v":""},{"$f":"IF('liste engagés'!$G13=1,'liste engagés'!C13,\"\")","v":""},{"$f":"IF('liste engagés'!$G13=1,'liste engagés'!D13,\"\")","v":""},{"$f":"IF('liste engagés'!$G13=1,'liste engagés'!E13,\"\")","v":""},{"$f":"IF('liste engagés'!$G13=1,'liste engagés'!K13,\"\")","v":""},{"$f":"IF('liste engagés'!$G13=1,'liste engagés'!L13,\"\")","v":""},0]
[14,{"$f":"IF('liste engagés'!$G14=1,'liste engagés'!A14,\"\")","v":""},{"$f":"IF('liste engagés'!$G14=1,'liste engagés'!B14,\"\")","v":""},{"$f":"IF('liste engagés'!$G14=1,'liste engagés'!C14,\"\")","v":""},{"$f":"IF('liste engagés'!$G14=1,'liste engagés'!D14,\"\")","v":""},{"$f":"IF('liste engagés'!$G14=1,'liste engagés'!E14,\"\")","v":""},{"$f":"IF('liste engagés'!$G14=1,'liste engagés'!K14,\"\")","v":""},{"$f":"IF('liste engagés'!$G14=1,'liste engagés'!L14,\"\")","v":""},0]
[15,{"$f":"IF('liste engagés'!$G15=1,'liste engagés'!A15,\"\")","v":""},{"$f":"IF('liste engagés'!$G15=1,'liste engagés'!B15,\"\")","v":""},{"$f":"IF('liste engagés'!$G15=1,'liste engagés'!C15,\"\")","v":""},{"$f":"IF('liste engagés'!$G15=1,'liste engagés'!D15,\"\")","v":""},{"$f":"IF('liste engagés'!$G15=1,'liste engagés'!E15,\"\")","v":""},{"$f":"IF('liste engagés'!$G15=1,'liste engagés'!K15,\"\")","v":""},{"$f":"IF('liste engagés'!$G15=1,'liste engagés'!L15,\"\")","v":""},0]
[16,{"$f":"IF('liste engagés'!$G16=1,'liste engagés'!A16,\"\")","v":""},{"$f":"IF('liste engagés'!$G16=1,'liste engagés'!B16,\"\")","v":""},{"$f":"IF('liste engagés'!$G16=1,'liste engagés'!C16,\"\")","v":""},{"$f":"IF('liste engagés'!$G16=1,'liste engagés'!D16,\"\")","v":""},{"$f":"IF('liste engagés'!$G16=1,'liste engagés'!E16,\"\")","v":""},{"$f":"IF('liste engagés'!$G16=1,'liste engagés'!K16,\"\")","v":""},{"$f":"IF('liste engagés'!$G16=1,'liste engagés'!L16,\"\")","v":""},0]
[17,{"$f":"IF('liste engagés'!$G17=1,'liste engagés'!A17,\"\")","v":""},{"$f":"IF('liste engagés'!$G17=1,'liste engagés'!B17,\"\")","v":""},{"$f":"IF('liste engagés'!$G17=1,'liste engagés'!C17,\"\")","v":""},{"$f":"IF('liste engagés'!$G17=1,'liste engagés'!D17,\"\")","v":""},{"$f":"IF('liste engagés'!$G17=1,'liste engagés'!E17,\"\")","v":""},{"$f":"IF('liste engagés'!$G17=1,'liste engagés'!K17,\"\")","v":""},{"$f":"IF('liste engagés'!$G17=1,'liste engagés'!L17,\"\")","v":""},0]
[18,{"$f":"IF('liste engagés'!$G18=1,'liste engagés'!A18,\"\")","v":""},{"$f":"IF('liste engagés'!$G18=1,'liste engagés'!B18,\"\")","v":""},{"$f":"IF('liste engagés'!$G18=1,'liste engagés'!C18,\"\")","v":""},{"$f":"IF('liste engagés'!$G18=1,'liste engagés'!D18,\"\")","v":""},{"$f":"IF('liste engagés'!$G18=1,'liste engagés'!E18,\"\")","v":""},{"$f":"IF('liste engagés'!$G18=1,'liste engagés'!K18,\"\")","v":""},{"$f":"IF('liste engagés'!$G18=1,'liste engagés'!L18,\"\")","v":""},0]
[19,{"$f":"IF('liste engagés'!$G19=1,'liste engagés'!A19,\"\")","v":""},{"$f":"IF('liste engagés'!$G19=1,'liste engagés'!B19,\"\")","v":""},{"$f":"IF('liste engagés'!$G19=1,'liste engagés'!C19,\"\")","v":""},{"$f":"IF('liste engagés'!$G19=1,'liste engagés'!D19,\"\")","v":""},{"$f":"IF('liste engagés'!$G19=1,'liste engagés'!E19,\"\")","v":""},{"$f":"IF('liste engagés'!$G19=1,'liste engagés'!K19,\"\")","v":""},{"$f":"IF('liste engagés'!$G19=1,'liste engagés'!L19,\"\")","v":""},0]
[20,{"$f":"IF('liste engagés'!$G20=1,'liste engagés'!A20,\"\")","v":""},{"$f":"IF('liste engagés'!$G20=1,'liste engagés'!B20,\"\")","v":""},{"$f":"IF('liste engagés'!$G20=1,'liste engagés'!C20,\"\")","v":""},{"$f":"IF('liste engagés'!$G20=1,'liste engagés'!D20,\"\")","v":""},{"$f":"IF('liste engagés'!$G20=1,'liste engagés'!E20,\"\")","v":""},{"$f":"IF('liste engagés'!$G20=1,'liste engagés'!K20,\"\")","v":""},{"$f":"IF('liste engagés'!$G20=1,'liste engagés'!L20,\"\")","v":""},0]
[21,{"$f":"IF('liste engagés'!$G21=1,'liste engagés'!A21,\"\")","v":""},{"$f":"IF('liste engagés'!$G21=1,'liste engagés'!B21,\"\")","v":""},{"$f":"IF('liste engagés'!$G21=1,'liste engagés'!C21,\"\")","v":""},{"$f":"IF('liste engagés'!$G21=1,'liste engagés'!D21,\"\")","v":""},{"$f":"IF('liste engagés'!$G21=1,'liste engagés'!E21,\"\")","v":""},{"$f":"IF('liste engagés'!$G21=1,'liste engagés'!K21,\"\")","v":""},{"$f":"IF('liste engagés'!$G21=1,'liste engagés'!L21,\"\")","v":""},0]
[22,{"$f":"IF('liste engagés'!$G23=1,'liste engagés'!A23,\"\")","v":""},{"$f":"IF('liste engagés'!$G23=1,'liste engagés'!B23,\"\")","v":""},{"$f":"IF('liste engagés'!$G23=1,'liste engagés'!C23,\"\")","v":""},{"$f":"IF('liste engagés'!$G23=1,'liste engagés'!D23,\"\")","v":""},{"$f":"IF('liste engagés'!$G23=1,'liste engagés'!E23,\"\")","v":""},{"$f":"IF('liste engagés'!$G23=1,'liste engagés'!K23,\"\")","v":""},{"$f":"IF('liste engagés'!$G23=1,'liste engagés'!L23,\"\")","v":""},0]
[23,{"$f":"IF('liste engagés'!$G24=1,'liste engagés'!A24,\"\")","v":""},{"$f":"IF('liste engagés'!$G24=1,'liste engagés'!B24,\"\")","v":""},{"$f":"IF('liste engagés'!$G24=1,'liste engagés'!C24,\"\")","v":""},{"$f":"IF('liste engagés'!$G24=1,'liste engagés'!D24,\"\")","v":""},{"$f":"IF('liste engagés'!$G24=1,'liste engagés'!E24,\"\")","v":""},{"$f":"IF('liste engagés'!$G24=1,'liste engagés'!K24,\"\")","v":""},{"$f":"IF('liste engagés'!$G24=1,'liste engagés'!L24,\"\")","v":""},0]
[24,{"$f":"IF('liste engagés'!$G25=1,'liste engagés'!A25,\"\")","v":""},{"$f":"IF('liste engagés'!$G25=1,'liste engagés'!B25,\"\")","v":""},{"$f":"IF('liste engagés'!$G25=1,'liste engagés'!C25,\"\")","v":""},{"$f":"IF('liste engagés'!$G25=1,'liste engagés'!D25,\"\")","v":""},{"$f":"IF('liste engagés'!$G25=1,'liste engagés'!E25,\"\")","v":""},{"$f":"IF('liste engagés'!$G25=1,'liste engagés'!K25,\"\")","v":""},{"$f":"IF('liste engagés'!$G25=1,'liste engagés'!L25,\"\")","v":""},0]
[25,{"$f":"IF('liste engagés'!$G26=1,'liste engagés'!A26,\"\")","v":""},{"$f":"IF('liste engagés'!$G26=1,'liste engagés'!B26,\"\")","v":""},{"$f":"IF('liste engagés'!$G26=1,'liste engagés'!C26,\"\")","v":""},{"$f":"IF('liste engagés'!$G26=1,'liste engagés'!D26,\"\")","v":""},{"$f":"IF('liste engagés'!$G26=1,'liste engagés'!E26,\"\")","v":""},{"$f":"IF('liste engagés'!$G26=1,'liste engagés'!K26,\"\")","v":""},{"$f":"IF('liste engagés'!$G26=1,'liste engagés'!L26,\"\")","v":""},0]
[26,{"$f":"IF('liste engagés'!$G27=1,'liste engagés'!A27,\"\")","v":""},{"$f":"IF('liste engagés'!$G27=1,'liste engagés'!B27,\"\")","v":""},{"$f":"IF('liste engagés'!$G27=1,'liste engagés'!C27,\"\")","v":""},{"$f":"IF('liste engagés'!$G27=1,'liste engagés'!D27,\"\")","v":""},{"$f":"IF('liste engagés'!$G27=1,'liste engagés'!E27,\"\")","v":""},{"$f":"IF('liste engagés'!$G27=1,'liste engagés'!K27,\"\")","v":""},{"$f":"IF('liste engagés'!$G27=1,'liste engagés'!L27,\"\")","v":""},0]
[27,{"$f":"IF('liste engagés'!$G28=1,'liste engagés'!A28,\"\")","v":""},{"$f":"IF('liste engagés'!$G28=1,'liste engagés'!B28,\"\")","v":""},{"$f":"IF('liste engagés'!$G28=1,'liste engagés'!C28,\"\")","v":""},{"$f":"IF('liste engagés'!$G28=1,'liste engagés'!D28,\"\")","v":""},{"$f":"IF('liste engagés'!$G28=1,'liste engagés'!E28,\"\")","v":""},{"$f":"IF('liste engagés'!$G28=1,'liste engagés'!K28,\"\")","v":""},{"$f":"IF('liste engagés'!$G28=1,'liste engagés'!L28,\"\")","v":""},0]
[28,{"$f":"IF('liste engagés'!$G29=1,'liste engagés'!A29,\"\")","v":""},{"$f":"IF('liste engagés'!$G29=1,'liste engagés'!B29,\"\")","v":""},{"$f":"IF('liste engagés'!$G29=1,'liste engagés'!C29,\"\")","v":""},{"$f":"IF('liste engagés'!$G29=1,'liste engagés'!D29,\"\")","v":""},{"$f":"IF('liste engagés'!$G29=1,'liste engagés'!E29,\"\")","v":""},{"$f":"IF('liste engagés'!$G29=1,'liste engagés'!K29,\"\")","v":""},{"$f":"IF('liste engagés'!$G29=1,'liste engagés'!L29,\"\")","v":""},0]
[29,{"$f":"IF('liste engagés'!$G30=1,'liste engagés'!A30,\"\")","v":""},{"$f":"IF('liste engagés'!$G30=1,'liste engagés'!B30,\"\")","v":""},{"$f":"IF('liste engagés'!$G30=1,'liste engagés'!C30,\"\")","v":""},{"$f":"IF('liste engagés'!$G30=1,'liste engagés'!D30,\"\")","v":""},{"$f":"IF('liste engagés'!$G30=1,'liste engagés'!E30,\"\")","v":""},{"$f":"IF('liste engagés'!$G30=1,'liste engagés'!K30,\"\")","v":""},{"$f":"IF('liste engagés'!$G30=1,'liste engagés'!L30,\"\")","v":""},0]
[30,{"$f":"IF('liste engagés'!$G31=1,'liste engagés'!A31,\"\")","v":""},{"$f":"IF('liste engagés'!$G31=1,'liste engagés'!B31,\"\")","v":""},{"$f":"IF('liste engagés'!$G31=1,'liste engagés'!C31,\"\")","v":""},{"$f":"IF('liste engagés'!$G31=1,'liste engagés'!D31,\"\")","v":""},{"$f":"IF('liste engagés'!$G31=1,'liste engagés'!E31,\"\")","v":""},{"$f":"IF('liste engagés'!$G31=1,'liste engagés'!K31,\"\")","v":""},{"$f":"IF('liste engagés'!$G31=1,'liste engagés'!L31,\"\")","v":""},0]
[31,{"$f":"IF('liste engagés'!$G32=1,'liste engagés'!A32,\"\")","v":""},{"$f":"IF('liste engagés'!$G32=1,'liste engagés'!B32,\"\")","v":""},{"$f":"IF('liste engagés'!$G32=1,'liste engagés'!C32,\"\")","v":""},{"$f":"IF('liste engagés'!$G32=1,'liste engagés'!D32,\"\")","v":""},{"$f":"IF('liste engagés'!$G32=1,'liste engagés'!E32,\"\")","v":""},{"$f":"IF('liste engagés'!$G32=1,'liste engagés'!K32,\"\")","v":""},{"$f":"IF('liste engagés'!$G32=1,'liste engagés'!L32,\"\")","v":""},0]
[32,{"$f":"IF('liste engagés'!$G33=1,'liste engagés'!A33,\"\")","v":""},{"$f":"IF('liste engagés'!$G33=1,'liste engagés'!B33,\"\")","v":""},{"$f":"IF('liste engagés'!$G33=1,'liste engagés'!C33,\"\")","v":""},{"$f":"IF('liste engagés'!$G33=1,'liste engagés'!D33,\"\")","v":""},{"$f":"IF('liste engagés'!$G33=1,'liste engagés'!E33,\"\")","v":""},{"$f":"IF('liste engagés'!$G33=1,'liste engagés'!K33,\"\")","v":""},{"$f":"IF('liste engagés'!$G33=1,'liste engagés'!L33,\"\")","v":""},0]
[33,{"$f":"IF('liste engagés'!$G34=1,'liste engagés'!A34,\"\")","v":""},{"$f":"IF('liste engagés'!$G34=1,'liste engagés'!B34,\"\")","v":""},{"$f":"IF('liste engagés'!$G34=1,'liste engagés'!C34,\"\")","v":""},{"$f":"IF('liste engagés'!$G34=1,'liste engagés'!D34,\"\")","v":""},{"$f":"IF('liste engagés'!$G34=1,'liste engagés'!E34,\"\")","v":""},{"$f":"IF('liste engagés'!$G34=1,'liste engagés'!K34,\"\")","v":""},{"$f":"IF('liste engagés'!$G34=1,'liste engagés'!L34,\"\")","v":""},0]
[34,{"$f":"IF('liste engagés'!$G35=1,'liste engagés'!A35,\"\")","v":""},{"$f":"IF('liste engagés'!$G35=1,'liste engagés'!B35,\"\")","v":""},{"$f":"IF('liste engagés'!$G35=1,'liste engagés'!C35,\"\")","v":""},{"$f":"IF('liste engagés'!$G35=1,'liste engagés'!D35,\"\")","v":""},{"$f":"IF('liste engagés'!$G35=1,'liste engagés'!E35,\"\")","v":""},{"$f":"IF('liste engagés'!$G35=1,'liste engagés'!K35,\"\")","v":""},{"$f":"IF('liste engagés'!$G35=1,'liste engagés'!L35,\"\")","v":""},0]
[35,{"$f":"IF('liste engagés'!$G36=1,'liste engagés'!A36,\"\")","v":""},{"$f":"IF('liste engagés'!$G36=1,'liste engagés'!B36,\"\")","v":""},{"$f":"IF('liste engagés'!$G36=1,'liste engagés'!C36,\"\")","v":""},{"$f":"IF('liste engagés'!$G36=1,'liste engagés'!D36,\"\")","v":""},{"$f":"IF('liste engagés'!$G36=1,'liste engagés'!E36,\"\")","v":""},{"$f":"IF('liste engagés'!$G36=1,'liste engagés'!K36,\"\")","v":""},{"$f":"IF('liste engagés'!$G36=1,'liste engagés'!L36,\"\")","v":""},0]
[36,{"$f":"IF('liste engagés'!$G37=1,'liste engagés'!A37,\"\")","v":""},{"$f":"IF('liste engagés'!$G37=1,'liste engagés'!B37,\"\")","v":""},{"$f":"IF('liste engagés'!$G37=1,'liste engagés'!C37,\"\")","v":""},{"$f":"IF('liste engagés'!$G37=1,'liste engagés'!D37,\"\")","v":""},{"$f":"IF('liste engagés'!$G37=1,'liste engagés'!E37,\"\")","v":""},{"$f":"IF('liste engagés'!$G37=1,'liste engagés'!K37,\"\")","v":""},{"$f":"IF('liste engagés'!$G37=1,'liste engagés'!L37,\"\")","v":""},0]
[37,{"$f":"IF('liste engagés'!$G38=1,'liste engagés'!A38,\"\")","v":""},{"$f":"IF('liste engagés'!$G38=1,'liste engagés'!B38,\"\")","v":""},{"$f":"IF('liste engagés'!$G38=1,'liste engagés'!C38,\"\")","v":""},{"$f":"IF('liste engagés'!$G38=1,'liste engagés'!D38,\"\")","v":""},{"$f":"IF('liste engagés'!$G38=1,'liste engagés'!E38,\"\")","v":""},{"$f":"IF('liste engagés'!$G38=1,'liste engagés'!K38,\"\")","v":""},{"$f":"IF('liste engagés'!$G38=1,'liste engagés'!L38,\"\")","v":""},0]
[38,{"$f":"IF('liste engagés'!$G39=1,'liste engagés'!A39,\"\")","v":""},{"$f":"IF('liste engagés'!$G39=1,'liste engagés'!B39,\"\")","v":""},{"$f":"IF('liste engagés'!$G39=1,'liste engagés'!C39,\"\")","v":""},{"$f":"IF('liste engagés'!$G39=1,'liste engagés'!D39,\"\")","v":""},{"$f":"IF('liste engagés'!$G39=1,'liste engagés'!E39,\"\")","v":""},{"$f":"IF('liste engagés'!$G39=1,'liste engagés'!K39,\"\")","v":""},{"$f":"IF('liste engagés'!$G39=1,'liste engagés'!L39,\"\")","v":""},0]
[39,{"$f":"IF('liste engagés'!$G40=1,'liste engagés'!A40,\"\")","v":""},{"$f":"IF('liste engagés'!$G40=1,'liste engagés'!B40,\"\")","v":""},{"$f":"IF('liste engagés'!$G40=1,'liste engagés'!C40,\"\")","v":""},{"$f":"IF('liste engagés'!$G40=1,'liste engagés'!D40,\"\")","v":""},{"$f":"IF('liste engagés'!$G40=1,'liste engagés'!E40,\"\")","v":""},{"$f":"IF('liste engagés'!$G40=1,'liste engagés'!K40,\"\")","v":""},{"$f":"IF('liste engagés'!$G40=1,'liste engagés'!L40,\"\")","v":""},0]
[40,{"$f":"IF('liste engagés'!$G41=1,'liste engagés'!A41,\"\")","v":""},{"$f":"IF('liste engagés'!$G41=1,'liste engagés'!B41,\"\")","v":""},{"$f":"IF('liste engagés'!$G41=1,'liste engagés'!C41,\"\")","v":""},{"$f":"IF('liste engagés'!$G41=1,'liste engagés'!D41,\"\")","v":""},{"$f":"IF('liste engagés'!$G41=1,'liste engagés'!E41,\"\")","v":""},{"$f":"IF('liste engagés'!$G41=1,'liste engagés'!K41,\"\")","v":""},{"$f":"IF('liste engagés'!$G41=1,'liste engagés'!L41,\"\")","v":""},0]
[41,{"$f":"IF('liste engagés'!$G42=1,'liste engagés'!A42,\"\")","v":""},{"$f":"IF('liste engagés'!$G42=1,'liste engagés'!B42,\"\")","v":""},{"$f":"IF('liste engagés'!$G42=1,'liste engagés'!C42,\"\")","v":""},{"$f":"IF('liste engagés'!$G42=1,'liste engagés'!D42,\"\")","v":""},{"$f":"IF('liste engagés'!$G42=1,'liste engagés'!E42,\"\")","v":""},{"$f":"IF('liste engagés'!$G42=1,'liste engagés'!K42,\"\")","v":""},{"$f":"IF('liste engagés'!$G42=1,'liste engagés'!L42,\"\")","v":""},0]
[42,{"$f":"IF('liste engagés'!$G43=1,'liste engagés'!A43,\"\")","v":""},{"$f":"IF('liste engagés'!$G43=1,'liste engagés'!B43,\"\")","v":""},{"$f":"IF('liste engagés'!$G43=1,'liste engagés'!C43,\"\")","v":""},{"$f":"IF('liste engagés'!$G43=1,'liste engagés'!D43,\"\")","v":""},{"$f":"IF('liste engagés'!$G43=1,'liste engagés'!E43,\"\")","v":""},{"$f":"IF('liste engagés'!$G43=1,'liste engagés'!K43,\"\")","v":""},{"$f":"IF('liste engagés'!$G43=1,'liste engagés'!L43,\"\")","v":""},0]
[43,{"$f":"IF('liste engagés'!$G44=1,'liste engagés'!A44,\"\")","v":""},{"$f":"IF('liste engagés'!$G44=1,'liste engagés'!B44,\"\")","v":""},{"$f":"IF('liste engagés'!$G44=1,'liste engagés'!C44,\"\")","v":""},{"$f":"IF('liste engagés'!$G44=1,'liste engagés'!D44,\"\")","v":""},{"$f":"IF('liste engagés'!$G44=1,'liste engagés'!E44,\"\")","v":""},{"$f":"IF('liste engagés'!$G44=1,'liste engagés'!K44,\"\")","v":""},{"$f":"IF('liste engagés'!$G44=1,'liste engagés'!L44,\"\")","v":""},0]
[44,{"$f":"IF('liste engagés'!$G45=1,'liste engagés'!A45,\"\")","v":""},{"$f":"IF('liste engagés'!$G45=1,'liste engagés'!B45,\"\")","v":""},{"$f":"IF('liste engagés'!$G45=1,'liste engagés'!C45,\"\")","v":""},{"$f":"IF('liste engagés'!$G45=1,'liste engagés'!D45,\"\")","v":""},{"$f":"IF('liste engagés'!$G45=1,'liste engagés'!E45,\"\")","v":""},{"$f":"IF('liste engagés'!$G45=1,'liste engagés'!K45,\"\")","v":""},{"$f":"IF('liste engagés'!$G45=1,'liste engagés'!L45,\"\")","v":""},0]
[45,{"$f":"IF('liste engagés'!$G46=1,'liste engagés'!A46,\"\")","v":""},{"$f":"IF('liste engagés'!$G46=1,'liste engagés'!B46,\"\")","v":""},{"$f":"IF('liste engagés'!$G46=1,'liste engagés'!C46,\"\")","v":""},{"$f":"IF('liste engagés'!$G46=1,'liste engagés'!D46,\"\")","v":""},{"$f":"IF('liste engagés'!$G46=1,'liste engagés'!E46,\"\")","v":""},{"$f":"IF('liste engagés'!$G46=1,'liste engagés'!K46,\"\")","v":""},{"$f":"IF('liste engagés'!$G46=1,'liste engagés'!L46,\"\")","v":""},0]
[46,{"$f":"IF('liste engagés'!$G47=1,'liste engagés'!A47,\"\")","v":""},{"$f":"IF('liste engagés'!$G47=1,'liste engagés'!B47,\"\")","v":""},{"$f":"IF('liste engagés'!$G47=1,'liste engagés'!C47,\"\")","v":""},{"$f":"IF('liste engagés'!$G47=1,'liste engagés'!D47,\"\")","v":""},{"$f":"IF('liste engagés'!$G47=1,'liste engagés'!E47,\"\")","v":""},{"$f":"IF('liste engagés'!$G47=1,'liste engagés'!K47,\"\")","v":""},{"$f":"IF('liste engagés'!$G47=1,'liste engagés'!L47,\"\")","v":""},0]
[47,{"$f":"IF('liste engagés'!$G48=1,'liste engagés'!A48,\"\")","v":""},{"$f":"IF('liste engagés'!$G48=1,'liste engagés'!B48,\"\")","v":""},{"$f":"IF('liste engagés'!$G48=1,'liste engagés'!C48,\"\")","v":""},{"$f":"IF('liste engagés'!$G48=1,'liste engagés'!D48,\"\")","v":""},{"$f":"IF('liste engagés'!$G48=1,'liste engagés'!E48,\"\")","v":""},{"$f":"IF('liste engagés'!$G48=1,'liste engagés'!K48,\"\")","v":""},{"$f":"IF('liste engagés'!$G48=1,'liste engagés'!L48,\"\")","v":""},0]
[48,{"$f":"IF('liste engagés'!$G49=1,'liste engagés'!A49,\"\")","v":""},{"$f":"IF('liste engagés'!$G49=1,'liste engagés'!B49,\"\")","v":""},{"$f":"IF('liste engagés'!$G49=1,'liste engagés'!C49,\"\")","v":""},{"$f":"IF('liste engagés'!$G49=1,'liste engagés'!D49,\"\")","v":""},{"$f":"IF('liste engagés'!$G49=1,'liste engagés'!E49,\"\")","v":""},{"$f":"IF('liste engagés'!$G49=1,'liste engagés'!K49,\"\")","v":""},{"$f":"IF('liste engagés'!$G49=1,'liste engagés'!L49,\"\")","v":""},0]
[49,{"$f":"IF('liste engagés'!$G50=1,'liste engagés'!A50,\"\")","v":""},{"$f":"IF('liste engagés'!$G50=1,'liste engagés'!B50,\"\")","v":""},{"$f":"IF('liste engagés'!$G50=1,'liste engagés'!C50,\"\")","v":""},{"$f":"IF('liste engagés'!$G50=1,'liste engagés'!D50,\"\")","v":""},{"$f":"IF('liste engagés'!$G50=1,'liste engagés'!E50,\"\")","v":""},{"$f":"IF('liste engagés'!$G50=1,'liste engagés'!K50,\"\")","v":""},{"$f":"IF('liste engagés'!$G50=1,'liste engagés'!L50,\"\")","v":""},0]
[50,{"$f":"IF('liste engagés'!$G51=1,'liste engagés'!A51,\"\")","v":""},{"$f":"IF('liste engagés'!$G51=1,'liste engagés'!B51,\"\")","v":""},{"$f":"IF('liste engagés'!$G51=1,'liste engagés'!C51,\"\")","v":""},{"$f":"IF('liste engagés'!$G51=1,'liste engagés'!D51,\"\")","v":""},{"$f":"IF('liste engagés'!$G51=1,'liste engagés'!E51,\"\")","v":""},{"$f":"IF('liste engagés'!$G51=1,'liste engagés'!K51,\"\")","v":""},{"$f":"IF('liste engagés'!$G51=1,'liste engagés'!L51,\"\")","v":""},0]
[51,{"$f":"IF('liste engagés'!$G52=1,'liste engagés'!A52,\"\")","v":""},{"$f":"IF('liste engagés'!$G52=1,'liste engagés'!B52,\"\")","v":""},{"$f":"IF('liste engagés'!$G52=1,'liste engagés'!C52,\"\")","v":""},{"$f":"IF('liste engagés'!$G52=1,'liste engagés'!D52,\"\")","v":""},{"$f":"IF('liste engagés'!$G52=1,'liste engagés'!E52,\"\")","v":""},{"$f":"IF('liste engagés'!$G52=1,'liste engagés'!K52,\"\")","v":""},{"$f":"IF('liste engagés'!$G52=1,'liste engagés'!L52,\"\")","v":""},0]
[52,{"$f":"IF('liste engagés'!$G53=1,'liste engagés'!A53,\"\")","v":""},{"$f":"IF('liste engagés'!$G53=1,'liste engagés'!B53,\"\")","v":""},{"$f":"IF('liste engagés'!$G53=1,'liste engagés'!C53,\"\")","v":""},{"$f":"IF('liste engagés'!$G53=1,'liste engagés'!D53,\"\")","v":""},{"$f":"IF('liste engagés'!$G53=1,'liste engagés'!E53,\"\")","v":""},{"$f":"IF('liste engagés'!$G53=1,'liste engagés'!K53,\"\")","v":""},{"$f":"IF('liste engagés'!$G53=1,'liste engagés'!L53,\"\")","v":""},0]
[53,{"$f":"IF('liste engagés'!$G54=1,'liste engagés'!A54,\"\")","v":""},{"$f":"IF('liste engagés'!$G54=1,'liste engagés'!B54,\"\")","v":""},{"$f":"IF('liste engagés'!$G54=1,'liste engagés'!C54,\"\")","v":""},{"$f":"IF('liste engagés'!$G54=1,'liste engagés'!D54,\"\")","v":""},{"$f":"IF('liste engagés'!$G54=1,'liste engagés'!E54,\"\")","v":""},{"$f":"IF('liste engagés'!$G54=1,'liste engagés'!K54,\"\")","v":""},{"$f":"IF('liste engagés'!$G54=1,'liste engagés'!L54,\"\")","v":""},0]
[54,{"$f":"IF('liste engagés'!$G55=1,'liste engagés'!A55,\"\")","v":""},{"$f":"IF('liste engagés'!$G55=1,'liste engagés'!B55,\"\")","v":""},{"$f":"IF('liste engagés'!$G55=1,'liste engagés'!C55,\"\")","v":""},{"$f":"IF('liste engagés'!$G55=1,'liste engagés'!D55,\"\")","v":""},{"$f":"IF('liste engagés'!$G55=1,'liste engagés'!E55,\"\")","v":""},{"$f":"IF('liste engagés'!$G55=1,'liste engagés'!K55,\"\")","v":""},{"$f":"IF('liste engagés'!$G55=1,'liste engagés'!L55,\"\")","v":""},0]
[55,{"$f":"IF('liste engagés'!$G56=1,'liste engagés'!A56,\"\")","v":""},{"$f":"IF('liste engagés'!$G56=1,'liste engagés'!B56,\"\")","v":""},{"$f":"IF('liste engagés'!$G56=1,'liste engagés'!C56,\"\")","v":""},{"$f":"IF('liste engagés'!$G56=1,'liste engagés'!D56,\"\")","v":""},{"$f":"IF('liste engagés'!$G56=1,'liste engagés'!E56,\"\")","v":""},{"$f":"IF('liste engagés'!$G56=1,'liste engagés'!K56,\"\")","v":""},{"$f":"IF('liste engagés'!$G56=1,'liste engagés'!L56,\"\")","v":""},0]
[56,{"$f":"IF('liste engagés'!$G57=1,'liste engagés'!A57,\"\")","v":""},{"$f":"IF('liste engagés'!$G57=1,'liste engagés'!B57,\"\")","v":""},{"$f":"IF('liste engagés'!$G57=1,'liste engagés'!C57,\"\")","v":""},{"$f":"IF('liste engagés'!$G57=1,'liste engagés'!D57,\"\")","v":""},{"$f":"IF('liste engagés'!$G57=1,'liste engagés'!E57,\"\")","v":""},{"$f":"IF('liste engagés'!$G57=1,'liste engagés'!K57,\"\")","v":""},{"$f":"IF('liste engagés'!$G57=1,'liste engagés'!L57,\"\")","v":""},0]
[57,{"$f":"IF('liste engagés'!$G58=1,'liste engagés'!A58,\"\")","v":""},{"$f":"IF('liste engagés'!$G58=1,'liste engagés'!B58,\"\")","v":""},{"$f":"IF('liste engagés'!$G58=1,'liste engagés'!C58,\"\")","v":""},{"$f":"IF('liste engagés'!$G58=1,'liste engagés'!D58,\"\")","v":""},{"$f":"IF('liste engagés'!$G58=1,'liste engagés'!E58,\"\")","v":""},{"$f":"IF('liste engagés'!$G58=1,'liste engagés'!K58,\"\")","v":""},{"$f":"IF('liste engagés'!$G58=1,'liste engagés'!L58,\"\")","v":""},0]
[58,{"$f":"IF('liste engagés'!$G59=1,'liste engagés'!A59,\"\")","v":""},{"$f":"IF('liste engagés'!$G59=1,'liste engagés'!B59,\"\")","v":""},{"$f":"IF('liste engagés'!$G59=1,'liste engagés'!C59,\"\")","v":""},{"$f":"IF('liste engagés'!$G59=1,'liste engagés'!D59,\"\")","v":""},{"$f":"IF('liste engagés'!$G59=1,'liste engagés'!E59,\"\")","v":""},{"$f":"IF('liste engagés'!$G59=1,'liste engagés'!K59,\"\")","v":""},{"$f":"IF('liste engagés'!$G59=1,'liste engagés'!L59,\"\")","v":""},0]
[59,{"$f":"IF('liste engagés'!$G60=1,'liste engagés'!A60,\"\")","v":""},{"$f":"IF('liste engagés'!$G60=1,'liste engagés'!B60,\"\")","v":""},{"$f":"IF('liste engagés'!$G60=1,'liste engagés'!C60,\"\")","v":""},{"$f":"IF('liste engagés'!$G60=1,'liste engagés'!D60,\"\")","v":""},{"$f":"IF('liste engagés'!$G60=1,'liste engagés'!E60,\"\")","v":""},{"$f":"IF('liste engagés'!$G60=1,'liste engagés'!K60,\"\")","v":""},{"$f":"IF('liste engagés'!$G60=1,'liste engagés'!L60,\"\")","v":""},0]
[60,{"$f":"IF('liste engagés'!$G61=1,'liste engagés'!A61,\"\")","v":""},{"$f":"IF('liste engagés'!$G61=1,'liste engagés'!B61,\"\")","v":""},{"$f":"IF('liste engagés'!$G61=1,'liste engagés'!C61,\"\")","v":""},{"$f":"IF('liste engagés'!$G61=1,'liste engagés'!D61,\"\")","v":""},{"$f":"IF('liste engagés'!$G61=1,'liste engagés'!E61,\"\")","v":""},{"$f":"IF('liste engagés'!$G61=1,'liste engagés'!K61,\"\")","v":""},{"$f":"IF('liste engagés'!$G61=1,'liste engagés'!L61,\"\")","v":""},0]
[61,{"$f":"IF('liste engagés'!$G62=1,'liste engagés'!A62,\"\")","v":""},{"$f":"IF('liste engagés'!$G62=1,'liste engagés'!B62,\"\")","v":""},{"$f":"IF('liste engagés'!$G62=1,'liste engagés'!C62,\"\")","v":""},{"$f":"IF('liste engagés'!$G62=1,'liste engagés'!D62,\"\")","v":""},{"$f":"IF('liste engagés'!$G62=1,'liste engagés'!E62,\"\")","v":""},{"$f":"IF('liste engagés'!$G62=1,'liste engagés'!K62,\"\")","v":""},{"$f":"IF('liste engagés'!$G62=1,'liste engagés'!L62,\"\")","v":""},0]
[62,{"$f":"IF('liste engagés'!$G63=1,'liste engagés'!A63,\"\")","v":""},{"$f":"IF('liste engagés'!$G63=1,'liste engagés'!B63,\"\")","v":""},{"$f":"IF('liste engagés'!$G63=1,'liste engagés'!C63,\"\")","v":""},{"$f":"IF('liste engagés'!$G63=1,'liste engagés'!D63,\"\")","v":""},{"$f":"IF('liste engagés'!$G63=1,'liste engagés'!E63,\"\")","v":""},{"$f":"IF('liste engagés'!$G63=1,'liste engagés'!K63,\"\")","v":""},{"$f":"IF('liste engagés'!$G63=1,'liste engagés'!L63,\"\")","v":""},0]
[63,{"$f":"IF('liste engagés'!$G64=1,'liste engagés'!A64,\"\")","v":""},{"$f":"IF('liste engagés'!$G64=1,'liste engagés'!B64,\"\")","v":""},{"$f":"IF('liste engagés'!$G64=1,'liste engagés'!C64,\"\")","v":""},{"$f":"IF('liste engagés'!$G64=1,'liste engagés'!D64,\"\")","v":""},{"$f":"IF('liste engagés'!$G64=1,'liste engagés'!E64,\"\")","v":""},{"$f":"IF('liste engagés'!$G64=1,'liste engagés'!K64,\"\")","v":""},{"$f":"IF('liste engagés'!$G64=1,'liste engagés'!L64,\"\")","v":""},0]
[64,{"$f":"IF('liste engagés'!$G65=1,'liste engagés'!A65,\"\")","v":""},{"$f":"IF('liste engagés'!$G65=1,'liste engagés'!B65,\"\")","v":""},{"$f":"IF('liste engagés'!$G65=1,'liste engagés'!C65,\"\")","v":""},{"$f":"IF('liste engagés'!$G65=1,'liste engagés'!D65,\"\")","v":""},{"$f":"IF('liste engagés'!$G65=1,'liste engagés'!E65,\"\")","v":""},{"$f":"IF('liste engagés'!$G65=1,'liste engagés'!K65,\"\")","v":""},{"$f":"IF('liste engagés'!$G65=1,'liste engagés'!L65,\"\")","v":""},0]
[65,{"$f":"IF('liste engagés'!$G66=1,'liste engagés'!A66,\"\")","v":""},{"$f":"IF('liste engagés'!$G66=1,'liste engagés'!B66,\"\")","v":""},{"$f":"IF('liste engagés'!$G66=1,'liste engagés'!C66,\"\")","v":""},{"$f":"IF('liste engagés'!$G66=1,'liste engagés'!D66,\"\")","v":""},{"$f":"IF('liste engagés'!$G66=1,'liste engagés'!E66,\"\")","v":""},{"$f":"IF('liste engagés'!$G66=1,'liste engagés'!K66,\"\")","v":""},{"$f":"IF('liste engagés'!$G66=1,'liste engagés'!L66,\"\")","v":""},{"$f":"+IF(C71=\"\",0,1)","v":0}]
[{"$f":"+A71+1","v":66},{"$f":"IF('liste engagés'!$G67=1,'liste engagés'!A67,\"\")","v":""},{"$f":"IF('liste engagés'!$G67=1,'liste engagés'!B67,\"\")","v":""},{"$f":"IF('liste engagés'!$G67=1,'liste engagés'!C67,\"\")","v":""},{"$f":"IF('liste engagés'!$G67=1,'liste engagés'!D67,\"\")","v":""},{"$f":"IF('liste engagés'!$G67=1,'liste engagés'!E67,\"\")","v":""},{"$f":"IF('liste engagés'!$G67=1,'liste engagés'!K67,\"\")","v":""},{"$f":"IF('liste engagés'!$G67=1,'liste engagés'!L67,\"\")","v":""},0]
[67,{"$f":"IF('liste engagés'!$G68=1,'liste engagés'!A68,\"\")","v":""},{"$f":"IF('liste engagés'!$G68=1,'liste engagés'!B68,\"\")","v":""},{"$f":"IF('liste engagés'!$G68=1,'liste engagés'!C68,\"\")","v":""},{"$f":"IF('liste engagés'!$G68=1,'liste engagés'!D68,\"\")","v":""},{"$f":"IF('liste engagés'!$G68=1,'liste engagés'!E68,\"\")","v":""},{"$f":"IF('liste engagés'!$G68=1,'liste engagés'!K68,\"\")","v":""},{"$f":"IF('liste engagés'!$G68=1,'liste engagés'!L68,\"\")","v":""},0]
[68,{"$f":"IF('liste engagés'!$G69=1,'liste engagés'!A69,\"\")","v":""},{"$f":"IF('liste engagés'!$G69=1,'liste engagés'!B69,\"\")","v":""},{"$f":"IF('liste engagés'!$G69=1,'liste engagés'!C69,\"\")","v":""},{"$f":"IF('liste engagés'!$G69=1,'liste engagés'!D69,\"\")","v":""},{"$f":"IF('liste engagés'!$G69=1,'liste engagés'!E69,\"\")","v":""},{"$f":"IF('liste engagés'!$G69=1,'liste engagés'!K69,\"\")","v":""},{"$f":"IF('liste engagés'!$G69=1,'liste engagés'!L69,\"\")","v":""},0]
[69,{"$f":"IF('liste engagés'!$G70=1,'liste engagés'!A70,\"\")","v":""},{"$f":"IF('liste engagés'!$G70=1,'liste engagés'!B70,\"\")","v":""},{"$f":"IF('liste engagés'!$G70=1,'liste engagés'!C70,\"\")","v":""},{"$f":"IF('liste engagés'!$G70=1,'liste engagés'!D70,\"\")","v":""},{"$f":"IF('liste engagés'!$G70=1,'liste engagés'!E70,\"\")","v":""},{"$f":"IF('liste engagés'!$G70=1,'liste engagés'!K70,\"\")","v":""},{"$f":"IF('liste engagés'!$G70=1,'liste engagés'!L70,\"\")","v":""},0]
[70,{"$f":"IF('liste engagés'!$G71=1,'liste engagés'!A71,\"\")","v":""},{"$f":"IF('liste engagés'!$G71=1,'liste engagés'!B71,\"\")","v":""},{"$f":"IF('liste engagés'!$G71=1,'liste engagés'!C71,\"\")","v":""},{"$f":"IF('liste engagés'!$G71=1,'liste engagés'!D71,\"\")","v":""},{"$f":"IF('liste engagés'!$G71=1,'liste engagés'!E71,\"\")","v":""},{"$f":"IF('liste engagés'!$G71=1,'liste engagés'!K71,\"\")","v":""},{"$f":"IF('liste engagés'!$G71=1,'liste engagés'!L71,\"\")","v":""},0]
[71,{"$f":"IF('liste engagés'!$G72=1,'liste engagés'!A72,\"\")","v":""},{"$f":"IF('liste engagés'!$G72=1,'liste engagés'!B72,\"\")","v":""},{"$f":"IF('liste engagés'!$G72=1,'liste engagés'!C72,\"\")","v":""},{"$f":"IF('liste engagés'!$G72=1,'liste engagés'!D72,\"\")","v":""},{"$f":"IF('liste engagés'!$G72=1,'liste engagés'!E72,\"\")","v":""},{"$f":"IF('liste engagés'!$G72=1,'liste engagés'!K72,\"\")","v":""},{"$f":"IF('liste engagés'!$G72=1,'liste engagés'!L72,\"\")","v":""},0]
[72,{"$f":"IF('liste engagés'!$G73=1,'liste engagés'!A73,\"\")","v":""},{"$f":"IF('liste engagés'!$G73=1,'liste engagés'!B73,\"\")","v":""},{"$f":"IF('liste engagés'!$G73=1,'liste engagés'!C73,\"\")","v":""},{"$f":"IF('liste engagés'!$G73=1,'liste engagés'!D73,\"\")","v":""},{"$f":"IF('liste engagés'!$G73=1,'liste engagés'!E73,\"\")","v":""},{"$f":"IF('liste engagés'!$G73=1,'liste engagés'!K73,\"\")","v":""},{"$f":"IF('liste engagés'!$G73=1,'liste engagés'!L73,\"\")","v":""},0]
[73,{"$f":"IF('liste engagés'!$G74=1,'liste engagés'!A74,\"\")","v":""},{"$f":"IF('liste engagés'!$G74=1,'liste engagés'!B74,\"\")","v":""},{"$f":"IF('liste engagés'!$G74=1,'liste engagés'!C74,\"\")","v":""},{"$f":"IF('liste engagés'!$G74=1,'liste engagés'!D74,\"\")","v":""},{"$f":"IF('liste engagés'!$G74=1,'liste engagés'!E74,\"\")","v":""},{"$f":"IF('liste engagés'!$G74=1,'liste engagés'!K74,\"\")","v":""},{"$f":"IF('liste engagés'!$G74=1,'liste engagés'!L74,\"\")","v":""},0]
[74,{"$f":"IF('liste engagés'!$G75=1,'liste engagés'!A75,\"\")","v":""},{"$f":"IF('liste engagés'!$G75=1,'liste engagés'!B75,\"\")","v":""},{"$f":"IF('liste engagés'!$G75=1,'liste engagés'!C75,\"\")","v":""},{"$f":"IF('liste engagés'!$G75=1,'liste engagés'!D75,\"\")","v":""},{"$f":"IF('liste engagés'!$G75=1,'liste engagés'!E75,\"\")","v":""},{"$f":"IF('liste engagés'!$G75=1,'liste engagés'!K75,\"\")","v":""},{"$f":"IF('liste engagés'!$G75=1,'liste engagés'!L75,\"\")","v":""},0]
[75,{"$f":"IF('liste engagés'!$G76=1,'liste engagés'!A76,\"\")","v":""},{"$f":"IF('liste engagés'!$G76=1,'liste engagés'!B76,\"\")","v":""},{"$f":"IF('liste engagés'!$G76=1,'liste engagés'!C76,\"\")","v":""},{"$f":"IF('liste engagés'!$G76=1,'liste engagés'!D76,\"\")","v":""},{"$f":"IF('liste engagés'!$G76=1,'liste engagés'!E76,\"\")","v":""},{"$f":"IF('liste engagés'!$G76=1,'liste engagés'!K76,\"\")","v":""},{"$f":"IF('liste engagés'!$G76=1,'liste engagés'!L76,\"\")","v":""},0]
[76,{"$f":"IF('liste engagés'!$G77=1,'liste engagés'!A77,\"\")","v":""},{"$f":"IF('liste engagés'!$G77=1,'liste engagés'!B77,\"\")","v":""},{"$f":"IF('liste engagés'!$G77=1,'liste engagés'!C77,\"\")","v":""},{"$f":"IF('liste engagés'!$G77=1,'liste engagés'!D77,\"\")","v":""},{"$f":"IF('liste engagés'!$G77=1,'liste engagés'!E77,\"\")","v":""},{"$f":"IF('liste engagés'!$G77=1,'liste engagés'!K77,\"\")","v":""},{"$f":"IF('liste engagés'!$G77=1,'liste engagés'!L77,\"\")","v":""},0]
[77,{"$f":"IF('liste engagés'!$G78=1,'liste engagés'!A78,\"\")","v":""},{"$f":"IF('liste engagés'!$G78=1,'liste engagés'!B78,\"\")","v":""},{"$f":"IF('liste engagés'!$G78=1,'liste engagés'!C78,\"\")","v":""},{"$f":"IF('liste engagés'!$G78=1,'liste engagés'!D78,\"\")","v":""},{"$f":"IF('liste engagés'!$G78=1,'liste engagés'!E78,\"\")","v":""},{"$f":"IF('liste engagés'!$G78=1,'liste engagés'!K78,\"\")","v":""},{"$f":"IF('liste engagés'!$G78=1,'liste engagés'!L78,\"\")","v":""},0]
[78,{"$f":"IF('liste engagés'!$G79=1,'liste engagés'!A79,\"\")","v":""},{"$f":"IF('liste engagés'!$G79=1,'liste engagés'!B79,\"\")","v":""},{"$f":"IF('liste engagés'!$G79=1,'liste engagés'!C79,\"\")","v":""},{"$f":"IF('liste engagés'!$G79=1,'liste engagés'!D79,\"\")","v":""},{"$f":"IF('liste engagés'!$G79=1,'liste engagés'!E79,\"\")","v":""},{"$f":"IF('liste engagés'!$G79=1,'liste engagés'!K79,\"\")","v":""},{"$f":"IF('liste engagés'!$G79=1,'liste engagés'!L79,\"\")","v":""},0]
[79,{"$f":"IF('liste engagés'!$G80=1,'liste engagés'!A80,\"\")","v":""},{"$f":"IF('liste engagés'!$G80=1,'liste engagés'!B80,\"\")","v":""},{"$f":"IF('liste engagés'!$G80=1,'liste engagés'!C80,\"\")","v":""},{"$f":"IF('liste engagés'!$G80=1,'liste engagés'!D80,\"\")","v":""},{"$f":"IF('liste engagés'!$G80=1,'liste engagés'!E80,\"\")","v":""},{"$f":"IF('liste engagés'!$G80=1,'liste engagés'!K80,\"\")","v":""},{"$f":"IF('liste engagés'!$G80=1,'liste engagés'!L80,\"\")","v":""},0]
[80,{"$f":"IF('liste engagés'!$G81=1,'liste engagés'!A81,\"\")","v":""},{"$f":"IF('liste engagés'!$G81=1,'liste engagés'!B81,\"\")","v":""},{"$f":"IF('liste engagés'!$G81=1,'liste engagés'!C81,\"\")","v":""},{"$f":"IF('liste engagés'!$G81=1,'liste engagés'!D81,\"\")","v":""},{"$f":"IF('liste engagés'!$G81=1,'liste engagés'!E81,\"\")","v":""},{"$f":"IF('liste engagés'!$G81=1,'liste engagés'!K81,\"\")","v":""},{"$f":"IF('liste engagés'!$G81=1,'liste engagés'!L81,\"\")","v":""},0]
[81,{"$f":"IF('liste engagés'!$G82=1,'liste engagés'!A82,\"\")","v":""},{"$f":"IF('liste engagés'!$G82=1,'liste engagés'!B82,\"\")","v":""},{"$f":"IF('liste engagés'!$G82=1,'liste engagés'!C82,\"\")","v":""},{"$f":"IF('liste engagés'!$G82=1,'liste engagés'!D82,\"\")","v":""},{"$f":"IF('liste engagés'!$G82=1,'liste engagés'!E82,\"\")","v":""},{"$f":"IF('liste engagés'!$G82=1,'liste engagés'!K82,\"\")","v":""},{"$f":"IF('liste engagés'!$G82=1,'liste engagés'!L82,\"\")","v":""},0]
[82,{"$f":"IF('liste engagés'!$G83=1,'liste engagés'!A83,\"\")","v":""},{"$f":"IF('liste engagés'!$G83=1,'liste engagés'!B83,\"\")","v":""},{"$f":"IF('liste engagés'!$G83=1,'liste engagés'!C83,\"\")","v":""},{"$f":"IF('liste engagés'!$G83=1,'liste engagés'!D83,\"\")","v":""},{"$f":"IF('liste engagés'!$G83=1,'liste engagés'!E83,\"\")","v":""},{"$f":"IF('liste engagés'!$G83=1,'liste engagés'!K83,\"\")","v":""},{"$f":"IF('liste engagés'!$G83=1,'liste engagés'!L83,\"\")","v":""},0]
[83,{"$f":"IF('liste engagés'!$G84=1,'liste engagés'!A84,\"\")","v":""},{"$f":"IF('liste engagés'!$G84=1,'liste engagés'!B84,\"\")","v":""},{"$f":"IF('liste engagés'!$G84=1,'liste engagés'!C84,\"\")","v":""},{"$f":"IF('liste engagés'!$G84=1,'liste engagés'!D84,\"\")","v":""},{"$f":"IF('liste engagés'!$G84=1,'liste engagés'!E84,\"\")","v":""},{"$f":"IF('liste engagés'!$G84=1,'liste engagés'!K84,\"\")","v":""},{"$f":"IF('liste engagés'!$G84=1,'liste engagés'!L84,\"\")","v":""},0]
[84,{"$f":"IF('liste engagés'!$G85=1,'liste engagés'!A85,\"\")","v":""},{"$f":"IF('liste engagés'!$G85=1,'liste engagés'!B85,\"\")","v":""},{"$f":"IF('liste engagés'!$G85=1,'liste engagés'!C85,\"\")","v":""},{"$f":"IF('liste engagés'!$G85=1,'liste engagés'!D85,\"\")","v":""},{"$f":"IF('liste engagés'!$G85=1,'liste engagés'!E85,\"\")","v":""},{"$f":"IF('liste engagés'!$G85=1,'liste engagés'!K85,\"\")","v":""},{"$f":"IF('liste engagés'!$G85=1,'liste engagés'!L85,\"\")","v":""},0]
[85,{"$f":"IF('liste engagés'!$G86=1,'liste engagés'!A86,\"\")","v":""},{"$f":"IF('liste engagés'!$G86=1,'liste engagés'!B86,\"\")","v":""},{"$f":"IF('liste engagés'!$G86=1,'liste engagés'!C86,\"\")","v":""},{"$f":"IF('liste engagés'!$G86=1,'liste engagés'!D86,\"\")","v":""},{"$f":"IF('liste engagés'!$G86=1,'liste engagés'!E86,\"\")","v":""},{"$f":"IF('liste engagés'!$G86=1,'liste engagés'!K86,\"\")","v":""},{"$f":"IF('liste engagés'!$G86=1,'liste engagés'!L86,\"\")","v":""},0]
[86,{"$f":"IF('liste engagés'!$G87=1,'liste engagés'!A87,\"\")","v":""},{"$f":"IF('liste engagés'!$G87=1,'liste engagés'!B87,\"\")","v":""},{"$f":"IF('liste engagés'!$G87=1,'liste engagés'!C87,\"\")","v":""},{"$f":"IF('liste engagés'!$G87=1,'liste engagés'!D87,\"\")","v":""},{"$f":"IF('liste engagés'!$G87=1,'liste engagés'!E87,\"\")","v":""},{"$f":"IF('liste engagés'!$G87=1,'liste engagés'!K87,\"\")","v":""},{"$f":"IF('liste engagés'!$G87=1,'liste engagés'!L87,\"\")","v":""},0]
[87,{"$f":"IF('liste engagés'!$G88=1,'liste engagés'!A88,\"\")","v":""},{"$f":"IF('liste engagés'!$G88=1,'liste engagés'!B88,\"\")","v":""},{"$f":"IF('liste engagés'!$G88=1,'liste engagés'!C88,\"\")","v":""},{"$f":"IF('liste engagés'!$G88=1,'liste engagés'!D88,\"\")","v":""},{"$f":"IF('liste engagés'!$G88=1,'liste engagés'!E88,\"\")","v":""},{"$f":"IF('liste engagés'!$G88=1,'liste engagés'!K88,\"\")","v":""},{"$f":"IF('liste engagés'!$G88=1,'liste engagés'!L88,\"\")","v":""},0]
[88,{"$f":"IF('liste engagés'!$G89=1,'liste engagés'!A89,\"\")","v":""},{"$f":"IF('liste engagés'!$G89=1,'liste engagés'!B89,\"\")","v":""},{"$f":"IF('liste engagés'!$G89=1,'liste engagés'!C89,\"\")","v":""},{"$f":"IF('liste engagés'!$G89=1,'liste engagés'!D89,\"\")","v":""},{"$f":"IF('liste engagés'!$G89=1,'liste engagés'!E89,\"\")","v":""},{"$f":"IF('liste engagés'!$G89=1,'liste engagés'!K89,\"\")","v":""},{"$f":"IF('liste engagés'!$G89=1,'liste engagés'!L89,\"\")","v":""},0]
[89,{"$f":"IF('liste engagés'!$G90=1,'liste engagés'!A90,\"\")","v":""},{"$f":"IF('liste engagés'!$G90=1,'liste engagés'!B90,\"\")","v":""},{"$f":"IF('liste engagés'!$G90=1,'liste engagés'!C90,\"\")","v":""},{"$f":"IF('liste engagés'!$G90=1,'liste engagés'!D90,\"\")","v":""},{"$f":"IF('liste engagés'!$G90=1,'liste engagés'!E90,\"\")","v":""},{"$f":"IF('liste engagés'!$G90=1,'liste engagés'!K90,\"\")","v":""},{"$f":"IF('liste engagés'!$G90=1,'liste engagés'!L90,\"\")","v":""},0]
[90,{"$f":"IF('liste engagés'!$G91=1,'liste engagés'!A91,\"\")","v":""},{"$f":"IF('liste engagés'!$G91=1,'liste engagés'!B91,\"\")","v":""},{"$f":"IF('liste engagés'!$G91=1,'liste engagés'!C91,\"\")","v":""},{"$f":"IF('liste engagés'!$G91=1,'liste engagés'!D91,\"\")","v":""},{"$f":"IF('liste engagés'!$G91=1,'liste engagés'!E91,\"\")","v":""},{"$f":"IF('liste engagés'!$G91=1,'liste engagés'!K91,\"\")","v":""},{"$f":"IF('liste engagés'!$G91=1,'liste engagés'!L91,\"\")","v":""},0]
[91,{"$f":"IF('liste engagés'!$G92=1,'liste engagés'!A92,\"\")","v":""},{"$f":"IF('liste engagés'!$G92=1,'liste engagés'!B92,\"\")","v":""},{"$f":"IF('liste engagés'!$G92=1,'liste engagés'!C92,\"\")","v":""},{"$f":"IF('liste engagés'!$G92=1,'liste engagés'!D92,\"\")","v":""},{"$f":"IF('liste engagés'!$G92=1,'liste engagés'!E92,\"\")","v":""},{"$f":"IF('liste engagés'!$G92=1,'liste engagés'!K92,\"\")","v":""},{"$f":"IF('liste engagés'!$G92=1,'liste engagés'!L92,\"\")","v":""},0]
[92,{"$f":"IF('liste engagés'!$G93=1,'liste engagés'!A93,\"\")","v":""},{"$f":"IF('liste engagés'!$G93=1,'liste engagés'!B93,\"\")","v":""},{"$f":"IF('liste engagés'!$G93=1,'liste engagés'!C93,\"\")","v":""},{"$f":"IF('liste engagés'!$G93=1,'liste engagés'!D93,\"\")","v":""},{"$f":"IF('liste engagés'!$G93=1,'liste engagés'!E93,\"\")","v":""},{"$f":"IF('liste engagés'!$G93=1,'liste engagés'!K93,\"\")","v":""},{"$f":"IF('liste engagés'!$G93=1,'liste engagés'!L93,\"\")","v":""},0]
[93,{"$f":"IF('liste engagés'!$G94=1,'liste engagés'!A94,\"\")","v":""},{"$f":"IF('liste engagés'!$G94=1,'liste engagés'!B94,\"\")","v":""},{"$f":"IF('liste engagés'!$G94=1,'liste engagés'!C94,\"\")","v":""},{"$f":"IF('liste engagés'!$G94=1,'liste engagés'!D94,\"\")","v":""},{"$f":"IF('liste engagés'!$G94=1,'liste engagés'!E94,\"\")","v":""},{"$f":"IF('liste engagés'!$G94=1,'liste engagés'!K94,\"\")","v":""},{"$f":"IF('liste engagés'!$G94=1,'liste engagés'!L94,\"\")","v":""},0]
[94,{"$f":"IF('liste engagés'!$G95=1,'liste engagés'!A95,\"\")","v":""},{"$f":"IF('liste engagés'!$G95=1,'liste engagés'!B95,\"\")","v":""},{"$f":"IF('liste engagés'!$G95=1,'liste engagés'!C95,\"\")","v":""},{"$f":"IF('liste engagés'!$G95=1,'liste engagés'!D95,\"\")","v":""},{"$f":"IF('liste engagés'!$G95=1,'liste engagés'!E95,\"\")","v":""},{"$f":"IF('liste engagés'!$G95=1,'liste engagés'!K95,\"\")","v":""},{"$f":"IF('liste engagés'!$G95=1,'liste engagés'!L95,\"\")","v":""},0]
[95,{"$f":"IF('liste engagés'!$G96=1,'liste engagés'!A96,\"\")","v":""},{"$f":"IF('liste engagés'!$G96=1,'liste engagés'!B96,\"\")","v":""},{"$f":"IF('liste engagés'!$G96=1,'liste engagés'!C96,\"\")","v":""},{"$f":"IF('liste engagés'!$G96=1,'liste engagés'!D96,\"\")","v":""},{"$f":"IF('liste engagés'!$G96=1,'liste engagés'!E96,\"\")","v":""},{"$f":"IF('liste engagés'!$G96=1,'liste engagés'!K96,\"\")","v":""},{"$f":"IF('liste engagés'!$G96=1,'liste engagés'!L96,\"\")","v":""},0]
[96,{"$f":"IF('liste engagés'!$G97=1,'liste engagés'!A97,\"\")","v":""},{"$f":"IF('liste engagés'!$G97=1,'liste engagés'!B97,\"\")","v":""},{"$f":"IF('liste engagés'!$G97=1,'liste engagés'!C97,\"\")","v":""},{"$f":"IF('liste engagés'!$G97=1,'liste engagés'!D97,\"\")","v":""},{"$f":"IF('liste engagés'!$G97=1,'liste engagés'!E97,\"\")","v":""},{"$f":"IF('liste engagés'!$G97=1,'liste engagés'!K97,\"\")","v":""},{"$f":"IF('liste engagés'!$G97=1,'liste engagés'!L97,\"\")","v":""},0]
[97,{"$f":"IF('liste engagés'!$G98=1,'liste engagés'!A98,\"\")","v":""},{"$f":"IF('liste engagés'!$G98=1,'liste engagés'!B98,\"\")","v":""},{"$f":"IF('liste engagés'!$G98=1,'liste engagés'!C98,\"\")","v":""},{"$f":"IF('liste engagés'!$G98=1,'liste engagés'!D98,\"\")","v":""},{"$f":"IF('liste engagés'!$G98=1,'liste engagés'!E98,\"\")","v":""},{"$f":"IF('liste engagés'!$G98=1,'liste engagés'!K98,\"\")","v":""},{"$f":"IF('liste engagés'!$G98=1,'liste engagés'!L98,\"\")","v":""},0]
[98,{"$f":"IF('liste engagés'!$G99=1,'liste engagés'!A99,\"\")","v":""},{"$f":"IF('liste engagés'!$G99=1,'liste engagés'!B99,\"\")","v":""},{"$f":"IF('liste engagés'!$G99=1,'liste engagés'!C99,\"\")","v":""},{"$f":"IF('liste engagés'!$G99=1,'liste engagés'!D99,\"\")","v":""},{"$f":"IF('liste engagés'!$G99=1,'liste engagés'!E99,\"\")","v":""},{"$f":"IF('liste engagés'!$G99=1,'liste engagés'!K99,\"\")","v":""},{"$f":"IF('liste engagés'!$G99=1,'liste engagés'!L99,\"\")","v":""},0]
[99,{"$f":"IF('liste engagés'!$G100=1,'liste engagés'!A100,\"\")","v":""},{"$f":"IF('liste engagés'!$G100=1,'liste engagés'!B100,\"\")","v":""},{"$f":"IF('liste engagés'!$G100=1,'liste engagés'!C100,\"\")","v":""},{"$f":"IF('liste engagés'!$G100=1,'liste engagés'!D100,\"\")","v":""},{"$f":"IF('liste engagés'!$G100=1,'liste engagés'!E100,\"\")","v":""},{"$f":"IF('liste engagés'!$G100=1,'liste engagés'!K100,\"\")","v":""},{"$f":"IF('liste engagés'!$G100=1,'liste engagés'!L100,\"\")","v":""},0]
[100,{"$f":"IF('liste engagés'!$G101=1,'liste engagés'!A101,\"\")","v":""},{"$f":"IF('liste engagés'!$G101=1,'liste engagés'!B101,\"\")","v":""},{"$f":"IF('liste engagés'!$G101=1,'liste engagés'!C101,\"\")","v":""},{"$f":"IF('liste engagés'!$G101=1,'liste engagés'!D101,\"\")","v":""},{"$f":"IF('liste engagés'!$G101=1,'liste engagés'!E101,\"\")","v":""},{"$f":"IF('liste engagés'!$G101=1,'liste engagés'!K101,\"\")","v":""},{"$f":"IF('liste engagés'!$G101=1,'liste engagés'!L101,\"\")","v":""},0]
[101,{"$f":"IF('liste engagés'!$G102=1,'liste engagés'!A102,\"\")","v":""},{"$f":"IF('liste engagés'!$G102=1,'liste engagés'!B102,\"\")","v":""},{"$f":"IF('liste engagés'!$G102=1,'liste engagés'!C102,\"\")","v":""},{"$f":"IF('liste engagés'!$G102=1,'liste engagés'!D102,\"\")","v":""},{"$f":"IF('liste engagés'!$G102=1,'liste engagés'!E102,\"\")","v":""},{"$f":"IF('liste engagés'!$G102=1,'liste engagés'!K102,\"\")","v":""},{"$f":"IF('liste engagés'!$G102=1,'liste engagés'!L102,\"\")","v":""},0]
[102,{"$f":"IF('liste engagés'!$G103=1,'liste engagés'!A103,\"\")","v":""},{"$f":"IF('liste engagés'!$G103=1,'liste engagés'!B103,\"\")","v":""},{"$f":"IF('liste engagés'!$G103=1,'liste engagés'!C103,\"\")","v":""},{"$f":"IF('liste engagés'!$G103=1,'liste engagés'!D103,\"\")","v":""},{"$f":"IF('liste engagés'!$G103=1,'liste engagés'!E103,\"\")","v":""},{"$f":"IF('liste engagés'!$G103=1,'liste engagés'!K103,\"\")","v":""},{"$f":"IF('liste engagés'!$G103=1,'liste engagés'!L103,\"\")","v":""},0]
[103,{"$f":"IF('liste engagés'!$G104=1,'liste engagés'!A104,\"\")","v":""},{"$f":"IF('liste engagés'!$G104=1,'liste engagés'!B104,\"\")","v":""},{"$f":"IF('liste engagés'!$G104=1,'liste engagés'!C104,\"\")","v":""},{"$f":"IF('liste engagés'!$G104=1,'liste engagés'!D104,\"\")","v":""},{"$f":"IF('liste engagés'!$G104=1,'liste engagés'!E104,\"\")","v":""},{"$f":"IF('liste engagés'!$G104=1,'liste engagés'!K104,\"\")","v":""},{"$f":"IF('liste engagés'!$G104=1,'liste engagés'!L104,\"\")","v":""},0]
[104,{"$f":"IF('liste engagés'!$G105=1,'liste engagés'!A105,\"\")","v":""},{"$f":"IF('liste engagés'!$G105=1,'liste engagés'!B105,\"\")","v":""},{"$f":"IF('liste engagés'!$G105=1,'liste engagés'!C105,\"\")","v":""},{"$f":"IF('liste engagés'!$G105=1,'liste engagés'!D105,\"\")","v":""},{"$f":"IF('liste engagés'!$G105=1,'liste engagés'!E105,\"\")","v":""},{"$f":"IF('liste engagés'!$G105=1,'liste engagés'!K105,\"\")","v":""},{"$f":"IF('liste engagés'!$G105=1,'liste engagés'!L105,\"\")","v":""},0]
[105,{"$f":"IF('liste engagés'!$G106=1,'liste engagés'!A106,\"\")","v":""},{"$f":"IF('liste engagés'!$G106=1,'liste engagés'!B106,\"\")","v":""},{"$f":"IF('liste engagés'!$G106=1,'liste engagés'!C106,\"\")","v":""},{"$f":"IF('liste engagés'!$G106=1,'liste engagés'!D106,\"\")","v":""},{"$f":"IF('liste engagés'!$G106=1,'liste engagés'!E106,\"\")","v":""},{"$f":"IF('liste engagés'!$G106=1,'liste engagés'!K106,\"\")","v":""},{"$f":"IF('liste engagés'!$G106=1,'liste engagés'!L106,\"\")","v":""},0]
[106,{"$f":"IF('liste engagés'!$G107=1,'liste engagés'!A107,\"\")","v":""},{"$f":"IF('liste engagés'!$G107=1,'liste engagés'!B107,\"\")","v":""},{"$f":"IF('liste engagés'!$G107=1,'liste engagés'!C107,\"\")","v":""},{"$f":"IF('liste engagés'!$G107=1,'liste engagés'!D107,\"\")","v":""},{"$f":"IF('liste engagés'!$G107=1,'liste engagés'!E107,\"\")","v":""},{"$f":"IF('liste engagés'!$G107=1,'liste engagés'!K107,\"\")","v":""},{"$f":"IF('liste engagés'!$G107=1,'liste engagés'!L107,\"\")","v":""},0]
[107,{"$f":"IF('liste engagés'!$G108=1,'liste engagés'!A108,\"\")","v":""},{"$f":"IF('liste engagés'!$G108=1,'liste engagés'!B108,\"\")","v":""},{"$f":"IF('liste engagés'!$G108=1,'liste engagés'!C108,\"\")","v":""},{"$f":"IF('liste engagés'!$G108=1,'liste engagés'!D108,\"\")","v":""},{"$f":"IF('liste engagés'!$G108=1,'liste engagés'!E108,\"\")","v":""},{"$f":"IF('liste engagés'!$G108=1,'liste engagés'!K108,\"\")","v":""},{"$f":"IF('liste engagés'!$G108=1,'liste engagés'!L108,\"\")","v":""},0]
[108,{"$f":"IF('liste engagés'!$G109=1,'liste engagés'!A109,\"\")","v":""},{"$f":"IF('liste engagés'!$G109=1,'liste engagés'!B109,\"\")","v":""},{"$f":"IF('liste engagés'!$G109=1,'liste engagés'!C109,\"\")","v":""},{"$f":"IF('liste engagés'!$G109=1,'liste engagés'!D109,\"\")","v":""},{"$f":"IF('liste engagés'!$G109=1,'liste engagés'!E109,\"\")","v":""},{"$f":"IF('liste engagés'!$G109=1,'liste engagés'!K109,\"\")","v":""},{"$f":"IF('liste engagés'!$G109=1,'liste engagés'!L109,\"\")","v":""},0]
[109,{"$f":"IF('liste engagés'!$G110=1,'liste engagés'!A110,\"\")","v":""},{"$f":"IF('liste engagés'!$G110=1,'liste engagés'!B110,\"\")","v":""},{"$f":"IF('liste engagés'!$G110=1,'liste engagés'!C110,\"\")","v":""},{"$f":"IF('liste engagés'!$G110=1,'liste engagés'!D110,\"\")","v":""},{"$f":"IF('liste engagés'!$G110=1,'liste engagés'!E110,\"\")","v":""},{"$f":"IF('liste engagés'!$G110=1,'liste engagés'!K110,\"\")","v":""},{"$f":"IF('liste engagés'!$G110=1,'liste engagés'!L110,\"\")","v":""},0]
[110,{"$f":"IF('liste engagés'!$G111=1,'liste engagés'!A111,\"\")","v":""},{"$f":"IF('liste engagés'!$G111=1,'liste engagés'!B111,\"\")","v":""},{"$f":"IF('liste engagés'!$G111=1,'liste engagés'!C111,\"\")","v":""},{"$f":"IF('liste engagés'!$G111=1,'liste engagés'!D111,\"\")","v":""},{"$f":"IF('liste engagés'!$G111=1,'liste engagés'!E111,\"\")","v":""},{"$f":"IF('liste engagés'!$G111=1,'liste engagés'!K111,\"\")","v":""},{"$f":"IF('liste engagés'!$G111=1,'liste engagés'!L111,\"\")","v":""},0]
[111,{"$f":"IF('liste engagés'!$G112=1,'liste engagés'!A112,\"\")","v":""},{"$f":"IF('liste engagés'!$G112=1,'liste engagés'!B112,\"\")","v":""},{"$f":"IF('liste engagés'!$G112=1,'liste engagés'!C112,\"\")","v":""},{"$f":"IF('liste engagés'!$G112=1,'liste engagés'!D112,\"\")","v":""},{"$f":"IF('liste engagés'!$G112=1,'liste engagés'!E112,\"\")","v":""},{"$f":"IF('liste engagés'!$G112=1,'liste engagés'!K112,\"\")","v":""},{"$f":"IF('liste engagés'!$G112=1,'liste engagés'!L112,\"\")","v":""},0]
[112,{"$f":"IF('liste engagés'!$G113=1,'liste engagés'!A113,\"\")","v":""},{"$f":"IF('liste engagés'!$G113=1,'liste engagés'!B113,\"\")","v":""},{"$f":"IF('liste engagés'!$G113=1,'liste engagés'!C113,\"\")","v":""},{"$f":"IF('liste engagés'!$G113=1,'liste engagés'!D113,\"\")","v":""},{"$f":"IF('liste engagés'!$G113=1,'liste engagés'!E113,\"\")","v":""},{"$f":"IF('liste engagés'!$G113=1,'liste engagés'!K113,\"\")","v":""},{"$f":"IF('liste engagés'!$G113=1,'liste engagés'!L113,\"\")","v":""},0]
[113,{"$f":"IF('liste engagés'!$G114=1,'liste engagés'!A114,\"\")","v":""},{"$f":"IF('liste engagés'!$G114=1,'liste engagés'!B114,\"\")","v":""},{"$f":"IF('liste engagés'!$G114=1,'liste engagés'!C114,\"\")","v":""},{"$f":"IF('liste engagés'!$G114=1,'liste engagés'!D114,\"\")","v":""},{"$f":"IF('liste engagés'!$G114=1,'liste engagés'!E114,\"\")","v":""},{"$f":"IF('liste engagés'!$G114=1,'liste engagés'!K114,\"\")","v":""},{"$f":"IF('liste engagés'!$G114=1,'liste engagés'!L114,\"\")","v":""},0]
[114,{"$f":"IF('liste engagés'!$G115=1,'liste engagés'!A115,\"\")","v":""},{"$f":"IF('liste engagés'!$G115=1,'liste engagés'!B115,\"\")","v":""},{"$f":"IF('liste engagés'!$G115=1,'liste engagés'!C115,\"\")","v":""},{"$f":"IF('liste engagés'!$G115=1,'liste engagés'!D115,\"\")","v":""},{"$f":"IF('liste engagés'!$G115=1,'liste engagés'!E115,\"\")","v":""},{"$f":"IF('liste engagés'!$G115=1,'liste engagés'!K115,\"\")","v":""},{"$f":"IF('liste engagés'!$G115=1,'liste engagés'!L115,\"\")","v":""},0]
[115,{"$f":"IF('liste engagés'!$G117=1,'liste engagés'!A117,\"\")","v":""},{"$f":"IF('liste engagés'!$G117=1,'liste engagés'!B117,\"\")","v":""},{"$f":"IF('liste engagés'!$G117=1,'liste engagés'!C117,\"\")","v":""},{"$f":"IF('liste engagés'!$G117=1,'liste engagés'!D117,\"\")","v":""},{"$f":"IF('liste engagés'!$G117=1,'liste engagés'!E117,\"\")","v":""},{"$f":"IF('liste engagés'!$G117=1,'liste engagés'!K117,\"\")","v":""},{"$f":"IF('liste engagés'!$G117=1,'liste engagés'!L117,\"\")","v":""},0]
[116,{"$f":"IF('liste engagés'!$G118=1,'liste engagés'!A118,\"\")","v":""},{"$f":"IF('liste engagés'!$G118=1,'liste engagés'!B118,\"\")","v":""},{"$f":"IF('liste engagés'!$G118=1,'liste engagés'!C118,\"\")","v":""},{"$f":"IF('liste engagés'!$G118=1,'liste engagés'!D118,\"\")","v":""},{"$f":"IF('liste engagés'!$G118=1,'liste engagés'!E118,\"\")","v":""},{"$f":"IF('liste engagés'!$G118=1,'liste engagés'!K118,\"\")","v":""},{"$f":"IF('liste engagés'!$G118=1,'liste engagés'!L118,\"\")","v":""},0]
[117,{"$f":"IF('liste engagés'!$G119=1,'liste engagés'!A119,\"\")","v":""},{"$f":"IF('liste engagés'!$G119=1,'liste engagés'!B119,\"\")","v":""},{"$f":"IF('liste engagés'!$G119=1,'liste engagés'!C119,\"\")","v":""},{"$f":"IF('liste engagés'!$G119=1,'liste engagés'!D119,\"\")","v":""},{"$f":"IF('liste engagés'!$G119=1,'liste engagés'!E119,\"\")","v":""},{"$f":"IF('liste engagés'!$G119=1,'liste engagés'!K119,\"\")","v":""},{"$f":"IF('liste engagés'!$G119=1,'liste engagés'!L119,\"\")","v":""},0]
[118,{"$f":"IF('liste engagés'!$G120=1,'liste engagés'!A120,\"\")","v":""},{"$f":"IF('liste engagés'!$G120=1,'liste engagés'!B120,\"\")","v":""},{"$f":"IF('liste engagés'!$G120=1,'liste engagés'!C120,\"\")","v":""},{"$f":"IF('liste engagés'!$G120=1,'liste engagés'!D120,\"\")","v":""},{"$f":"IF('liste engagés'!$G120=1,'liste engagés'!E120,\"\")","v":""},{"$f":"IF('liste engagés'!$G120=1,'liste engagés'!K120,\"\")","v":""},{"$f":"IF('liste engagés'!$G120=1,'liste engagés'!L120,\"\")","v":""},0]
[119,{"$f":"IF('liste engagés'!$G122=1,'liste engagés'!A122,\"\")","v":""},{"$f":"IF('liste engagés'!$G122=1,'liste engagés'!B122,\"\")","v":""},{"$f":"IF('liste engagés'!$G122=1,'liste engagés'!C122,\"\")","v":""},{"$f":"IF('liste engagés'!$G122=1,'liste engagés'!D122,\"\")","v":""},{"$f":"IF('liste engagés'!$G122=1,'liste engagés'!E122,\"\")","v":""},{"$f":"IF('liste engagés'!$G122=1,'liste engagés'!K122,\"\")","v":""},{"$f":"IF('liste engagés'!$G122=1,'liste engagés'!L122,\"\")","v":""},0]
[120,{"$f":"IF('liste engagés'!$G123=1,'liste engagés'!A123,\"\")","v":""},{"$f":"IF('liste engagés'!$G123=1,'liste engagés'!B123,\"\")","v":""},{"$f":"IF('liste engagés'!$G123=1,'liste engagés'!C123,\"\")","v":""},{"$f":"IF('liste engagés'!$G123=1,'liste engagés'!D123,\"\")","v":""},{"$f":"IF('liste engagés'!$G123=1,'liste engagés'!E123,\"\")","v":""},{"$f":"IF('liste engagés'!$G123=1,'liste engagés'!K123,\"\")","v":""},{"$f":"IF('liste engagés'!$G123=1,'liste engagés'!L123,\"\")","v":""},0]
[121,{"$f":"IF('liste engagés'!$G124=1,'liste engagés'!A124,\"\")","v":""},{"$f":"IF('liste engagés'!$G124=1,'liste engagés'!B124,\"\")","v":""},{"$f":"IF('liste engagés'!$G124=1,'liste engagés'!C124,\"\")","v":""},{"$f":"IF('liste engagés'!$G124=1,'liste engagés'!D124,\"\")","v":""},{"$f":"IF('liste engagés'!$G124=1,'liste engagés'!E124,\"\")","v":""},{"$f":"IF('liste engagés'!$G124=1,'liste engagés'!K124,\"\")","v":""},{"$f":"IF('liste engagés'!$G124=1,'liste engagés'!L124,\"\")","v":""},0]
[122,{"$f":"IF('liste engagés'!$G125=1,'liste engagés'!A125,\"\")","v":""},{"$f":"IF('liste engagés'!$G125=1,'liste engagés'!B125,\"\")","v":""},{"$f":"IF('liste engagés'!$G125=1,'liste engagés'!C125,\"\")","v":""},{"$f":"IF('liste engagés'!$G125=1,'liste engagés'!D125,\"\")","v":""},{"$f":"IF('liste engagés'!$G125=1,'liste engagés'!E125,\"\")","v":""},{"$f":"IF('liste engagés'!$G125=1,'liste engagés'!K125,\"\")","v":""},{"$f":"IF('liste engagés'!$G125=1,'liste engagés'!L125,\"\")","v":""},0]
[123,{"$f":"IF('liste engagés'!$G126=1,'liste engagés'!A126,\"\")","v":""},{"$f":"IF('liste engagés'!$G126=1,'liste engagés'!B126,\"\")","v":""},{"$f":"IF('liste engagés'!$G126=1,'liste engagés'!C126,\"\")","v":""},{"$f":"IF('liste engagés'!$G126=1,'liste engagés'!D126,\"\")","v":""},{"$f":"IF('liste engagés'!$G126=1,'liste engagés'!E126,\"\")","v":""},{"$f":"IF('liste engagés'!$G126=1,'liste engagés'!K126,\"\")","v":""},{"$f":"IF('liste engagés'!$G126=1,'liste engagés'!L126,\"\")","v":""},0]
[124,{"$f":"IF('liste engagés'!$G127=1,'liste engagés'!A127,\"\")","v":""},{"$f":"IF('liste engagés'!$G127=1,'liste engagés'!B127,\"\")","v":""},{"$f":"IF('liste engagés'!$G127=1,'liste engagés'!C127,\"\")","v":""},{"$f":"IF('liste engagés'!$G127=1,'liste engagés'!D127,\"\")","v":""},{"$f":"IF('liste engagés'!$G127=1,'liste engagés'!E127,\"\")","v":""},{"$f":"IF('liste engagés'!$G127=1,'liste engagés'!K127,\"\")","v":""},{"$f":"IF('liste engagés'!$G127=1,'liste engagés'!L127,\"\")","v":""},0]
[125,{"$f":"IF('liste engagés'!$G129=1,'liste engagés'!A129,\"\")","v":""},{"$f":"IF('liste engagés'!$G129=1,'liste engagés'!B129,\"\")","v":""},{"$f":"IF('liste engagés'!$G129=1,'liste engagés'!C129,\"\")","v":""},{"$f":"IF('liste engagés'!$G129=1,'liste engagés'!D129,\"\")","v":""},{"$f":"IF('liste engagés'!$G129=1,'liste engagés'!E129,\"\")","v":""},{"$f":"IF('liste engagés'!$G129=1,'liste engagés'!K129,\"\")","v":""},{"$f":"IF('liste engagés'!$G129=1,'liste engagés'!L129,\"\")","v":""},0]
[126,{"$f":"IF('liste engagés'!$G130=1,'liste engagés'!A130,\"\")","v":""},{"$f":"IF('liste engagés'!$G130=1,'liste engagés'!B130,\"\")","v":""},{"$f":"IF('liste engagés'!$G130=1,'liste engagés'!C130,\"\")","v":""},{"$f":"IF('liste engagés'!$G130=1,'liste engagés'!D130,\"\")","v":""},{"$f":"IF('liste engagés'!$G130=1,'liste engagés'!E130,\"\")","v":""},{"$f":"IF('liste engagés'!$G130=1,'liste engagés'!K130,\"\")","v":""},{"$f":"IF('liste engagés'!$G130=1,'liste engagés'!L130,\"\")","v":""},0]
[127,{"$f":"IF('liste engagés'!$G131=1,'liste engagés'!A131,\"\")","v":""},{"$f":"IF('liste engagés'!$G131=1,'liste engagés'!B131,\"\")","v":""},{"$f":"IF('liste engagés'!$G131=1,'liste engagés'!C131,\"\")","v":""},{"$f":"IF('liste engagés'!$G131=1,'liste engagés'!D131,\"\")","v":""},{"$f":"IF('liste engagés'!$G131=1,'liste engagés'!E131,\"\")","v":""},{"$f":"IF('liste engagés'!$G131=1,'liste engagés'!K131,\"\")","v":""},{"$f":"IF('liste engagés'!$G131=1,'liste engagés'!L131,\"\")","v":""},0]
[128,{"$f":"IF('liste engagés'!$G132=1,'liste engagés'!A132,\"\")","v":""},{"$f":"IF('liste engagés'!$G132=1,'liste engagés'!B132,\"\")","v":""},{"$f":"IF('liste engagés'!$G132=1,'liste engagés'!C132,\"\")","v":""},{"$f":"IF('liste engagés'!$G132=1,'liste engagés'!D132,\"\")","v":""},{"$f":"IF('liste engagés'!$G132=1,'liste engagés'!E132,\"\")","v":""},{"$f":"IF('liste engagés'!$G132=1,'liste engagés'!K132,\"\")","v":""},{"$f":"IF('liste engagés'!$G132=1,'liste engagés'!L132,\"\")","v":""},0]
[129,{"$f":"IF('liste engagés'!$G133=1,'liste engagés'!A133,\"\")","v":""},{"$f":"IF('liste engagés'!$G133=1,'liste engagés'!B133,\"\")","v":""},{"$f":"IF('liste engagés'!$G133=1,'liste engagés'!C133,\"\")","v":""},{"$f":"IF('liste engagés'!$G133=1,'liste engagés'!D133,\"\")","v":""},{"$f":"IF('liste engagés'!$G133=1,'liste engagés'!E133,\"\")","v":""},{"$f":"IF('liste engagés'!$G133=1,'liste engagés'!K133,\"\")","v":""},{"$f":"IF('liste engagés'!$G133=1,'liste engagés'!L133,\"\")","v":""},{"$f":"+IF(C135=\"\",0,1)","v":0}]
[{"$f":"+A135+1","v":130},{"$f":"IF('liste engagés'!$G134=1,'liste engagés'!A134,\"\")","v":""},{"$f":"IF('liste engagés'!$G134=1,'liste engagés'!B134,\"\")","v":""},{"$f":"IF('liste engagés'!$G134=1,'liste engagés'!C134,\"\")","v":""},{"$f":"IF('liste engagés'!$G134=1,'liste engagés'!D134,\"\")","v":""},{"$f":"IF('liste engagés'!$G134=1,'liste engagés'!E134,\"\")","v":""},{"$f":"IF('liste engagés'!$G134=1,'liste engagés'!K134,\"\")","v":""},{"$f":"IF('liste engagés'!$G134=1,'liste engagés'!L134,\"\")","v":""},0]
[131,{"$f":"IF('liste engagés'!$G135=1,'liste engagés'!A135,\"\")","v":""},{"$f":"IF('liste engagés'!$G135=1,'liste engagés'!B135,\"\")","v":""},{"$f":"IF('liste engagés'!$G135=1,'liste engagés'!C135,\"\")","v":""},{"$f":"IF('liste engagés'!$G135=1,'liste engagés'!D135,\"\")","v":""},{"$f":"IF('liste engagés'!$G135=1,'liste engagés'!E135,\"\")","v":""},{"$f":"IF('liste engagés'!$G135=1,'liste engagés'!K135,\"\")","v":""},{"$f":"IF('liste engagés'!$G135=1,'liste engagés'!L135,\"\")","v":""},0]
[132,{"$f":"IF('liste engagés'!$G136=1,'liste engagés'!A136,\"\")","v":""},{"$f":"IF('liste engagés'!$G136=1,'liste engagés'!B136,\"\")","v":""},{"$f":"IF('liste engagés'!$G136=1,'liste engagés'!C136,\"\")","v":""},{"$f":"IF('liste engagés'!$G136=1,'liste engagés'!D136,\"\")","v":""},{"$f":"IF('liste engagés'!$G136=1,'liste engagés'!E136,\"\")","v":""},{"$f":"IF('liste engagés'!$G136=1,'liste engagés'!K136,\"\")","v":""},{"$f":"IF('liste engagés'!$G136=1,'liste engagés'!L136,\"\")","v":""},0]
[133,{"$f":"IF('liste engagés'!$G138=1,'liste engagés'!A138,\"\")","v":""},{"$f":"IF('liste engagés'!$G138=1,'liste engagés'!B138,\"\")","v":""},{"$f":"IF('liste engagés'!$G138=1,'liste engagés'!C138,\"\")","v":""},{"$f":"IF('liste engagés'!$G138=1,'liste engagés'!D138,\"\")","v":""},{"$f":"IF('liste engagés'!$G138=1,'liste engagés'!E138,\"\")","v":""},{"$f":"IF('liste engagés'!$G138=1,'liste engagés'!K138,\"\")","v":""},{"$f":"IF('liste engagés'!$G138=1,'liste engagés'!L138,\"\")","v":""},0]
[134,{"$f":"IF('liste engagés'!$G139=1,'liste engagés'!A139,\"\")","v":""},{"$f":"IF('liste engagés'!$G139=1,'liste engagés'!B139,\"\")","v":""},{"$f":"IF('liste engagés'!$G139=1,'liste engagés'!C139,\"\")","v":""},{"$f":"IF('liste engagés'!$G139=1,'liste engagés'!D139,\"\")","v":""},{"$f":"IF('liste engagés'!$G139=1,'liste engagés'!E139,\"\")","v":""},{"$f":"IF('liste engagés'!$G139=1,'liste engagés'!K139,\"\")","v":""},{"$f":"IF('liste engagés'!$G139=1,'liste engagés'!L139,\"\")","v":""},0]
[135,{"$f":"IF('liste engagés'!$G140=1,'liste engagés'!A140,\"\")","v":""},{"$f":"IF('liste engagés'!$G140=1,'liste engagés'!B140,\"\")","v":""},{"$f":"IF('liste engagés'!$G140=1,'liste engagés'!C140,\"\")","v":""},{"$f":"IF('liste engagés'!$G140=1,'liste engagés'!D140,\"\")","v":""},{"$f":"IF('liste engagés'!$G140=1,'liste engagés'!E140,\"\")","v":""},{"$f":"IF('liste engagés'!$G140=1,'liste engagés'!K140,\"\")","v":""},{"$f":"IF('liste engagés'!$G140=1,'liste engagés'!L140,\"\")","v":""},0]
[136,{"$f":"IF('liste engagés'!$G141=1,'liste engagés'!A141,\"\")","v":""},{"$f":"IF('liste engagés'!$G141=1,'liste engagés'!B141,\"\")","v":""},{"$f":"IF('liste engagés'!$G141=1,'liste engagés'!C141,\"\")","v":""},{"$f":"IF('liste engagés'!$G141=1,'liste engagés'!D141,\"\")","v":""},{"$f":"IF('liste engagés'!$G141=1,'liste engagés'!E141,\"\")","v":""},{"$f":"IF('liste engagés'!$G141=1,'liste engagés'!K141,\"\")","v":""},{"$f":"IF('liste engagés'!$G141=1,'liste engagés'!L141,\"\")","v":""},0]
[137,{"$f":"IF('liste engagés'!$G142=1,'liste engagés'!A142,\"\")","v":""},{"$f":"IF('liste engagés'!$G142=1,'liste engagés'!B142,\"\")","v":""},{"$f":"IF('liste engagés'!$G142=1,'liste engagés'!C142,\"\")","v":""},{"$f":"IF('liste engagés'!$G142=1,'liste engagés'!D142,\"\")","v":""},{"$f":"IF('liste engagés'!$G142=1,'liste engagés'!E142,\"\")","v":""},{"$f":"IF('liste engagés'!$G142=1,'liste engagés'!K142,\"\")","v":""},{"$f":"IF('liste engagés'!$G142=1,'liste engagés'!L142,\"\")","v":""},0]
[138,{"$f":"IF('liste engagés'!$G143=1,'liste engagés'!A143,\"\")","v":""},{"$f":"IF('liste engagés'!$G143=1,'liste engagés'!B143,\"\")","v":""},{"$f":"IF('liste engagés'!$G143=1,'liste engagés'!C143,\"\")","v":""},{"$f":"IF('liste engagés'!$G143=1,'liste engagés'!D143,\"\")","v":""},{"$f":"IF('liste engagés'!$G143=1,'liste engagés'!E143,\"\")","v":""},{"$f":"IF('liste engagés'!$G143=1,'liste engagés'!K143,\"\")","v":""},{"$f":"IF('liste engagés'!$G143=1,'liste engagés'!L143,\"\")","v":""},0]
[139,{"$f":"IF('liste engagés'!$G144=1,'liste engagés'!A144,\"\")","v":""},{"$f":"IF('liste engagés'!$G144=1,'liste engagés'!B144,\"\")","v":""},{"$f":"IF('liste engagés'!$G144=1,'liste engagés'!C144,\"\")","v":""},{"$f":"IF('liste engagés'!$G144=1,'liste engagés'!D144,\"\")","v":""},{"$f":"IF('liste engagés'!$G144=1,'liste engagés'!E144,\"\")","v":""},{"$f":"IF('liste engagés'!$G144=1,'liste engagés'!K144,\"\")","v":""},{"$f":"IF('liste engagés'!$G144=1,'liste engagés'!L144,\"\")","v":""},0]
[140,{"$f":"IF('liste engagés'!$G145=1,'liste engagés'!A145,\"\")","v":""},{"$f":"IF('liste engagés'!$G145=1,'liste engagés'!B145,\"\")","v":""},{"$f":"IF('liste engagés'!$G145=1,'liste engagés'!#REF!,\"\")","v":""},{"$f":"IF('liste engagés'!$G145=1,'liste engagés'!D145,\"\")","v":""},{"$f":"IF('liste engagés'!$G145=1,'liste engagés'!E145,\"\")","v":""},{"$f":"IF('liste engagés'!$G145=1,'liste engagés'!K145,\"\")","v":""},{"$f":"IF('liste engagés'!$G145=1,'liste engagés'!L145,\"\")","v":""},0]
[141,{"$f":"IF('liste engagés'!$G146=1,'liste engagés'!A146,\"\")","v":""},{"$f":"IF('liste engagés'!$G146=1,'liste engagés'!B146,\"\")","v":""},{"$f":"IF('liste engagés'!$G146=1,'liste engagés'!C145,\"\")","v":""},{"$f":"IF('liste engagés'!$G146=1,'liste engagés'!D146,\"\")","v":""},{"$f":"IF('liste engagés'!$G146=1,'liste engagés'!E146,\"\")","v":""},{"$f":"IF('liste engagés'!$G146=1,'liste engagés'!K146,\"\")","v":""},{"$f":"IF('liste engagés'!$G146=1,'liste engagés'!L146,\"\")","v":""},0]
[142,{"$f":"IF('liste engagés'!$G147=1,'liste engagés'!A147,\"\")","v":""},{"$f":"IF('liste engagés'!$G147=1,'liste engagés'!B147,\"\")","v":""},{"$f":"IF('liste engagés'!$G147=1,'liste engagés'!C147,\"\")","v":""},{"$f":"IF('liste engagés'!$G147=1,'liste engagés'!D147,\"\")","v":""},{"$f":"IF('liste engagés'!$G147=1,'liste engagés'!E147,\"\")","v":""},{"$f":"IF('liste engagés'!$G147=1,'liste engagés'!K147,\"\")","v":""},{"$f":"IF('liste engagés'!$G147=1,'liste engagés'!L147,\"\")","v":""},0]
[143,{"$f":"IF('liste engagés'!$G148=1,'liste engagés'!A148,\"\")","v":""},{"$f":"IF('liste engagés'!$G148=1,'liste engagés'!B148,\"\")","v":""},{"$f":"IF('liste engagés'!$G148=1,'liste engagés'!C148,\"\")","v":""},{"$f":"IF('liste engagés'!$G148=1,'liste engagés'!D148,\"\")","v":""},{"$f":"IF('liste engagés'!$G148=1,'liste engagés'!E148,\"\")","v":""},{"$f":"IF('liste engagés'!$G148=1,'liste engagés'!K148,\"\")","v":""},{"$f":"IF('liste engagés'!$G148=1,'liste engagés'!L148,\"\")","v":""},0]
[144,{"$f":"IF('liste engagés'!$G149=1,'liste engagés'!A149,\"\")","v":""},{"$f":"IF('liste engagés'!$G149=1,'liste engagés'!B149,\"\")","v":""},{"$f":"IF('liste engagés'!$G149=1,'liste engagés'!C149,\"\")","v":""},{"$f":"IF('liste engagés'!$G149=1,'liste engagés'!D149,\"\")","v":""},{"$f":"IF('liste engagés'!$G149=1,'liste engagés'!E149,\"\")","v":""},{"$f":"IF('liste engagés'!$G149=1,'liste engagés'!K149,\"\")","v":""},{"$f":"IF('liste engagés'!$G149=1,'liste engagés'!L149,\"\")","v":""},0]
[145,{"$f":"IF('liste engagés'!$G150=1,'liste engagés'!A150,\"\")","v":""},{"$f":"IF('liste engagés'!$G150=1,'liste engagés'!B150,\"\")","v":""},{"$f":"IF('liste engagés'!$G150=1,'liste engagés'!C150,\"\")","v":""},{"$f":"IF('liste engagés'!$G150=1,'liste engagés'!D150,\"\")","v":""},{"$f":"IF('liste engagés'!$G150=1,'liste engagés'!E150,\"\")","v":""},{"$f":"IF('liste engagés'!$G150=1,'liste engagés'!K150,\"\")","v":""},{"$f":"IF('liste engagés'!$G150=1,'liste engagés'!L150,\"\")","v":""},0]
[146,{"$f":"IF('liste engagés'!$G151=1,'liste engagés'!A151,\"\")","v":""},{"$f":"IF('liste engagés'!$G151=1,'liste engagés'!B151,\"\")","v":""},{"$f":"IF('liste engagés'!$G151=1,'liste engagés'!C151,\"\")","v":""},{"$f":"IF('liste engagés'!$G151=1,'liste engagés'!D151,\"\")","v":""},{"$f":"IF('liste engagés'!$G151=1,'liste engagés'!E151,\"\")","v":""},{"$f":"IF('liste engagés'!$G151=1,'liste engagés'!K151,\"\")","v":""},{"$f":"IF('liste engagés'!$G151=1,'liste engagés'!L151,\"\")","v":""},0]
[147,{"$f":"IF('liste engagés'!$G152=1,'liste engagés'!A152,\"\")","v":""},{"$f":"IF('liste engagés'!$G152=1,'liste engagés'!B152,\"\")","v":""},{"$f":"IF('liste engagés'!$G152=1,'liste engagés'!C152,\"\")","v":""},{"$f":"IF('liste engagés'!$G152=1,'liste engagés'!D152,\"\")","v":""},{"$f":"IF('liste engagés'!$G152=1,'liste engagés'!E152,\"\")","v":""},{"$f":"IF('liste engagés'!$G152=1,'liste engagés'!K152,\"\")","v":""},{"$f":"IF('liste engagés'!$G152=1,'liste engagés'!L152,\"\")","v":""},0]
[148,{"$f":"IF('liste engagés'!$G153=1,'liste engagés'!A153,\"\")","v":""},{"$f":"IF('liste engagés'!$G153=1,'liste engagés'!B153,\"\")","v":""},{"$f":"IF('liste engagés'!$G153=1,'liste engagés'!C153,\"\")","v":""},{"$f":"IF('liste engagés'!$G153=1,'liste engagés'!D153,\"\")","v":""},{"$f":"IF('liste engagés'!$G153=1,'liste engagés'!E153,\"\")","v":""},{"$f":"IF('liste engagés'!$G153=1,'liste engagés'!K153,\"\")","v":""},{"$f":"IF('liste engagés'!$G153=1,'liste engagés'!L153,\"\")","v":""},0]
[149,{"$f":"IF('liste engagés'!$G154=1,'liste engagés'!A154,\"\")","v":""},{"$f":"IF('liste engagés'!$G154=1,'liste engagés'!B154,\"\")","v":""},{"$f":"IF('liste engagés'!$G154=1,'liste engagés'!C154,\"\")","v":""},{"$f":"IF('liste engagés'!$G154=1,'liste engagés'!D154,\"\")","v":""},{"$f":"IF('liste engagés'!$G154=1,'liste engagés'!E154,\"\")","v":""},{"$f":"IF('liste engagés'!$G154=1,'liste engagés'!K154,\"\")","v":""},{"$f":"IF('liste engagés'!$G154=1,'liste engagés'!L154,\"\")","v":""},0]
[150,{"$f":"IF('liste engagés'!$G155=1,'liste engagés'!A155,\"\")","v":""},{"$f":"IF('liste engagés'!$G155=1,'liste engagés'!B155,\"\")","v":""},{"$f":"IF('liste engagés'!$G155=1,'liste engagés'!C155,\"\")","v":""},{"$f":"IF('liste engagés'!$G155=1,'liste engagés'!D155,\"\")","v":""},{"$f":"IF('liste engagés'!$G155=1,'liste engagés'!E155,\"\")","v":""},{"$f":"IF('liste engagés'!$G155=1,'liste engagés'!K155,\"\")","v":""},{"$f":"IF('liste engagés'!$G155=1,'liste engagés'!L155,\"\")","v":""},0]
[151,{"$f":"IF('liste engagés'!$G156=1,'liste engagés'!A156,\"\")","v":""},{"$f":"IF('liste engagés'!$G156=1,'liste engagés'!B156,\"\")","v":""},{"$f":"IF('liste engagés'!$G156=1,'liste engagés'!C156,\"\")","v":""},{"$f":"IF('liste engagés'!$G156=1,'liste engagés'!D156,\"\")","v":""},{"$f":"IF('liste engagés'!$G156=1,'liste engagés'!E156,\"\")","v":""},{"$f":"IF('liste engagés'!$G156=1,'liste engagés'!K156,\"\")","v":""},{"$f":"IF('liste engagés'!$G156=1,'liste engagés'!L156,\"\")","v":""},0]
[152,{"$f":"IF('liste engagés'!$G157=1,'liste engagés'!A157,\"\")","v":""},{"$f":"IF('liste engagés'!$G157=1,'liste engagés'!B157,\"\")","v":""},{"$f":"IF('liste engagés'!$G157=1,'liste engagés'!C157,\"\")","v":""},{"$f":"IF('liste engagés'!$G157=1,'liste engagés'!D157,\"\")","v":""},{"$f":"IF('liste engagés'!$G157=1,'liste engagés'!E157,\"\")","v":""},{"$f":"IF('liste engagés'!$G157=1,'liste engagés'!K157,\"\")","v":""},{"$f":"IF('liste engagés'!$G157=1,'liste engagés'!L157,\"\")","v":""},0]
[153,{"$f":"IF('liste engagés'!$G158=1,'liste engagés'!A158,\"\")","v":""},{"$f":"IF('liste engagés'!$G158=1,'liste engagés'!B158,\"\")","v":""},{"$f":"IF('liste engagés'!$G158=1,'liste engagés'!C158,\"\")","v":""},{"$f":"IF('liste engagés'!$G158=1,'liste engagés'!D158,\"\")","v":""},{"$f":"IF('liste engagés'!$G158=1,'liste engagés'!E158,\"\")","v":""},{"$f":"IF('liste engagés'!$G158=1,'liste engagés'!K158,\"\")","v":""},{"$f":"IF('liste engagés'!$G158=1,'liste engagés'!L158,\"\")","v":""},0]
[154,{"$f":"IF('liste engagés'!$G159=1,'liste engagés'!A159,\"\")","v":""},{"$f":"IF('liste engagés'!$G159=1,'liste engagés'!B159,\"\")","v":""},{"$f":"IF('liste engagés'!$G159=1,'liste engagés'!C159,\"\")","v":""},{"$f":"IF('liste engagés'!$G159=1,'liste engagés'!D159,\"\")","v":""},{"$f":"IF('liste engagés'!$G159=1,'liste engagés'!E159,\"\")","v":""},{"$f":"IF('liste engagés'!$G159=1,'liste engagés'!K159,\"\")","v":""},{"$f":"IF('liste engagés'!$G159=1,'liste engagés'!L159,\"\")","v":""},0]
[155,{"$f":"IF('liste engagés'!$G160=1,'liste engagés'!A160,\"\")","v":""},{"$f":"IF('liste engagés'!$G160=1,'liste engagés'!B160,\"\")","v":""},{"$f":"IF('liste engagés'!$G160=1,'liste engagés'!C160,\"\")","v":""},{"$f":"IF('liste engagés'!$G160=1,'liste engagés'!D160,\"\")","v":""},{"$f":"IF('liste engagés'!$G160=1,'liste engagés'!E160,\"\")","v":""},{"$f":"IF('liste engagés'!$G160=1,'liste engagés'!K160,\"\")","v":""},{"$f":"IF('liste engagés'!$G160=1,'liste engagés'!L160,\"\")","v":""},0]
[156,{"$f":"IF('liste engagés'!$G161=1,'liste engagés'!A161,\"\")","v":""},{"$f":"IF('liste engagés'!$G161=1,'liste engagés'!B161,\"\")","v":""},{"$f":"IF('liste engagés'!$G161=1,'liste engagés'!C161,\"\")","v":""},{"$f":"IF('liste engagés'!$G161=1,'liste engagés'!D161,\"\")","v":""},{"$f":"IF('liste engagés'!$G161=1,'liste engagés'!E161,\"\")","v":""},{"$f":"IF('liste engagés'!$G161=1,'liste engagés'!K161,\"\")","v":""},{"$f":"IF('liste engagés'!$G161=1,'liste engagés'!L161,\"\")","v":""},0]
[157,{"$f":"IF('liste engagés'!$G162=1,'liste engagés'!A162,\"\")","v":""},{"$f":"IF('liste engagés'!$G162=1,'liste engagés'!B162,\"\")","v":""},{"$f":"IF('liste engagés'!$G162=1,'liste engagés'!C162,\"\")","v":""},{"$f":"IF('liste engagés'!$G162=1,'liste engagés'!D162,\"\")","v":""},{"$f":"IF('liste engagés'!$G162=1,'liste engagés'!E162,\"\")","v":""},{"$f":"IF('liste engagés'!$G162=1,'liste engagés'!K162,\"\")","v":""},{"$f":"IF('liste engagés'!$G162=1,'liste engagés'!L162,\"\")","v":""},0]
[158,{"$f":"IF('liste engagés'!$G163=1,'liste engagés'!A163,\"\")","v":""},{"$f":"IF('liste engagés'!$G163=1,'liste engagés'!B163,\"\")","v":""},{"$f":"IF('liste engagés'!$G163=1,'liste engagés'!C163,\"\")","v":""},{"$f":"IF('liste engagés'!$G163=1,'liste engagés'!D163,\"\")","v":""},{"$f":"IF('liste engagés'!$G163=1,'liste engagés'!E163,\"\")","v":""},{"$f":"IF('liste engagés'!$G163=1,'liste engagés'!K163,\"\")","v":""},{"$f":"IF('liste engagés'!$G163=1,'liste engagés'!L163,\"\")","v":""},0]
[159,{"$f":"IF('liste engagés'!$G164=1,'liste engagés'!A164,\"\")","v":""},{"$f":"IF('liste engagés'!$G164=1,'liste engagés'!B164,\"\")","v":""},{"$f":"IF('liste engagés'!$G164=1,'liste engagés'!C164,\"\")","v":""},{"$f":"IF('liste engagés'!$G164=1,'liste engagés'!D164,\"\")","v":""},{"$f":"IF('liste engagés'!$G164=1,'liste engagés'!E164,\"\")","v":""},{"$f":"IF('liste engagés'!$G164=1,'liste engagés'!K164,\"\")","v":""},{"$f":"IF('liste engagés'!$G164=1,'liste engagés'!L164,\"\")","v":""},0]
[160,{"$f":"IF('liste engagés'!$G165=1,'liste engagés'!A165,\"\")","v":""},{"$f":"IF('liste engagés'!$G165=1,'liste engagés'!B165,\"\")","v":""},{"$f":"IF('liste engagés'!$G165=1,'liste engagés'!C165,\"\")","v":""},{"$f":"IF('liste engagés'!$G165=1,'liste engagés'!D165,\"\")","v":""},{"$f":"IF('liste engagés'!$G165=1,'liste engagés'!E165,\"\")","v":""},{"$f":"IF('liste engagés'!$G165=1,'liste engagés'!K165,\"\")","v":""},{"$f":"IF('liste engagés'!$G165=1,'liste engagés'!L165,\"\")","v":""},0]
[161,{"$f":"IF('liste engagés'!$G166=1,'liste engagés'!A166,\"\")","v":""},{"$f":"IF('liste engagés'!$G166=1,'liste engagés'!B166,\"\")","v":""},{"$f":"IF('liste engagés'!$G166=1,'liste engagés'!C166,\"\")","v":""},{"$f":"IF('liste engagés'!$G166=1,'liste engagés'!D166,\"\")","v":""},{"$f":"IF('liste engagés'!$G166=1,'liste engagés'!E166,\"\")","v":""},{"$f":"IF('liste engagés'!$G166=1,'liste engagés'!K166,\"\")","v":""},{"$f":"IF('liste engagés'!$G166=1,'liste engagés'!L166,\"\")","v":""},0]
[162,{"$f":"IF('liste engagés'!$G167=1,'liste engagés'!A167,\"\")","v":""},{"$f":"IF('liste engagés'!$G167=1,'liste engagés'!B167,\"\")","v":""},{"$f":"IF('liste engagés'!$G167=1,'liste engagés'!C167,\"\")","v":""},{"$f":"IF('liste engagés'!$G167=1,'liste engagés'!D167,\"\")","v":""},{"$f":"IF('liste engagés'!$G167=1,'liste engagés'!E167,\"\")","v":""},{"$f":"IF('liste engagés'!$G167=1,'liste engagés'!K167,\"\")","v":""},{"$f":"IF('liste engagés'!$G167=1,'liste engagés'!L167,\"\")","v":""},0]
[163,{"$f":"IF('liste engagés'!$G168=1,'liste engagés'!A168,\"\")","v":""},{"$f":"IF('liste engagés'!$G168=1,'liste engagés'!B168,\"\")","v":""},{"$f":"IF('liste engagés'!$G168=1,'liste engagés'!C168,\"\")","v":""},{"$f":"IF('liste engagés'!$G168=1,'liste engagés'!D168,\"\")","v":""},{"$f":"IF('liste engagés'!$G168=1,'liste engagés'!E168,\"\")","v":""},{"$f":"IF('liste engagés'!$G168=1,'liste engagés'!K168,\"\")","v":""},{"$f":"IF('liste engagés'!$G168=1,'liste engagés'!L168,\"\")","v":""},0]
[164,{"$f":"IF('liste engagés'!$G169=1,'liste engagés'!A169,\"\")","v":""},{"$f":"IF('liste engagés'!$G169=1,'liste engagés'!B169,\"\")","v":""},{"$f":"IF('liste engagés'!$G169=1,'liste engagés'!C169,\"\")","v":""},{"$f":"IF('liste engagés'!$G169=1,'liste engagés'!D169,\"\")","v":""},{"$f":"IF('liste engagés'!$G169=1,'liste engagés'!E169,\"\")","v":""},{"$f":"IF('liste engagés'!$G169=1,'liste engagés'!K169,\"\")","v":""},{"$f":"IF('liste engagés'!$G169=1,'liste engagés'!L169,\"\")","v":""},0]
[165,{"$f":"IF('liste engagés'!$G170=1,'liste engagés'!A170,\"\")","v":""},{"$f":"IF('liste engagés'!$G170=1,'liste engagés'!B170,\"\")","v":""},{"$f":"IF('liste engagés'!$G170=1,'liste engagés'!C170,\"\")","v":""},{"$f":"IF('liste engagés'!$G170=1,'liste engagés'!D170,\"\")","v":""},{"$f":"IF('liste engagés'!$G170=1,'liste engagés'!E170,\"\")","v":""},{"$f":"IF('liste engagés'!$G170=1,'liste engagés'!K170,\"\")","v":""},{"$f":"IF('liste engagés'!$G170=1,'liste engagés'!L170,\"\")","v":""},0]
[166,{"$f":"IF('liste engagés'!$G171=1,'liste engagés'!A171,\"\")","v":""},{"$f":"IF('liste engagés'!$G171=1,'liste engagés'!B171,\"\")","v":""},{"$f":"IF('liste engagés'!$G171=1,'liste engagés'!C171,\"\")","v":""},{"$f":"IF('liste engagés'!$G171=1,'liste engagés'!D171,\"\")","v":""},{"$f":"IF('liste engagés'!$G171=1,'liste engagés'!E171,\"\")","v":""},{"$f":"IF('liste engagés'!$G171=1,'liste engagés'!K171,\"\")","v":""},{"$f":"IF('liste engagés'!$G171=1,'liste engagés'!L171,\"\")","v":""},0]
[167,{"$f":"IF('liste engagés'!$G172=1,'liste engagés'!A172,\"\")","v":""},{"$f":"IF('liste engagés'!$G172=1,'liste engagés'!B172,\"\")","v":""},{"$f":"IF('liste engagés'!$G172=1,'liste engagés'!C172,\"\")","v":""},{"$f":"IF('liste engagés'!$G172=1,'liste engagés'!D172,\"\")","v":""},{"$f":"IF('liste engagés'!$G172=1,'liste engagés'!E172,\"\")","v":""},{"$f":"IF('liste engagés'!$G172=1,'liste engagés'!K172,\"\")","v":""},{"$f":"IF('liste engagés'!$G172=1,'liste engagés'!L172,\"\")","v":""},0]
[168,{"$f":"IF('liste engagés'!$G173=1,'liste engagés'!A173,\"\")","v":""},{"$f":"IF('liste engagés'!$G173=1,'liste engagés'!B173,\"\")","v":""},{"$f":"IF('liste engagés'!$G173=1,'liste engagés'!C173,\"\")","v":""},{"$f":"IF('liste engagés'!$G173=1,'liste engagés'!D173,\"\")","v":""},{"$f":"IF('liste engagés'!$G173=1,'liste engagés'!E173,\"\")","v":""},{"$f":"IF('liste engagés'!$G173=1,'liste engagés'!K173,\"\")","v":""},{"$f":"IF('liste engagés'!$G173=1,'liste engagés'!L173,\"\")","v":""},0]
[169,{"$f":"IF('liste engagés'!$G174=1,'liste engagés'!A174,\"\")","v":""},{"$f":"IF('liste engagés'!$G174=1,'liste engagés'!B174,\"\")","v":""},{"$f":"IF('liste engagés'!$G174=1,'liste engagés'!C174,\"\")","v":""},{"$f":"IF('liste engagés'!$G174=1,'liste engagés'!D174,\"\")","v":""},{"$f":"IF('liste engagés'!$G174=1,'liste engagés'!E174,\"\")","v":""},{"$f":"IF('liste engagés'!$G174=1,'liste engagés'!K174,\"\")","v":""},{"$f":"IF('liste engagés'!$G174=1,'liste engagés'!L174,\"\")","v":""},0]
[170,{"$f":"IF('liste engagés'!$G175=1,'liste engagés'!A175,\"\")","v":""},{"$f":"IF('liste engagés'!$G175=1,'liste engagés'!B175,\"\")","v":""},{"$f":"IF('liste engagés'!$G175=1,'liste engagés'!C175,\"\")","v":""},{"$f":"IF('liste engagés'!$G175=1,'liste engagés'!D175,\"\")","v":""},{"$f":"IF('liste engagés'!$G175=1,'liste engagés'!E175,\"\")","v":""},{"$f":"IF('liste engagés'!$G175=1,'liste engagés'!K175,\"\")","v":""},{"$f":"IF('liste engagés'!$G175=1,'liste engagés'!L175,\"\")","v":""},0]
[171,{"$f":"IF('liste engagés'!$G176=1,'liste engagés'!A176,\"\")","v":""},{"$f":"IF('liste engagés'!$G176=1,'liste engagés'!B176,\"\")","v":""},{"$f":"IF('liste engagés'!$G176=1,'liste engagés'!C176,\"\")","v":""},{"$f":"IF('liste engagés'!$G176=1,'liste engagés'!D176,\"\")","v":""},{"$f":"IF('liste engagés'!$G176=1,'liste engagés'!E176,\"\")","v":""},{"$f":"IF('liste engagés'!$G176=1,'liste engagés'!K176,\"\")","v":""},{"$f":"IF('liste engagés'!$G176=1,'liste engagés'!L176,\"\")","v":""},0]
[172,{"$f":"IF('liste engagés'!$G177=1,'liste engagés'!A177,\"\")","v":""},{"$f":"IF('liste engagés'!$G177=1,'liste engagés'!B177,\"\")","v":""},{"$f":"IF('liste engagés'!$G177=1,'liste engagés'!C177,\"\")","v":""},{"$f":"IF('liste engagés'!$G177=1,'liste engagés'!D177,\"\")","v":""},{"$f":"IF('liste engagés'!$G177=1,'liste engagés'!E177,\"\")","v":""},{"$f":"IF('liste engagés'!$G177=1,'liste engagés'!K177,\"\")","v":""},{"$f":"IF('liste engagés'!$G177=1,'liste engagés'!L177,\"\")","v":""},0]
[173,{"$f":"IF('liste engagés'!$G178=1,'liste engagés'!A178,\"\")","v":""},{"$f":"IF('liste engagés'!$G178=1,'liste engagés'!B178,\"\")","v":""},{"$f":"IF('liste engagés'!$G178=1,'liste engagés'!C178,\"\")","v":""},{"$f":"IF('liste engagés'!$G178=1,'liste engagés'!D178,\"\")","v":""},{"$f":"IF('liste engagés'!$G178=1,'liste engagés'!E178,\"\")","v":""},{"$f":"IF('liste engagés'!$G178=1,'liste engagés'!K178,\"\")","v":""},{"$f":"IF('liste engagés'!$G178=1,'liste engagés'!L178,\"\")","v":""},0]
[174,{"$f":"IF('liste engagés'!$G179=1,'liste engagés'!A179,\"\")","v":""},{"$f":"IF('liste engagés'!$G179=1,'liste engagés'!B179,\"\")","v":""},{"$f":"IF('liste engagés'!$G179=1,'liste engagés'!C179,\"\")","v":""},{"$f":"IF('liste engagés'!$G179=1,'liste engagés'!D179,\"\")","v":""},{"$f":"IF('liste engagés'!$G179=1,'liste engagés'!E179,\"\")","v":""},{"$f":"IF('liste engagés'!$G179=1,'liste engagés'!K179,\"\")","v":""},{"$f":"IF('liste engagés'!$G179=1,'liste engagés'!L179,\"\")","v":""},0]
[175,{"$f":"IF('liste engagés'!$G180=1,'liste engagés'!A180,\"\")","v":""},{"$f":"IF('liste engagés'!$G180=1,'liste engagés'!B180,\"\")","v":""},{"$f":"IF('liste engagés'!$G180=1,'liste engagés'!C180,\"\")","v":""},{"$f":"IF('liste engagés'!$G180=1,'liste engagés'!D180,\"\")","v":""},{"$f":"IF('liste engagés'!$G180=1,'liste engagés'!E180,\"\")","v":""},{"$f":"IF('liste engagés'!$G180=1,'liste engagés'!K180,\"\")","v":""},{"$f":"IF('liste engagés'!$G180=1,'liste engagés'!L180,\"\")","v":""},0]
[176,{"$f":"IF('liste engagés'!$G181=1,'liste engagés'!A181,\"\")","v":""},{"$f":"IF('liste engagés'!$G181=1,'liste engagés'!B181,\"\")","v":""},{"$f":"IF('liste engagés'!$G181=1,'liste engagés'!C181,\"\")","v":""},{"$f":"IF('liste engagés'!$G181=1,'liste engagés'!D181,\"\")","v":""},{"$f":"IF('liste engagés'!$G181=1,'liste engagés'!E181,\"\")","v":""},{"$f":"IF('liste engagés'!$G181=1,'liste engagés'!K181,\"\")","v":""},{"$f":"IF('liste engagés'!$G181=1,'liste engagés'!L181,\"\")","v":""},0]
[177,{"$f":"IF('liste engagés'!$G182=1,'liste engagés'!A182,\"\")","v":""},{"$f":"IF('liste engagés'!$G182=1,'liste engagés'!B182,\"\")","v":""},{"$f":"IF('liste engagés'!$G182=1,'liste engagés'!C182,\"\")","v":""},{"$f":"IF('liste engagés'!$G182=1,'liste engagés'!D182,\"\")","v":""},{"$f":"IF('liste engagés'!$G182=1,'liste engagés'!E182,\"\")","v":""},{"$f":"IF('liste engagés'!$G182=1,'liste engagés'!K182,\"\")","v":""},{"$f":"IF('liste engagés'!$G182=1,'liste engagés'!L182,\"\")","v":""},0]
[178,{"$f":"IF('liste engagés'!$G183=1,'liste engagés'!A183,\"\")","v":""},{"$f":"IF('liste engagés'!$G183=1,'liste engagés'!B183,\"\")","v":""},{"$f":"IF('liste engagés'!$G183=1,'liste engagés'!C183,\"\")","v":""},{"$f":"IF('liste engagés'!$G183=1,'liste engagés'!D183,\"\")","v":""},{"$f":"IF('liste engagés'!$G183=1,'liste engagés'!E183,\"\")","v":""},{"$f":"IF('liste engagés'!$G183=1,'liste engagés'!K183,\"\")","v":""},{"$f":"IF('liste engagés'!$G183=1,'liste engagés'!L183,\"\")","v":""},0]
[179,{"$f":"IF('liste engagés'!$G184=1,'liste engagés'!A184,\"\")","v":""},{"$f":"IF('liste engagés'!$G184=1,'liste engagés'!B184,\"\")","v":""},{"$f":"IF('liste engagés'!$G184=1,'liste engagés'!C184,\"\")","v":""},{"$f":"IF('liste engagés'!$G184=1,'liste engagés'!D184,\"\")","v":""},{"$f":"IF('liste engagés'!$G184=1,'liste engagés'!E184,\"\")","v":""},{"$f":"IF('liste engagés'!$G184=1,'liste engagés'!K184,\"\")","v":""},{"$f":"IF('liste engagés'!$G184=1,'liste engagés'!L184,\"\")","v":""},0]
[180,{"$f":"IF('liste engagés'!$G185=1,'liste engagés'!A185,\"\")","v":""},{"$f":"IF('liste engagés'!$G185=1,'liste engagés'!B185,\"\")","v":""},{"$f":"IF('liste engagés'!$G185=1,'liste engagés'!C185,\"\")","v":""},{"$f":"IF('liste engagés'!$G185=1,'liste engagés'!D185,\"\")","v":""},{"$f":"IF('liste engagés'!$G185=1,'liste engagés'!E185,\"\")","v":""},{"$f":"IF('liste engagés'!$G185=1,'liste engagés'!K185,\"\")","v":""},{"$f":"IF('liste engagés'!$G185=1,'liste engagés'!L185,\"\")","v":""},0]
[181,{"$f":"IF('liste engagés'!$G186=1,'liste engagés'!A186,\"\")","v":""},{"$f":"IF('liste engagés'!$G186=1,'liste engagés'!B186,\"\")","v":""},{"$f":"IF('liste engagés'!$G186=1,'liste engagés'!C186,\"\")","v":""},{"$f":"IF('liste engagés'!$G186=1,'liste engagés'!D186,\"\")","v":""},{"$f":"IF('liste engagés'!$G186=1,'liste engagés'!E186,\"\")","v":""},{"$f":"IF('liste engagés'!$G186=1,'liste engagés'!K186,\"\")","v":""},{"$f":"IF('liste engagés'!$G186=1,'liste engagés'!L186,\"\")","v":""},0]
[182,{"$f":"IF('liste engagés'!$G187=1,'liste engagés'!A187,\"\")","v":""},{"$f":"IF('liste engagés'!$G187=1,'liste engagés'!B187,\"\")","v":""},{"$f":"IF('liste engagés'!$G187=1,'liste engagés'!C187,\"\")","v":""},{"$f":"IF('liste engagés'!$G187=1,'liste engagés'!D187,\"\")","v":""},{"$f":"IF('liste engagés'!$G187=1,'liste engagés'!E187,\"\")","v":""},{"$f":"IF('liste engagés'!$G187=1,'liste engagés'!K187,\"\")","v":""},{"$f":"IF('liste engagés'!$G187=1,'liste engagés'!L187,\"\")","v":""},0]
[183,{"$f":"IF('liste engagés'!$G188=1,'liste engagés'!A188,\"\")","v":""},{"$f":"IF('liste engagés'!$G188=1,'liste engagés'!B188,\"\")","v":""},{"$f":"IF('liste engagés'!$G188=1,'liste engagés'!C188,\"\")","v":""},{"$f":"IF('liste engagés'!$G188=1,'liste engagés'!D188,\"\")","v":""},{"$f":"IF('liste engagés'!$G188=1,'liste engagés'!E188,\"\")","v":""},{"$f":"IF('liste engagés'!$G188=1,'liste engagés'!K188,\"\")","v":""},{"$f":"IF('liste engagés'!$G188=1,'liste engagés'!L188,\"\")","v":""},0]
[184,{"$f":"IF('liste engagés'!$G189=1,'liste engagés'!A189,\"\")","v":""},{"$f":"IF('liste engagés'!$G189=1,'liste engagés'!B189,\"\")","v":""},{"$f":"IF('liste engagés'!$G189=1,'liste engagés'!C189,\"\")","v":""},{"$f":"IF('liste engagés'!$G189=1,'liste engagés'!D189,\"\")","v":""},{"$f":"IF('liste engagés'!$G189=1,'liste engagés'!E189,\"\")","v":""},{"$f":"IF('liste engagés'!$G189=1,'liste engagés'!K189,\"\")","v":""},{"$f":"IF('liste engagés'!$G189=1,'liste engagés'!L189,\"\")","v":""},0]
[185,{"$f":"IF('liste engagés'!$G190=1,'liste engagés'!A190,\"\")","v":""},{"$f":"IF('liste engagés'!$G190=1,'liste engagés'!B190,\"\")","v":""},{"$f":"IF('liste engagés'!$G190=1,'liste engagés'!C190,\"\")","v":""},{"$f":"IF('liste engagés'!$G190=1,'liste engagés'!D190,\"\")","v":""},{"$f":"IF('liste engagés'!$G190=1,'liste engagés'!E190,\"\")","v":""},{"$f":"IF('liste engagés'!$G190=1,'liste engagés'!K190,\"\")","v":""},{"$f":"IF('liste engagés'!$G190=1,'liste engagés'!L190,\"\")","v":""},0]
[186,{"$f":"IF('liste engagés'!$G191=1,'liste engagés'!A191,\"\")","v":""},{"$f":"IF('liste engagés'!$G191=1,'liste engagés'!B191,\"\")","v":""},{"$f":"IF('liste engagés'!$G191=1,'liste engagés'!C191,\"\")","v":""},{"$f":"IF('liste engagés'!$G191=1,'liste engagés'!D191,\"\")","v":""},{"$f":"IF('liste engagés'!$G191=1,'liste engagés'!E191,\"\")","v":""},{"$f":"IF('liste engagés'!$G191=1,'liste engagés'!K191,\"\")","v":""},{"$f":"IF('liste engagés'!$G191=1,'liste engagés'!L191,\"\")","v":""},0]
[187,{"$f":"IF('liste engagés'!$G192=1,'liste engagés'!A192,\"\")","v":""},{"$f":"IF('liste engagés'!$G192=1,'liste engagés'!B192,\"\")","v":""},{"$f":"IF('liste engagés'!$G192=1,'liste engagés'!C192,\"\")","v":""},{"$f":"IF('liste engagés'!$G192=1,'liste engagés'!D192,\"\")","v":""},{"$f":"IF('liste engagés'!$G192=1,'liste engagés'!E192,\"\")","v":""},{"$f":"IF('liste engagés'!$G192=1,'liste engagés'!K192,\"\")","v":""},{"$f":"IF('liste engagés'!$G192=1,'liste engagés'!L192,\"\")","v":""},0]
[188,{"$f":"IF('liste engagés'!$G193=1,'liste engagés'!A193,\"\")","v":""},{"$f":"IF('liste engagés'!$G193=1,'liste engagés'!B193,\"\")","v":""},{"$f":"IF('liste engagés'!$G193=1,'liste engagés'!C193,\"\")","v":""},{"$f":"IF('liste engagés'!$G193=1,'liste engagés'!D193,\"\")","v":""},{"$f":"IF('liste engagés'!$G193=1,'liste engagés'!E193,\"\")","v":""},{"$f":"IF('liste engagés'!$G193=1,'liste engagés'!K193,\"\")","v":""},{"$f":"IF('liste engagés'!$G193=1,'liste engagés'!L193,\"\")","v":""},0]
[189,{"$f":"IF('liste engagés'!$G194=1,'liste engagés'!A194,\"\")","v":""},{"$f":"IF('liste engagés'!$G194=1,'liste engagés'!B194,\"\")","v":""},{"$f":"IF('liste engagés'!$G194=1,'liste engagés'!C194,\"\")","v":""},{"$f":"IF('liste engagés'!$G194=1,'liste engagés'!D194,\"\")","v":""},{"$f":"IF('liste engagés'!$G194=1,'liste engagés'!E194,\"\")","v":""},{"$f":"IF('liste engagés'!$G194=1,'liste engagés'!K194,\"\")","v":""},{"$f":"IF('liste engagés'!$G194=1,'liste engagés'!L194,\"\")","v":""},0]
[190,{"$f":"IF('liste engagés'!$G195=1,'liste engagés'!A195,\"\")","v":""},{"$f":"IF('liste engagés'!$G195=1,'liste engagés'!B195,\"\")","v":""},{"$f":"IF('liste engagés'!$G195=1,'liste engagés'!C195,\"\")","v":""},{"$f":"IF('liste engagés'!$G195=1,'liste engagés'!D195,\"\")","v":""},{"$f":"IF('liste engagés'!$G195=1,'liste engagés'!E195,\"\")","v":""},{"$f":"IF('liste engagés'!$G195=1,'liste engagés'!K195,\"\")","v":""},{"$f":"IF('liste engagés'!$G195=1,'liste engagés'!L195,\"\")","v":""},0]
[191,{"$f":"IF('liste engagés'!$G196=1,'liste engagés'!A196,\"\")","v":""},{"$f":"IF('liste engagés'!$G196=1,'liste engagés'!B196,\"\")","v":""},{"$f":"IF('liste engagés'!$G196=1,'liste engagés'!C196,\"\")","v":""},{"$f":"IF('liste engagés'!$G196=1,'liste engagés'!D196,\"\")","v":""},{"$f":"IF('liste engagés'!$G196=1,'liste engagés'!E196,\"\")","v":""},{"$f":"IF('liste engagés'!$G196=1,'liste engagés'!K196,\"\")","v":""},{"$f":"IF('liste engagés'!$G196=1,'liste engagés'!L196,\"\")","v":""},0]
[192,{"$f":"IF('liste engagés'!$G197=1,'liste engagés'!A197,\"\")","v":""},{"$f":"IF('liste engagés'!$G197=1,'liste engagés'!B197,\"\")","v":""},{"$f":"IF('liste engagés'!$G197=1,'liste engagés'!C197,\"\")","v":""},{"$f":"IF('liste engagés'!$G197=1,'liste engagés'!D197,\"\")","v":""},{"$f":"IF('liste engagés'!$G197=1,'liste engagés'!E197,\"\")","v":""},{"$f":"IF('liste engagés'!$G197=1,'liste engagés'!K197,\"\")","v":""},{"$f":"IF('liste engagés'!$G197=1,'liste engagés'!L197,\"\")","v":""},0]
[193,{"$f":"IF('liste engagés'!$G198=1,'liste engagés'!A198,\"\")","v":""},{"$f":"IF('liste engagés'!$G198=1,'liste engagés'!B198,\"\")","v":""},{"$f":"IF('liste engagés'!$G198=1,'liste engagés'!C198,\"\")","v":""},{"$f":"IF('liste engagés'!$G198=1,'liste engagés'!D198,\"\")","v":""},{"$f":"IF('liste engagés'!$G198=1,'liste engagés'!E198,\"\")","v":""},{"$f":"IF('liste engagés'!$G198=1,'liste engagés'!K198,\"\")","v":""},{"$f":"IF('liste engagés'!$G198=1,'liste engagés'!L198,\"\")","v":""},{"$f":"+IF(C199=\"\",0,1)","v":0}]
[{"$f":"+A199+1","v":194},{"$f":"IF('liste engagés'!$G199=1,'liste engagés'!A199,\"\")","v":""},{"$f":"IF('liste engagés'!$G199=1,'liste engagés'!B199,\"\")","v":""},{"$f":"IF('liste engagés'!$G199=1,'liste engagés'!C199,\"\")","v":""},{"$f":"IF('liste engagés'!$G199=1,'liste engagés'!D199,\"\")","v":""},{"$f":"IF('liste engagés'!$G199=1,'liste engagés'!E199,\"\")","v":""},{"$f":"IF('liste engagés'!$G199=1,'liste engagés'!K199,\"\")","v":""},{"$f":"IF('liste engagés'!$G199=1,'liste engagés'!L199,\"\")","v":""},0]
[195,{"$f":"IF('liste engagés'!$G200=1,'liste engagés'!A200,\"\")","v":""},{"$f":"IF('liste engagés'!$G200=1,'liste engagés'!B200,\"\")","v":""},{"$f":"IF('liste engagés'!$G200=1,'liste engagés'!C200,\"\")","v":""},{"$f":"IF('liste engagés'!$G200=1,'liste engagés'!D200,\"\")","v":""},{"$f":"IF('liste engagés'!$G200=1,'liste engagés'!E200,\"\")","v":""},{"$f":"IF('liste engagés'!$G200=1,'liste engagés'!K200,\"\")","v":""},{"$f":"IF('liste engagés'!$G200=1,'liste engagés'!L200,\"\")","v":""},0]
[196,{"$f":"IF('liste engagés'!$G201=1,'liste engagés'!A201,\"\")","v":""},{"$f":"IF('liste engagés'!$G201=1,'liste engagés'!B201,\"\")","v":""},{"$f":"IF('liste engagés'!$G201=1,'liste engagés'!C201,\"\")","v":""},{"$f":"IF('liste engagés'!$G201=1,'liste engagés'!D201,\"\")","v":""},{"$f":"IF('liste engagés'!$G201=1,'liste engagés'!E201,\"\")","v":""},{"$f":"IF('liste engagés'!$G201=1,'liste engagés'!K201,\"\")","v":""},{"$f":"IF('liste engagés'!$G201=1,'liste engagés'!L201,\"\")","v":""},0]
[197,{"$f":"IF('liste engagés'!$G202=1,'liste engagés'!A202,\"\")","v":""},{"$f":"IF('liste engagés'!$G202=1,'liste engagés'!B202,\"\")","v":""},{"$f":"IF('liste engagés'!$G202=1,'liste engagés'!C202,\"\")","v":""},{"$f":"IF('liste engagés'!$G202=1,'liste engagés'!D202,\"\")","v":""},{"$f":"IF('liste engagés'!$G202=1,'liste engagés'!E202,\"\")","v":""},{"$f":"IF('liste engagés'!$G202=1,'liste engagés'!K202,\"\")","v":""},{"$f":"IF('liste engagés'!$G202=1,'liste engagés'!L202,\"\")","v":""},0]
[198,{"$f":"IF('liste engagés'!$G203=1,'liste engagés'!A203,\"\")","v":""},{"$f":"IF('liste engagés'!$G203=1,'liste engagés'!B203,\"\")","v":""},{"$f":"IF('liste engagés'!$G203=1,'liste engagés'!C203,\"\")","v":""},{"$f":"IF('liste engagés'!$G203=1,'liste engagés'!D203,\"\")","v":""},{"$f":"IF('liste engagés'!$G203=1,'liste engagés'!E203,\"\")","v":""},{"$f":"IF('liste engagés'!$G203=1,'liste engagés'!K203,\"\")","v":""},{"$f":"IF('liste engagés'!$G203=1,'liste engagés'!L203,\"\")","v":""},0]
[199,{"$f":"IF('liste engagés'!$G204=1,'liste engagés'!A204,\"\")","v":""},{"$f":"IF('liste engagés'!$G204=1,'liste engagés'!B204,\"\")","v":""},{"$f":"IF('liste engagés'!$G204=1,'liste engagés'!C204,\"\")","v":""},{"$f":"IF('liste engagés'!$G204=1,'liste engagés'!D204,\"\")","v":""},{"$f":"IF('liste engagés'!$G204=1,'liste engagés'!E204,\"\")","v":""},{"$f":"IF('liste engagés'!$G204=1,'liste engagés'!K204,\"\")","v":""},{"$f":"IF('liste engagés'!$G204=1,'liste engagés'!L204,\"\")","v":""},0]
[200,{"$f":"IF('liste engagés'!$G205=1,'liste engagés'!A205,\"\")","v":""},{"$f":"IF('liste engagés'!$G205=1,'liste engagés'!B205,\"\")","v":""},{"$f":"IF('liste engagés'!$G205=1,'liste engagés'!C205,\"\")","v":""},{"$f":"IF('liste engagés'!$G205=1,'liste engagés'!D205,\"\")","v":""},{"$f":"IF('liste engagés'!$G205=1,'liste engagés'!E205,\"\")","v":""},{"$f":"IF('liste engagés'!$G205=1,'liste engagés'!K205,\"\")","v":""},{"$f":"IF('liste engagés'!$G205=1,'liste engagés'!L205,\"\")","v":""},0]
[201,{"$f":"IF('liste engagés'!$G206=1,'liste engagés'!A206,\"\")","v":""},{"$f":"IF('liste engagés'!$G206=1,'liste engagés'!B206,\"\")","v":""},{"$f":"IF('liste engagés'!$G206=1,'liste engagés'!C206,\"\")","v":""},{"$f":"IF('liste engagés'!$G206=1,'liste engagés'!D206,\"\")","v":""},{"$f":"IF('liste engagés'!$G206=1,'liste engagés'!E206,\"\")","v":""},{"$f":"IF('liste engagés'!$G206=1,'liste engagés'!K206,\"\")","v":""},{"$f":"IF('liste engagés'!$G206=1,'liste engagés'!L206,\"\")","v":""},0]
[202,{"$f":"IF('liste engagés'!$G207=1,'liste engagés'!A207,\"\")","v":""},{"$f":"IF('liste engagés'!$G207=1,'liste engagés'!B207,\"\")","v":""},{"$f":"IF('liste engagés'!$G207=1,'liste engagés'!C207,\"\")","v":""},{"$f":"IF('liste engagés'!$G207=1,'liste engagés'!D207,\"\")","v":""},{"$f":"IF('liste engagés'!$G207=1,'liste engagés'!E207,\"\")","v":""},{"$f":"IF('liste engagés'!$G207=1,'liste engagés'!K207,\"\")","v":""},{"$f":"IF('liste engagés'!$G207=1,'liste engagés'!L207,\"\")","v":""},0]
[203,{"$f":"IF('liste engagés'!$G208=1,'liste engagés'!A208,\"\")","v":""},{"$f":"IF('liste engagés'!$G208=1,'liste engagés'!B208,\"\")","v":""},{"$f":"IF('liste engagés'!$G208=1,'liste engagés'!C208,\"\")","v":""},{"$f":"IF('liste engagés'!$G208=1,'liste engagés'!D208,\"\")","v":""},{"$f":"IF('liste engagés'!$G208=1,'liste engagés'!E208,\"\")","v":""},{"$f":"IF('liste engagés'!$G208=1,'liste engagés'!K208,\"\")","v":""},{"$f":"IF('liste engagés'!$G208=1,'liste engagés'!L208,\"\")","v":""},0]
[204,{"$f":"IF('liste engagés'!$G209=1,'liste engagés'!A209,\"\")","v":""},{"$f":"IF('liste engagés'!$G209=1,'liste engagés'!B209,\"\")","v":""},{"$f":"IF('liste engagés'!$G209=1,'liste engagés'!C209,\"\")","v":""},{"$f":"IF('liste engagés'!$G209=1,'liste engagés'!D209,\"\")","v":""},{"$f":"IF('liste engagés'!$G209=1,'liste engagés'!E209,\"\")","v":""},{"$f":"IF('liste engagés'!$G209=1,'liste engagés'!K209,\"\")","v":""},{"$f":"IF('liste engagés'!$G209=1,'liste engagés'!L209,\"\")","v":""},0]
[205,{"$f":"IF('liste engagés'!$G210=1,'liste engagés'!A210,\"\")","v":""},{"$f":"IF('liste engagés'!$G210=1,'liste engagés'!B210,\"\")","v":""},{"$f":"IF('liste engagés'!$G210=1,'liste engagés'!C210,\"\")","v":""},{"$f":"IF('liste engagés'!$G210=1,'liste engagés'!D210,\"\")","v":""},{"$f":"IF('liste engagés'!$G210=1,'liste engagés'!E210,\"\")","v":""},{"$f":"IF('liste engagés'!$G210=1,'liste engagés'!K210,\"\")","v":""},{"$f":"IF('liste engagés'!$G210=1,'liste engagés'!L210,\"\")","v":""},0]
[206,{"$f":"IF('liste engagés'!$G211=1,'liste engagés'!A211,\"\")","v":""},{"$f":"IF('liste engagés'!$G211=1,'liste engagés'!B211,\"\")","v":""},{"$f":"IF('liste engagés'!$G211=1,'liste engagés'!C211,\"\")","v":""},{"$f":"IF('liste engagés'!$G211=1,'liste engagés'!D211,\"\")","v":""},{"$f":"IF('liste engagés'!$G211=1,'liste engagés'!E211,\"\")","v":""},{"$f":"IF('liste engagés'!$G211=1,'liste engagés'!K211,\"\")","v":""},{"$f":"IF('liste engagés'!$G211=1,'liste engagés'!L211,\"\")","v":""},0]
[207,{"$f":"IF('liste engagés'!$G212=1,'liste engagés'!A212,\"\")","v":""},{"$f":"IF('liste engagés'!$G212=1,'liste engagés'!B212,\"\")","v":""},{"$f":"IF('liste engagés'!$G212=1,'liste engagés'!C212,\"\")","v":""},{"$f":"IF('liste engagés'!$G212=1,'liste engagés'!D212,\"\")","v":""},{"$f":"IF('liste engagés'!$G212=1,'liste engagés'!E212,\"\")","v":""},{"$f":"IF('liste engagés'!$G212=1,'liste engagés'!K212,\"\")","v":""},{"$f":"IF('liste engagés'!$G212=1,'liste engagés'!L212,\"\")","v":""},0]
[208,{"$f":"IF('liste engagés'!$G213=1,'liste engagés'!A213,\"\")","v":""},{"$f":"IF('liste engagés'!$G213=1,'liste engagés'!B213,\"\")","v":""},{"$f":"IF('liste engagés'!$G213=1,'liste engagés'!C213,\"\")","v":""},{"$f":"IF('liste engagés'!$G213=1,'liste engagés'!D213,\"\")","v":""},{"$f":"IF('liste engagés'!$G213=1,'liste engagés'!E213,\"\")","v":""},{"$f":"IF('liste engagés'!$G213=1,'liste engagés'!K213,\"\")","v":""},{"$f":"IF('liste engagés'!$G213=1,'liste engagés'!L213,\"\")","v":""},0]
[209,{"$f":"IF('liste engagés'!$G214=1,'liste engagés'!A214,\"\")","v":""},{"$f":"IF('liste engagés'!$G214=1,'liste engagés'!B214,\"\")","v":""},{"$f":"IF('liste engagés'!$G214=1,'liste engagés'!C214,\"\")","v":""},{"$f":"IF('liste engagés'!$G214=1,'liste engagés'!D214,\"\")","v":""},{"$f":"IF('liste engagés'!$G214=1,'liste engagés'!E214,\"\")","v":""},{"$f":"IF('liste engagés'!$G214=1,'liste engagés'!K214,\"\")","v":""},{"$f":"IF('liste engagés'!$G214=1,'liste engagés'!L214,\"\")","v":""},0]
[210,{"$f":"IF('liste engagés'!$G215=1,'liste engagés'!A215,\"\")","v":""},{"$f":"IF('liste engagés'!$G215=1,'liste engagés'!B215,\"\")","v":""},{"$f":"IF('liste engagés'!$G215=1,'liste engagés'!C215,\"\")","v":""},{"$f":"IF('liste engagés'!$G215=1,'liste engagés'!D215,\"\")","v":""},{"$f":"IF('liste engagés'!$G215=1,'liste engagés'!E215,\"\")","v":""},{"$f":"IF('liste engagés'!$G215=1,'liste engagés'!K215,\"\")","v":""},{"$f":"IF('liste engagés'!$G215=1,'liste engagés'!L215,\"\")","v":""},0]
[null,null,null,null,null,null,null,null,{"$f":"SUM(I7:I216)","v":5}]

{"sheet":"cat3","index":5,"n_rows":217,"n_cols":10,"rows_kept":217,"cut":false,"hidden":false,"merged":[]}
[{"$f":"+MENU!A1","v":"CHRONO DES LIMOUCHES "},null,null,null,null,null,{"$f":"+MENU!I1","v":"EDITION"},{"$f":"+MENU!J1","v":2018}]
[null,null,null,null,null,null,null,null,"code cat",3]
["CLASSEMENT :",null,{"$f":"+IF(J2=\"\",\"\",VLOOKUP($J$2,Catégories!B3:D17,3))","v":"FSGT 4"}]
[]
[]
[null,"N°de DOSSARD","Nom ","Prénom","Club","Fédération","Temps","Moyenne"]
[1,{"$f":"IF('liste engagés'!$G90=3,'liste engagés'!A90,\"\")","v":85},{"$f":"IF('liste engagés'!$G90=3,'liste engagés'!B90,\"\")","v":"SOLER"},{"$f":"IF('liste engagés'!$G90=3,'liste engagés'!C90,\"\")","v":"DIEGO"},{"$f":"IF('liste engagés'!$G90=3,'liste engagés'!D90,\"\")","v":"TEAM MONTAGNAC"},{"$f":"IF('liste engagés'!$G90=3,'liste engagés'!E90,\"\")","v":"FSGT"},{"$f":"IF('liste engagés'!$G90=3,'liste engagés'!K90,\"\")","v":2.6087962962958289E-2},{"$f":"IF('liste engagés'!$G90=3,'liste engagés'!L90,\"\")","v":18.207630878441595},{"$f":"+IF(C7=\"\",0,1)","v":1}]
[{"$f":"+A7+1","v":2},{"$f":"IF('liste engagés'!$G61=3,'liste engagés'!A61,\"\")","v":56},{"$f":"IF('liste engagés'!$G61=3,'liste engagés'!B61,\"\")","v":"DENURRA"},{"$f":"IF('liste engagés'!$G61=3,'liste engagés'!C61,\"\")","v":"LOUIS"},{"$f":"IF('liste engagés'!$G61=3,'liste engagés'!D61,\"\")","v":"BRIGNAISVC"},{"$f":"IF('liste engagés'!$G61=3,'liste engagés'!E61,\"\")","v":"FSGT"},{"$f":"IF('liste engagés'!$G61=3,'liste engagés'!K61,\"\")","v":2.7314814814812294E-2},{"$f":"IF('liste engagés'!$G61=3,'liste engagés'!L61,\"\")","v":17.38983050847618},1]
[3,{"$f":"IF('liste engagés'!$G122=3,'liste engagés'!A122,\"\")","v":117},{"$f":"IF('liste engagés'!$G122=3,'liste engagés'!B122,\"\")","v":"BOIS"},{"$f":"IF('liste engagés'!$G122=3,'liste engagés'!C122,\"\")","v":"FREDERIC"},{"$f":"IF('liste engagés'!$G122=3,'liste engagés'!D122,\"\")","v":"CS COUXOIS"},{"$f":"IF('liste engagés'!$G122=3,'liste engagés'!E122,\"\")","v":"FSGT"},{"$f":"IF('liste engagés'!$G122=3,'liste engagés'!K122,\"\")","v":2.7488425925919491E-2},{"$f":"IF('liste engagés'!$G122=3,'liste engagés'!L122,\"\")","v":17.280000000004044},1]
[4,{"$f":"IF('liste engagés'!$G89=3,'liste engagés'!A89,\"\")","v":84},{"$f":"IF('liste engagés'!$G89=3,'liste engagés'!B89,\"\")","v":"ROSADO"},{"$f":"IF('liste engagés'!$G89=3,'liste engagés'!C89,\"\")","v":"BRUNO"},{"$f":"IF('liste engagés'!$G89=3,'liste engagés'!D89,\"\")","v":"UC PIERRELATTE"},{"$f":"IF('liste engagés'!$G89=3,'liste engagés'!E89,\"\")","v":"FSGT"},{"$f":"IF('liste engagés'!$G89=3,'liste engagés'!K89,\"\")","v":2.7766203703699588E-2},{"$f":"IF('liste engagés'!$G89=3,'liste engagés'!L89,\"\")","v":17.107127969990032},1]
[5,{"$f":"IF('liste engagés'!$G139=3,'liste engagés'!A139,\"\")","v":134},{"$f":"IF('liste engagés'!$G139=3,'liste engagés'!B139,\"\")","v":"DEBANNE"},{"$f":"IF('liste engagés'!$G139=3,'liste engagés'!C139,\"\")","v":"WILLIAM"},{"$f":"IF('liste engagés'!$G139=3,'liste engagés'!D139,\"\")","v":"UC PIERRELATTE"},{"$f":"IF('liste engagés'!$G139=3,'liste engagés'!E139,\"\")","v":"FSGT"},{"$f":"IF('liste engagés'!$G139=3,'liste engagés'!K139,\"\")","v":2.788194444443759E-2},{"$f":"IF('liste engagés'!$G139=3,'liste engagés'!L139,\"\")","v":17.036114570365335},1]
[6,{"$f":"IF('liste engagés'!$G153=3,'liste engagés'!A153,\"\")","v":148},{"$f":"IF('liste engagés'!$G153=3,'liste engagés'!B153,\"\")","v":"JOUFFRET"},{"$f":"IF('liste engagés'!$G153=3,'liste engagés'!C153,\"\")","v":"DIDIER"},{"$f":"IF('liste engagés'!$G153=3,'liste engagés'!D153,\"\")","v":"CC ST PERAY"},{"$f":"IF('liste engagés'!$G153=3,'liste engagés'!E153,\"\")","v":"FSGT"},{"$f":"IF('liste engagés'!$G153=3,'liste engagés'!K153,\"\")","v":2.7928240740733079E-2},{"$f":"IF('liste engagés'!$G153=3,'liste engagés'!L153,\"\")","v":17.007874015752698},1]
[7,{"$f":"IF('liste engagés'!$G119=3,'liste engagés'!A119,\"\")","v":114},{"$f":"IF('liste engagés'!$G119=3,'liste engagés'!B119,\"\")","v":"PINATEL"},{"$f":"IF('liste engagés'!$G119=3,'liste engagés'!C119,\"\")","v":"J RENE"},{"$f":"IF('liste engagés'!$G119=3,'liste engagés'!D119,\"\")","v":"CS LA VOULTE"},{"$f":"IF('liste engagés'!$G119=3,'liste engagés'!E119,\"\")","v":"FSGT"},{"$f":"IF('liste engagés'!$G119=3,'liste engagés'!K119,\"\")","v":2.8182870370364599E-2},{"$f":"IF('liste engagés'!$G119=3,'liste engagés'!L119,\"\")","v":16.854209445588669},1]
[8,{"$f":"IF('liste engagés'!$G101=3,'liste engagés'!A101,\"\")","v":96},{"$f":"IF('liste engagés'!$G101=3,'liste engagés'!B101,\"\")","v":"WAGNER"},{"$f":"IF('liste engagés'!$G101=3,'liste engagés'!C101,\"\")","v":"DANIEL"},{"$f":"IF('liste engagés'!$G101=3,'liste engagés'!D101,\"\")","v":"UCMV"},{"$f":"IF('liste engagés'!$G101=3,'liste engagés'!E101,\"\")","v":"FSGT"},{"$f":"IF('liste engagés'!$G101=3,'liste engagés'!K101,\"\")","v":2.8703703703698957E-2},{"$f":"IF('liste engagés'!$G101=3,'liste engagés'!L101,\"\")","v":16.548387096776931},1]
[9,{"$f":"IF('liste engagés'!$G171=3,'liste engagés'!A171,\"\")","v":166},{"$f":"IF('liste engagés'!$G171=3,'liste engagés'!B171,\"\")","v":"COMTE"},{"$f":"IF('liste engagés'!$G171=3,'liste engagés'!C171,\"\")","v":"SERGE"},{"$f":"IF('liste engagés'!$G171=3,'liste engagés'!D171,\"\")","v":"VSRP"},{"$f":"IF('liste engagés'!$G171=3,'liste engagés'!E171,\"\")","v":"FSGT"},{"$f":"IF('liste engagés'!$G171=3,'liste engagés'!K171,\"\")","v":2.8773148148139471E-2},{"$f":"IF('liste engagés'!$G171=3,'liste engagés'!L171,\"\")","v":16.508447304912462},1]
[10,{"$f":"IF('liste engagés'!$G66=3,'liste engagés'!A66,\"\")","v":61},{"$f":"IF('liste engagés'!$G66=3,'liste engagés'!B66,\"\")","v":"BUATOIS"},{"$f":"IF('liste engagés'!$G66=3,'liste engagés'!C66,\"\")","v":"GILLES"},{"$f":"IF('liste engagés'!$G66=3,'liste engagés'!D66,\"\")","v":"UC PIERRELATTE"},{"$f":"IF('liste engagés'!$G66=3,'liste engagés'!E66,\"\")","v":"FSGT"},{"$f":"IF('liste engagés'!$G66=3,'liste engagés'!K66,\"\")","v":2.9895833333329958E-2},{"$f":"IF('liste engagés'!$G66=3,'liste engagés'!L66,\"\")","v":15.888501742162074},1]
[11,{"$f":"IF('liste engagés'!$G180=3,'liste engagés'!A180,\"\")","v":175},{"$f":"IF('liste engagés'!$G180=3,'liste engagés'!B180,\"\")","v":"DREVON"},{"$f":"IF('liste engagés'!$G180=3,'liste engagés'!C180,\"\")","v":"SEB"},{"$f":"IF('liste engagés'!$G180=3,'liste engagés'!D180,\"\")","v":"UCMV"},{"$f":"IF('liste engagés'!$G180=3,'liste engagés'!E180,\"\")","v":"FSGT"},{"$f":"IF('liste engagés'!$G180=3,'liste engagés'!K180,\"\")","v":3.3564814814805166E-2},{"$f":"IF('liste engagés'!$G180=3,'liste engagés'!L180,\"\")","v":14.151724137935103},1]
[12,{"$f":"IF('liste engagés'!$G80=3,'liste engagés'!A80,\"\")","v":75},{"$f":"IF('liste engagés'!$G80=3,'liste engagés'!B80,\"\")","v":"NACCARATO"},{"$f":"IF('liste engagés'!$G80=3,'liste engagés'!C80,\"\")","v":"MARIO"},{"$f":"IF('liste engagés'!$G80=3,'liste engagés'!D80,\"\")","v":"TEAM ATC 26 DONZERE"},{"$f":"IF('liste engagés'!$G80=3,'liste engagés'!E80,\"\")","v":"FSGT"},{"$f":"IF('liste engagés'!$G80=3,'liste engagés'!K80,\"\")","v":3.468749999999593E-2},{"$f":"IF('liste engagés'!$G80=3,'liste engagés'!L80,\"\")","v":13.693693693695302},1]
[13,{"$f":"IF('liste engagés'!$G6=3,'liste engagés'!A6,\"\")","v":""},{"$f":"IF('liste engagés'!$G6=3,'liste engagés'!B6,\"\")","v":""},{"$f":"IF('liste engagés'!$G6=3,'liste engagés'!C6,\"\")","v":""},{"$f":"IF('liste engagés'!$G6=3,'liste engagés'!D6,\"\")","v":""},{"$f":"IF('liste engagés'!$G6=3,'liste engagés'!E6,\"\")","v":""},{"$f":"IF('liste engagés'!$G6=3,'liste engagés'!K6,\"\")","v":""},{"$f":"IF('liste engagés'!$G6=3,'liste engagés'!L6,\"\")","v":""},0]
[14,{"$f":"IF('liste engagés'!$G7=3,'liste engagés'!A7,\"\")","v":""},{"$f":"IF('liste engagés'!$G7=3,'liste engagés'!B7,\"\")","v":""},{"$f":"IF('liste engagés'!$G7=3,'liste engagés'!C7,\"\")","v":""},{"$f":"IF('liste engagés'!$G7=3,'liste engagés'!D7,\"\")","v":""},{"$f":"IF('liste engagés'!$G7=3,'liste engagés'!E7,\"\")","v":""},{"$f":"IF('liste engagés'!$G7=3,'liste engagés'!K7,\"\")","v":""},{"$f":"IF('liste engagés'!$G7=3,'liste engagés'!L7,\"\")","v":""},0]
[15,{"$f":"IF('liste engagés'!$G8=3,'liste engagés'!A8,\"\")","v":""},{"$f":"IF('liste engagés'!$G8=3,'liste engagés'!B8,\"\")","v":""},{"$f":"IF('liste engagés'!$G8=3,'liste engagés'!C8,\"\")","v":""},{"$f":"IF('liste engagés'!$G8=3,'liste engagés'!D8,\"\")","v":""},{"$f":"IF('liste engagés'!$G8=3,'liste engagés'!E8,\"\")","v":""},{"$f":"IF('liste engagés'!$G8=3,'liste engagés'!K8,\"\")","v":""},{"$f":"IF('liste engagés'!$G8=3,'liste engagés'!L8,\"\")","v":""},0]
[16,{"$f":"IF('liste engagés'!$G9=3,'liste engagés'!A9,\"\")","v":""},{"$f":"IF('liste engagés'!$G9=3,'liste engagés'!B9,\"\")","v":""},{"$f":"IF('liste engagés'!$G9=3,'liste engagés'!C9,\"\")","v":""},{"$f":"IF('liste engagés'!$G9=3,'liste engagés'!D9,\"\")","v":""},{"$f":"IF('liste engagés'!$G9=3,'liste engagés'!E9,\"\")","v":""},{"$f":"IF('liste engagés'!$G9=3,'liste engagés'!K9,\"\")","v":""},{"$f":"IF('liste engagés'!$G9=3,'liste engagés'!L9,\"\")","v":""},0]
[17,{"$f":"IF('liste engagés'!$G10=3,'liste engagés'!A10,\"\")","v":""},{"$f":"IF('liste engagés'!$G10=3,'liste engagés'!B10,\"\")","v":""},{"$f":"IF('liste engagés'!$G10=3,'liste engagés'!C10,\"\")","v":""},{"$f":"IF('liste engagés'!$G10=3,'liste engagés'!D10,\"\")","v":""},{"$f":"IF('liste engagés'!$G10=3,'liste engagés'!E10,\"\")","v":""},{"$f":"IF('liste engagés'!$G10=3,'liste engagés'!K10,\"\")","v":""},{"$f":"IF('liste engagés'!$G10=3,'liste engagés'!L10,\"\")","v":""},0]
[18,{"$f":"IF('liste engagés'!$G11=3,'liste engagés'!A11,\"\")","v":""},{"$f":"IF('liste engagés'!$G11=3,'liste engagés'!B11,\"\")","v":""},{"$f":"IF('liste engagés'!$G11=3,'liste engagés'!C11,\"\")","v":""},{"$f":"IF('liste engagés'!$G11=3,'liste engagés'!D11,\"\")","v":""},{"$f":"IF('liste engagés'!$G11=3,'liste engagés'!E11,\"\")","v":""},{"$f":"IF('liste engagés'!$G11=3,'liste engagés'!K11,\"\")","v":""},{"$f":"IF('liste engagés'!$G11=3,'liste engagés'!L11,\"\")","v":""},0]
[19,{"$f":"IF('liste engagés'!$G12=3,'liste engagés'!A12,\"\")","v":""},{"$f":"IF('liste engagés'!$G12=3,'liste engagés'!B12,\"\")","v":""},{"$f":"IF('liste engagés'!$G12=3,'liste engagés'!C12,\"\")","v":""},{"$f":"IF('liste engagés'!$G12=3,'liste engagés'!D12,\"\")","v":""},{"$f":"IF('liste engagés'!$G12=3,'liste engagés'!E12,\"\")","v":""},{"$f":"IF('liste engagés'!$G12=3,'liste engagés'!K12,\"\")","v":""},{"$f":"IF('liste engagés'!$G12=3,'liste engagés'!L12,\"\")","v":""},0]
[20,{"$f":"IF('liste engagés'!$G13=3,'liste engagés'!A13,\"\")","v":""},{"$f":"IF('liste engagés'!$G13=3,'liste engagés'!B13,\"\")","v":""},{"$f":"IF('liste engagés'!$G13=3,'liste engagés'!C13,\"\")","v":""},{"$f":"IF('liste engagés'!$G13=3,'liste engagés'!D13,\"\")","v":""},{"$f":"IF('liste engagés'!$G13=3,'liste engagés'!E13,\"\")","v":""},{"$f":"IF('liste engagés'!$G13=3,'liste engagés'!K13,\"\")","v":""},{"$f":"IF('liste engagés'!$G13=3,'liste engagés'!L13,\"\")","v":""},0]
[21,{"$f":"IF('liste engagés'!$G14=3,'liste engagés'!A14,\"\")","v":""},{"$f":"IF('liste engagés'!$G14=3,'liste engagés'!B14,\"\")","v":""},{"$f":"IF('liste engagés'!$G14=3,'liste engagés'!C14,\"\")","v":""},{"$f":"IF('liste engagés'!$G14=3,'liste engagés'!D14,\"\")","v":""},{"$f":"IF('liste engagés'!$G14=3,'liste engagés'!E14,\"\")","v":""},{"$f":"IF('liste engagés'!$G14=3,'liste engagés'!K14,\"\")","v":""},{"$f":"IF('liste engagés'!$G14=3,'liste engagés'!L14,\"\")","v":""},0]
[22,{"$f":"IF('liste engagés'!$G15=3,'liste engagés'!A15,\"\")","v":""},{"$f":"IF('liste engagés'!$G15=3,'liste engagés'!B15,\"\")","v":""},{"$f":"IF('liste engagés'!$G15=3,'liste engagés'!C15,\"\")","v":""},{"$f":"IF('liste engagés'!$G15=3,'liste engagés'!D15,\"\")","v":""},{"$f":"IF('liste engagés'!$G15=3,'liste engagés'!E15,\"\")","v":""},{"$f":"IF('liste engagés'!$G15=3,'liste engagés'!K15,\"\")","v":""},{"$f":"IF('liste engagés'!$G15=3,'liste engagés'!L15,\"\")","v":""},0]
[23,{"$f":"IF('liste engagés'!$G16=3,'liste engagés'!A16,\"\")","v":""},{"$f":"IF('liste engagés'!$G16=3,'liste engagés'!B16,\"\")","v":""},{"$f":"IF('liste engagés'!$G16=3,'liste engagés'!C16,\"\")","v":""},{"$f":"IF('liste engagés'!$G16=3,'liste engagés'!D16,\"\")","v":""},{"$f":"IF('liste engagés'!$G16=3,'liste engagés'!E16,\"\")","v":""},{"$f":"IF('liste engagés'!$G16=3,'liste engagés'!K16,\"\")","v":""},{"$f":"IF('liste engagés'!$G16=3,'liste engagés'!L16,\"\")","v":""},0]
[24,{"$f":"IF('liste engagés'!$G17=3,'liste engagés'!A17,\"\")","v":""},{"$f":"IF('liste engagés'!$G17=3,'liste engagés'!B17,\"\")","v":""},{"$f":"IF('liste engagés'!$G17=3,'liste engagés'!C17,\"\")","v":""},{"$f":"IF('liste engagés'!$G17=3,'liste engagés'!D17,\"\")","v":""},{"$f":"IF('liste engagés'!$G17=3,'liste engagés'!E17,\"\")","v":""},{"$f":"IF('liste engagés'!$G17=3,'liste engagés'!K17,\"\")","v":""},{"$f":"IF('liste engagés'!$G17=3,'liste engagés'!L17,\"\")","v":""},0]
[25,{"$f":"IF('liste engagés'!$G18=3,'liste engagés'!A18,\"\")","v":""},{"$f":"IF('liste engagés'!$G18=3,'liste engagés'!B18,\"\")","v":""},{"$f":"IF('liste engagés'!$G18=3,'liste engagés'!C18,\"\")","v":""},{"$f":"IF('liste engagés'!$G18=3,'liste engagés'!D18,\"\")","v":""},{"$f":"IF('liste engagés'!$G18=3,'liste engagés'!E18,\"\")","v":""},{"$f":"IF('liste engagés'!$G18=3,'liste engagés'!K18,\"\")","v":""},{"$f":"IF('liste engagés'!$G18=3,'liste engagés'!L18,\"\")","v":""},0]
[26,{"$f":"IF('liste engagés'!$G19=3,'liste engagés'!A19,\"\")","v":""},{"$f":"IF('liste engagés'!$G19=3,'liste engagés'!B19,\"\")","v":""},{"$f":"IF('liste engagés'!$G19=3,'liste engagés'!C19,\"\")","v":""},{"$f":"IF('liste engagés'!$G19=3,'liste engagés'!D19,\"\")","v":""},{"$f":"IF('liste engagés'!$G19=3,'liste engagés'!E19,\"\")","v":""},{"$f":"IF('liste engagés'!$G19=3,'liste engagés'!K19,\"\")","v":""},{"$f":"IF('liste engagés'!$G19=3,'liste engagés'!L19,\"\")","v":""},0]
[27,{"$f":"IF('liste engagés'!$G20=3,'liste engagés'!A20,\"\")","v":""},{"$f":"IF('liste engagés'!$G20=3,'liste engagés'!B20,\"\")","v":""},{"$f":"IF('liste engagés'!$G20=3,'liste engagés'!C20,\"\")","v":""},{"$f":"IF('liste engagés'!$G20=3,'liste engagés'!D20,\"\")","v":""},{"$f":"IF('liste engagés'!$G20=3,'liste engagés'!E20,\"\")","v":""},{"$f":"IF('liste engagés'!$G20=3,'liste engagés'!K20,\"\")","v":""},{"$f":"IF('liste engagés'!$G20=3,'liste engagés'!L20,\"\")","v":""},0]
[28,{"$f":"IF('liste engagés'!$G21=3,'liste engagés'!A21,\"\")","v":""},{"$f":"IF('liste engagés'!$G21=3,'liste engagés'!B21,\"\")","v":""},{"$f":"IF('liste engagés'!$G21=3,'liste engagés'!C21,\"\")","v":""},{"$f":"IF('liste engagés'!$G21=3,'liste engagés'!D21,\"\")","v":""},{"$f":"IF('liste engagés'!$G21=3,'liste engagés'!E21,\"\")","v":""},{"$f":"IF('liste engagés'!$G21=3,'liste engagés'!K21,\"\")","v":""},{"$f":"IF('liste engagés'!$G21=3,'liste engagés'!L21,\"\")","v":""},0]
[29,{"$f":"IF('liste engagés'!$G22=3,'liste engagés'!A22,\"\")","v":""},{"$f":"IF('liste engagés'!$G22=3,'liste engagés'!B22,\"\")","v":""},{"$f":"IF('liste engagés'!$G22=3,'liste engagés'!C22,\"\")","v":""},{"$f":"IF('liste engagés'!$G22=3,'liste engagés'!D22,\"\")","v":""},{"$f":"IF('liste engagés'!$G22=3,'liste engagés'!E22,\"\")","v":""},{"$f":"IF('liste engagés'!$G22=3,'liste engagés'!K22,\"\")","v":""},{"$f":"IF('liste engagés'!$G22=3,'liste engagés'!L22,\"\")","v":""},0]
[30,{"$f":"IF('liste engagés'!$G23=3,'liste engagés'!A23,\"\")","v":""},{"$f":"IF('liste engagés'!$G23=3,'liste engagés'!B23,\"\")","v":""},{"$f":"IF('liste engagés'!$G23=3,'liste engagés'!C23,\"\")","v":""},{"$f":"IF('liste engagés'!$G23=3,'liste engagés'!D23,\"\")","v":""},{"$f":"IF('liste engagés'!$G23=3,'liste engagés'!E23,\"\")","v":""},{"$f":"IF('liste engagés'!$G23=3,'liste engagés'!K23,\"\")","v":""},{"$f":"IF('liste engagés'!$G23=3,'liste engagés'!L23,\"\")","v":""},0]
[31,{"$f":"IF('liste engagés'!$G24=3,'liste engagés'!A24,\"\")","v":""},{"$f":"IF('liste engagés'!$G24=3,'liste engagés'!B24,\"\")","v":""},{"$f":"IF('liste engagés'!$G24=3,'liste engagés'!C24,\"\")","v":""},{"$f":"IF('liste engagés'!$G24=3,'liste engagés'!D24,\"\")","v":""},{"$f":"IF('liste engagés'!$G24=3,'liste engagés'!E24,\"\")","v":""},{"$f":"IF('liste engagés'!$G24=3,'liste engagés'!K24,\"\")","v":""},{"$f":"IF('liste engagés'!$G24=3,'liste engagés'!L24,\"\")","v":""},0]
[32,{"$f":"IF('liste engagés'!$G25=3,'liste engagés'!A25,\"\")","v":""},{"$f":"IF('liste engagés'!$G25=3,'liste engagés'!B25,\"\")","v":""},{"$f":"IF('liste engagés'!$G25=3,'liste engagés'!C25,\"\")","v":""},{"$f":"IF('liste engagés'!$G25=3,'liste engagés'!D25,\"\")","v":""},{"$f":"IF('liste engagés'!$G25=3,'liste engagés'!E25,\"\")","v":""},{"$f":"IF('liste engagés'!$G25=3,'liste engagés'!K25,\"\")","v":""},{"$f":"IF('liste engagés'!$G25=3,'liste engagés'!L25,\"\")","v":""},0]
[33,{"$f":"IF('liste engagés'!$G26=3,'liste engagés'!A26,\"\")","v":""},{"$f":"IF('liste engagés'!$G26=3,'liste engagés'!B26,\"\")","v":""},{"$f":"IF('liste engagés'!$G26=3,'liste engagés'!C26,\"\")","v":""},{"$f":"IF('liste engagés'!$G26=3,'liste engagés'!D26,\"\")","v":""},{"$f":"IF('liste engagés'!$G26=3,'liste engagés'!E26,\"\")","v":""},{"$f":"IF('liste engagés'!$G26=3,'liste engagés'!K26,\"\")","v":""},{"$f":"IF('liste engagés'!$G26=3,'liste engagés'!L26,\"\")","v":""},0]
[34,{"$f":"IF('liste engagés'!$G27=3,'liste engagés'!A27,\"\")","v":""},{"$f":"IF('liste engagés'!$G27=3,'liste engagés'!B27,\"\")","v":""},{"$f":"IF('liste engagés'!$G27=3,'liste engagés'!C27,\"\")","v":""},{"$f":"IF('liste engagés'!$G27=3,'liste engagés'!D27,\"\")","v":""},{"$f":"IF('liste engagés'!$G27=3,'liste engagés'!E27,\"\")","v":""},{"$f":"IF('liste engagés'!$G27=3,'liste engagés'!K27,\"\")","v":""},{"$f":"IF('liste engagés'!$G27=3,'liste engagés'!L27,\"\")","v":""},0]
[35,{"$f":"IF('liste engagés'!$G28=3,'liste engagés'!A28,\"\")","v":""},{"$f":"IF('liste engagés'!$G28=3,'liste engagés'!B28,\"\")","v":""},{"$f":"IF('liste engagés'!$G28=3,'liste engagés'!C28,\"\")","v":""},{"$f":"IF('liste engagés'!$G28=3,'liste engagés'!D28,\"\")","v":""},{"$f":"IF('liste engagés'!$G28=3,'liste engagés'!E28,\"\")","v":""},{"$f":"IF('liste engagés'!$G28=3,'liste engagés'!K28,\"\")","v":""},{"$f":"IF('liste engagés'!$G28=3,'liste engagés'!L28,\"\")","v":""},0]
[36,{"$f":"IF('liste engagés'!$G29=3,'liste engagés'!A29,\"\")","v":""},{"$f":"IF('liste engagés'!$G29=3,'liste engagés'!B29,\"\")","v":""},{"$f":"IF('liste engagés'!$G29=3,'liste engagés'!C29,\"\")","v":""},{"$f":"IF('liste engagés'!$G29=3,'liste engagés'!D29,\"\")","v":""},{"$f":"IF('liste engagés'!$G29=3,'liste engagés'!E29,\"\")","v":""},{"$f":"IF('liste engagés'!$G29=3,'liste engagés'!K29,\"\")","v":""},{"$f":"IF('liste engagés'!$G29=3,'liste engagés'!L29,\"\")","v":""},0]
[37,{"$f":"IF('liste engagés'!$G30=3,'liste engagés'!A30,\"\")","v":""},{"$f":"IF('liste engagés'!$G30=3,'liste engagés'!B30,\"\")","v":""},{"$f":"IF('liste engagés'!$G30=3,'liste engagés'!C30,\"\")","v":""},{"$f":"IF('liste engagés'!$G30=3,'liste engagés'!D30,\"\")","v":""},{"$f":"IF('liste engagés'!$G30=3,'liste engagés'!E30,\"\")","v":""},{"$f":"IF('liste engagés'!$G30=3,'liste engagés'!K30,\"\")","v":""},{"$f":"IF('liste engagés'!$G30=3,'liste engagés'!L30,\"\")","v":""},0]
[38,{"$f":"IF('liste engagés'!$G31=3,'liste engagés'!A31,\"\")","v":""},{"$f":"IF('liste engagés'!$G31=3,'liste engagés'!B31,\"\")","v":""},{"$f":"IF('liste engagés'!$G31=3,'liste engagés'!C31,\"\")","v":""},{"$f":"IF('liste engagés'!$G31=3,'liste engagés'!D31,\"\")","v":""},{"$f":"IF('liste engagés'!$G31=3,'liste engagés'!E31,\"\")","v":""},{"$f":"IF('liste engagés'!$G31=3,'liste engagés'!K31,\"\")","v":""},{"$f":"IF('liste engagés'!$G31=3,'liste engagés'!L31,\"\")","v":""},0]
[39,{"$f":"IF('liste engagés'!$G32=3,'liste engagés'!A32,\"\")","v":""},{"$f":"IF('liste engagés'!$G32=3,'liste engagés'!B32,\"\")","v":""},{"$f":"IF('liste engagés'!$G32=3,'liste engagés'!C32,\"\")","v":""},{"$f":"IF('liste engagés'!$G32=3,'liste engagés'!D32,\"\")","v":""},{"$f":"IF('liste engagés'!$G32=3,'liste engagés'!E32,\"\")","v":""},{"$f":"IF('liste engagés'!$G32=3,'liste engagés'!K32,\"\")","v":""},{"$f":"IF('liste engagés'!$G32=3,'liste engagés'!L32,\"\")","v":""},0]
[40,{"$f":"IF('liste engagés'!$G33=3,'liste engagés'!A33,\"\")","v":""},{"$f":"IF('liste engagés'!$G33=3,'liste engagés'!B33,\"\")","v":""},{"$f":"IF('liste engagés'!$G33=3,'liste engagés'!C33,\"\")","v":""},{"$f":"IF('liste engagés'!$G33=3,'liste engagés'!D33,\"\")","v":""},{"$f":"IF('liste engagés'!$G33=3,'liste engagés'!E33,\"\")","v":""},{"$f":"IF('liste engagés'!$G33=3,'liste engagés'!K33,\"\")","v":""},{"$f":"IF('liste engagés'!$G33=3,'liste engagés'!L33,\"\")","v":""},0]
[41,{"$f":"IF('liste engagés'!$G34=3,'liste engagés'!A34,\"\")","v":""},{"$f":"IF('liste engagés'!$G34=3,'liste engagés'!B34,\"\")","v":""},{"$f":"IF('liste engagés'!$G34=3,'liste engagés'!C34,\"\")","v":""},{"$f":"IF('liste engagés'!$G34=3,'liste engagés'!D34,\"\")","v":""},{"$f":"IF('liste engagés'!$G34=3,'liste engagés'!E34,\"\")","v":""},{"$f":"IF('liste engagés'!$G34=3,'liste engagés'!K34,\"\")","v":""},{"$f":"IF('liste engagés'!$G34=3,'liste engagés'!L34,\"\")","v":""},0]
[42,{"$f":"IF('liste engagés'!$G35=3,'liste engagés'!A35,\"\")","v":""},{"$f":"IF('liste engagés'!$G35=3,'liste engagés'!B35,\"\")","v":""},{"$f":"IF('liste engagés'!$G35=3,'liste engagés'!C35,\"\")","v":""},{"$f":"IF('liste engagés'!$G35=3,'liste engagés'!D35,\"\")","v":""},{"$f":"IF('liste engagés'!$G35=3,'liste engagés'!E35,\"\")","v":""},{"$f":"IF('liste engagés'!$G35=3,'liste engagés'!K35,\"\")","v":""},{"$f":"IF('liste engagés'!$G35=3,'liste engagés'!L35,\"\")","v":""},0]
[43,{"$f":"IF('liste engagés'!$G36=3,'liste engagés'!A36,\"\")","v":""},{"$f":"IF('liste engagés'!$G36=3,'liste engagés'!B36,\"\")","v":""},{"$f":"IF('liste engagés'!$G36=3,'liste engagés'!C36,\"\")","v":""},{"$f":"IF('liste engagés'!$G36=3,'liste engagés'!D36,\"\")","v":""},{"$f":"IF('liste engagés'!$G36=3,'liste engagés'!E36,\"\")","v":""},{"$f":"IF('liste engagés'!$G36=3,'liste engagés'!K36,\"\")","v":""},{"$f":"IF('liste engagés'!$G36=3,'liste engagés'!L36,\"\")","v":""},0]
[44,{"$f":"IF('liste engagés'!$G37=3,'liste engagés'!A37,\"\")","v":""},{"$f":"IF('liste engagés'!$G37=3,'liste engagés'!B37,\"\")","v":""},{"$f":"IF('liste engagés'!$G37=3,'liste engagés'!C37,\"\")","v":""},{"$f":"IF('liste engagés'!$G37=3,'liste engagés'!D37,\"\")","v":""},{"$f":"IF('liste engagés'!$G37=3,'liste engagés'!E37,\"\")","v":""},{"$f":"IF('liste engagés'!$G37=3,'liste engagés'!K37,\"\")","v":""},{"$f":"IF('liste engagés'!$G37=3,'liste engagés'!L37,\"\")","v":""},0]
[45,{"$f":"IF('liste engagés'!$G38=3,'liste engagés'!A38,\"\")","v":""},{"$f":"IF('liste engagés'!$G38=3,'liste engagés'!B38,\"\")","v":""},{"$f":"IF('liste engagés'!$G38=3,'liste engagés'!C38,\"\")","v":""},{"$f":"IF('liste engagés'!$G38=3,'liste engagés'!D38,\"\")","v":""},{"$f":"IF('liste engagés'!$G38=3,'liste engagés'!E38,\"\")","v":""},{"$f":"IF('liste engagés'!$G38=3,'liste engagés'!K38,\"\")","v":""},{"$f":"IF('liste engagés'!$G38=3,'liste engagés'!L38,\"\")","v":""},0]
[46,{"$f":"IF('liste engagés'!$G39=3,'liste engagés'!A39,\"\")","v":""},{"$f":"IF('liste engagés'!$G39=3,'liste engagés'!B39,\"\")","v":""},{"$f":"IF('liste engagés'!$G39=3,'liste engagés'!C39,\"\")","v":""},{"$f":"IF('liste engagés'!$G39=3,'liste engagés'!D39,\"\")","v":""},{"$f":"IF('liste engagés'!$G39=3,'liste engagés'!E39,\"\")","v":""},{"$f":"IF('liste engagés'!$G39=3,'liste engagés'!K39,\"\")","v":""},{"$f":"IF('liste engagés'!$G39=3,'liste engagés'!L39,\"\")","v":""},0]
[47,{"$f":"IF('liste engagés'!$G40=3,'liste engagés'!A40,\"\")","v":""},{"$f":"IF('liste engagés'!$G40=3,'liste engagés'!B40,\"\")","v":""},{"$f":"IF('liste engagés'!$G40=3,'liste engagés'!C40,\"\")","v":""},{"$f":"IF('liste engagés'!$G40=3,'liste engagés'!D40,\"\")","v":""},{"$f":"IF('liste engagés'!$G40=3,'liste engagés'!E40,\"\")","v":""},{"$f":"IF('liste engagés'!$G40=3,'liste engagés'!K40,\"\")","v":""},{"$f":"IF('liste engagés'!$G40=3,'liste engagés'!L40,\"\")","v":""},0]
[48,{"$f":"IF('liste engagés'!$G41=3,'liste engagés'!A41,\"\")","v":""},{"$f":"IF('liste engagés'!$G41=3,'liste engagés'!B41,\"\")","v":""},{"$f":"IF('liste engagés'!$G41=3,'liste engagés'!C41,\"\")","v":""},{"$f":"IF('liste engagés'!$G41=3,'liste engagés'!D41,\"\")","v":""},{"$f":"IF('liste engagés'!$G41=3,'liste engagés'!E41,\"\")","v":""},{"$f":"IF('liste engagés'!$G41=3,'liste engagés'!K41,\"\")","v":""},{"$f":"IF('liste engagés'!$G41=3,'liste engagés'!L41,\"\")","v":""},0]
[49,{"$f":"IF('liste engagés'!$G42=3,'liste engagés'!A42,\"\")","v":""},{"$f":"IF('liste engagés'!$G42=3,'liste engagés'!B42,\"\")","v":""},{"$f":"IF('liste engagés'!$G42=3,'liste engagés'!C42,\"\")","v":""},{"$f":"IF('liste engagés'!$G42=3,'liste engagés'!D42,\"\")","v":""},{"$f":"IF('liste engagés'!$G42=3,'liste engagés'!E42,\"\")","v":""},{"$f":"IF('liste engagés'!$G42=3,'liste engagés'!K42,\"\")","v":""},{"$f":"IF('liste engagés'!$G42=3,'liste engagés'!L42,\"\")","v":""},0]
[50,{"$f":"IF('liste engagés'!$G43=3,'liste engagés'!A43,\"\")","v":""},{"$f":"IF('liste engagés'!$G43=3,'liste engagés'!B43,\"\")","v":""},{"$f":"IF('liste engagés'!$G43=3,'liste engagés'!C43,\"\")","v":""},{"$f":"IF('liste engagés'!$G43=3,'liste engagés'!D43,\"\")","v":""},{"$f":"IF('liste engagés'!$G43=3,'liste engagés'!E43,\"\")","v":""},{"$f":"IF('liste engagés'!$G43=3,'liste engagés'!K43,\"\")","v":""},{"$f":"IF('liste engagés'!$G43=3,'liste engagés'!L43,\"\")","v":""},0]
[51,{"$f":"IF('liste engagés'!$G44=3,'liste engagés'!A44,\"\")","v":""},{"$f":"IF('liste engagés'!$G44=3,'liste engagés'!B44,\"\")","v":""},{"$f":"IF('liste engagés'!$G44=3,'liste engagés'!C44,\"\")","v":""},{"$f":"IF('liste engagés'!$G44=3,'liste engagés'!D44,\"\")","v":""},{"$f":"IF('liste engagés'!$G44=3,'liste engagés'!E44,\"\")","v":""},{"$f":"IF('liste engagés'!$G44=3,'liste engagés'!K44,\"\")","v":""},{"$f":"IF('liste engagés'!$G44=3,'liste engagés'!L44,\"\")","v":""},0]
[52,{"$f":"IF('liste engagés'!$G45=3,'liste engagés'!A45,\"\")","v":""},{"$f":"IF('liste engagés'!$G45=3,'liste engagés'!B45,\"\")","v":""},{"$f":"IF('liste engagés'!$G45=3,'liste engagés'!C45,\"\")","v":""},{"$f":"IF('liste engagés'!$G45=3,'liste engagés'!D45,\"\")","v":""},{"$f":"IF('liste engagés'!$G45=3,'liste engagés'!E45,\"\")","v":""},{"$f":"IF('liste engagés'!$G45=3,'liste engagés'!K45,\"\")","v":""},{"$f":"IF('liste engagés'!$G45=3,'liste engagés'!L45,\"\")","v":""},0]
[53,{"$f":"IF('liste engagés'!$G46=3,'liste engagés'!A46,\"\")","v":""},{"$f":"IF('liste engagés'!$G46=3,'liste engagés'!B46,\"\")","v":""},{"$f":"IF('liste engagés'!$G46=3,'liste engagés'!C46,\"\")","v":""},{"$f":"IF('liste engagés'!$G46=3,'liste engagés'!D46,\"\")","v":""},{"$f":"IF('liste engagés'!$G46=3,'liste engagés'!E46,\"\")","v":""},{"$f":"IF('liste engagés'!$G46=3,'liste engagés'!K46,\"\")","v":""},{"$f":"IF('liste engagés'!$G46=3,'liste engagés'!L46,\"\")","v":""},0]
[54,{"$f":"IF('liste engagés'!$G47=3,'liste engagés'!A47,\"\")","v":""},{"$f":"IF('liste engagés'!$G47=3,'liste engagés'!B47,\"\")","v":""},{"$f":"IF('liste engagés'!$G47=3,'liste engagés'!C47,\"\")","v":""},{"$f":"IF('liste engagés'!$G47=3,'liste engagés'!D47,\"\")","v":""},{"$f":"IF('liste engagés'!$G47=3,'liste engagés'!E47,\"\")","v":""},{"$f":"IF('liste engagés'!$G47=3,'liste engagés'!K47,\"\")","v":""},{"$f":"IF('liste engagés'!$G47=3,'liste engagés'!L47,\"\")","v":""},0]
[55,{"$f":"IF('liste engagés'!$G48=3,'liste engagés'!A48,\"\")","v":""},{"$f":"IF('liste engagés'!$G48=3,'liste engagés'!B48,\"\")","v":""},{"$f":"IF('liste engagés'!$G48=3,'liste engagés'!C48,\"\")","v":""},{"$f":"IF('liste engagés'!$G48=3,'liste engagés'!D48,\"\")","v":""},{"$f":"IF('liste engagés'!$G48=3,'liste engagés'!E48,\"\")","v":""},{"$f":"IF('liste engagés'!$G48=3,'liste engagés'!K48,\"\")","v":""},{"$f":"IF('liste engagés'!$G48=3,'liste engagés'!L48,\"\")","v":""},0]
[56,{"$f":"IF('liste engagés'!$G49=3,'liste engagés'!A49,\"\")","v":""},{"$f":"IF('liste engagés'!$G49=3,'liste engagés'!B49,\"\")","v":""},{"$f":"IF('liste engagés'!$G49=3,'liste engagés'!C49,\"\")","v":""},{"$f":"IF('liste engagés'!$G49=3,'liste engagés'!D49,\"\")","v":""},{"$f":"IF('liste engagés'!$G49=3,'liste engagés'!E49,\"\")","v":""},{"$f":"IF('liste engagés'!$G49=3,'liste engagés'!K49,\"\")","v":""},{"$f":"IF('liste engagés'!$G49=3,'liste engagés'!L49,\"\")","v":""},0]
[57,{"$f":"IF('liste engagés'!$G50=3,'liste engagés'!A50,\"\")","v":""},{"$f":"IF('liste engagés'!$G50=3,'liste engagés'!B50,\"\")","v":""},{"$f":"IF('liste engagés'!$G50=3,'liste engagés'!C50,\"\")","v":""},{"$f":"IF('liste engagés'!$G50=3,'liste engagés'!D50,\"\")","v":""},{"$f":"IF('liste engagés'!$G50=3,'liste engagés'!E50,\"\")","v":""},{"$f":"IF('liste engagés'!$G50=3,'liste engagés'!K50,\"\")","v":""},{"$f":"IF('liste engagés'!$G50=3,'liste engagés'!L50,\"\")","v":""},0]
[58,{"$f":"IF('liste engagés'!$G51=3,'liste engagés'!A51,\"\")","v":""},{"$f":"IF('liste engagés'!$G51=3,'liste engagés'!B51,\"\")","v":""},{"$f":"IF('liste engagés'!$G51=3,'liste engagés'!C51,\"\")","v":""},{"$f":"IF('liste engagés'!$G51=3,'liste engagés'!D51,\"\")","v":""},{"$f":"IF('liste engagés'!$G51=3,'liste engagés'!E51,\"\")","v":""},{"$f":"IF('liste engagés'!$G51=3,'liste engagés'!K51,\"\")","v":""},{"$f":"IF('liste engagés'!$G51=3,'liste engagés'!L51,\"\")","v":""},0]
[59,{"$f":"IF('liste engagés'!$G52=3,'liste engagés'!A52,\"\")","v":""},{"$f":"IF('liste engagés'!$G52=3,'liste engagés'!B52,\"\")","v":""},{"$f":"IF('liste engagés'!$G52=3,'liste engagés'!C52,\"\")","v":""},{"$f":"IF('liste engagés'!$G52=3,'liste engagés'!D52,\"\")","v":""},{"$f":"IF('liste engagés'!$G52=3,'liste engagés'!E52,\"\")","v":""},{"$f":"IF('liste engagés'!$G52=3,'liste engagés'!K52,\"\")","v":""},{"$f":"IF('liste engagés'!$G52=3,'liste engagés'!L52,\"\")","v":""},0]
[60,{"$f":"IF('liste engagés'!$G53=3,'liste engagés'!A53,\"\")","v":""},{"$f":"IF('liste engagés'!$G53=3,'liste engagés'!B53,\"\")","v":""},{"$f":"IF('liste engagés'!$G53=3,'liste engagés'!C53,\"\")","v":""},{"$f":"IF('liste engagés'!$G53=3,'liste engagés'!D53,\"\")","v":""},{"$f":"IF('liste engagés'!$G53=3,'liste engagés'!E53,\"\")","v":""},{"$f":"IF('liste engagés'!$G53=3,'liste engagés'!K53,\"\")","v":""},{"$f":"IF('liste engagés'!$G53=3,'liste engagés'!L53,\"\")","v":""},0]
[61,{"$f":"IF('liste engagés'!$G54=3,'liste engagés'!A54,\"\")","v":""},{"$f":"IF('liste engagés'!$G54=3,'liste engagés'!B54,\"\")","v":""},{"$f":"IF('liste engagés'!$G54=3,'liste engagés'!C54,\"\")","v":""},{"$f":"IF('liste engagés'!$G54=3,'liste engagés'!D54,\"\")","v":""},{"$f":"IF('liste engagés'!$G54=3,'liste engagés'!E54,\"\")","v":""},{"$f":"IF('liste engagés'!$G54=3,'liste engagés'!K54,\"\")","v":""},{"$f":"IF('liste engagés'!$G54=3,'liste engagés'!L54,\"\")","v":""},0]
[62,{"$f":"IF('liste engagés'!$G55=3,'liste engagés'!A55,\"\")","v":""},{"$f":"IF('liste engagés'!$G55=3,'liste engagés'!B55,\"\")","v":""},{"$f":"IF('liste engagés'!$G55=3,'liste engagés'!C55,\"\")","v":""},{"$f":"IF('liste engagés'!$G55=3,'liste engagés'!D55,\"\")","v":""},{"$f":"IF('liste engagés'!$G55=3,'liste engagés'!E55,\"\")","v":""},{"$f":"IF('liste engagés'!$G55=3,'liste engagés'!K55,\"\")","v":""},{"$f":"IF('liste engagés'!$G55=3,'liste engagés'!L55,\"\")","v":""},0]
[63,{"$f":"IF('liste engagés'!$G56=3,'liste engagés'!A56,\"\")","v":""},{"$f":"IF('liste engagés'!$G56=3,'liste engagés'!B56,\"\")","v":""},{"$f":"IF('liste engagés'!$G56=3,'liste engagés'!C56,\"\")","v":""},{"$f":"IF('liste engagés'!$G56=3,'liste engagés'!D56,\"\")","v":""},{"$f":"IF('liste engagés'!$G56=3,'liste engagés'!E56,\"\")","v":""},{"$f":"IF('liste engagés'!$G56=3,'liste engagés'!K56,\"\")","v":""},{"$f":"IF('liste engagés'!$G56=3,'liste engagés'!L56,\"\")","v":""},0]
[64,{"$f":"IF('liste engagés'!$G57=3,'liste engagés'!A57,\"\")","v":""},{"$f":"IF('liste engagés'!$G57=3,'liste engagés'!B57,\"\")","v":""},{"$f":"IF('liste engagés'!$G57=3,'liste engagés'!C57,\"\")","v":""},{"$f":"IF('liste engagés'!$G57=3,'liste engagés'!D57,\"\")","v":""},{"$f":"IF('liste engagés'!$G57=3,'liste engagés'!E57,\"\")","v":""},{"$f":"IF('liste engagés'!$G57=3,'liste engagés'!K57,\"\")","v":""},{"$f":"IF('liste engagés'!$G57=3,'liste engagés'!L57,\"\")","v":""},0]
[65,{"$f":"IF('liste engagés'!$G58=3,'liste engagés'!A58,\"\")","v":""},{"$f":"IF('liste engagés'!$G58=3,'liste engagés'!B58,\"\")","v":""},{"$f":"IF('liste engagés'!$G58=3,'liste engagés'!C58,\"\")","v":""},{"$f":"IF('liste engagés'!$G58=3,'liste engagés'!D58,\"\")","v":""},{"$f":"IF('liste engagés'!$G58=3,'liste engagés'!E58,\"\")","v":""},{"$f":"IF('liste engagés'!$G58=3,'liste engagés'!K58,\"\")","v":""},{"$f":"IF('liste engagés'!$G58=3,'liste engagés'!L58,\"\")","v":""},{"$f":"+IF(C71=\"\",0,1)","v":0}]
[{"$f":"+A71+1","v":66},{"$f":"IF('liste engagés'!$G59=3,'liste engagés'!A59,\"\")","v":""},{"$f":"IF('liste engagés'!$G59=3,'liste engagés'!B59,\"\")","v":""},{"$f":"IF('liste engagés'!$G59=3,'liste engagés'!C59,\"\")","v":""},{"$f":"IF('liste engagés'!$G59=3,'liste engagés'!D59,\"\")","v":""},{"$f":"IF('liste engagés'!$G59=3,'liste engagés'!E59,\"\")","v":""},{"$f":"IF('liste engagés'!$G59=3,'liste engagés'!K59,\"\")","v":""},{"$f":"IF('liste engagés'!$G59=3,'liste engagés'!L59,\"\")","v":""},0]
[67,{"$f":"IF('liste engagés'!$G60=3,'liste engagés'!A60,\"\")","v":""},{"$f":"IF('liste engagés'!$G60=3,'liste engagés'!B60,\"\")","v":""},{"$f":"IF('liste engagés'!$G60=3,'liste engagés'!C60,\"\")","v":""},{"$f":"IF('liste engagés'!$G60=3,'liste engagés'!D60,\"\")","v":""},{"$f":"IF('liste engagés'!$G60=3,'liste engagés'!E60,\"\")","v":""},{"$f":"IF('liste engagés'!$G60=3,'liste engagés'!K60,\"\")","v":""},{"$f":"IF('liste engagés'!$G60=3,'liste engagés'!L60,\"\")","v":""},0]
[68,{"$f":"IF('liste engagés'!$G62=3,'liste engagés'!A62,\"\")","v":""},{"$f":"IF('liste engagés'!$G62=3,'liste engagés'!B62,\"\")","v":""},{"$f":"IF('liste engagés'!$G62=3,'liste engagés'!C62,\"\")","v":""},{"$f":"IF('liste engagés'!$G62=3,'liste engagés'!D62,\"\")","v":""},{"$f":"IF('liste engagés'!$G62=3,'liste engagés'!E62,\"\")","v":""},{"$f":"IF('liste engagés'!$G62=3,'liste engagés'!K62,\"\")","v":""},{"$f":"IF('liste engagés'!$G62=3,'liste engagés'!L62,\"\")","v":""},0]
[69,{"$f":"IF('liste engagés'!$G63=3,'liste engagés'!A63,\"\")","v":""},{"$f":"IF('liste engagés'!$G63=3,'liste engagés'!B63,\"\")","v":""},{"$f":"IF('liste engagés'!$G63=3,'liste engagés'!C63,\"\")","v":""},{"$f":"IF('liste engagés'!$G63=3,'liste engagés'!D63,\"\")","v":""},{"$f":"IF('liste engagés'!$G63=3,'liste engagés'!E63,\"\")","v":""},{"$f":"IF('liste engagés'!$G63=3,'liste engagés'!K63,\"\")","v":""},{"$f":"IF('liste engagés'!$G63=3,'liste engagés'!L63,\"\")","v":""},0]
[70,{"$f":"IF('liste engagés'!$G64=3,'liste engagés'!A64,\"\")","v":""},{"$f":"IF('liste engagés'!$G64=3,'liste engagés'!B64,\"\")","v":""},{"$f":"IF('liste engagés'!$G64=3,'liste engagés'!C64,\"\")","v":""},{"$f":"IF('liste engagés'!$G64=3,'liste engagés'!D64,\"\")","v":""},{"$f":"IF('liste engagés'!$G64=3,'liste engagés'!E64,\"\")","v":""},{"$f":"IF('liste engagés'!$G64=3,'liste engagés'!K64,\"\")","v":""},{"$f":"IF('liste engagés'!$G64=3,'liste engagés'!L64,\"\")","v":""},0]
[71,{"$f":"IF('liste engagés'!$G65=3,'liste engagés'!A65,\"\")","v":""},{"$f":"IF('liste engagés'!$G65=3,'liste engagés'!B65,\"\")","v":""},{"$f":"IF('liste engagés'!$G65=3,'liste engagés'!C65,\"\")","v":""},{"$f":"IF('liste engagés'!$G65=3,'liste engagés'!D65,\"\")","v":""},{"$f":"IF('liste engagés'!$G65=3,'liste engagés'!E65,\"\")","v":""},{"$f":"IF('liste engagés'!$G65=3,'liste engagés'!K65,\"\")","v":""},{"$f":"IF('liste engagés'!$G65=3,'liste engagés'!L65,\"\")","v":""},0]
[72,{"$f":"IF('liste engagés'!$G67=3,'liste engagés'!A67,\"\")","v":""},{"$f":"IF('liste engagés'!$G67=3,'liste engagés'!B67,\"\")","v":""},{"$f":"IF('liste engagés'!$G67=3,'liste engagés'!C67,\"\")","v":""},{"$f":"IF('liste engagés'!$G67=3,'liste engagés'!D67,\"\")","v":""},{"$f":"IF('liste engagés'!$G67=3,'liste engagés'!E67,\"\")","v":""},{"$f":"IF('liste engagés'!$G67=3,'liste engagés'!K67,\"\")","v":""},{"$f":"IF('liste engagés'!$G67=3,'liste engagés'!L67,\"\")","v":""},0]
[73,{"$f":"IF('liste engagés'!$G68=3,'liste engagés'!A68,\"\")","v":""},{"$f":"IF('liste engagés'!$G68=3,'liste engagés'!B68,\"\")","v":""},{"$f":"IF('liste engagés'!$G68=3,'liste engagés'!C68,\"\")","v":""},{"$f":"IF('liste engagés'!$G68=3,'liste engagés'!D68,\"\")","v":""},{"$f":"IF('liste engagés'!$G68=3,'liste engagés'!E68,\"\")","v":""},{"$f":"IF('liste engagés'!$G68=3,'liste engagés'!K68,\"\")","v":""},{"$f":"IF('liste engagés'!$G68=3,'liste engagés'!L68,\"\")","v":""},0]
[74,{"$f":"IF('liste engagés'!$G69=3,'liste engagés'!A69,\"\")","v":""},{"$f":"IF('liste engagés'!$G69=3,'liste engagés'!B69,\"\")","v":""},{"$f":"IF('liste engagés'!$G69=3,'liste engagés'!C69,\"\")","v":""},{"$f":"IF('liste engagés'!$G69=3,'liste engagés'!D69,\"\")","v":""},{"$f":"IF('liste engagés'!$G69=3,'liste engagés'!E69,\"\")","v":""},{"$f":"IF('liste engagés'!$G69=3,'liste engagés'!K69,\"\")","v":""},{"$f":"IF('liste engagés'!$G69=3,'liste engagés'!L69,\"\")","v":""},0]
[75,{"$f":"IF('liste engagés'!$G70=3,'liste engagés'!A70,\"\")","v":""},{"$f":"IF('liste engagés'!$G70=3,'liste engagés'!B70,\"\")","v":""},{"$f":"IF('liste engagés'!$G70=3,'liste engagés'!C70,\"\")","v":""},{"$f":"IF('liste engagés'!$G70=3,'liste engagés'!D70,\"\")","v":""},{"$f":"IF('liste engagés'!$G70=3,'liste engagés'!E70,\"\")","v":""},{"$f":"IF('liste engagés'!$G70=3,'liste engagés'!K70,\"\")","v":""},{"$f":"IF('liste engagés'!$G70=3,'liste engagés'!L70,\"\")","v":""},0]
[76,{"$f":"IF('liste engagés'!$G71=3,'liste engagés'!A71,\"\")","v":""},{"$f":"IF('liste engagés'!$G71=3,'liste engagés'!B71,\"\")","v":""},{"$f":"IF('liste engagés'!$G71=3,'liste engagés'!C71,\"\")","v":""},{"$f":"IF('liste engagés'!$G71=3,'liste engagés'!D71,\"\")","v":""},{"$f":"IF('liste engagés'!$G71=3,'liste engagés'!E71,\"\")","v":""},{"$f":"IF('liste engagés'!$G71=3,'liste engagés'!K71,\"\")","v":""},{"$f":"IF('liste engagés'!$G71=3,'liste engagés'!L71,\"\")","v":""},0]
[77,{"$f":"IF('liste engagés'!$G72=3,'liste engagés'!A72,\"\")","v":""},{"$f":"IF('liste engagés'!$G72=3,'liste engagés'!B72,\"\")","v":""},{"$f":"IF('liste engagés'!$G72=3,'liste engagés'!C72,\"\")","v":""},{"$f":"IF('liste engagés'!$G72=3,'liste engagés'!D72,\"\")","v":""},{"$f":"IF('liste engagés'!$G72=3,'liste engagés'!E72,\"\")","v":""},{"$f":"IF('liste engagés'!$G72=3,'liste engagés'!K72,\"\")","v":""},{"$f":"IF('liste engagés'!$G72=3,'liste engagés'!L72,\"\")","v":""},0]
[78,{"$f":"IF('liste engagés'!$G73=3,'liste engagés'!A73,\"\")","v":""},{"$f":"IF('liste engagés'!$G73=3,'liste engagés'!B73,\"\")","v":""},{"$f":"IF('liste engagés'!$G73=3,'liste engagés'!C73,\"\")","v":""},{"$f":"IF('liste engagés'!$G73=3,'liste engagés'!D73,\"\")","v":""},{"$f":"IF('liste engagés'!$G73=3,'liste engagés'!E73,\"\")","v":""},{"$f":"IF('liste engagés'!$G73=3,'liste engagés'!K73,\"\")","v":""},{"$f":"IF('liste engagés'!$G73=3,'liste engagés'!L73,\"\")","v":""},0]
[79,{"$f":"IF('liste engagés'!$G74=3,'liste engagés'!A74,\"\")","v":""},{"$f":"IF('liste engagés'!$G74=3,'liste engagés'!B74,\"\")","v":""},{"$f":"IF('liste engagés'!$G74=3,'liste engagés'!C74,\"\")","v":""},{"$f":"IF('liste engagés'!$G74=3,'liste engagés'!D74,\"\")","v":""},{"$f":"IF('liste engagés'!$G74=3,'liste engagés'!E74,\"\")","v":""},{"$f":"IF('liste engagés'!$G74=3,'liste engagés'!K74,\"\")","v":""},{"$f":"IF('liste engagés'!$G74=3,'liste engagés'!L74,\"\")","v":""},0]
[80,{"$f":"IF('liste engagés'!$G75=3,'liste engagés'!A75,\"\")","v":""},{"$f":"IF('liste engagés'!$G75=3,'liste engagés'!B75,\"\")","v":""},{"$f":"IF('liste engagés'!$G75=3,'liste engagés'!C75,\"\")","v":""},{"$f":"IF('liste engagés'!$G75=3,'liste engagés'!D75,\"\")","v":""},{"$f":"IF('liste engagés'!$G75=3,'liste engagés'!E75,\"\")","v":""},{"$f":"IF('liste engagés'!$G75=3,'liste engagés'!K75,\"\")","v":""},{"$f":"IF('liste engagés'!$G75=3,'liste engagés'!L75,\"\")","v":""},0]
[81,{"$f":"IF('liste engagés'!$G76=3,'liste engagés'!A76,\"\")","v":""},{"$f":"IF('liste engagés'!$G76=3,'liste engagés'!B76,\"\")","v":""},{"$f":"IF('liste engagés'!$G76=3,'liste engagés'!C76,\"\")","v":""},{"$f":"IF('liste engagés'!$G76=3,'liste engagés'!D76,\"\")","v":""},{"$f":"IF('liste engagés'!$G76=3,'liste engagés'!E76,\"\")","v":""},{"$f":"IF('liste engagés'!$G76=3,'liste engagés'!K76,\"\")","v":""},{"$f":"IF('liste engagés'!$G76=3,'liste engagés'!L76,\"\")","v":""},0]
[82,{"$f":"IF('liste engagés'!$G77=3,'liste engagés'!A77,\"\")","v":""},{"$f":"IF('liste engagés'!$G77=3,'liste engagés'!B77,\"\")","v":""},{"$f":"IF('liste engagés'!$G77=3,'liste engagés'!C77,\"\")","v":""},{"$f":"IF('liste engagés'!$G77=3,'liste engagés'!D77,\"\")","v":""},{"$f":"IF('liste engagés'!$G77=3,'liste engagés'!E77,\"\")","v":""},{"$f":"IF('liste engagés'!$G77=3,'liste engagés'!K77,\"\")","v":""},{"$f":"IF('liste engagés'!$G77=3,'liste engagés'!L77,\"\")","v":""},0]
[83,{"$f":"IF('liste engagés'!$G78=3,'liste engagés'!A78,\"\")","v":""},{"$f":"IF('liste engagés'!$G78=3,'liste engagés'!B78,\"\")","v":""},{"$f":"IF('liste engagés'!$G78=3,'liste engagés'!C78,\"\")","v":""},{"$f":"IF('liste engagés'!$G78=3,'liste engagés'!D78,\"\")","v":""},{"$f":"IF('liste engagés'!$G78=3,'liste engagés'!E78,\"\")","v":""},{"$f":"IF('liste engagés'!$G78=3,'liste engagés'!K78,\"\")","v":""},{"$f":"IF('liste engagés'!$G78=3,'liste engagés'!L78,\"\")","v":""},0]
[84,{"$f":"IF('liste engagés'!$G79=3,'liste engagés'!A79,\"\")","v":""},{"$f":"IF('liste engagés'!$G79=3,'liste engagés'!B79,\"\")","v":""},{"$f":"IF('liste engagés'!$G79=3,'liste engagés'!C79,\"\")","v":""},{"$f":"IF('liste engagés'!$G79=3,'liste engagés'!D79,\"\")","v":""},{"$f":"IF('liste engagés'!$G79=3,'liste engagés'!E79,\"\")","v":""},{"$f":"IF('liste engagés'!$G79=3,'liste engagés'!K79,\"\")","v":""},{"$f":"IF('liste engagés'!$G79=3,'liste engagés'!L79,\"\")","v":""},0]
[85,{"$f":"IF('liste engagés'!$G81=3,'liste engagés'!A81,\"\")","v":""},{"$f":"IF('liste engagés'!$G81=3,'liste engagés'!B81,\"\")","v":""},{"$f":"IF('liste engagés'!$G81=3,'liste engagés'!C81,\"\")","v":""},{"$f":"IF('liste engagés'!$G81=3,'liste engagés'!D81,\"\")","v":""},{"$f":"IF('liste engagés'!$G81=3,'liste engagés'!E81,\"\")","v":""},{"$f":"IF('liste engagés'!$G81=3,'liste engagés'!K81,\"\")","v":""},{"$f":"IF('liste engagés'!$G81=3,'liste engagés'!L81,\"\")","v":""},0]
[86,{"$f":"IF('liste engagés'!$G82=3,'liste engagés'!A82,\"\")","v":""},{"$f":"IF('liste engagés'!$G82=3,'liste engagés'!B82,\"\")","v":""},{"$f":"IF('liste engagés'!$G82=3,'liste engagés'!C82,\"\")","v":""},{"$f":"IF('liste engagés'!$G82=3,'liste engagés'!D82,\"\")","v":""},{"$f":"IF('liste engagés'!$G82=3,'liste engagés'!E82,\"\")","v":""},{"$f":"IF('liste engagés'!$G82=3,'liste engagés'!K82,\"\")","v":""},{"$f":"IF('liste engagés'!$G82=3,'liste engagés'!L82,\"\")","v":""},0]
[87,{"$f":"IF('liste engagés'!$G83=3,'liste engagés'!A83,\"\")","v":""},{"$f":"IF('liste engagés'!$G83=3,'liste engagés'!B83,\"\")","v":""},{"$f":"IF('liste engagés'!$G83=3,'liste engagés'!C83,\"\")","v":""},{"$f":"IF('liste engagés'!$G83=3,'liste engagés'!D83,\"\")","v":""},{"$f":"IF('liste engagés'!$G83=3,'liste engagés'!E83,\"\")","v":""},{"$f":"IF('liste engagés'!$G83=3,'liste engagés'!K83,\"\")","v":""},{"$f":"IF('liste engagés'!$G83=3,'liste engagés'!L83,\"\")","v":""},0]
[88,{"$f":"IF('liste engagés'!$G84=3,'liste engagés'!A84,\"\")","v":""},{"$f":"IF('liste engagés'!$G84=3,'liste engagés'!B84,\"\")","v":""},{"$f":"IF('liste engagés'!$G84=3,'liste engagés'!C84,\"\")","v":""},{"$f":"IF('liste engagés'!$G84=3,'liste engagés'!D84,\"\")","v":""},{"$f":"IF('liste engagés'!$G84=3,'liste engagés'!E84,\"\")","v":""},{"$f":"IF('liste engagés'!$G84=3,'liste engagés'!K84,\"\")","v":""},{"$f":"IF('liste engagés'!$G84=3,'liste engagés'!L84,\"\")","v":""},0]
[89,{"$f":"IF('liste engagés'!$G85=3,'liste engagés'!A85,\"\")","v":""},{"$f":"IF('liste engagés'!$G85=3,'liste engagés'!B85,\"\")","v":""},{"$f":"IF('liste engagés'!$G85=3,'liste engagés'!C85,\"\")","v":""},{"$f":"IF('liste engagés'!$G85=3,'liste engagés'!D85,\"\")","v":""},{"$f":"IF('liste engagés'!$G85=3,'liste engagés'!E85,\"\")","v":""},{"$f":"IF('liste engagés'!$G85=3,'liste engagés'!K85,\"\")","v":""},{"$f":"IF('liste engagés'!$G85=3,'liste engagés'!L85,\"\")","v":""},0]
[90,{"$f":"IF('liste engagés'!$G86=3,'liste engagés'!A86,\"\")","v":""},{"$f":"IF('liste engagés'!$G86=3,'liste engagés'!B86,\"\")","v":""},{"$f":"IF('liste engagés'!$G86=3,'liste engagés'!C86,\"\")","v":""},{"$f":"IF('liste engagés'!$G86=3,'liste engagés'!D86,\"\")","v":""},{"$f":"IF('liste engagés'!$G86=3,'liste engagés'!E86,\"\")","v":""},{"$f":"IF('liste engagés'!$G86=3,'liste engagés'!K86,\"\")","v":""},{"$f":"IF('liste engagés'!$G86=3,'liste engagés'!L86,\"\")","v":""},0]
[91,{"$f":"IF('liste engagés'!$G87=3,'liste engagés'!A87,\"\")","v":""},{"$f":"IF('liste engagés'!$G87=3,'liste engagés'!B87,\"\")","v":""},{"$f":"IF('liste engagés'!$G87=3,'liste engagés'!C87,\"\")","v":""},{"$f":"IF('liste engagés'!$G87=3,'liste engagés'!D87,\"\")","v":""},{"$f":"IF('liste engagés'!$G87=3,'liste engagés'!E87,\"\")","v":""},{"$f":"IF('liste engagés'!$G87=3,'liste engagés'!K87,\"\")","v":""},{"$f":"IF('liste engagés'!$G87=3,'liste engagés'!L87,\"\")","v":""},0]
[92,{"$f":"IF('liste engagés'!$G88=3,'liste engagés'!A88,\"\")","v":""},{"$f":"IF('liste engagés'!$G88=3,'liste engagés'!B88,\"\")","v":""},{"$f":"IF('liste engagés'!$G88=3,'liste engagés'!C88,\"\")","v":""},{"$f":"IF('liste engagés'!$G88=3,'liste engagés'!D88,\"\")","v":""},{"$f":"IF('liste engagés'!$G88=3,'liste engagés'!E88,\"\")","v":""},{"$f":"IF('liste engagés'!$G88=3,'liste engagés'!K88,\"\")","v":""},{"$f":"IF('liste engagés'!$G88=3,'liste engagés'!L88,\"\")","v":""},0]
[93,{"$f":"IF('liste engagés'!$G91=3,'liste engagés'!A91,\"\")","v":""},{"$f":"IF('liste engagés'!$G91=3,'liste engagés'!B91,\"\")","v":""},{"$f":"IF('liste engagés'!$G91=3,'liste engagés'!C91,\"\")","v":""},{"$f":"IF('liste engagés'!$G91=3,'liste engagés'!D91,\"\")","v":""},{"$f":"IF('liste engagés'!$G91=3,'liste engagés'!E91,\"\")","v":""},{"$f":"IF('liste engagés'!$G91=3,'liste engagés'!K91,\"\")","v":""},{"$f":"IF('liste engagés'!$G91=3,'liste engagés'!L91,\"\")","v":""},0]
[94,{"$f":"IF('liste engagés'!$G92=3,'liste engagés'!A92,\"\")","v":""},{"$f":"IF('liste engagés'!$G92=3,'liste engagés'!B92,\"\")","v":""},{"$f":"IF('liste engagés'!$G92=3,'liste engagés'!C92,\"\")","v":""},{"$f":"IF('liste engagés'!$G92=3,'liste engagés'!D92,\"\")","v":""},{"$f":"IF('liste engagés'!$G92=3,'liste engagés'!E92,\"\")","v":""},{"$f":"IF('liste engagés'!$G92=3,'liste engagés'!K92,\"\")","v":""},{"$f":"IF('liste engagés'!$G92=3,'liste engagés'!L92,\"\")","v":""},0]
[95,{"$f":"IF('liste engagés'!$G93=3,'liste engagés'!A93,\"\")","v":""},{"$f":"IF('liste engagés'!$G93=3,'liste engagés'!B93,\"\")","v":""},{"$f":"IF('liste engagés'!$G93=3,'liste engagés'!C93,\"\")","v":""},{"$f":"IF('liste engagés'!$G93=3,'liste engagés'!D93,\"\")","v":""},{"$f":"IF('liste engagés'!$G93=3,'liste engagés'!E93,\"\")","v":""},{"$f":"IF('liste engagés'!$G93=3,'liste engagés'!K93,\"\")","v":""},{"$f":"IF('liste engagés'!$G93=3,'liste engagés'!L93,\"\")","v":""},0]
[96,{"$f":"IF('liste engagés'!$G94=3,'liste engagés'!A94,\"\")","v":""},{"$f":"IF('liste engagés'!$G94=3,'liste engagés'!B94,\"\")","v":""},{"$f":"IF('liste engagés'!$G94=3,'liste engagés'!C94,\"\")","v":""},{"$f":"IF('liste engagés'!$G94=3,'liste engagés'!D94,\"\")","v":""},{"$f":"IF('liste engagés'!$G94=3,'liste engagés'!E94,\"\")","v":""},{"$f":"IF('liste engagés'!$G94=3,'liste engagés'!K94,\"\")","v":""},{"$f":"IF('liste engagés'!$G94=3,'liste engagés'!L94,\"\")","v":""},0]
[97,{"$f":"IF('liste engagés'!$G95=3,'liste engagés'!A95,\"\")","v":""},{"$f":"IF('liste engagés'!$G95=3,'liste engagés'!B95,\"\")","v":""},{"$f":"IF('liste engagés'!$G95=3,'liste engagés'!C95,\"\")","v":""},{"$f":"IF('liste engagés'!$G95=3,'liste engagés'!D95,\"\")","v":""},{"$f":"IF('liste engagés'!$G95=3,'liste engagés'!E95,\"\")","v":""},{"$f":"IF('liste engagés'!$G95=3,'liste engagés'!K95,\"\")","v":""},{"$f":"IF('liste engagés'!$G95=3,'liste engagés'!L95,\"\")","v":""},0]
[98,{"$f":"IF('liste engagés'!$G96=3,'liste engagés'!A96,\"\")","v":""},{"$f":"IF('liste engagés'!$G96=3,'liste engagés'!B96,\"\")","v":""},{"$f":"IF('liste engagés'!$G96=3,'liste engagés'!C96,\"\")","v":""},{"$f":"IF('liste engagés'!$G96=3,'liste engagés'!D96,\"\")","v":""},{"$f":"IF('liste engagés'!$G96=3,'liste engagés'!E96,\"\")","v":""},{"$f":"IF('liste engagés'!$G96=3,'liste engagés'!K96,\"\")","v":""},{"$f":"IF('liste engagés'!$G96=3,'liste engagés'!L96,\"\")","v":""},0]
[99,{"$f":"IF('liste engagés'!$G97=3,'liste engagés'!A97,\"\")","v":""},{"$f":"IF('liste engagés'!$G97=3,'liste engagés'!B97,\"\")","v":""},{"$f":"IF('liste engagés'!$G97=3,'liste engagés'!C97,\"\")","v":""},{"$f":"IF('liste engagés'!$G97=3,'liste engagés'!D97,\"\")","v":""},{"$f":"IF('liste engagés'!$G97=3,'liste engagés'!E97,\"\")","v":""},{"$f":"IF('liste engagés'!$G97=3,'liste engagés'!K97,\"\")","v":""},{"$f":"IF('liste engagés'!$G97=3,'liste engagés'!L97,\"\")","v":""},0]
[100,{"$f":"IF('liste engagés'!$G98=3,'liste engagés'!A98,\"\")","v":""},{"$f":"IF('liste engagés'!$G98=3,'liste engagés'!B98,\"\")","v":""},{"$f":"IF('liste engagés'!$G98=3,'liste engagés'!C98,\"\")","v":""},{"$f":"IF('liste engagés'!$G98=3,'liste engagés'!D98,\"\")","v":""},{"$f":"IF('liste engagés'!$G98=3,'liste engagés'!E98,\"\")","v":""},{"$f":"IF('liste engagés'!$G98=3,'liste engagés'!K98,\"\")","v":""},{"$f":"IF('liste engagés'!$G98=3,'liste engagés'!L98,\"\")","v":""},0]
[101,{"$f":"IF('liste engagés'!$G99=3,'liste engagés'!A99,\"\")","v":""},{"$f":"IF('liste engagés'!$G99=3,'liste engagés'!B99,\"\")","v":""},{"$f":"IF('liste engagés'!$G99=3,'liste engagés'!C99,\"\")","v":""},{"$f":"IF('liste engagés'!$G99=3,'liste engagés'!D99,\"\")","v":""},{"$f":"IF('liste engagés'!$G99=3,'liste engagés'!E99,\"\")","v":""},{"$f":"IF('liste engagés'!$G99=3,'liste engagés'!K99,\"\")","v":""},{"$f":"IF('liste engagés'!$G99=3,'liste engagés'!L99,\"\")","v":""},0]
[102,{"$f":"IF('liste engagés'!$G100=3,'liste engagés'!A100,\"\")","v":""},{"$f":"IF('liste engagés'!$G100=3,'liste engagés'!B100,\"\")","v":""},{"$f":"IF('liste engagés'!$G100=3,'liste engagés'!C100,\"\")","v":""},{"$f":"IF('liste engagés'!$G100=3,'liste engagés'!D100,\"\")","v":""},{"$f":"IF('liste engagés'!$G100=3,'liste engagés'!E100,\"\")","v":""},{"$f":"IF('liste engagés'!$G100=3,'liste engagés'!K100,\"\")","v":""},{"$f":"IF('liste engagés'!$G100=3,'liste engagés'!L100,\"\")","v":""},0]
[103,{"$f":"IF('liste engagés'!$G102=3,'liste engagés'!A102,\"\")","v":""},{"$f":"IF('liste engagés'!$G102=3,'liste engagés'!B102,\"\")","v":""},{"$f":"IF('liste engagés'!$G102=3,'liste engagés'!C102,\"\")","v":""},{"$f":"IF('liste engagés'!$G102=3,'liste engagés'!D102,\"\")","v":""},{"$f":"IF('liste engagés'!$G102=3,'liste engagés'!E102,\"\")","v":""},{"$f":"IF('liste engagés'!$G102=3,'liste engagés'!K102,\"\")","v":""},{"$f":"IF('liste engagés'!$G102=3,'liste engagés'!L102,\"\")","v":""},0]
[104,{"$f":"IF('liste engagés'!$G103=3,'liste engagés'!A103,\"\")","v":""},{"$f":"IF('liste engagés'!$G103=3,'liste engagés'!B103,\"\")","v":""},{"$f":"IF('liste engagés'!$G103=3,'liste engagés'!C103,\"\")","v":""},{"$f":"IF('liste engagés'!$G103=3,'liste engagés'!D103,\"\")","v":""},{"$f":"IF('liste engagés'!$G103=3,'liste engagés'!E103,\"\")","v":""},{"$f":"IF('liste engagés'!$G103=3,'liste engagés'!K103,\"\")","v":""},{"$f":"IF('liste engagés'!$G103=3,'liste engagés'!L103,\"\")","v":""},0]
[105,{"$f":"IF('liste engagés'!$G104=3,'liste engagés'!A104,\"\")","v":""},{"$f":"IF('liste engagés'!$G104=3,'liste engagés'!B104,\"\")","v":""},{"$f":"IF('liste engagés'!$G104=3,'liste engagés'!C104,\"\")","v":""},{"$f":"IF('liste engagés'!$G104=3,'liste engagés'!D104,\"\")","v":""},{"$f":"IF('liste engagés'!$G104=3,'liste engagés'!E104,\"\")","v":""},{"$f":"IF('liste engagés'!$G104=3,'liste engagés'!K104,\"\")","v":""},{"$f":"IF('liste engagés'!$G104=3,'liste engagés'!L104,\"\")","v":""},0]
[106,{"$f":"IF('liste engagés'!$G105=3,'liste engagés'!A105,\"\")","v":""},{"$f":"IF('liste engagés'!$G105=3,'liste engagés'!B105,\"\")","v":""},{"$f":"IF('liste engagés'!$G105=3,'liste engagés'!C105,\"\")","v":""},{"$f":"IF('liste engagés'!$G105=3,'liste engagés'!D105,\"\")","v":""},{"$f":"IF('liste engagés'!$G105=3,'liste engagés'!E105,\"\")","v":""},{"$f":"IF('liste engagés'!$G105=3,'liste engagés'!K105,\"\")","v":""},{"$f":"IF('liste engagés'!$G105=3,'liste engagés'!L105,\"\")","v":""},0]
[107,{"$f":"IF('liste engagés'!$G106=3,'liste engagés'!A106,\"\")","v":""},{"$f":"IF('liste engagés'!$G106=3,'liste engagés'!B106,\"\")","v":""},{"$f":"IF('liste engagés'!$G106=3,'liste engagés'!C106,\"\")","v":""},{"$f":"IF('liste engagés'!$G106=3,'liste engagés'!D106,\"\")","v":""},{"$f":"IF('liste engagés'!$G106=3,'liste engagés'!E106,\"\")","v":""},{"$f":"IF('liste engagés'!$G106=3,'liste engagés'!K106,\"\")","v":""},{"$f":"IF('liste engagés'!$G106=3,'liste engagés'!L106,\"\")","v":""},0]
[108,{"$f":"IF('liste engagés'!$G107=3,'liste engagés'!A107,\"\")","v":""},{"$f":"IF('liste engagés'!$G107=3,'liste engagés'!B107,\"\")","v":""},{"$f":"IF('liste engagés'!$G107=3,'liste engagés'!C107,\"\")","v":""},{"$f":"IF('liste engagés'!$G107=3,'liste engagés'!D107,\"\")","v":""},{"$f":"IF('liste engagés'!$G107=3,'liste engagés'!E107,\"\")","v":""},{"$f":"IF('liste engagés'!$G107=3,'liste engagés'!K107,\"\")","v":""},{"$f":"IF('liste engagés'!$G107=3,'liste engagés'!L107,\"\")","v":""},0]
[109,{"$f":"IF('liste engagés'!$G108=3,'liste engagés'!A108,\"\")","v":""},{"$f":"IF('liste engagés'!$G108=3,'liste engagés'!B108,\"\")","v":""},{"$f":"IF('liste engagés'!$G108=3,'liste engagés'!C108,\"\")","v":""},{"$f":"IF('liste engagés'!$G108=3,'liste engagés'!D108,\"\")","v":""},{"$f":"IF('liste engagés'!$G108=3,'liste engagés'!E108,\"\")","v":""},{"$f":"IF('liste engagés'!$G108=3,'liste engagés'!K108,\"\")","v":""},{"$f":"IF('liste engagés'!$G108=3,'liste engagés'!L108,\"\")","v":""},0]
[110,{"$f":"IF('liste engagés'!$G109=3,'liste engagés'!A109,\"\")","v":""},{"$f":"IF('liste engagés'!$G109=3,'liste engagés'!B109,\"\")","v":""},{"$f":"IF('liste engagés'!$G109=3,'liste engagés'!C109,\"\")","v":""},{"$f":"IF('liste engagés'!$G109=3,'liste engagés'!D109,\"\")","v":""},{"$f":"IF('liste engagés'!$G109=3,'liste engagés'!E109,\"\")","v":""},{"$f":"IF('liste engagés'!$G109=3,'liste engagés'!K109,\"\")","v":""},{"$f":"IF('liste engagés'!$G109=3,'liste engagés'!L109,\"\")","v":""},0]
[111,{"$f":"IF('liste engagés'!$G110=3,'liste engagés'!A110,\"\")","v":""},{"$f":"IF('liste engagés'!$G110=3,'liste engagés'!B110,\"\")","v":""},{"$f":"IF('liste engagés'!$G110=3,'liste engagés'!C110,\"\")","v":""},{"$f":"IF('liste engagés'!$G110=3,'liste engagés'!D110,\"\")","v":""},{"$f":"IF('liste engagés'!$G110=3,'liste engagés'!E110,\"\")","v":""},{"$f":"IF('liste engagés'!$G110=3,'liste engagés'!K110,\"\")","v":""},{"$f":"IF('liste engagés'!$G110=3,'liste engagés'!L110,\"\")","v":""},0]
[112,{"$f":"IF('liste engagés'!$G111=3,'liste engagés'!A111,\"\")","v":""},{"$f":"IF('liste engagés'!$G111=3,'liste engagés'!B111,\"\")","v":""},{"$f":"IF('liste engagés'!$G111=3,'liste engagés'!C111,\"\")","v":""},{"$f":"IF('liste engagés'!$G111=3,'liste engagés'!D111,\"\")","v":""},{"$f":"IF('liste engagés'!$G111=3,'liste engagés'!E111,\"\")","v":""},{"$f":"IF('liste engagés'!$G111=3,'liste engagés'!K111,\"\")","v":""},{"$f":"IF('liste engagés'!$G111=3,'liste engagés'!L111,\"\")","v":""},0]
[113,{"$f":"IF('liste engagés'!$G112=3,'liste engagés'!A112,\"\")","v":""},{"$f":"IF('liste engagés'!$G112=3,'liste engagés'!B112,\"\")","v":""},{"$f":"IF('liste engagés'!$G112=3,'liste engagés'!C112,\"\")","v":""},{"$f":"IF('liste engagés'!$G112=3,'liste engagés'!D112,\"\")","v":""},{"$f":"IF('liste engagés'!$G112=3,'liste engagés'!E112,\"\")","v":""},{"$f":"IF('liste engagés'!$G112=3,'liste engagés'!K112,\"\")","v":""},{"$f":"IF('liste engagés'!$G112=3,'liste engagés'!L112,\"\")","v":""},0]
[114,{"$f":"IF('liste engagés'!$G113=3,'liste engagés'!A113,\"\")","v":""},{"$f":"IF('liste engagés'!$G113=3,'liste engagés'!B113,\"\")","v":""},{"$f":"IF('liste engagés'!$G113=3,'liste engagés'!C113,\"\")","v":""},{"$f":"IF('liste engagés'!$G113=3,'liste engagés'!D113,\"\")","v":""},{"$f":"IF('liste engagés'!$G113=3,'liste engagés'!E113,\"\")","v":""},{"$f":"IF('liste engagés'!$G113=3,'liste engagés'!K113,\"\")","v":""},{"$f":"IF('liste engagés'!$G113=3,'liste engagés'!L113,\"\")","v":""},0]
[115,{"$f":"IF('liste engagés'!$G114=3,'liste engagés'!A114,\"\")","v":""},{"$f":"IF('liste engagés'!$G114=3,'liste engagés'!B114,\"\")","v":""},{"$f":"IF('liste engagés'!$G114=3,'liste engagés'!C114,\"\")","v":""},{"$f":"IF('liste engagés'!$G114=3,'liste engagés'!D114,\"\")","v":""},{"$f":"IF('liste engagés'!$G114=3,'liste engagés'!E114,\"\")","v":""},{"$f":"IF('liste engagés'!$G114=3,'liste engagés'!K114,\"\")","v":""},{"$f":"IF('liste engagés'!$G114=3,'liste engagés'!L114,\"\")","v":""},0]
[116,{"$f":"IF('liste engagés'!$G115=3,'liste engagés'!A115,\"\")","v":""},{"$f":"IF('liste engagés'!$G115=3,'liste engagés'!B115,\"\")","v":""},{"$f":"IF('liste engagés'!$G115=3,'liste engagés'!C115,\"\")","v":""},{"$f":"IF('liste engagés'!$G115=3,'liste engagés'!D115,\"\")","v":""},{"$f":"IF('liste engagés'!$G115=3,'liste engagés'!E115,\"\")","v":""},{"$f":"IF('liste engagés'!$G115=3,'liste engagés'!K115,\"\")","v":""},{"$f":"IF('liste engagés'!$G115=3,'liste engagés'!L115,\"\")","v":""},0]
[117,{"$f":"IF('liste engagés'!$G116=3,'liste engagés'!A116,\"\")","v":""},{"$f":"IF('liste engagés'!$G116=3,'liste engagés'!B116,\"\")","v":""},{"$f":"IF('liste engagés'!$G116=3,'liste engagés'!C116,\"\")","v":""},{"$f":"IF('liste engagés'!$G116=3,'liste engagés'!D116,\"\")","v":""},{"$f":"IF('liste engagés'!$G116=3,'liste engagés'!E116,\"\")","v":""},{"$f":"IF('liste engagés'!$G116=3,'liste engagés'!K116,\"\")","v":""},{"$f":"IF('liste engagés'!$G116=3,'liste engagés'!L116,\"\")","v":""},0]
[118,{"$f":"IF('liste engagés'!$G117=3,'liste engagés'!A117,\"\")","v":""},{"$f":"IF('liste engagés'!$G117=3,'liste engagés'!B117,\"\")","v":""},{"$f":"IF('liste engagés'!$G117=3,'liste engagés'!C117,\"\")","v":""},{"$f":"IF('liste engagés'!$G117=3,'liste engagés'!D117,\"\")","v":""},{"$f":"IF('liste engagés'!$G117=3,'liste engagés'!E117,\"\")","v":""},{"$f":"IF('liste engagés'!$G117=3,'liste engagés'!K117,\"\")","v":""},{"$f":"IF('liste engagés'!$G117=3,'liste engagés'!L117,\"\")","v":""},0]
[119,{"$f":"IF('liste engagés'!$G118=3,'liste engagés'!A118,\"\")","v":""},{"$f":"IF('liste engagés'!$G118=3,'liste engagés'!B118,\"\")","v":""},{"$f":"IF('liste engagés'!$G118=3,'liste engagés'!C118,\"\")","v":""},{"$f":"IF('liste engagés'!$G118=3,'liste engagés'!D118,\"\")","v":""},{"$f":"IF('liste engagés'!$G118=3,'liste engagés'!E118,\"\")","v":""},{"$f":"IF('liste engagés'!$G118=3,'liste engagés'!K118,\"\")","v":""},{"$f":"IF('liste engagés'!$G118=3,'liste engagés'!L118,\"\")","v":""},0]
[120,{"$f":"IF('liste engagés'!$G120=3,'liste engagés'!A120,\"\")","v":""},{"$f":"IF('liste engagés'!$G120=3,'liste engagés'!B120,\"\")","v":""},{"$f":"IF('liste engagés'!$G120=3,'liste engagés'!C120,\"\")","v":""},{"$f":"IF('liste engagés'!$G120=3,'liste engagés'!D120,\"\")","v":""},{"$f":"IF('liste engagés'!$G120=3,'liste engagés'!E120,\"\")","v":""},{"$f":"IF('liste engagés'!$G120=3,'liste engagés'!K120,\"\")","v":""},{"$f":"IF('liste engagés'!$G120=3,'liste engagés'!L120,\"\")","v":""},0]
[121,{"$f":"IF('liste engagés'!$G121=3,'liste engagés'!A121,\"\")","v":""},{"$f":"IF('liste engagés'!$G121=3,'liste engagés'!B121,\"\")","v":""},{"$f":"IF('liste engagés'!$G121=3,'liste engagés'!C121,\"\")","v":""},{"$f":"IF('liste engagés'!$G121=3,'liste engagés'!D121,\"\")","v":""},{"$f":"IF('liste engagés'!$G121=3,'liste engagés'!E121,\"\")","v":""},{"$f":"IF('liste engagés'!$G121=3,'liste engagés'!K121,\"\")","v":""},{"$f":"IF('liste engagés'!$G121=3,'liste engagés'!L121,\"\")","v":""},0]
[122,{"$f":"IF('liste engagés'!$G123=3,'liste engagés'!A123,\"\")","v":""},{"$f":"IF('liste engagés'!$G123=3,'liste engagés'!B123,\"\")","v":""},{"$f":"IF('liste engagés'!$G123=3,'liste engagés'!C123,\"\")","v":""},{"$f":"IF('liste engagés'!$G123=3,'liste engagés'!D123,\"\")","v":""},{"$f":"IF('liste engagés'!$G123=3,'liste engagés'!E123,\"\")","v":""},{"$f":"IF('liste engagés'!$G123=3,'liste engagés'!K123,\"\")","v":""},{"$f":"IF('liste engagés'!$G123=3,'liste engagés'!L123,\"\")","v":""},0]
[123,{"$f":"IF('liste engagés'!$G124=3,'liste engagés'!A124,\"\")","v":""},{"$f":"IF('liste engagés'!$G124=3,'liste engagés'!B124,\"\")","v":""},{"$f":"IF('liste engagés'!$G124=3,'liste engagés'!C124,\"\")","v":""},{"$f":"IF('liste engagés'!$G124=3,'liste engagés'!D124,\"\")","v":""},{"$f":"IF('liste engagés'!$G124=3,'liste engagés'!E124,\"\")","v":""},{"$f":"IF('liste engagés'!$G124=3,'liste engagés'!K124,\"\")","v":""},{"$f":"IF('liste engagés'!$G124=3,'liste engagés'!L124,\"\")","v":""},0]
[124,{"$f":"IF('liste engagés'!$G125=3,'liste engagés'!A125,\"\")","v":""},{"$f":"IF('liste engagés'!$G125=3,'liste engagés'!B125,\"\")","v":""},{"$f":"IF('liste engagés'!$G125=3,'liste engagés'!C125,\"\")","v":""},{"$f":"IF('liste engagés'!$G125=3,'liste engagés'!D125,\"\")","v":""},{"$f":"IF('liste engagés'!$G125=3,'liste engagés'!E125,\"\")","v":""},{"$f":"IF('liste engagés'!$G125=3,'liste engagés'!K125,\"\")","v":""},{"$f":"IF('liste engagés'!$G125=3,'liste engagés'!L125,\"\")","v":""},0]
[125,{"$f":"IF('liste engagés'!$G126=3,'liste engagés'!A126,\"\")","v":""},{"$f":"IF('liste engagés'!$G126=3,'liste engagés'!B126,\"\")","v":""},{"$f":"IF('liste engagés'!$G126=3,'liste engagés'!C126,\"\")","v":""},{"$f":"IF('liste engagés'!$G126=3,'liste engagés'!D126,\"\")","v":""},{"$f":"IF('liste engagés'!$G126=3,'liste engagés'!E126,\"\")","v":""},{"$f":"IF('liste engagés'!$G126=3,'liste engagés'!K126,\"\")","v":""},{"$f":"IF('liste engagés'!$G126=3,'liste engagés'!L126,\"\")","v":""},0]
[126,{"$f":"IF('liste engagés'!$G127=3,'liste engagés'!A127,\"\")","v":""},{"$f":"IF('liste engagés'!$G127=3,'liste engagés'!B127,\"\")","v":""},{"$f":"IF('liste engagés'!$G127=3,'liste engagés'!C127,\"\")","v":""},{"$f":"IF('liste engagés'!$G127=3,'liste engagés'!D127,\"\")","v":""},{"$f":"IF('liste engagés'!$G127=3,'liste engagés'!E127,\"\")","v":""},{"$f":"IF('liste engagés'!$G127=3,'liste engagés'!K127,\"\")","v":""},{"$f":"IF('liste engagés'!$G127=3,'liste engagés'!L127,\"\")","v":""},0]
[127,{"$f":"IF('liste engagés'!$G128=3,'liste engagés'!A128,\"\")","v":""},{"$f":"IF('liste engagés'!$G128=3,'liste engagés'!B128,\"\")","v":""},{"$f":"IF('liste engagés'!$G128=3,'liste engagés'!C128,\"\")","v":""},{"$f":"IF('liste engagés'!$G128=3,'liste engagés'!D128,\"\")","v":""},{"$f":"IF('liste engagés'!$G128=3,'liste engagés'!E128,\"\")","v":""},{"$f":"IF('liste engagés'!$G128=3,'liste engagés'!K128,\"\")","v":""},{"$f":"IF('liste engagés'!$G128=3,'liste engagés'!L128,\"\")","v":""},0]
[128,{"$f":"IF('liste engagés'!$G129=3,'liste engagés'!A129,\"\")","v":""},{"$f":"IF('liste engagés'!$G129=3,'liste engagés'!B129,\"\")","v":""},{"$f":"IF('liste engagés'!$G129=3,'liste engagés'!C129,\"\")","v":""},{"$f":"IF('liste engagés'!$G129=3,'liste engagés'!D129,\"\")","v":""},{"$f":"IF('liste engagés'!$G129=3,'liste engagés'!E129,\"\")","v":""},{"$f":"IF('liste engagés'!$G129=3,'liste engagés'!K129,\"\")","v":""},{"$f":"IF('liste engagés'!$G129=3,'liste engagés'!L129,\"\")","v":""},0]
[129,{"$f":"IF('liste engagés'!$G130=3,'liste engagés'!A130,\"\")","v":""},{"$f":"IF('liste engagés'!$G130=3,'liste engagés'!B130,\"\")","v":""},{"$f":"IF('liste engagés'!$G130=3,'liste engagés'!C130,\"\")","v":""},{"$f":"IF('liste engagés'!$G130=3,'liste engagés'!D130,\"\")","v":""},{"$f":"IF('liste engagés'!$G130=3,'liste engagés'!E130,\"\")","v":""},{"$f":"IF('liste engagés'!$G130=3,'liste engagés'!K130,\"\")","v":""},{"$f":"IF('liste engagés'!$G130=3,'liste engagés'!L130,\"\")","v":""},{"$f":"+IF(C135=\"\",0,1)","v":0}]
[{"$f":"+A135+1","v":130},{"$f":"IF('liste engagés'!$G131=3,'liste engagés'!A131,\"\")","v":""},{"$f":"IF('liste engagés'!$G131=3,'liste engagés'!B131,\"\")","v":""},{"$f":"IF('liste engagés'!$G131=3,'liste engagés'!C131,\"\")","v":""},{"$f":"IF('liste engagés'!$G131=3,'liste engagés'!D131,\"\")","v":""},{"$f":"IF('liste engagés'!$G131=3,'liste engagés'!E131,\"\")","v":""},{"$f":"IF('liste engagés'!$G131=3,'liste engagés'!K131,\"\")","v":""},{"$f":"IF('liste engagés'!$G131=3,'liste engagés'!L131,\"\")","v":""},0]
[131,{"$f":"IF('liste engagés'!$G132=3,'liste engagés'!A132,\"\")","v":""},{"$f":"IF('liste engagés'!$G132=3,'liste engagés'!B132,\"\")","v":""},{"$f":"IF('liste engagés'!$G132=3,'liste engagés'!C132,\"\")","v":""},{"$f":"IF('liste engagés'!$G132=3,'liste engagés'!D132,\"\")","v":""},{"$f":"IF('liste engagés'!$G132=3,'liste engagés'!E132,\"\")","v":""},{"$f":"IF('liste engagés'!$G132=3,'liste engagés'!K132,\"\")","v":""},{"$f":"IF('liste engagés'!$G132=3,'liste engagés'!L132,\"\")","v":""},0]
[132,{"$f":"IF('liste engagés'!$G133=3,'liste engagés'!A133,\"\")","v":""},{"$f":"IF('liste engagés'!$G133=3,'liste engagés'!B133,\"\")","v":""},{"$f":"IF('liste engagés'!$G133=3,'liste engagés'!C133,\"\")","v":""},{"$f":"IF('liste engagés'!$G133=3,'liste engagés'!D133,\"\")","v":""},{"$f":"IF('liste engagés'!$G133=3,'liste engagés'!E133,\"\")","v":""},{"$f":"IF('liste engagés'!$G133=3,'liste engagés'!K133,\"\")","v":""},{"$f":"IF('liste engagés'!$G133=3,'liste engagés'!L133,\"\")","v":""},0]
[133,{"$f":"IF('liste engagés'!$G134=3,'liste engagés'!A134,\"\")","v":""},{"$f":"IF('liste engagés'!$G134=3,'liste engagés'!B134,\"\")","v":""},{"$f":"IF('liste engagés'!$G134=3,'liste engagés'!C134,\"\")","v":""},{"$f":"IF('liste engagés'!$G134=3,'liste engagés'!D134,\"\")","v":""},{"$f":"IF('liste engagés'!$G134=3,'liste engagés'!E134,\"\")","v":""},{"$f":"IF('liste engagés'!$G134=3,'liste engagés'!K134,\"\")","v":""},{"$f":"IF('liste engagés'!$G134=3,'liste engagés'!L134,\"\")","v":""},0]
[134,{"$f":"IF('liste engagés'!$G135=3,'liste engagés'!A135,\"\")","v":""},{"$f":"IF('liste engagés'!$G135=3,'liste engagés'!B135,\"\")","v":""},{"$f":"IF('liste engagés'!$G135=3,'liste engagés'!C135,\"\")","v":""},{"$f":"IF('liste engagés'!$G135=3,'liste engagés'!D135,\"\")","v":""},{"$f":"IF('liste engagés'!$G135=3,'liste engagés'!E135,\"\")","v":""},{"$f":"IF('liste engagés'!$G135=3,'liste engagés'!K135,\"\")","v":""},{"$f":"IF('liste engagés'!$G135=3,'liste engagés'!L135,\"\")","v":""},0]
[135,{"$f":"IF('liste engagés'!$G136=3,'liste engagés'!A136,\"\")","v":""},{"$f":"IF('liste engagés'!$G136=3,'liste engagés'!B136,\"\")","v":""},{"$f":"IF('liste engagés'!$G136=3,'liste engagés'!C136,\"\")","v":""},{"$f":"IF('liste engagés'!$G136=3,'liste engagés'!D136,\"\")","v":""},{"$f":"IF('liste engagés'!$G136=3,'liste engagés'!E136,\"\")","v":""},{"$f":"IF('liste engagés'!$G136=3,'liste engagés'!K136,\"\")","v":""},{"$f":"IF('liste engagés'!$G136=3,'liste engagés'!L136,\"\")","v":""},0]
[136,{"$f":"IF('liste engagés'!$G137=3,'liste engagés'!A137,\"\")","v":""},{"$f":"IF('liste engagés'!$G137=3,'liste engagés'!B137,\"\")","v":""},{"$f":"IF('liste engagés'!$G137=3,'liste engagés'!C137,\"\")","v":""},{"$f":"IF('liste engagés'!$G137=3,'liste engagés'!D137,\"\")","v":""},{"$f":"IF('liste engagés'!$G137=3,'liste engagés'!E137,\"\")","v":""},{"$f":"IF('liste engagés'!$G137=3,'liste engagés'!K137,\"\")","v":""},{"$f":"IF('liste engagés'!$G137=3,'liste engagés'!L137,\"\")","v":""},0]
[137,{"$f":"IF('liste engagés'!$G138=3,'liste engagés'!A138,\"\")","v":""},{"$f":"IF('liste engagés'!$G138=3,'liste engagés'!B138,\"\")","v":""},{"$f":"IF('liste engagés'!$G138=3,'liste engagés'!C138,\"\")","v":""},{"$f":"IF('liste engagés'!$G138=3,'liste engagés'!D138,\"\")","v":""},{"$f":"IF('liste engagés'!$G138=3,'liste engagés'!E138,\"\")","v":""},{"$f":"IF('liste engagés'!$G138=3,'liste engagés'!K138,\"\")","v":""},{"$f":"IF('liste engagés'!$G138=3,'liste engagés'!L138,\"\")","v":""},0]
[138,{"$f":"IF('liste engagés'!$G140=3,'liste engagés'!A140,\"\")","v":""},{"$f":"IF('liste engagés'!$G140=3,'liste engagés'!B140,\"\")","v":""},{"$f":"IF('liste engagés'!$G140=3,'liste engagés'!C140,\"\")","v":""},{"$f":"IF('liste engagés'!$G140=3,'liste engagés'!D140,\"\")","v":""},{"$f":"IF('liste engagés'!$G140=3,'liste engagés'!E140,\"\")","v":""},{"$f":"IF('liste engagés'!$G140=3,'liste engagés'!K140,\"\")","v":""},{"$f":"IF('liste engagés'!$G140=3,'liste engagés'!L140,\"\")","v":""},0]
[139,{"$f":"IF('liste engagés'!$G141=3,'liste engagés'!A141,\"\")","v":""},{"$f":"IF('liste engagés'!$G141=3,'liste engagés'!B141,\"\")","v":""},{"$f":"IF('liste engagés'!$G141=3,'liste engagés'!C141,\"\")","v":""},{"$f":"IF('liste engagés'!$G141=3,'liste engagés'!D141,\"\")","v":""},{"$f":"IF('liste engagés'!$G141=3,'liste engagés'!E141,\"\")","v":""},{"$f":"IF('liste engagés'!$G141=3,'liste engagés'!K141,\"\")","v":""},{"$f":"IF('liste engagés'!$G141=3,'liste engagés'!L141,\"\")","v":""},0]
[140,{"$f":"IF('liste engagés'!$G142=3,'liste engagés'!A142,\"\")","v":""},{"$f":"IF('liste engagés'!$G142=3,'liste engagés'!B142,\"\")","v":""},{"$f":"IF('liste engagés'!$G142=3,'liste engagés'!C142,\"\")","v":""},{"$f":"IF('liste engagés'!$G142=3,'liste engagés'!D142,\"\")","v":""},{"$f":"IF('liste engagés'!$G142=3,'liste engagés'!E142,\"\")","v":""},{"$f":"IF('liste engagés'!$G142=3,'liste engagés'!K142,\"\")","v":""},{"$f":"IF('liste engagés'!$G142=3,'liste engagés'!L142,\"\")","v":""},0]
[141,{"$f":"IF('liste engagés'!$G143=3,'liste engagés'!A143,\"\")","v":""},{"$f":"IF('liste engagés'!$G143=3,'liste engagés'!B143,\"\")","v":""},{"$f":"IF('liste engagés'!$G143=3,'liste engagés'!C143,\"\")","v":""},{"$f":"IF('liste engagés'!$G143=3,'liste engagés'!D143,\"\")","v":""},{"$f":"IF('liste engagés'!$G143=3,'liste engagés'!E143,\"\")","v":""},{"$f":"IF('liste engagés'!$G143=3,'liste engagés'!K143,\"\")","v":""},{"$f":"IF('liste engagés'!$G143=3,'liste engagés'!L143,\"\")","v":""},0]
[142,{"$f":"IF('liste engagés'!$G144=3,'liste engagés'!A144,\"\")","v":""},{"$f":"IF('liste engagés'!$G144=3,'liste engagés'!B144,\"\")","v":""},{"$f":"IF('liste engagés'!$G144=3,'liste engagés'!C144,\"\")","v":""},{"$f":"IF('liste engagés'!$G144=3,'liste engagés'!D144,\"\")","v":""},{"$f":"IF('liste engagés'!$G144=3,'liste engagés'!E144,\"\")","v":""},{"$f":"IF('liste engagés'!$G144=3,'liste engagés'!K144,\"\")","v":""},{"$f":"IF('liste engagés'!$G144=3,'liste engagés'!L144,\"\")","v":""},0]
[143,{"$f":"IF('liste engagés'!$G145=3,'liste engagés'!A145,\"\")","v":""},{"$f":"IF('liste engagés'!$G145=3,'liste engagés'!B145,\"\")","v":""},{"$f":"IF('liste engagés'!$G145=3,'liste engagés'!#REF!,\"\")","v":""},{"$f":"IF('liste engagés'!$G145=3,'liste engagés'!D145,\"\")","v":""},{"$f":"IF('liste engagés'!$G145=3,'liste engagés'!E145,\"\")","v":""},{"$f":"IF('liste engagés'!$G145=3,'liste engagés'!K145,\"\")","v":""},{"$f":"IF('liste engagés'!$G145=3,'liste engagés'!L145,\"\")","v":""},0]
[144,{"$f":"IF('liste engagés'!$G146=3,'liste engagés'!A146,\"\")","v":""},{"$f":"IF('liste engagés'!$G146=3,'liste engagés'!B146,\"\")","v":""},{"$f":"IF('liste engagés'!$G146=3,'liste engagés'!C145,\"\")","v":""},{"$f":"IF('liste engagés'!$G146=3,'liste engagés'!D146,\"\")","v":""},{"$f":"IF('liste engagés'!$G146=3,'liste engagés'!E146,\"\")","v":""},{"$f":"IF('liste engagés'!$G146=3,'liste engagés'!K146,\"\")","v":""},{"$f":"IF('liste engagés'!$G146=3,'liste engagés'!L146,\"\")","v":""},0]
[145,{"$f":"IF('liste engagés'!$G147=3,'liste engagés'!A147,\"\")","v":""},{"$f":"IF('liste engagés'!$G147=3,'liste engagés'!B147,\"\")","v":""},{"$f":"IF('liste engagés'!$G147=3,'liste engagés'!C147,\"\")","v":""},{"$f":"IF('liste engagés'!$G147=3,'liste engagés'!D147,\"\")","v":""},{"$f":"IF('liste engagés'!$G147=3,'liste engagés'!E147,\"\")","v":""},{"$f":"IF('liste engagés'!$G147=3,'liste engagés'!K147,\"\")","v":""},{"$f":"IF('liste engagés'!$G147=3,'liste engagés'!L147,\"\")","v":""},0]
[146,{"$f":"IF('liste engagés'!$G148=3,'liste engagés'!A148,\"\")","v":""},{"$f":"IF('liste engagés'!$G148=3,'liste engagés'!B148,\"\")","v":""},{"$f":"IF('liste engagés'!$G148=3,'liste engagés'!C148,\"\")","v":""},{"$f":"IF('liste engagés'!$G148=3,'liste engagés'!D148,\"\")","v":""},{"$f":"IF('liste engagés'!$G148=3,'liste engagés'!E148,\"\")","v":""},{"$f":"IF('liste engagés'!$G148=3,'liste engagés'!K148,\"\")","v":""},{"$f":"IF('liste engagés'!$G148=3,'liste engagés'!L148,\"\")","v":""},0]
[147,{"$f":"IF('liste engagés'!$G149=3,'liste engagés'!A149,\"\")","v":""},{"$f":"IF('liste engagés'!$G149=3,'liste engagés'!B149,\"\")","v":""},{"$f":"IF('liste engagés'!$G149=3,'liste engagés'!C149,\"\")","v":""},{"$f":"IF('liste engagés'!$G149=3,'liste engagés'!D149,\"\")","v":""},{"$f":"IF('liste engagés'!$G149=3,'liste engagés'!E149,\"\")","v":""},{"$f":"IF('liste engagés'!$G149=3,'liste engagés'!K149,\"\")","v":""},{"$f":"IF('liste engagés'!$G149=3,'liste engagés'!L149,\"\")","v":""},0]
[148,{"$f":"IF('liste engagés'!$G150=3,'liste engagés'!A150,\"\")","v":""},{"$f":"IF('liste engagés'!$G150=3,'liste engagés'!B150,\"\")","v":""},{"$f":"IF('liste engagés'!$G150=3,'liste engagés'!C150,\"\")","v":""},{"$f":"IF('liste engagés'!$G150=3,'liste engagés'!D150,\"\")","v":""},{"$f":"IF('liste engagés'!$G150=3,'liste engagés'!E150,\"\")","v":""},{"$f":"IF('liste engagés'!$G150=3,'liste engagés'!K150,\"\")","v":""},{"$f":"IF('liste engagés'!$G150=3,'liste engagés'!L150,\"\")","v":""},0]
[149,{"$f":"IF('liste engagés'!$G151=3,'liste engagés'!A151,\"\")","v":""},{"$f":"IF('liste engagés'!$G151=3,'liste engagés'!B151,\"\")","v":""},{"$f":"IF('liste engagés'!$G151=3,'liste engagés'!C151,\"\")","v":""},{"$f":"IF('liste engagés'!$G151=3,'liste engagés'!D151,\"\")","v":""},{"$f":"IF('liste engagés'!$G151=3,'liste engagés'!E151,\"\")","v":""},{"$f":"IF('liste engagés'!$G151=3,'liste engagés'!K151,\"\")","v":""},{"$f":"IF('liste engagés'!$G151=3,'liste engagés'!L151,\"\")","v":""},0]
[150,{"$f":"IF('liste engagés'!$G152=3,'liste engagés'!A152,\"\")","v":""},{"$f":"IF('liste engagés'!$G152=3,'liste engagés'!B152,\"\")","v":""},{"$f":"IF('liste engagés'!$G152=3,'liste engagés'!C152,\"\")","v":""},{"$f":"IF('liste engagés'!$G152=3,'liste engagés'!D152,\"\")","v":""},{"$f":"IF('liste engagés'!$G152=3,'liste engagés'!E152,\"\")","v":""},{"$f":"IF('liste engagés'!$G152=3,'liste engagés'!K152,\"\")","v":""},{"$f":"IF('liste engagés'!$G152=3,'liste engagés'!L152,\"\")","v":""},0]
[151,{"$f":"IF('liste engagés'!$G154=3,'liste engagés'!A154,\"\")","v":""},{"$f":"IF('liste engagés'!$G154=3,'liste engagés'!B154,\"\")","v":""},{"$f":"IF('liste engagés'!$G154=3,'liste engagés'!C154,\"\")","v":""},{"$f":"IF('liste engagés'!$G154=3,'liste engagés'!D154,\"\")","v":""},{"$f":"IF('liste engagés'!$G154=3,'liste engagés'!E154,\"\")","v":""},{"$f":"IF('liste engagés'!$G154=3,'liste engagés'!K154,\"\")","v":""},{"$f":"IF('liste engagés'!$G154=3,'liste engagés'!L154,\"\")","v":""},0]
[152,{"$f":"IF('liste engagés'!$G155=3,'liste engagés'!A155,\"\")","v":""},{"$f":"IF('liste engagés'!$G155=3,'liste engagés'!B155,\"\")","v":""},{"$f":"IF('liste engagés'!$G155=3,'liste engagés'!C155,\"\")","v":""},{"$f":"IF('liste engagés'!$G155=3,'liste engagés'!D155,\"\")","v":""},{"$f":"IF('liste engagés'!$G155=3,'liste engagés'!E155,\"\")","v":""},{"$f":"IF('liste engagés'!$G155=3,'liste engagés'!K155,\"\")","v":""},{"$f":"IF('liste engagés'!$G155=3,'liste engagés'!L155,\"\")","v":""},0]
[153,{"$f":"IF('liste engagés'!$G156=3,'liste engagés'!A156,\"\")","v":""},{"$f":"IF('liste engagés'!$G156=3,'liste engagés'!B156,\"\")","v":""},{"$f":"IF('liste engagés'!$G156=3,'liste engagés'!C156,\"\")","v":""},{"$f":"IF('liste engagés'!$G156=3,'liste engagés'!D156,\"\")","v":""},{"$f":"IF('liste engagés'!$G156=3,'liste engagés'!E156,\"\")","v":""},{"$f":"IF('liste engagés'!$G156=3,'liste engagés'!K156,\"\")","v":""},{"$f":"IF('liste engagés'!$G156=3,'liste engagés'!L156,\"\")","v":""},0]
[154,{"$f":"IF('liste engagés'!$G157=3,'liste engagés'!A157,\"\")","v":""},{"$f":"IF('liste engagés'!$G157=3,'liste engagés'!B157,\"\")","v":""},{"$f":"IF('liste engagés'!$G157=3,'liste engagés'!C157,\"\")","v":""},{"$f":"IF('liste engagés'!$G157=3,'liste engagés'!D157,\"\")","v":""},{"$f":"IF('liste engagés'!$G157=3,'liste engagés'!E157,\"\")","v":""},{"$f":"IF('liste engagés'!$G157=3,'liste engagés'!K157,\"\")","v":""},{"$f":"IF('liste engagés'!$G157=3,'liste engagés'!L157,\"\")","v":""},0]
[155,{"$f":"IF('liste engagés'!$G158=3,'liste engagés'!A158,\"\")","v":""},{"$f":"IF('liste engagés'!$G158=3,'liste engagés'!B158,\"\")","v":""},{"$f":"IF('liste engagés'!$G158=3,'liste engagés'!C158,\"\")","v":""},{"$f":"IF('liste engagés'!$G158=3,'liste engagés'!D158,\"\")","v":""},{"$f":"IF('liste engagés'!$G158=3,'liste engagés'!E158,\"\")","v":""},{"$f":"IF('liste engagés'!$G158=3,'liste engagés'!K158,\"\")","v":""},{"$f":"IF('liste engagés'!$G158=3,'liste engagés'!L158,\"\")","v":""},0]
[156,{"$f":"IF('liste engagés'!$G159=3,'liste engagés'!A159,\"\")","v":""},{"$f":"IF('liste engagés'!$G159=3,'liste engagés'!B159,\"\")","v":""},{"$f":"IF('liste engagés'!$G159=3,'liste engagés'!C159,\"\")","v":""},{"$f":"IF('liste engagés'!$G159=3,'liste engagés'!D159,\"\")","v":""},{"$f":"IF('liste engagés'!$G159=3,'liste engagés'!E159,\"\")","v":""},{"$f":"IF('liste engagés'!$G159=3,'liste engagés'!K159,\"\")","v":""},{"$f":"IF('liste engagés'!$G159=3,'liste engagés'!L159,\"\")","v":""},0]
[157,{"$f":"IF('liste engagés'!$G160=3,'liste engagés'!A160,\"\")","v":""},{"$f":"IF('liste engagés'!$G160=3,'liste engagés'!B160,\"\")","v":""},{"$f":"IF('liste engagés'!$G160=3,'liste engagés'!C160,\"\")","v":""},{"$f":"IF('liste engagés'!$G160=3,'liste engagés'!D160,\"\")","v":""},{"$f":"IF('liste engagés'!$G160=3,'liste engagés'!E160,\"\")","v":""},{"$f":"IF('liste engagés'!$G160=3,'liste engagés'!K160,\"\")","v":""},{"$f":"IF('liste engagés'!$G160=3,'liste engagés'!L160,\"\")","v":""},0]
[158,{"$f":"IF('liste engagés'!$G161=3,'liste engagés'!A161,\"\")","v":""},{"$f":"IF('liste engagés'!$G161=3,'liste engagés'!B161,\"\")","v":""},{"$f":"IF('liste engagés'!$G161=3,'liste engagés'!C161,\"\")","v":""},{"$f":"IF('liste engagés'!$G161=3,'liste engagés'!D161,\"\")","v":""},{"$f":"IF('liste engagés'!$G161=3,'liste engagés'!E161,\"\")","v":""},{"$f":"IF('liste engagés'!$G161=3,'liste engagés'!K161,\"\")","v":""},{"$f":"IF('liste engagés'!$G161=3,'liste engagés'!L161,\"\")","v":""},0]
[159,{"$f":"IF('liste engagés'!$G162=3,'liste engagés'!A162,\"\")","v":""},{"$f":"IF('liste engagés'!$G162=3,'liste engagés'!B162,\"\")","v":""},{"$f":"IF('liste engagés'!$G162=3,'liste engagés'!C162,\"\")","v":""},{"$f":"IF('liste engagés'!$G162=3,'liste engagés'!D162,\"\")","v":""},{"$f":"IF('liste engagés'!$G162=3,'liste engagés'!E162,\"\")","v":""},{"$f":"IF('liste engagés'!$G162=3,'liste engagés'!K162,\"\")","v":""},{"$f":"IF('liste engagés'!$G162=3,'liste engagés'!L162,\"\")","v":""},0]
[160,{"$f":"IF('liste engagés'!$G163=3,'liste engagés'!A163,\"\")","v":""},{"$f":"IF('liste engagés'!$G163=3,'liste engagés'!B163,\"\")","v":""},{"$f":"IF('liste engagés'!$G163=3,'liste engagés'!C163,\"\")","v":""},{"$f":"IF('liste engagés'!$G163=3,'liste engagés'!D163,\"\")","v":""},{"$f":"IF('liste engagés'!$G163=3,'liste engagés'!E163,\"\")","v":""},{"$f":"IF('liste engagés'!$G163=3,'liste engagés'!K163,\"\")","v":""},{"$f":"IF('liste engagés'!$G163=3,'liste engagés'!L163,\"\")","v":""},0]
[161,{"$f":"IF('liste engagés'!$G164=3,'liste engagés'!A164,\"\")","v":""},{"$f":"IF('liste engagés'!$G164=3,'liste engagés'!B164,\"\")","v":""},{"$f":"IF('liste engagés'!$G164=3,'liste engagés'!C164,\"\")","v":""},{"$f":"IF('liste engagés'!$G164=3,'liste engagés'!D164,\"\")","v":""},{"$f":"IF('liste engagés'!$G164=3,'liste engagés'!E164,\"\")","v":""},{"$f":"IF('liste engagés'!$G164=3,'liste engagés'!K164,\"\")","v":""},{"$f":"IF('liste engagés'!$G164=3,'liste engagés'!L164,\"\")","v":""},0]
[162,{"$f":"IF('liste engagés'!$G165=3,'liste engagés'!A165,\"\")","v":""},{"$f":"IF('liste engagés'!$G165=3,'liste engagés'!B165,\"\")","v":""},{"$f":"IF('liste engagés'!$G165=3,'liste engagés'!C165,\"\")","v":""},{"$f":"IF('liste engagés'!$G165=3,'liste engagés'!D165,\"\")","v":""},{"$f":"IF('liste engagés'!$G165=3,'liste engagés'!E165,\"\")","v":""},{"$f":"IF('liste engagés'!$G165=3,'liste engagés'!K165,\"\")","v":""},{"$f":"IF('liste engagés'!$G165=3,'liste engagés'!L165,\"\")","v":""},0]
[163,{"$f":"IF('liste engagés'!$G166=3,'liste engagés'!A166,\"\")","v":""},{"$f":"IF('liste engagés'!$G166=3,'liste engagés'!B166,\"\")","v":""},{"$f":"IF('liste engagés'!$G166=3,'liste engagés'!C166,\"\")","v":""},{"$f":"IF('liste engagés'!$G166=3,'liste engagés'!D166,\"\")","v":""},{"$f":"IF('liste engagés'!$G166=3,'liste engagés'!E166,\"\")","v":""},{"$f":"IF('liste engagés'!$G166=3,'liste engagés'!K166,\"\")","v":""},{"$f":"IF('liste engagés'!$G166=3,'liste engagés'!L166,\"\")","v":""},0]
[164,{"$f":"IF('liste engagés'!$G167=3,'liste engagés'!A167,\"\")","v":""},{"$f":"IF('liste engagés'!$G167=3,'liste engagés'!B167,\"\")","v":""},{"$f":"IF('liste engagés'!$G167=3,'liste engagés'!C167,\"\")","v":""},{"$f":"IF('liste engagés'!$G167=3,'liste engagés'!D167,\"\")","v":""},{"$f":"IF('liste engagés'!$G167=3,'liste engagés'!E167,\"\")","v":""},{"$f":"IF('liste engagés'!$G167=3,'liste engagés'!K167,\"\")","v":""},{"$f":"IF('liste engagés'!$G167=3,'liste engagés'!L167,\"\")","v":""},0]
[165,{"$f":"IF('liste engagés'!$G168=3,'liste engagés'!A168,\"\")","v":""},{"$f":"IF('liste engagés'!$G168=3,'liste engagés'!B168,\"\")","v":""},{"$f":"IF('liste engagés'!$G168=3,'liste engagés'!C168,\"\")","v":""},{"$f":"IF('liste engagés'!$G168=3,'liste engagés'!D168,\"\")","v":""},{"$f":"IF('liste engagés'!$G168=3,'liste engagés'!E168,\"\")","v":""},{"$f":"IF('liste engagés'!$G168=3,'liste engagés'!K168,\"\")","v":""},{"$f":"IF('liste engagés'!$G168=3,'liste engagés'!L168,\"\")","v":""},0]
[166,{"$f":"IF('liste engagés'!$G169=3,'liste engagés'!A169,\"\")","v":""},{"$f":"IF('liste engagés'!$G169=3,'liste engagés'!B169,\"\")","v":""},{"$f":"IF('liste engagés'!$G169=3,'liste engagés'!C169,\"\")","v":""},{"$f":"IF('liste engagés'!$G169=3,'liste engagés'!D169,\"\")","v":""},{"$f":"IF('liste engagés'!$G169=3,'liste engagés'!E169,\"\")","v":""},{"$f":"IF('liste engagés'!$G169=3,'liste engagés'!K169,\"\")","v":""},{"$f":"IF('liste engagés'!$G169=3,'liste engagés'!L169,\"\")","v":""},0]
[167,{"$f":"IF('liste engagés'!$G170=3,'liste engagés'!A170,\"\")","v":""},{"$f":"IF('liste engagés'!$G170=3,'liste engagés'!B170,\"\")","v":""},{"$f":"IF('liste engagés'!$G170=3,'liste engagés'!C170,\"\")","v":""},{"$f":"IF('liste engagés'!$G170=3,'liste engagés'!D170,\"\")","v":""},{"$f":"IF('liste engagés'!$G170=3,'liste engagés'!E170,\"\")","v":""},{"$f":"IF('liste engagés'!$G170=3,'liste engagés'!K170,\"\")","v":""},{"$f":"IF('liste engagés'!$G170=3,'liste engagés'!L170,\"\")","v":""},0]
[168,{"$f":"IF('liste engagés'!$G172=3,'liste engagés'!A172,\"\")","v":""},{"$f":"IF('liste engagés'!$G172=3,'liste engagés'!B172,\"\")","v":""},{"$f":"IF('liste engagés'!$G172=3,'liste engagés'!C172,\"\")","v":""},{"$f":"IF('liste engagés'!$G172=3,'liste engagés'!D172,\"\")","v":""},{"$f":"IF('liste engagés'!$G172=3,'liste engagés'!E172,\"\")","v":""},{"$f":"IF('liste engagés'!$G172=3,'liste engagés'!K172,\"\")","v":""},{"$f":"IF('liste engagés'!$G172=3,'liste engagés'!L172,\"\")","v":""},0]
[169,{"$f":"IF('liste engagés'!$G173=3,'liste engagés'!A173,\"\")","v":""},{"$f":"IF('liste engagés'!$G173=3,'liste engagés'!B173,\"\")","v":""},{"$f":"IF('liste engagés'!$G173=3,'liste engagés'!C173,\"\")","v":""},{"$f":"IF('liste engagés'!$G173=3,'liste engagés'!D173,\"\")","v":""},{"$f":"IF('liste engagés'!$G173=3,'liste engagés'!E173,\"\")","v":""},{"$f":"IF('liste engagés'!$G173=3,'liste engagés'!K173,\"\")","v":""},{"$f":"IF('liste engagés'!$G173=3,'liste engagés'!L173,\"\")","v":""},0]
[170,{"$f":"IF('liste engagés'!$G174=3,'liste engagés'!A174,\"\")","v":""},{"$f":"IF('liste engagés'!$G174=3,'liste engagés'!B174,\"\")","v":""},{"$f":"IF('liste engagés'!$G174=3,'liste engagés'!C174,\"\")","v":""},{"$f":"IF('liste engagés'!$G174=3,'liste engagés'!D174,\"\")","v":""},{"$f":"IF('liste engagés'!$G174=3,'liste engagés'!E174,\"\")","v":""},{"$f":"IF('liste engagés'!$G174=3,'liste engagés'!K174,\"\")","v":""},{"$f":"IF('liste engagés'!$G174=3,'liste engagés'!L174,\"\")","v":""},0]
[171,{"$f":"IF('liste engagés'!$G175=3,'liste engagés'!A175,\"\")","v":""},{"$f":"IF('liste engagés'!$G175=3,'liste engagés'!B175,\"\")","v":""},{"$f":"IF('liste engagés'!$G175=3,'liste engagés'!C175,\"\")","v":""},{"$f":"IF('liste engagés'!$G175=3,'liste engagés'!D175,\"\")","v":""},{"$f":"IF('liste engagés'!$G175=3,'liste engagés'!E175,\"\")","v":""},{"$f":"IF('liste engagés'!$G175=3,'liste engagés'!K175,\"\")","v":""},{"$f":"IF('liste engagés'!$G175=3,'liste engagés'!L175,\"\")","v":""},0]
[172,{"$f":"IF('liste engagés'!$G176=3,'liste engagés'!A176,\"\")","v":""},{"$f":"IF('liste engagés'!$G176=3,'liste engagés'!B176,\"\")","v":""},{"$f":"IF('liste engagés'!$G176=3,'liste engagés'!C176,\"\")","v":""},{"$f":"IF('liste engagés'!$G176=3,'liste engagés'!D176,\"\")","v":""},{"$f":"IF('liste engagés'!$G176=3,'liste engagés'!E176,\"\")","v":""},{"$f":"IF('liste engagés'!$G176=3,'liste engagés'!K176,\"\")","v":""},{"$f":"IF('liste engagés'!$G176=3,'liste engagés'!L176,\"\")","v":""},0]
[173,{"$f":"IF('liste engagés'!$G177=3,'liste engagés'!A177,\"\")","v":""},{"$f":"IF('liste engagés'!$G177=3,'liste engagés'!B177,\"\")","v":""},{"$f":"IF('liste engagés'!$G177=3,'liste engagés'!C177,\"\")","v":""},{"$f":"IF('liste engagés'!$G177=3,'liste engagés'!D177,\"\")","v":""},{"$f":"IF('liste engagés'!$G177=3,'liste engagés'!E177,\"\")","v":""},{"$f":"IF('liste engagés'!$G177=3,'liste engagés'!K177,\"\")","v":""},{"$f":"IF('liste engagés'!$G177=3,'liste engagés'!L177,\"\")","v":""},0]
[174,{"$f":"IF('liste engagés'!$G178=3,'liste engagés'!A178,\"\")","v":""},{"$f":"IF('liste engagés'!$G178=3,'liste engagés'!B178,\"\")","v":""},{"$f":"IF('liste engagés'!$G178=3,'liste engagés'!C178,\"\")","v":""},{"$f":"IF('liste engagés'!$G178=3,'liste engagés'!D178,\"\")","v":""},{"$f":"IF('liste engagés'!$G178=3,'liste engagés'!E178,\"\")","v":""},{"$f":"IF('liste engagés'!$G178=3,'liste engagés'!K178,\"\")","v":""},{"$f":"IF('liste engagés'!$G178=3,'liste engagés'!L178,\"\")","v":""},0]
[175,{"$f":"IF('liste engagés'!$G179=3,'liste engagés'!A179,\"\")","v":""},{"$f":"IF('liste engagés'!$G179=3,'liste engagés'!B179,\"\")","v":""},{"$f":"IF('liste engagés'!$G179=3,'liste engagés'!C179,\"\")","v":""},{"$f":"IF('liste engagés'!$G179=3,'liste engagés'!D179,\"\")","v":""},{"$f":"IF('liste engagés'!$G179=3,'liste engagés'!E179,\"\")","v":""},{"$f":"IF('liste engagés'!$G179=3,'liste engagés'!K179,\"\")","v":""},{"$f":"IF('liste engagés'!$G179=3,'liste engagés'!L179,\"\")","v":""},0]
[176,{"$f":"IF('liste engagés'!$G181=3,'liste engagés'!A181,\"\")","v":""},{"$f":"IF('liste engagés'!$G181=3,'liste engagés'!B181,\"\")","v":""},{"$f":"IF('liste engagés'!$G181=3,'liste engagés'!C181,\"\")","v":""},{"$f":"IF('liste engagés'!$G181=3,'liste engagés'!D181,\"\")","v":""},{"$f":"IF('liste engagés'!$G181=3,'liste engagés'!E181,\"\")","v":""},{"$f":"IF('liste engagés'!$G181=3,'liste engagés'!K181,\"\")","v":""},{"$f":"IF('liste engagés'!$G181=3,'liste engagés'!L181,\"\")","v":""},0]
[177,{"$f":"IF('liste engagés'!$G182=3,'liste engagés'!A182,\"\")","v":""},{"$f":"IF('liste engagés'!$G182=3,'liste engagés'!B182,\"\")","v":""},{"$f":"IF('liste engagés'!$G182=3,'liste engagés'!C182,\"\")","v":""},{"$f":"IF('liste engagés'!$G182=3,'liste engagés'!D182,\"\")","v":""},{"$f":"IF('liste engagés'!$G182=3,'liste engagés'!E182,\"\")","v":""},{"$f":"IF('liste engagés'!$G182=3,'liste engagés'!K182,\"\")","v":""},{"$f":"IF('liste engagés'!$G182=3,'liste engagés'!L182,\"\")","v":""},0]
[178,{"$f":"IF('liste engagés'!$G183=3,'liste engagés'!A183,\"\")","v":""},{"$f":"IF('liste engagés'!$G183=3,'liste engagés'!B183,\"\")","v":""},{"$f":"IF('liste engagés'!$G183=3,'liste engagés'!C183,\"\")","v":""},{"$f":"IF('liste engagés'!$G183=3,'liste engagés'!D183,\"\")","v":""},{"$f":"IF('liste engagés'!$G183=3,'liste engagés'!E183,\"\")","v":""},{"$f":"IF('liste engagés'!$G183=3,'liste engagés'!K183,\"\")","v":""},{"$f":"IF('liste engagés'!$G183=3,'liste engagés'!L183,\"\")","v":""},0]
[179,{"$f":"IF('liste engagés'!$G184=3,'liste engagés'!A184,\"\")","v":""},{"$f":"IF('liste engagés'!$G184=3,'liste engagés'!B184,\"\")","v":""},{"$f":"IF('liste engagés'!$G184=3,'liste engagés'!C184,\"\")","v":""},{"$f":"IF('liste engagés'!$G184=3,'liste engagés'!D184,\"\")","v":""},{"$f":"IF('liste engagés'!$G184=3,'liste engagés'!E184,\"\")","v":""},{"$f":"IF('liste engagés'!$G184=3,'liste engagés'!K184,\"\")","v":""},{"$f":"IF('liste engagés'!$G184=3,'liste engagés'!L184,\"\")","v":""},0]
[180,{"$f":"IF('liste engagés'!$G185=3,'liste engagés'!A185,\"\")","v":""},{"$f":"IF('liste engagés'!$G185=3,'liste engagés'!B185,\"\")","v":""},{"$f":"IF('liste engagés'!$G185=3,'liste engagés'!C185,\"\")","v":""},{"$f":"IF('liste engagés'!$G185=3,'liste engagés'!D185,\"\")","v":""},{"$f":"IF('liste engagés'!$G185=3,'liste engagés'!E185,\"\")","v":""},{"$f":"IF('liste engagés'!$G185=3,'liste engagés'!K185,\"\")","v":""},{"$f":"IF('liste engagés'!$G185=3,'liste engagés'!L185,\"\")","v":""},0]
[181,{"$f":"IF('liste engagés'!$G186=3,'liste engagés'!A186,\"\")","v":""},{"$f":"IF('liste engagés'!$G186=3,'liste engagés'!B186,\"\")","v":""},{"$f":"IF('liste engagés'!$G186=3,'liste engagés'!C186,\"\")","v":""},{"$f":"IF('liste engagés'!$G186=3,'liste engagés'!D186,\"\")","v":""},{"$f":"IF('liste engagés'!$G186=3,'liste engagés'!E186,\"\")","v":""},{"$f":"IF('liste engagés'!$G186=3,'liste engagés'!K186,\"\")","v":""},{"$f":"IF('liste engagés'!$G186=3,'liste engagés'!L186,\"\")","v":""},0]
[182,{"$f":"IF('liste engagés'!$G187=3,'liste engagés'!A187,\"\")","v":""},{"$f":"IF('liste engagés'!$G187=3,'liste engagés'!B187,\"\")","v":""},{"$f":"IF('liste engagés'!$G187=3,'liste engagés'!C187,\"\")","v":""},{"$f":"IF('liste engagés'!$G187=3,'liste engagés'!D187,\"\")","v":""},{"$f":"IF('liste engagés'!$G187=3,'liste engagés'!E187,\"\")","v":""},{"$f":"IF('liste engagés'!$G187=3,'liste engagés'!K187,\"\")","v":""},{"$f":"IF('liste engagés'!$G187=3,'liste engagés'!L187,\"\")","v":""},0]
[183,{"$f":"IF('liste engagés'!$G188=3,'liste engagés'!A188,\"\")","v":""},{"$f":"IF('liste engagés'!$G188=3,'liste engagés'!B188,\"\")","v":""},{"$f":"IF('liste engagés'!$G188=3,'liste engagés'!C188,\"\")","v":""},{"$f":"IF('liste engagés'!$G188=3,'liste engagés'!D188,\"\")","v":""},{"$f":"IF('liste engagés'!$G188=3,'liste engagés'!E188,\"\")","v":""},{"$f":"IF('liste engagés'!$G188=3,'liste engagés'!K188,\"\")","v":""},{"$f":"IF('liste engagés'!$G188=3,'liste engagés'!L188,\"\")","v":""},0]
[184,{"$f":"IF('liste engagés'!$G189=3,'liste engagés'!A189,\"\")","v":""},{"$f":"IF('liste engagés'!$G189=3,'liste engagés'!B189,\"\")","v":""},{"$f":"IF('liste engagés'!$G189=3,'liste engagés'!C189,\"\")","v":""},{"$f":"IF('liste engagés'!$G189=3,'liste engagés'!D189,\"\")","v":""},{"$f":"IF('liste engagés'!$G189=3,'liste engagés'!E189,\"\")","v":""},{"$f":"IF('liste engagés'!$G189=3,'liste engagés'!K189,\"\")","v":""},{"$f":"IF('liste engagés'!$G189=3,'liste engagés'!L189,\"\")","v":""},0]
[185,{"$f":"IF('liste engagés'!$G190=3,'liste engagés'!A190,\"\")","v":""},{"$f":"IF('liste engagés'!$G190=3,'liste engagés'!B190,\"\")","v":""},{"$f":"IF('liste engagés'!$G190=3,'liste engagés'!C190,\"\")","v":""},{"$f":"IF('liste engagés'!$G190=3,'liste engagés'!D190,\"\")","v":""},{"$f":"IF('liste engagés'!$G190=3,'liste engagés'!E190,\"\")","v":""},{"$f":"IF('liste engagés'!$G190=3,'liste engagés'!K190,\"\")","v":""},{"$f":"IF('liste engagés'!$G190=3,'liste engagés'!L190,\"\")","v":""},0]
[186,{"$f":"IF('liste engagés'!$G191=3,'liste engagés'!A191,\"\")","v":""},{"$f":"IF('liste engagés'!$G191=3,'liste engagés'!B191,\"\")","v":""},{"$f":"IF('liste engagés'!$G191=3,'liste engagés'!C191,\"\")","v":""},{"$f":"IF('liste engagés'!$G191=3,'liste engagés'!D191,\"\")","v":""},{"$f":"IF('liste engagés'!$G191=3,'liste engagés'!E191,\"\")","v":""},{"$f":"IF('liste engagés'!$G191=3,'liste engagés'!K191,\"\")","v":""},{"$f":"IF('liste engagés'!$G191=3,'liste engagés'!L191,\"\")","v":""},0]
[187,{"$f":"IF('liste engagés'!$G192=3,'liste engagés'!A192,\"\")","v":""},{"$f":"IF('liste engagés'!$G192=3,'liste engagés'!B192,\"\")","v":""},{"$f":"IF('liste engagés'!$G192=3,'liste engagés'!C192,\"\")","v":""},{"$f":"IF('liste engagés'!$G192=3,'liste engagés'!D192,\"\")","v":""},{"$f":"IF('liste engagés'!$G192=3,'liste engagés'!E192,\"\")","v":""},{"$f":"IF('liste engagés'!$G192=3,'liste engagés'!K192,\"\")","v":""},{"$f":"IF('liste engagés'!$G192=3,'liste engagés'!L192,\"\")","v":""},0]
[188,{"$f":"IF('liste engagés'!$G193=3,'liste engagés'!A193,\"\")","v":""},{"$f":"IF('liste engagés'!$G193=3,'liste engagés'!B193,\"\")","v":""},{"$f":"IF('liste engagés'!$G193=3,'liste engagés'!C193,\"\")","v":""},{"$f":"IF('liste engagés'!$G193=3,'liste engagés'!D193,\"\")","v":""},{"$f":"IF('liste engagés'!$G193=3,'liste engagés'!E193,\"\")","v":""},{"$f":"IF('liste engagés'!$G193=3,'liste engagés'!K193,\"\")","v":""},{"$f":"IF('liste engagés'!$G193=3,'liste engagés'!L193,\"\")","v":""},0]
[189,{"$f":"IF('liste engagés'!$G194=3,'liste engagés'!A194,\"\")","v":""},{"$f":"IF('liste engagés'!$G194=3,'liste engagés'!B194,\"\")","v":""},{"$f":"IF('liste engagés'!$G194=3,'liste engagés'!C194,\"\")","v":""},{"$f":"IF('liste engagés'!$G194=3,'liste engagés'!D194,\"\")","v":""},{"$f":"IF('liste engagés'!$G194=3,'liste engagés'!E194,\"\")","v":""},{"$f":"IF('liste engagés'!$G194=3,'liste engagés'!K194,\"\")","v":""},{"$f":"IF('liste engagés'!$G194=3,'liste engagés'!L194,\"\")","v":""},0]
[190,{"$f":"IF('liste engagés'!$G195=3,'liste engagés'!A195,\"\")","v":""},{"$f":"IF('liste engagés'!$G195=3,'liste engagés'!B195,\"\")","v":""},{"$f":"IF('liste engagés'!$G195=3,'liste engagés'!C195,\"\")","v":""},{"$f":"IF('liste engagés'!$G195=3,'liste engagés'!D195,\"\")","v":""},{"$f":"IF('liste engagés'!$G195=3,'liste engagés'!E195,\"\")","v":""},{"$f":"IF('liste engagés'!$G195=3,'liste engagés'!K195,\"\")","v":""},{"$f":"IF('liste engagés'!$G195=3,'liste engagés'!L195,\"\")","v":""},0]
[191,{"$f":"IF('liste engagés'!$G196=3,'liste engagés'!A196,\"\")","v":""},{"$f":"IF('liste engagés'!$G196=3,'liste engagés'!B196,\"\")","v":""},{"$f":"IF('liste engagés'!$G196=3,'liste engagés'!C196,\"\")","v":""},{"$f":"IF('liste engagés'!$G196=3,'liste engagés'!D196,\"\")","v":""},{"$f":"IF('liste engagés'!$G196=3,'liste engagés'!E196,\"\")","v":""},{"$f":"IF('liste engagés'!$G196=3,'liste engagés'!K196,\"\")","v":""},{"$f":"IF('liste engagés'!$G196=3,'liste engagés'!L196,\"\")","v":""},0]
[192,{"$f":"IF('liste engagés'!$G197=3,'liste engagés'!A197,\"\")","v":""},{"$f":"IF('liste engagés'!$G197=3,'liste engagés'!B197,\"\")","v":""},{"$f":"IF('liste engagés'!$G197=3,'liste engagés'!C197,\"\")","v":""},{"$f":"IF('liste engagés'!$G197=3,'liste engagés'!D197,\"\")","v":""},{"$f":"IF('liste engagés'!$G197=3,'liste engagés'!E197,\"\")","v":""},{"$f":"IF('liste engagés'!$G197=3,'liste engagés'!K197,\"\")","v":""},{"$f":"IF('liste engagés'!$G197=3,'liste engagés'!L197,\"\")","v":""},0]
[193,{"$f":"IF('liste engagés'!$G198=3,'liste engagés'!A198,\"\")","v":""},{"$f":"IF('liste engagés'!$G198=3,'liste engagés'!B198,\"\")","v":""},{"$f":"IF('liste engagés'!$G198=3,'liste engagés'!C198,\"\")","v":""},{"$f":"IF('liste engagés'!$G198=3,'liste engagés'!D198,\"\")","v":""},{"$f":"IF('liste engagés'!$G198=3,'liste engagés'!E198,\"\")","v":""},{"$f":"IF('liste engagés'!$G198=3,'liste engagés'!K198,\"\")","v":""},{"$f":"IF('liste engagés'!$G198=3,'liste engagés'!L198,\"\")","v":""},{"$f":"+IF(C199=\"\",0,1)","v":0}]
[{"$f":"+A199+1","v":194},{"$f":"IF('liste engagés'!$G199=3,'liste engagés'!A199,\"\")","v":""},{"$f":"IF('liste engagés'!$G199=3,'liste engagés'!B199,\"\")","v":""},{"$f":"IF('liste engagés'!$G199=3,'liste engagés'!C199,\"\")","v":""},{"$f":"IF('liste engagés'!$G199=3,'liste engagés'!D199,\"\")","v":""},{"$f":"IF('liste engagés'!$G199=3,'liste engagés'!E199,\"\")","v":""},{"$f":"IF('liste engagés'!$G199=3,'liste engagés'!K199,\"\")","v":""},{"$f":"IF('liste engagés'!$G199=3,'liste engagés'!L199,\"\")","v":""},0]
[195,{"$f":"IF('liste engagés'!$G200=3,'liste engagés'!A200,\"\")","v":""},{"$f":"IF('liste engagés'!$G200=3,'liste engagés'!B200,\"\")","v":""},{"$f":"IF('liste engagés'!$G200=3,'liste engagés'!C200,\"\")","v":""},{"$f":"IF('liste engagés'!$G200=3,'liste engagés'!D200,\"\")","v":""},{"$f":"IF('liste engagés'!$G200=3,'liste engagés'!E200,\"\")","v":""},{"$f":"IF('liste engagés'!$G200=3,'liste engagés'!K200,\"\")","v":""},{"$f":"IF('liste engagés'!$G200=3,'liste engagés'!L200,\"\")","v":""},0]
[196,{"$f":"IF('liste engagés'!$G201=3,'liste engagés'!A201,\"\")","v":""},{"$f":"IF('liste engagés'!$G201=3,'liste engagés'!B201,\"\")","v":""},{"$f":"IF('liste engagés'!$G201=3,'liste engagés'!C201,\"\")","v":""},{"$f":"IF('liste engagés'!$G201=3,'liste engagés'!D201,\"\")","v":""},{"$f":"IF('liste engagés'!$G201=3,'liste engagés'!E201,\"\")","v":""},{"$f":"IF('liste engagés'!$G201=3,'liste engagés'!K201,\"\")","v":""},{"$f":"IF('liste engagés'!$G201=3,'liste engagés'!L201,\"\")","v":""},0]
[197,{"$f":"IF('liste engagés'!$G202=3,'liste engagés'!A202,\"\")","v":""},{"$f":"IF('liste engagés'!$G202=3,'liste engagés'!B202,\"\")","v":""},{"$f":"IF('liste engagés'!$G202=3,'liste engagés'!C202,\"\")","v":""},{"$f":"IF('liste engagés'!$G202=3,'liste engagés'!D202,\"\")","v":""},{"$f":"IF('liste engagés'!$G202=3,'liste engagés'!E202,\"\")","v":""},{"$f":"IF('liste engagés'!$G202=3,'liste engagés'!K202,\"\")","v":""},{"$f":"IF('liste engagés'!$G202=3,'liste engagés'!L202,\"\")","v":""},0]
[198,{"$f":"IF('liste engagés'!$G203=3,'liste engagés'!A203,\"\")","v":""},{"$f":"IF('liste engagés'!$G203=3,'liste engagés'!B203,\"\")","v":""},{"$f":"IF('liste engagés'!$G203=3,'liste engagés'!C203,\"\")","v":""},{"$f":"IF('liste engagés'!$G203=3,'liste engagés'!D203,\"\")","v":""},{"$f":"IF('liste engagés'!$G203=3,'liste engagés'!E203,\"\")","v":""},{"$f":"IF('liste engagés'!$G203=3,'liste engagés'!K203,\"\")","v":""},{"$f":"IF('liste engagés'!$G203=3,'liste engagés'!L203,\"\")","v":""},0]
[199,{"$f":"IF('liste engagés'!$G204=3,'liste engagés'!A204,\"\")","v":""},{"$f":"IF('liste engagés'!$G204=3,'liste engagés'!B204,\"\")","v":""},{"$f":"IF('liste engagés'!$G204=3,'liste engagés'!C204,\"\")","v":""},{"$f":"IF('liste engagés'!$G204=3,'liste engagés'!D204,\"\")","v":""},{"$f":"IF('liste engagés'!$G204=3,'liste engagés'!E204,\"\")","v":""},{"$f":"IF('liste engagés'!$G204=3,'liste engagés'!K204,\"\")","v":""},{"$f":"IF('liste engagés'!$G204=3,'liste engagés'!L204,\"\")","v":""},0]
[200,{"$f":"IF('liste engagés'!$G205=3,'liste engagés'!A205,\"\")","v":""},{"$f":"IF('liste engagés'!$G205=3,'liste engagés'!B205,\"\")","v":""},{"$f":"IF('liste engagés'!$G205=3,'liste engagés'!C205,\"\")","v":""},{"$f":"IF('liste engagés'!$G205=3,'liste engagés'!D205,\"\")","v":""},{"$f":"IF('liste engagés'!$G205=3,'liste engagés'!E205,\"\")","v":""},{"$f":"IF('liste engagés'!$G205=3,'liste engagés'!K205,\"\")","v":""},{"$f":"IF('liste engagés'!$G205=3,'liste engagés'!L205,\"\")","v":""},0]
[201,{"$f":"IF('liste engagés'!$G206=3,'liste engagés'!A206,\"\")","v":""},{"$f":"IF('liste engagés'!$G206=3,'liste engagés'!B206,\"\")","v":""},{"$f":"IF('liste engagés'!$G206=3,'liste engagés'!C206,\"\")","v":""},{"$f":"IF('liste engagés'!$G206=3,'liste engagés'!D206,\"\")","v":""},{"$f":"IF('liste engagés'!$G206=3,'liste engagés'!E206,\"\")","v":""},{"$f":"IF('liste engagés'!$G206=3,'liste engagés'!K206,\"\")","v":""},{"$f":"IF('liste engagés'!$G206=3,'liste engagés'!L206,\"\")","v":""},0]
[202,{"$f":"IF('liste engagés'!$G207=3,'liste engagés'!A207,\"\")","v":""},{"$f":"IF('liste engagés'!$G207=3,'liste engagés'!B207,\"\")","v":""},{"$f":"IF('liste engagés'!$G207=3,'liste engagés'!C207,\"\")","v":""},{"$f":"IF('liste engagés'!$G207=3,'liste engagés'!D207,\"\")","v":""},{"$f":"IF('liste engagés'!$G207=3,'liste engagés'!E207,\"\")","v":""},{"$f":"IF('liste engagés'!$G207=3,'liste engagés'!K207,\"\")","v":""},{"$f":"IF('liste engagés'!$G207=3,'liste engagés'!L207,\"\")","v":""},0]
[203,{"$f":"IF('liste engagés'!$G208=3,'liste engagés'!A208,\"\")","v":""},{"$f":"IF('liste engagés'!$G208=3,'liste engagés'!B208,\"\")","v":""},{"$f":"IF('liste engagés'!$G208=3,'liste engagés'!C208,\"\")","v":""},{"$f":"IF('liste engagés'!$G208=3,'liste engagés'!D208,\"\")","v":""},{"$f":"IF('liste engagés'!$G208=3,'liste engagés'!E208,\"\")","v":""},{"$f":"IF('liste engagés'!$G208=3,'liste engagés'!K208,\"\")","v":""},{"$f":"IF('liste engagés'!$G208=3,'liste engagés'!L208,\"\")","v":""},0]
[204,{"$f":"IF('liste engagés'!$G209=3,'liste engagés'!A209,\"\")","v":""},{"$f":"IF('liste engagés'!$G209=3,'liste engagés'!B209,\"\")","v":""},{"$f":"IF('liste engagés'!$G209=3,'liste engagés'!C209,\"\")","v":""},{"$f":"IF('liste engagés'!$G209=3,'liste engagés'!D209,\"\")","v":""},{"$f":"IF('liste engagés'!$G209=3,'liste engagés'!E209,\"\")","v":""},{"$f":"IF('liste engagés'!$G209=3,'liste engagés'!K209,\"\")","v":""},{"$f":"IF('liste engagés'!$G209=3,'liste engagés'!L209,\"\")","v":""},0]
[205,{"$f":"IF('liste engagés'!$G210=3,'liste engagés'!A210,\"\")","v":""},{"$f":"IF('liste engagés'!$G210=3,'liste engagés'!B210,\"\")","v":""},{"$f":"IF('liste engagés'!$G210=3,'liste engagés'!C210,\"\")","v":""},{"$f":"IF('liste engagés'!$G210=3,'liste engagés'!D210,\"\")","v":""},{"$f":"IF('liste engagés'!$G210=3,'liste engagés'!E210,\"\")","v":""},{"$f":"IF('liste engagés'!$G210=3,'liste engagés'!K210,\"\")","v":""},{"$f":"IF('liste engagés'!$G210=3,'liste engagés'!L210,\"\")","v":""},0]
[206,{"$f":"IF('liste engagés'!$G211=3,'liste engagés'!A211,\"\")","v":""},{"$f":"IF('liste engagés'!$G211=3,'liste engagés'!B211,\"\")","v":""},{"$f":"IF('liste engagés'!$G211=3,'liste engagés'!C211,\"\")","v":""},{"$f":"IF('liste engagés'!$G211=3,'liste engagés'!D211,\"\")","v":""},{"$f":"IF('liste engagés'!$G211=3,'liste engagés'!E211,\"\")","v":""},{"$f":"IF('liste engagés'!$G211=3,'liste engagés'!K211,\"\")","v":""},{"$f":"IF('liste engagés'!$G211=3,'liste engagés'!L211,\"\")","v":""},0]
[207,{"$f":"IF('liste engagés'!$G212=3,'liste engagés'!A212,\"\")","v":""},{"$f":"IF('liste engagés'!$G212=3,'liste engagés'!B212,\"\")","v":""},{"$f":"IF('liste engagés'!$G212=3,'liste engagés'!C212,\"\")","v":""},{"$f":"IF('liste engagés'!$G212=3,'liste engagés'!D212,\"\")","v":""},{"$f":"IF('liste engagés'!$G212=3,'liste engagés'!E212,\"\")","v":""},{"$f":"IF('liste engagés'!$G212=3,'liste engagés'!K212,\"\")","v":""},{"$f":"IF('liste engagés'!$G212=3,'liste engagés'!L212,\"\")","v":""},0]
[208,{"$f":"IF('liste engagés'!$G213=3,'liste engagés'!A213,\"\")","v":""},{"$f":"IF('liste engagés'!$G213=3,'liste engagés'!B213,\"\")","v":""},{"$f":"IF('liste engagés'!$G213=3,'liste engagés'!C213,\"\")","v":""},{"$f":"IF('liste engagés'!$G213=3,'liste engagés'!D213,\"\")","v":""},{"$f":"IF('liste engagés'!$G213=3,'liste engagés'!E213,\"\")","v":""},{"$f":"IF('liste engagés'!$G213=3,'liste engagés'!K213,\"\")","v":""},{"$f":"IF('liste engagés'!$G213=3,'liste engagés'!L213,\"\")","v":""},0]
[209,{"$f":"IF('liste engagés'!$G214=3,'liste engagés'!A214,\"\")","v":""},{"$f":"IF('liste engagés'!$G214=3,'liste engagés'!B214,\"\")","v":""},{"$f":"IF('liste engagés'!$G214=3,'liste engagés'!C214,\"\")","v":""},{"$f":"IF('liste engagés'!$G214=3,'liste engagés'!D214,\"\")","v":""},{"$f":"IF('liste engagés'!$G214=3,'liste engagés'!E214,\"\")","v":""},{"$f":"IF('liste engagés'!$G214=3,'liste engagés'!K214,\"\")","v":""},{"$f":"IF('liste engagés'!$G214=3,'liste engagés'!L214,\"\")","v":""},0]
[210,{"$f":"IF('liste engagés'!$G215=3,'liste engagés'!A215,\"\")","v":""},{"$f":"IF('liste engagés'!$G215=3,'liste engagés'!B215,\"\")","v":""},{"$f":"IF('liste engagés'!$G215=3,'liste engagés'!C215,\"\")","v":""},{"$f":"IF('liste engagés'!$G215=3,'liste engagés'!D215,\"\")","v":""},{"$f":"IF('liste engagés'!$G215=3,'liste engagés'!E215,\"\")","v":""},{"$f":"IF('liste engagés'!$G215=3,'liste engagés'!K215,\"\")","v":""},{"$f":"IF('liste engagés'!$G215=3,'liste engagés'!L215,\"\")","v":""},0]
[null,null,null,null,null,null,null,null,{"$f":"SUM(I7:I216)","v":12}]

{"sheet":"cat2","index":6,"n_rows":217,"n_cols":10,"rows_kept":217,"cut":false,"hidden":false,"merged":[]}
[{"$f":"+MENU!A1","v":"CHRONO DES LIMOUCHES "},null,null,null,null,null,{"$f":"+MENU!I1","v":"EDITION"},{"$f":"+MENU!J1","v":2018}]
[null,null,null,null,null,null,null,null,"code cat",2]
["CLASSEMENT :",null,{"$f":"+IF(J2=\"\",\"\",VLOOKUP($J$2,Catégories!B3:D17,3))","v":"FSGT 3"}]
[]
[]
[null,"N°de DOSSARD","Nom ","Prénom","Club","Fédération","Temps","Moyenne"]
[1,{"$f":"IF('liste engagés'!$G170=2,'liste engagés'!A170,\"\")","v":165},{"$f":"IF('liste engagés'!$G170=2,'liste engagés'!B170,\"\")","v":"SORIN"},{"$f":"IF('liste engagés'!$G170=2,'liste engagés'!C170,\"\")","v":"ALEXIS"},{"$f":"IF('liste engagés'!$G170=2,'liste engagés'!D170,\"\")","v":"UCMV"},{"$f":"IF('liste engagés'!$G170=2,'liste engagés'!E170,\"\")","v":"FSGT"},{"$f":"IF('liste engagés'!$G170=2,'liste engagés'!K170,\"\")","v":"00:34:33"},{"$f":"IF('liste engagés'!$G170=2,'liste engagés'!L170,\"\")","v":19.797395079602321},{"$f":"+IF(C7=\"\",0,1)","v":1}]
[{"$f":"+A7+1","v":2},{"$f":"IF('liste engagés'!$G140=2,'liste engagés'!A140,\"\")","v":135},{"$f":"IF('liste engagés'!$G140=2,'liste engagés'!B140,\"\")","v":"CROSET"},{"$f":"IF('liste engagés'!$G140=2,'liste engagés'!C140,\"\")","v":"DIDIER"},{"$f":"IF('liste engagés'!$G140=2,'liste engagés'!D140,\"\")","v":"VC FROGES VILLARD BONNOT"},{"$f":"IF('liste engagés'!$G140=2,'liste engagés'!E140,\"\")","v":"FSGT"},{"$f":"IF('liste engagés'!$G140=2,'liste engagés'!K140,\"\")","v":"00:36:45"},{"$f":"IF('liste engagés'!$G140=2,'liste engagés'!L140,\"\")","v":18.612244897964615},1]
[3,{"$f":"IF('liste engagés'!$G118=2,'liste engagés'!A118,\"\")","v":113},{"$f":"IF('liste engagés'!$G118=2,'liste engagés'!B118,\"\")","v":"DUPIN"},{"$f":"IF('liste engagés'!$G118=2,'liste engagés'!C118,\"\")","v":"DIDIER"},{"$f":"IF('liste engagés'!$G118=2,'liste engagés'!D118,\"\")","v":"CS COUXOIS"},{"$f":"IF('liste engagés'!$G118=2,'liste engagés'!E118,\"\")","v":"FSGT"},{"$f":"IF('liste engagés'!$G118=2,'liste engagés'!K118,\"\")","v":"00:37:14"},{"$f":"IF('liste engagés'!$G118=2,'liste engagés'!L118,\"\")","v":18.370635631159317},1]
[4,{"$f":"IF('liste engagés'!$G133=2,'liste engagés'!A133,\"\")","v":128},{"$f":"IF('liste engagés'!$G133=2,'liste engagés'!B133,\"\")","v":"REYNAUD"},{"$f":"IF('liste engagés'!$G133=2,'liste engagés'!C133,\"\")","v":"EMMANUEL"},{"$f":"IF('liste engagés'!$G133=2,'liste engagés'!D133,\"\")","v":"UCMV"},{"$f":"IF('liste engagés'!$G133=2,'liste engagés'!E133,\"\")","v":"FSGT"},{"$f":"IF('liste engagés'!$G133=2,'liste engagés'!K133,\"\")","v":"00:37:51"},{"$f":"IF('liste engagés'!$G133=2,'liste engagés'!L133,\"\")","v":18.071334214007145},1]
[5,{"$f":"IF('liste engagés'!$G6=2,'liste engagés'!A6,\"\")","v":""},{"$f":"IF('liste engagés'!$G6=2,'liste engagés'!B6,\"\")","v":""},{"$f":"IF('liste engagés'!$G6=2,'liste engagés'!C6,\"\")","v":""},{"$f":"IF('liste engagés'!$G6=2,'liste engagés'!D6,\"\")","v":""},{"$f":"IF('liste engagés'!$G6=2,'liste engagés'!E6,\"\")","v":""},{"$f":"IF('liste engagés'!$G6=2,'liste engagés'!K6,\"\")","v":""},{"$f":"IF('liste engagés'!$G6=2,'liste engagés'!L6,\"\")","v":""},0]
[6,{"$f":"IF('liste engagés'!$G7=2,'liste engagés'!A7,\"\")","v":""},{"$f":"IF('liste engagés'!$G7=2,'liste engagés'!B7,\"\")","v":""},{"$f":"IF('liste engagés'!$G7=2,'liste engagés'!C7,\"\")","v":""},{"$f":"IF('liste engagés'!$G7=2,'liste engagés'!D7,\"\")","v":""},{"$f":"IF('liste engagés'!$G7=2,'liste engagés'!E7,\"\")","v":""},{"$f":"IF('liste engagés'!$G7=2,'liste engagés'!K7,\"\")","v":""},{"$f":"IF('liste engagés'!$G7=2,'liste engagés'!L7,\"\")","v":""},0]
[7,{"$f":"IF('liste engagés'!$G8=2,'liste engagés'!A8,\"\")","v":""},{"$f":"IF('liste engagés'!$G8=2,'liste engagés'!B8,\"\")","v":""},{"$f":"IF('liste engagés'!$G8=2,'liste engagés'!C8,\"\")","v":""},{"$f":"IF('liste engagés'!$G8=2,'liste engagés'!D8,\"\")","v":""},{"$f":"IF('liste engagés'!$G8=2,'liste engagés'!E8,\"\")","v":""},{"$f":"IF('liste engagés'!$G8=2,'liste engagés'!K8,\"\")","v":""},{"$f":"IF('liste engagés'!$G8=2,'liste engagés'!L8,\"\")","v":""},0]
[8,{"$f":"IF('liste engagés'!$G9=2,'liste engagés'!A9,\"\")","v":""},{"$f":"IF('liste engagés'!$G9=2,'liste engagés'!B9,\"\")","v":""},{"$f":"IF('liste engagés'!$G9=2,'liste engagés'!C9,\"\")","v":""},{"$f":"IF('liste engagés'!$G9=2,'liste engagés'!D9,\"\")","v":""},{"$f":"IF('liste engagés'!$G9=2,'liste engagés'!E9,\"\")","v":""},{"$f":"IF('liste engagés'!$G9=2,'liste engagés'!K9,\"\")","v":""},{"$f":"IF('liste engagés'!$G9=2,'liste engagés'!L9,\"\")","v":""},0]
[9,{"$f":"IF('liste engagés'!$G10=2,'liste engagés'!A10,\"\")","v":""},{"$f":"IF('liste engagés'!$G10=2,'liste engagés'!B10,\"\")","v":""},{"$f":"IF('liste engagés'!$G10=2,'liste engagés'!C10,\"\")","v":""},{"$f":"IF('liste engagés'!$G10=2,'liste engagés'!D10,\"\")","v":""},{"$f":"IF('liste engagés'!$G10=2,'liste engagés'!E10,\"\")","v":""},{"$f":"IF('liste engagés'!$G10=2,'liste engagés'!K10,\"\")","v":""},{"$f":"IF('liste engagés'!$G10=2,'liste engagés'!L10,\"\")","v":""},0]
[10,{"$f":"IF('liste engagés'!$G11=2,'liste engagés'!A11,\"\")","v":""},{"$f":"IF('liste engagés'!$G11=2,'liste engagés'!B11,\"\")","v":""},{"$f":"IF('liste engagés'!$G11=2,'liste engagés'!C11,\"\")","v":""},{"$f":"IF('liste engagés'!$G11=2,'liste engagés'!D11,\"\")","v":""},{"$f":"IF('liste engagés'!$G11=2,'liste engagés'!E11,\"\")","v":""},{"$f":"IF('liste engagés'!$G11=2,'liste engagés'!K11,\"\")","v":""},{"$f":"IF('liste engagés'!$G11=2,'liste engagés'!L11,\"\")","v":""},0]
[11,{"$f":"IF('liste engagés'!$G12=2,'liste engagés'!A12,\"\")","v":""},{"$f":"IF('liste engagés'!$G12=2,'liste engagés'!B12,\"\")","v":""},{"$f":"IF('liste engagés'!$G12=2,'liste engagés'!C12,\"\")","v":""},{"$f":"IF('liste engagés'!$G12=2,'liste engagés'!D12,\"\")","v":""},{"$f":"IF('liste engagés'!$G12=2,'liste engagés'!E12,\"\")","v":""},{"$f":"IF('liste engagés'!$G12=2,'liste engagés'!K12,\"\")","v":""},{"$f":"IF('liste engagés'!$G12=2,'liste engagés'!L12,\"\")","v":""},0]
[12,{"$f":"IF('liste engagés'!$G13=2,'liste engagés'!A13,\"\")","v":""},{"$f":"IF('liste engagés'!$G13=2,'liste engagés'!B13,\"\")","v":""},{"$f":"IF('liste engagés'!$G13=2,'liste engagés'!C13,\"\")","v":""},{"$f":"IF('liste engagés'!$G13=2,'liste engagés'!D13,\"\")","v":""},{"$f":"IF('liste engagés'!$G13=2,'liste engagés'!E13,\"\")","v":""},{"$f":"IF('liste engagés'!$G13=2,'liste engagés'!K13,\"\")","v":""},{"$f":"IF('liste engagés'!$G13=2,'liste engagés'!L13,\"\")","v":""},0]
[13,{"$f":"IF('liste engagés'!$G14=2,'liste engagés'!A14,\"\")","v":""},{"$f":"IF('liste engagés'!$G14=2,'liste engagés'!B14,\"\")","v":""},{"$f":"IF('liste engagés'!$G14=2,'liste engagés'!C14,\"\")","v":""},{"$f":"IF('liste engagés'!$G14=2,'liste engagés'!D14,\"\")","v":""},{"$f":"IF('liste engagés'!$G14=2,'liste engagés'!E14,\"\")","v":""},{"$f":"IF('liste engagés'!$G14=2,'liste engagés'!K14,\"\")","v":""},{"$f":"IF('liste engagés'!$G14=2,'liste engagés'!L14,\"\")","v":""},0]
[14,{"$f":"IF('liste engagés'!$G15=2,'liste engagés'!A15,\"\")","v":""},{"$f":"IF('liste engagés'!$G15=2,'liste engagés'!B15,\"\")","v":""},{"$f":"IF('liste engagés'!$G15=2,'liste engagés'!C15,\"\")","v":""},{"$f":"IF('liste engagés'!$G15=2,'liste engagés'!D15,\"\")","v":""},{"$f":"IF('liste engagés'!$G15=2,'liste engagés'!E15,\"\")","v":""},{"$f":"IF('liste engagés'!$G15=2,'liste engagés'!K15,\"\")","v":""},{"$f":"IF('liste engagés'!$G15=2,'liste engagés'!L15,\"\")","v":""},0]
[15,{"$f":"IF('liste engagés'!$G16=2,'liste engagés'!A16,\"\")","v":""},{"$f":"IF('liste engagés'!$G16=2,'liste engagés'!B16,\"\")","v":""},{"$f":"IF('liste engagés'!$G16=2,'liste engagés'!C16,\"\")","v":""},{"$f":"IF('liste engagés'!$G16=2,'liste engagés'!D16,\"\")","v":""},{"$f":"IF('liste engagés'!$G16=2,'liste engagés'!E16,\"\")","v":""},{"$f":"IF('liste engagés'!$G16=2,'liste engagés'!K16,\"\")","v":""},{"$f":"IF('liste engagés'!$G16=2,'liste engagés'!L16,\"\")","v":""},0]
[16,{"$f":"IF('liste engagés'!$G17=2,'liste engagés'!A17,\"\")","v":""},{"$f":"IF('liste engagés'!$G17=2,'liste engagés'!B17,\"\")","v":""},{"$f":"IF('liste engagés'!$G17=2,'liste engagés'!C17,\"\")","v":""},{"$f":"IF('liste engagés'!$G17=2,'liste engagés'!D17,\"\")","v":""},{"$f":"IF('liste engagés'!$G17=2,'liste engagés'!E17,\"\")","v":""},{"$f":"IF('liste engagés'!$G17=2,'liste engagés'!K17,\"\")","v":""},{"$f":"IF('liste engagés'!$G17=2,'liste engagés'!L17,\"\")","v":""},0]
[17,{"$f":"IF('liste engagés'!$G18=2,'liste engagés'!A18,\"\")","v":""},{"$f":"IF('liste engagés'!$G18=2,'liste engagés'!B18,\"\")","v":""},{"$f":"IF('liste engagés'!$G18=2,'liste engagés'!C18,\"\")","v":""},{"$f":"IF('liste engagés'!$G18=2,'liste engagés'!D18,\"\")","v":""},{"$f":"IF('liste engagés'!$G18=2,'liste engagés'!E18,\"\")","v":""},{"$f":"IF('liste engagés'!$G18=2,'liste engagés'!K18,\"\")","v":""},{"$f":"IF('liste engagés'!$G18=2,'liste engagés'!L18,\"\")","v":""},0]
[18,{"$f":"IF('liste engagés'!$G19=2,'liste engagés'!A19,\"\")","v":""},{"$f":"IF('liste engagés'!$G19=2,'liste engagés'!B19,\"\")","v":""},{"$f":"IF('liste engagés'!$G19=2,'liste engagés'!C19,\"\")","v":""},{"$f":"IF('liste engagés'!$G19=2,'liste engagés'!D19,\"\")","v":""},{"$f":"IF('liste engagés'!$G19=2,'liste engagés'!E19,\"\")","v":""},{"$f":"IF('liste engagés'!$G19=2,'liste engagés'!K19,\"\")","v":""},{"$f":"IF('liste engagés'!$G19=2,'liste engagés'!L19,\"\")","v":""},0]
[19,{"$f":"IF('liste engagés'!$G20=2,'liste engagés'!A20,\"\")","v":""},{"$f":"IF('liste engagés'!$G20=2,'liste engagés'!B20,\"\")","v":""},{"$f":"IF('liste engagés'!$G20=2,'liste engagés'!C20,\"\")","v":""},{"$f":"IF('liste engagés'!$G20=2,'liste engagés'!D20,\"\")","v":""},{"$f":"IF('liste engagés'!$G20=2,'liste engagés'!E20,\"\")","v":""},{"$f":"IF('liste engagés'!$G20=2,'liste engagés'!K20,\"\")","v":""},{"$f":"IF('liste engagés'!$G20=2,'liste engagés'!L20,\"\")","v":""},0]
[20,{"$f":"IF('liste engagés'!$G21=2,'liste engagés'!A21,\"\")","v":""},{"$f":"IF('liste engagés'!$G21=2,'liste engagés'!B21,\"\")","v":""},{"$f":"IF('liste engagés'!$G21=2,'liste engagés'!C21,\"\")","v":""},{"$f":"IF('liste engagés'!$G21=2,'liste engagés'!D21,\"\")","v":""},{"$f":"IF('liste engagés'!$G21=2,'liste engagés'!E21,\"\")","v":""},{"$f":"IF('liste engagés'!$G21=2,'liste engagés'!K21,\"\")","v":""},{"$f":"IF('liste engagés'!$G21=2,'liste engagés'!L21,\"\")","v":""},0]
[21,{"$f":"IF('liste engagés'!$G22=2,'liste engagés'!A22,\"\")","v":""},{"$f":"IF('liste engagés'!$G22=2,'liste engagés'!B22,\"\")","v":""},{"$f":"IF('liste engagés'!$G22=2,'liste engagés'!C22,\"\")","v":""},{"$f":"IF('liste engagés'!$G22=2,'liste engagés'!D22,\"\")","v":""},{"$f":"IF('liste engagés'!$G22=2,'liste engagés'!E22,\"\")","v":""},{"$f":"IF('liste engagés'!$G22=2,'liste engagés'!K22,\"\")","v":""},{"$f":"IF('liste engagés'!$G22=2,'liste engagés'!L22,\"\")","v":""},0]
[22,{"$f":"IF('liste engagés'!$G23=2,'liste engagés'!A23,\"\")","v":""},{"$f":"IF('liste engagés'!$G23=2,'liste engagés'!B23,\"\")","v":""},{"$f":"IF('liste engagés'!$G23=2,'liste engagés'!C23,\"\")","v":""},{"$f":"IF('liste engagés'!$G23=2,'liste engagés'!D23,\"\")","v":""},{"$f":"IF('liste engagés'!$G23=2,'liste engagés'!E23,\"\")","v":""},{"$f":"IF('liste engagés'!$G23=2,'liste engagés'!K23,\"\")","v":""},{"$f":"IF('liste engagés'!$G23=2,'liste engagés'!L23,\"\")","v":""},0]
[23,{"$f":"IF('liste engagés'!$G24=2,'liste engagés'!A24,\"\")","v":""},{"$f":"IF('liste engagés'!$G24=2,'liste engagés'!B24,\"\")","v":""},{"$f":"IF('liste engagés'!$G24=2,'liste engagés'!C24,\"\")","v":""},{"$f":"IF('liste engagés'!$G24=2,'liste engagés'!D24,\"\")","v":""},{"$f":"IF('liste engagés'!$G24=2,'liste engagés'!E24,\"\")","v":""},{"$f":"IF('liste engagés'!$G24=2,'liste engagés'!K24,\"\")","v":""},{"$f":"IF('liste engagés'!$G24=2,'liste engagés'!L24,\"\")","v":""},0]
[24,{"$f":"IF('liste engagés'!$G25=2,'liste engagés'!A25,\"\")","v":""},{"$f":"IF('liste engagés'!$G25=2,'liste engagés'!B25,\"\")","v":""},{"$f":"IF('liste engagés'!$G25=2,'liste engagés'!C25,\"\")","v":""},{"$f":"IF('liste engagés'!$G25=2,'liste engagés'!D25,\"\")","v":""},{"$f":"IF('liste engagés'!$G25=2,'liste engagés'!E25,\"\")","v":""},{"$f":"IF('liste engagés'!$G25=2,'liste engagés'!K25,\"\")","v":""},{"$f":"IF('liste engagés'!$G25=2,'liste engagés'!L25,\"\")","v":""},0]
[25,{"$f":"IF('liste engagés'!$G26=2,'liste engagés'!A26,\"\")","v":""},{"$f":"IF('liste engagés'!$G26=2,'liste engagés'!B26,\"\")","v":""},{"$f":"IF('liste engagés'!$G26=2,'liste engagés'!C26,\"\")","v":""},{"$f":"IF('liste engagés'!$G26=2,'liste engagés'!D26,\"\")","v":""},{"$f":"IF('liste engagés'!$G26=2,'liste engagés'!E26,\"\")","v":""},{"$f":"IF('liste engagés'!$G26=2,'liste engagés'!K26,\"\")","v":""},{"$f":"IF('liste engagés'!$G26=2,'liste engagés'!L26,\"\")","v":""},0]
[26,{"$f":"IF('liste engagés'!$G27=2,'liste engagés'!A27,\"\")","v":""},{"$f":"IF('liste engagés'!$G27=2,'liste engagés'!B27,\"\")","v":""},{"$f":"IF('liste engagés'!$G27=2,'liste engagés'!C27,\"\")","v":""},{"$f":"IF('liste engagés'!$G27=2,'liste engagés'!D27,\"\")","v":""},{"$f":"IF('liste engagés'!$G27=2,'liste engagés'!E27,\"\")","v":""},{"$f":"IF('liste engagés'!$G27=2,'liste engagés'!K27,\"\")","v":""},{"$f":"IF('liste engagés'!$G27=2,'liste engagés'!L27,\"\")","v":""},0]
[27,{"$f":"IF('liste engagés'!$G28=2,'liste engagés'!A28,\"\")","v":""},{"$f":"IF('liste engagés'!$G28=2,'liste engagés'!B28,\"\")","v":""},{"$f":"IF('liste engagés'!$G28=2,'liste engagés'!C28,\"\")","v":""},{"$f":"IF('liste engagés'!$G28=2,'liste engagés'!D28,\"\")","v":""},{"$f":"IF('liste engagés'!$G28=2,'liste engagés'!E28,\"\")","v":""},{"$f":"IF('liste engagés'!$G28=2,'liste engagés'!K28,\"\")","v":""},{"$f":"IF('liste engagés'!$G28=2,'liste engagés'!L28,\"\")","v":""},0]
[28,{"$f":"IF('liste engagés'!$G29=2,'liste engagés'!A29,\"\")","v":""},{"$f":"IF('liste engagés'!$G29=2,'liste engagés'!B29,\"\")","v":""},{"$f":"IF('liste engagés'!$G29=2,'liste engagés'!C29,\"\")","v":""},{"$f":"IF('liste engagés'!$G29=2,'liste engagés'!D29,\"\")","v":""},{"$f":"IF('liste engagés'!$G29=2,'liste engagés'!E29,\"\")","v":""},{"$f":"IF('liste engagés'!$G29=2,'liste engagés'!K29,\"\")","v":""},{"$f":"IF('liste engagés'!$G29=2,'liste engagés'!L29,\"\")","v":""},0]
[29,{"$f":"IF('liste engagés'!$G30=2,'liste engagés'!A30,\"\")","v":""},{"$f":"IF('liste engagés'!$G30=2,'liste engagés'!B30,\"\")","v":""},{"$f":"IF('liste engagés'!$G30=2,'liste engagés'!C30,\"\")","v":""},{"$f":"IF('liste engagés'!$G30=2,'liste engagés'!D30,\"\")","v":""},{"$f":"IF('liste engagés'!$G30=2,'liste engagés'!E30,\"\")","v":""},{"$f":"IF('liste engagés'!$G30=2,'liste engagés'!K30,\"\")","v":""},{"$f":"IF('liste engagés'!$G30=2,'liste engagés'!L30,\"\")","v":""},0]
[30,{"$f":"IF('liste engagés'!$G31=2,'liste engagés'!A31,\"\")","v":""},{"$f":"IF('liste engagés'!$G31=2,'liste engagés'!B31,\"\")","v":""},{"$f":"IF('liste engagés'!$G31=2,'liste engagés'!C31,\"\")","v":""},{"$f":"IF('liste engagés'!$G31=2,'liste engagés'!D31,\"\")","v":""},{"$f":"IF('liste engagés'!$G31=2,'liste engagés'!E31,\"\")","v":""},{"$f":"IF('liste engagés'!$G31=2,'liste engagés'!K31,\"\")","v":""},{"$f":"IF('liste engagés'!$G31=2,'liste engagés'!L31,\"\")","v":""},0]
[31,{"$f":"IF('liste engagés'!$G32=2,'liste engagés'!A32,\"\")","v":""},{"$f":"IF('liste engagés'!$G32=2,'liste engagés'!B32,\"\")","v":""},{"$f":"IF('liste engagés'!$G32=2,'liste engagés'!C32,\"\")","v":""},{"$f":"IF('liste engagés'!$G32=2,'liste engagés'!D32,\"\")","v":""},{"$f":"IF('liste engagés'!$G32=2,'liste engagés'!E32,\"\")","v":""},{"$f":"IF('liste engagés'!$G32=2,'liste engagés'!K32,\"\")","v":""},{"$f":"IF('liste engagés'!$G32=2,'liste engagés'!L32,\"\")","v":""},0]
[32,{"$f":"IF('liste engagés'!$G33=2,'liste engagés'!A33,\"\")","v":""},{"$f":"IF('liste engagés'!$G33=2,'liste engagés'!B33,\"\")","v":""},{"$f":"IF('liste engagés'!$G33=2,'liste engagés'!C33,\"\")","v":""},{"$f":"IF('liste engagés'!$G33=2,'liste engagés'!D33,\"\")","v":""},{"$f":"IF('liste engagés'!$G33=2,'liste engagés'!E33,\"\")","v":""},{"$f":"IF('liste engagés'!$G33=2,'liste engagés'!K33,\"\")","v":""},{"$f":"IF('liste engagés'!$G33=2,'liste engagés'!L33,\"\")","v":""},0]
[33,{"$f":"IF('liste engagés'!$G34=2,'liste engagés'!A34,\"\")","v":""},{"$f":"IF('liste engagés'!$G34=2,'liste engagés'!B34,\"\")","v":""},{"$f":"IF('liste engagés'!$G34=2,'liste engagés'!C34,\"\")","v":""},{"$f":"IF('liste engagés'!$G34=2,'liste engagés'!D34,\"\")","v":""},{"$f":"IF('liste engagés'!$G34=2,'liste engagés'!E34,\"\")","v":""},{"$f":"IF('liste engagés'!$G34=2,'liste engagés'!K34,\"\")","v":""},{"$f":"IF('liste engagés'!$G34=2,'liste engagés'!L34,\"\")","v":""},0]
[34,{"$f":"IF('liste engagés'!$G35=2,'liste engagés'!A35,\"\")","v":""},{"$f":"IF('liste engagés'!$G35=2,'liste engagés'!B35,\"\")","v":""},{"$f":"IF('liste engagés'!$G35=2,'liste engagés'!C35,\"\")","v":""},{"$f":"IF('liste engagés'!$G35=2,'liste engagés'!D35,\"\")","v":""},{"$f":"IF('liste engagés'!$G35=2,'liste engagés'!E35,\"\")","v":""},{"$f":"IF('liste engagés'!$G35=2,'liste engagés'!K35,\"\")","v":""},{"$f":"IF('liste engagés'!$G35=2,'liste engagés'!L35,\"\")","v":""},0]
[35,{"$f":"IF('liste engagés'!$G36=2,'liste engagés'!A36,\"\")","v":""},{"$f":"IF('liste engagés'!$G36=2,'liste engagés'!B36,\"\")","v":""},{"$f":"IF('liste engagés'!$G36=2,'liste engagés'!C36,\"\")","v":""},{"$f":"IF('liste engagés'!$G36=2,'liste engagés'!D36,\"\")","v":""},{"$f":"IF('liste engagés'!$G36=2,'liste engagés'!E36,\"\")","v":""},{"$f":"IF('liste engagés'!$G36=2,'liste engagés'!K36,\"\")","v":""},{"$f":"IF('liste engagés'!$G36=2,'liste engagés'!L36,\"\")","v":""},0]
[36,{"$f":"IF('liste engagés'!$G37=2,'liste engagés'!A37,\"\")","v":""},{"$f":"IF('liste engagés'!$G37=2,'liste engagés'!B37,\"\")","v":""},{"$f":"IF('liste engagés'!$G37=2,'liste engagés'!C37,\"\")","v":""},{"$f":"IF('liste engagés'!$G37=2,'liste engagés'!D37,\"\")","v":""},{"$f":"IF('liste engagés'!$G37=2,'liste engagés'!E37,\"\")","v":""},{"$f":"IF('liste engagés'!$G37=2,'liste engagés'!K37,\"\")","v":""},{"$f":"IF('liste engagés'!$G37=2,'liste engagés'!L37,\"\")","v":""},0]
[37,{"$f":"IF('liste engagés'!$G38=2,'liste engagés'!A38,\"\")","v":""},{"$f":"IF('liste engagés'!$G38=2,'liste engagés'!B38,\"\")","v":""},{"$f":"IF('liste engagés'!$G38=2,'liste engagés'!C38,\"\")","v":""},{"$f":"IF('liste engagés'!$G38=2,'liste engagés'!D38,\"\")","v":""},{"$f":"IF('liste engagés'!$G38=2,'liste engagés'!E38,\"\")","v":""},{"$f":"IF('liste engagés'!$G38=2,'liste engagés'!K38,\"\")","v":""},{"$f":"IF('liste engagés'!$G38=2,'liste engagés'!L38,\"\")","v":""},0]
[38,{"$f":"IF('liste engagés'!$G39=2,'liste engagés'!A39,\"\")","v":""},{"$f":"IF('liste engagés'!$G39=2,'liste engagés'!B39,\"\")","v":""},{"$f":"IF('liste engagés'!$G39=2,'liste engagés'!C39,\"\")","v":""},{"$f":"IF('liste engagés'!$G39=2,'liste engagés'!D39,\"\")","v":""},{"$f":"IF('liste engagés'!$G39=2,'liste engagés'!E39,\"\")","v":""},{"$f":"IF('liste engagés'!$G39=2,'liste engagés'!K39,\"\")","v":""},{"$f":"IF('liste engagés'!$G39=2,'liste engagés'!L39,\"\")","v":""},0]
[39,{"$f":"IF('liste engagés'!$G40=2,'liste engagés'!A40,\"\")","v":""},{"$f":"IF('liste engagés'!$G40=2,'liste engagés'!B40,\"\")","v":""},{"$f":"IF('liste engagés'!$G40=2,'liste engagés'!C40,\"\")","v":""},{"$f":"IF('liste engagés'!$G40=2,'liste engagés'!D40,\"\")","v":""},{"$f":"IF('liste engagés'!$G40=2,'liste engagés'!E40,\"\")","v":""},{"$f":"IF('liste engagés'!$G40=2,'liste engagés'!K40,\"\")","v":""},{"$f":"IF('liste engagés'!$G40=2,'liste engagés'!L40,\"\")","v":""},0]
[40,{"$f":"IF('liste engagés'!$G41=2,'liste engagés'!A41,\"\")","v":""},{"$f":"IF('liste engagés'!$G41=2,'liste engagés'!B41,\"\")","v":""},{"$f":"IF('liste engagés'!$G41=2,'liste engagés'!C41,\"\")","v":""},{"$f":"IF('liste engagés'!$G41=2,'liste engagés'!D41,\"\")","v":""},{"$f":"IF('liste engagés'!$G41=2,'liste engagés'!E41,\"\")","v":""},{"$f":"IF('liste engagés'!$G41=2,'liste engagés'!K41,\"\")","v":""},{"$f":"IF('liste engagés'!$G41=2,'liste engagés'!L41,\"\")","v":""},0]
[41,{"$f":"IF('liste engagés'!$G42=2,'liste engagés'!A42,\"\")","v":""},{"$f":"IF('liste engagés'!$G42=2,'liste engagés'!B42,\"\")","v":""},{"$f":"IF('liste engagés'!$G42=2,'liste engagés'!C42,\"\")","v":""},{"$f":"IF('liste engagés'!$G42=2,'liste engagés'!D42,\"\")","v":""},{"$f":"IF('liste engagés'!$G42=2,'liste engagés'!E42,\"\")","v":""},{"$f":"IF('liste engagés'!$G42=2,'liste engagés'!K42,\"\")","v":""},{"$f":"IF('liste engagés'!$G42=2,'liste engagés'!L42,\"\")","v":""},0]
[42,{"$f":"IF('liste engagés'!$G43=2,'liste engagés'!A43,\"\")","v":""},{"$f":"IF('liste engagés'!$G43=2,'liste engagés'!B43,\"\")","v":""},{"$f":"IF('liste engagés'!$G43=2,'liste engagés'!C43,\"\")","v":""},{"$f":"IF('liste engagés'!$G43=2,'liste engagés'!D43,\"\")","v":""},{"$f":"IF('liste engagés'!$G43=2,'liste engagés'!E43,\"\")","v":""},{"$f":"IF('liste engagés'!$G43=2,'liste engagés'!K43,\"\")","v":""},{"$f":"IF('liste engagés'!$G43=2,'liste engagés'!L43,\"\")","v":""},0]
[43,{"$f":"IF('liste engagés'!$G44=2,'liste engagés'!A44,\"\")","v":""},{"$f":"IF('liste engagés'!$G44=2,'liste engagés'!B44,\"\")","v":""},{"$f":"IF('liste engagés'!$G44=2,'liste engagés'!C44,\"\")","v":""},{"$f":"IF('liste engagés'!$G44=2,'liste engagés'!D44,\"\")","v":""},{"$f":"IF('liste engagés'!$G44=2,'liste engagés'!E44,\"\")","v":""},{"$f":"IF('liste engagés'!$G44=2,'liste engagés'!K44,\"\")","v":""},{"$f":"IF('liste engagés'!$G44=2,'liste engagés'!L44,\"\")","v":""},0]
[44,{"$f":"IF('liste engagés'!$G45=2,'liste engagés'!A45,\"\")","v":""},{"$f":"IF('liste engagés'!$G45=2,'liste engagés'!B45,\"\")","v":""},{"$f":"IF('liste engagés'!$G45=2,'liste engagés'!C45,\"\")","v":""},{"$f":"IF('liste engagés'!$G45=2,'liste engagés'!D45,\"\")","v":""},{"$f":"IF('liste engagés'!$G45=2,'liste engagés'!E45,\"\")","v":""},{"$f":"IF('liste engagés'!$G45=2,'liste engagés'!K45,\"\")","v":""},{"$f":"IF('liste engagés'!$G45=2,'liste engagés'!L45,\"\")","v":""},0]
[45,{"$f":"IF('liste engagés'!$G46=2,'liste engagés'!A46,\"\")","v":""},{"$f":"IF('liste engagés'!$G46=2,'liste engagés'!B46,\"\")","v":""},{"$f":"IF('liste engagés'!$G46=2,'liste engagés'!C46,\"\")","v":""},{"$f":"IF('liste engagés'!$G46=2,'liste engagés'!D46,\"\")","v":""},{"$f":"IF('liste engagés'!$G46=2,'liste engagés'!E46,\"\")","v":""},{"$f":"IF('liste engagés'!$G46=2,'liste engagés'!K46,\"\")","v":""},{"$f":"IF('liste engagés'!$G46=2,'liste engagés'!L46,\"\")","v":""},0]
[46,{"$f":"IF('liste engagés'!$G47=2,'liste engagés'!A47,\"\")","v":""},{"$f":"IF('liste engagés'!$G47=2,'liste engagés'!B47,\"\")","v":""},{"$f":"IF('liste engagés'!$G47=2,'liste engagés'!C47,\"\")","v":""},{"$f":"IF('liste engagés'!$G47=2,'liste engagés'!D47,\"\")","v":""},{"$f":"IF('liste engagés'!$G47=2,'liste engagés'!E47,\"\")","v":""},{"$f":"IF('liste engagés'!$G47=2,'liste engagés'!K47,\"\")","v":""},{"$f":"IF('liste engagés'!$G47=2,'liste engagés'!L47,\"\")","v":""},0]
[47,{"$f":"IF('liste engagés'!$G48=2,'liste engagés'!A48,\"\")","v":""},{"$f":"IF('liste engagés'!$G48=2,'liste engagés'!B48,\"\")","v":""},{"$f":"IF('liste engagés'!$G48=2,'liste engagés'!C48,\"\")","v":""},{"$f":"IF('liste engagés'!$G48=2,'liste engagés'!D48,\"\")","v":""},{"$f":"IF('liste engagés'!$G48=2,'liste engagés'!E48,\"\")","v":""},{"$f":"IF('liste engagés'!$G48=2,'liste engagés'!K48,\"\")","v":""},{"$f":"IF('liste engagés'!$G48=2,'liste engagés'!L48,\"\")","v":""},0]
[48,{"$f":"IF('liste engagés'!$G49=2,'liste engagés'!A49,\"\")","v":""},{"$f":"IF('liste engagés'!$G49=2,'liste engagés'!B49,\"\")","v":""},{"$f":"IF('liste engagés'!$G49=2,'liste engagés'!C49,\"\")","v":""},{"$f":"IF('liste engagés'!$G49=2,'liste engagés'!D49,\"\")","v":""},{"$f":"IF('liste engagés'!$G49=2,'liste engagés'!E49,\"\")","v":""},{"$f":"IF('liste engagés'!$G49=2,'liste engagés'!K49,\"\")","v":""},{"$f":"IF('liste engagés'!$G49=2,'liste engagés'!L49,\"\")","v":""},0]
[49,{"$f":"IF('liste engagés'!$G50=2,'liste engagés'!A50,\"\")","v":""},{"$f":"IF('liste engagés'!$G50=2,'liste engagés'!B50,\"\")","v":""},{"$f":"IF('liste engagés'!$G50=2,'liste engagés'!C50,\"\")","v":""},{"$f":"IF('liste engagés'!$G50=2,'liste engagés'!D50,\"\")","v":""},{"$f":"IF('liste engagés'!$G50=2,'liste engagés'!E50,\"\")","v":""},{"$f":"IF('liste engagés'!$G50=2,'liste engagés'!K50,\"\")","v":""},{"$f":"IF('liste engagés'!$G50=2,'liste engagés'!L50,\"\")","v":""},0]
[50,{"$f":"IF('liste engagés'!$G51=2,'liste engagés'!A51,\"\")","v":""},{"$f":"IF('liste engagés'!$G51=2,'liste engagés'!B51,\"\")","v":""},{"$f":"IF('liste engagés'!$G51=2,'liste engagés'!C51,\"\")","v":""},{"$f":"IF('liste engagés'!$G51=2,'liste engagés'!D51,\"\")","v":""},{"$f":"IF('liste engagés'!$G51=2,'liste engagés'!E51,\"\")","v":""},{"$f":"IF('liste engagés'!$G51=2,'liste engagés'!K51,\"\")","v":""},{"$f":"IF('liste engagés'!$G51=2,'liste engagés'!L51,\"\")","v":""},0]
[51,{"$f":"IF('liste engagés'!$G52=2,'liste engagés'!A52,\"\")","v":""},{"$f":"IF('liste engagés'!$G52=2,'liste engagés'!B52,\"\")","v":""},{"$f":"IF('liste engagés'!$G52=2,'liste engagés'!C52,\"\")","v":""},{"$f":"IF('liste engagés'!$G52=2,'liste engagés'!D52,\"\")","v":""},{"$f":"IF('liste engagés'!$G52=2,'liste engagés'!E52,\"\")","v":""},{"$f":"IF('liste engagés'!$G52=2,'liste engagés'!K52,\"\")","v":""},{"$f":"IF('liste engagés'!$G52=2,'liste engagés'!L52,\"\")","v":""},0]
[52,{"$f":"IF('liste engagés'!$G53=2,'liste engagés'!A53,\"\")","v":""},{"$f":"IF('liste engagés'!$G53=2,'liste engagés'!B53,\"\")","v":""},{"$f":"IF('liste engagés'!$G53=2,'liste engagés'!C53,\"\")","v":""},{"$f":"IF('liste engagés'!$G53=2,'liste engagés'!D53,\"\")","v":""},{"$f":"IF('liste engagés'!$G53=2,'liste engagés'!E53,\"\")","v":""},{"$f":"IF('liste engagés'!$G53=2,'liste engagés'!K53,\"\")","v":""},{"$f":"IF('liste engagés'!$G53=2,'liste engagés'!L53,\"\")","v":""},0]
[53,{"$f":"IF('liste engagés'!$G54=2,'liste engagés'!A54,\"\")","v":""},{"$f":"IF('liste engagés'!$G54=2,'liste engagés'!B54,\"\")","v":""},{"$f":"IF('liste engagés'!$G54=2,'liste engagés'!C54,\"\")","v":""},{"$f":"IF('liste engagés'!$G54=2,'liste engagés'!D54,\"\")","v":""},{"$f":"IF('liste engagés'!$G54=2,'liste engagés'!E54,\"\")","v":""},{"$f":"IF('liste engagés'!$G54=2,'liste engagés'!K54,\"\")","v":""},{"$f":"IF('liste engagés'!$G54=2,'liste engagés'!L54,\"\")","v":""},0]
[54,{"$f":"IF('liste engagés'!$G55=2,'liste engagés'!A55,\"\")","v":""},{"$f":"IF('liste engagés'!$G55=2,'liste engagés'!B55,\"\")","v":""},{"$f":"IF('liste engagés'!$G55=2,'liste engagés'!C55,\"\")","v":""},{"$f":"IF('liste engagés'!$G55=2,'liste engagés'!D55,\"\")","v":""},{"$f":"IF('liste engagés'!$G55=2,'liste engagés'!E55,\"\")","v":""},{"$f":"IF('liste engagés'!$G55=2,'liste engagés'!K55,\"\")","v":""},{"$f":"IF('liste engagés'!$G55=2,'liste engagés'!L55,\"\")","v":""},0]
[55,{"$f":"IF('liste engagés'!$G56=2,'liste engagés'!A56,\"\")","v":""},{"$f":"IF('liste engagés'!$G56=2,'liste engagés'!B56,\"\")","v":""},{"$f":"IF('liste engagés'!$G56=2,'liste engagés'!C56,\"\")","v":""},{"$f":"IF('liste engagés'!$G56=2,'liste engagés'!D56,\"\")","v":""},{"$f":"IF('liste engagés'!$G56=2,'liste engagés'!E56,\"\")","v":""},{"$f":"IF('liste engagés'!$G56=2,'liste engagés'!K56,\"\")","v":""},{"$f":"IF('liste engagés'!$G56=2,'liste engagés'!L56,\"\")","v":""},0]
[56,{"$f":"IF('liste engagés'!$G57=2,'liste engagés'!A57,\"\")","v":""},{"$f":"IF('liste engagés'!$G57=2,'liste engagés'!B57,\"\")","v":""},{"$f":"IF('liste engagés'!$G57=2,'liste engagés'!C57,\"\")","v":""},{"$f":"IF('liste engagés'!$G57=2,'liste engagés'!D57,\"\")","v":""},{"$f":"IF('liste engagés'!$G57=2,'liste engagés'!E57,\"\")","v":""},{"$f":"IF('liste engagés'!$G57=2,'liste engagés'!K57,\"\")","v":""},{"$f":"IF('liste engagés'!$G57=2,'liste engagés'!L57,\"\")","v":""},0]
[57,{"$f":"IF('liste engagés'!$G58=2,'liste engagés'!A58,\"\")","v":""},{"$f":"IF('liste engagés'!$G58=2,'liste engagés'!B58,\"\")","v":""},{"$f":"IF('liste engagés'!$G58=2,'liste engagés'!C58,\"\")","v":""},{"$f":"IF('liste engagés'!$G58=2,'liste engagés'!D58,\"\")","v":""},{"$f":"IF('liste engagés'!$G58=2,'liste engagés'!E58,\"\")","v":""},{"$f":"IF('liste engagés'!$G58=2,'liste engagés'!K58,\"\")","v":""},{"$f":"IF('liste engagés'!$G58=2,'liste engagés'!L58,\"\")","v":""},0]
[58,{"$f":"IF('liste engagés'!$G59=2,'liste engagés'!A59,\"\")","v":""},{"$f":"IF('liste engagés'!$G59=2,'liste engagés'!B59,\"\")","v":""},{"$f":"IF('liste engagés'!$G59=2,'liste engagés'!C59,\"\")","v":""},{"$f":"IF('liste engagés'!$G59=2,'liste engagés'!D59,\"\")","v":""},{"$f":"IF('liste engagés'!$G59=2,'liste engagés'!E59,\"\")","v":""},{"$f":"IF('liste engagés'!$G59=2,'liste engagés'!K59,\"\")","v":""},{"$f":"IF('liste engagés'!$G59=2,'liste engagés'!L59,\"\")","v":""},0]
[59,{"$f":"IF('liste engagés'!$G60=2,'liste engagés'!A60,\"\")","v":""},{"$f":"IF('liste engagés'!$G60=2,'liste engagés'!B60,\"\")","v":""},{"$f":"IF('liste engagés'!$G60=2,'liste engagés'!C60,\"\")","v":""},{"$f":"IF('liste engagés'!$G60=2,'liste engagés'!D60,\"\")","v":""},{"$f":"IF('liste engagés'!$G60=2,'liste engagés'!E60,\"\")","v":""},{"$f":"IF('liste engagés'!$G60=2,'liste engagés'!K60,\"\")","v":""},{"$f":"IF('liste engagés'!$G60=2,'liste engagés'!L60,\"\")","v":""},0]
[60,{"$f":"IF('liste engagés'!$G61=2,'liste engagés'!A61,\"\")","v":""},{"$f":"IF('liste engagés'!$G61=2,'liste engagés'!B61,\"\")","v":""},{"$f":"IF('liste engagés'!$G61=2,'liste engagés'!C61,\"\")","v":""},{"$f":"IF('liste engagés'!$G61=2,'liste engagés'!D61,\"\")","v":""},{"$f":"IF('liste engagés'!$G61=2,'liste engagés'!E61,\"\")","v":""},{"$f":"IF('liste engagés'!$G61=2,'liste engagés'!K61,\"\")","v":""},{"$f":"IF('liste engagés'!$G61=2,'liste engagés'!L61,\"\")","v":""},0]
[61,{"$f":"IF('liste engagés'!$G62=2,'liste engagés'!A62,\"\")","v":""},{"$f":"IF('liste engagés'!$G62=2,'liste engagés'!B62,\"\")","v":""},{"$f":"IF('liste engagés'!$G62=2,'liste engagés'!C62,\"\")","v":""},{"$f":"IF('liste engagés'!$G62=2,'liste engagés'!D62,\"\")","v":""},{"$f":"IF('liste engagés'!$G62=2,'liste engagés'!E62,\"\")","v":""},{"$f":"IF('liste engagés'!$G62=2,'liste engagés'!K62,\"\")","v":""},{"$f":"IF('liste engagés'!$G62=2,'liste engagés'!L62,\"\")","v":""},0]
[62,{"$f":"IF('liste engagés'!$G63=2,'liste engagés'!A63,\"\")","v":""},{"$f":"IF('liste engagés'!$G63=2,'liste engagés'!B63,\"\")","v":""},{"$f":"IF('liste engagés'!$G63=2,'liste engagés'!C63,\"\")","v":""},{"$f":"IF('liste engagés'!$G63=2,'liste engagés'!D63,\"\")","v":""},{"$f":"IF('liste engagés'!$G63=2,'liste engagés'!E63,\"\")","v":""},{"$f":"IF('liste engagés'!$G63=2,'liste engagés'!K63,\"\")","v":""},{"$f":"IF('liste engagés'!$G63=2,'liste engagés'!L63,\"\")","v":""},0]
[63,{"$f":"IF('liste engagés'!$G64=2,'liste engagés'!A64,\"\")","v":""},{"$f":"IF('liste engagés'!$G64=2,'liste engagés'!B64,\"\")","v":""},{"$f":"IF('liste engagés'!$G64=2,'liste engagés'!C64,\"\")","v":""},{"$f":"IF('liste engagés'!$G64=2,'liste engagés'!D64,\"\")","v":""},{"$f":"IF('liste engagés'!$G64=2,'liste engagés'!E64,\"\")","v":""},{"$f":"IF('liste engagés'!$G64=2,'liste engagés'!K64,\"\")","v":""},{"$f":"IF('liste engagés'!$G64=2,'liste engagés'!L64,\"\")","v":""},0]
[64,{"$f":"IF('liste engagés'!$G65=2,'liste engagés'!A65,\"\")","v":""},{"$f":"IF('liste engagés'!$G65=2,'liste engagés'!B65,\"\")","v":""},{"$f":"IF('liste engagés'!$G65=2,'liste engagés'!C65,\"\")","v":""},{"$f":"IF('liste engagés'!$G65=2,'liste engagés'!D65,\"\")","v":""},{"$f":"IF('liste engagés'!$G65=2,'liste engagés'!E65,\"\")","v":""},{"$f":"IF('liste engagés'!$G65=2,'liste engagés'!K65,\"\")","v":""},{"$f":"IF('liste engagés'!$G65=2,'liste engagés'!L65,\"\")","v":""},0]
[65,{"$f":"IF('liste engagés'!$G66=2,'liste engagés'!A66,\"\")","v":""},{"$f":"IF('liste engagés'!$G66=2,'liste engagés'!B66,\"\")","v":""},{"$f":"IF('liste engagés'!$G66=2,'liste engagés'!C66,\"\")","v":""},{"$f":"IF('liste engagés'!$G66=2,'liste engagés'!D66,\"\")","v":""},{"$f":"IF('liste engagés'!$G66=2,'liste engagés'!E66,\"\")","v":""},{"$f":"IF('liste engagés'!$G66=2,'liste engagés'!K66,\"\")","v":""},{"$f":"IF('liste engagés'!$G66=2,'liste engagés'!L66,\"\")","v":""},{"$f":"+IF(C71=\"\",0,1)","v":0}]
[{"$f":"+A71+1","v":66},{"$f":"IF('liste engagés'!$G67=2,'liste engagés'!A67,\"\")","v":""},{"$f":"IF('liste engagés'!$G67=2,'liste engagés'!B67,\"\")","v":""},{"$f":"IF('liste engagés'!$G67=2,'liste engagés'!C67,\"\")","v":""},{"$f":"IF('liste engagés'!$G67=2,'liste engagés'!D67,\"\")","v":""},{"$f":"IF('liste engagés'!$G67=2,'liste engagés'!E67,\"\")","v":""},{"$f":"IF('liste engagés'!$G67=2,'liste engagés'!K67,\"\")","v":""},{"$f":"IF('liste engagés'!$G67=2,'liste engagés'!L67,\"\")","v":""},0]
[67,{"$f":"IF('liste engagés'!$G68=2,'liste engagés'!A68,\"\")","v":""},{"$f":"IF('liste engagés'!$G68=2,'liste engagés'!B68,\"\")","v":""},{"$f":"IF('liste engagés'!$G68=2,'liste engagés'!C68,\"\")","v":""},{"$f":"IF('liste engagés'!$G68=2,'liste engagés'!D68,\"\")","v":""},{"$f":"IF('liste engagés'!$G68=2,'liste engagés'!E68,\"\")","v":""},{"$f":"IF('liste engagés'!$G68=2,'liste engagés'!K68,\"\")","v":""},{"$f":"IF('liste engagés'!$G68=2,'liste engagés'!L68,\"\")","v":""},0]
[68,{"$f":"IF('liste engagés'!$G69=2,'liste engagés'!A69,\"\")","v":""},{"$f":"IF('liste engagés'!$G69=2,'liste engagés'!B69,\"\")","v":""},{"$f":"IF('liste engagés'!$G69=2,'liste engagés'!C69,\"\")","v":""},{"$f":"IF('liste engagés'!$G69=2,'liste engagés'!D69,\"\")","v":""},{"$f":"IF('liste engagés'!$G69=2,'liste engagés'!E69,\"\")","v":""},{"$f":"IF('liste engagés'!$G69=2,'liste engagés'!K69,\"\")","v":""},{"$f":"IF('liste engagés'!$G69=2,'liste engagés'!L69,\"\")","v":""},0]
[69,{"$f":"IF('liste engagés'!$G70=2,'liste engagés'!A70,\"\")","v":""},{"$f":"IF('liste engagés'!$G70=2,'liste engagés'!B70,\"\")","v":""},{"$f":"IF('liste engagés'!$G70=2,'liste engagés'!C70,\"\")","v":""},{"$f":"IF('liste engagés'!$G70=2,'liste engagés'!D70,\"\")","v":""},{"$f":"IF('liste engagés'!$G70=2,'liste engagés'!E70,\"\")","v":""},{"$f":"IF('liste engagés'!$G70=2,'liste engagés'!K70,\"\")","v":""},{"$f":"IF('liste engagés'!$G70=2,'liste engagés'!L70,\"\")","v":""},0]
[70,{"$f":"IF('liste engagés'!$G71=2,'liste engagés'!A71,\"\")","v":""},{"$f":"IF('liste engagés'!$G71=2,'liste engagés'!B71,\"\")","v":""},{"$f":"IF('liste engagés'!$G71=2,'liste engagés'!C71,\"\")","v":""},{"$f":"IF('liste engagés'!$G71=2,'liste engagés'!D71,\"\")","v":""},{"$f":"IF('liste engagés'!$G71=2,'liste engagés'!E71,\"\")","v":""},{"$f":"IF('liste engagés'!$G71=2,'liste engagés'!K71,\"\")","v":""},{"$f":"IF('liste engagés'!$G71=2,'liste engagés'!L71,\"\")","v":""},0]
[71,{"$f":"IF('liste engagés'!$G72=2,'liste engagés'!A72,\"\")","v":""},{"$f":"IF('liste engagés'!$G72=2,'liste engagés'!B72,\"\")","v":""},{"$f":"IF('liste engagés'!$G72=2,'liste engagés'!C72,\"\")","v":""},{"$f":"IF('liste engagés'!$G72=2,'liste engagés'!D72,\"\")","v":""},{"$f":"IF('liste engagés'!$G72=2,'liste engagés'!E72,\"\")","v":""},{"$f":"IF('liste engagés'!$G72=2,'liste engagés'!K72,\"\")","v":""},{"$f":"IF('liste engagés'!$G72=2,'liste engagés'!L72,\"\")","v":""},0]
[72,{"$f":"IF('liste engagés'!$G73=2,'liste engagés'!A73,\"\")","v":""},{"$f":"IF('liste engagés'!$G73=2,'liste engagés'!B73,\"\")","v":""},{"$f":"IF('liste engagés'!$G73=2,'liste engagés'!C73,\"\")","v":""},{"$f":"IF('liste engagés'!$G73=2,'liste engagés'!D73,\"\")","v":""},{"$f":"IF('liste engagés'!$G73=2,'liste engagés'!E73,\"\")","v":""},{"$f":"IF('liste engagés'!$G73=2,'liste engagés'!K73,\"\")","v":""},{"$f":"IF('liste engagés'!$G73=2,'liste engagés'!L73,\"\")","v":""},0]
[73,{"$f":"IF('liste engagés'!$G74=2,'liste engagés'!A74,\"\")","v":""},{"$f":"IF('liste engagés'!$G74=2,'liste engagés'!B74,\"\")","v":""},{"$f":"IF('liste engagés'!$G74=2,'liste engagés'!C74,\"\")","v":""},{"$f":"IF('liste engagés'!$G74=2,'liste engagés'!D74,\"\")","v":""},{"$f":"IF('liste engagés'!$G74=2,'liste engagés'!E74,\"\")","v":""},{"$f":"IF('liste engagés'!$G74=2,'liste engagés'!K74,\"\")","v":""},{"$f":"IF('liste engagés'!$G74=2,'liste engagés'!L74,\"\")","v":""},0]
[74,{"$f":"IF('liste engagés'!$G75=2,'liste engagés'!A75,\"\")","v":""},{"$f":"IF('liste engagés'!$G75=2,'liste engagés'!B75,\"\")","v":""},{"$f":"IF('liste engagés'!$G75=2,'liste engagés'!C75,\"\")","v":""},{"$f":"IF('liste engagés'!$G75=2,'liste engagés'!D75,\"\")","v":""},{"$f":"IF('liste engagés'!$G75=2,'liste engagés'!E75,\"\")","v":""},{"$f":"IF('liste engagés'!$G75=2,'liste engagés'!K75,\"\")","v":""},{"$f":"IF('liste engagés'!$G75=2,'liste engagés'!L75,\"\")","v":""},0]
[75,{"$f":"IF('liste engagés'!$G76=2,'liste engagés'!A76,\"\")","v":""},{"$f":"IF('liste engagés'!$G76=2,'liste engagés'!B76,\"\")","v":""},{"$f":"IF('liste engagés'!$G76=2,'liste engagés'!C76,\"\")","v":""},{"$f":"IF('liste engagés'!$G76=2,'liste engagés'!D76,\"\")","v":""},{"$f":"IF('liste engagés'!$G76=2,'liste engagés'!E76,\"\")","v":""},{"$f":"IF('liste engagés'!$G76=2,'liste engagés'!K76,\"\")","v":""},{"$f":"IF('liste engagés'!$G76=2,'liste engagés'!L76,\"\")","v":""},0]
[76,{"$f":"IF('liste engagés'!$G77=2,'liste engagés'!A77,\"\")","v":""},{"$f":"IF('liste engagés'!$G77=2,'liste engagés'!B77,\"\")","v":""},{"$f":"IF('liste engagés'!$G77=2,'liste engagés'!C77,\"\")","v":""},{"$f":"IF('liste engagés'!$G77=2,'liste engagés'!D77,\"\")","v":""},{"$f":"IF('liste engagés'!$G77=2,'liste engagés'!E77,\"\")","v":""},{"$f":"IF('liste engagés'!$G77=2,'liste engagés'!K77,\"\")","v":""},{"$f":"IF('liste engagés'!$G77=2,'liste engagés'!L77,\"\")","v":""},0]
[77,{"$f":"IF('liste engagés'!$G78=2,'liste engagés'!A78,\"\")","v":""},{"$f":"IF('liste engagés'!$G78=2,'liste engagés'!B78,\"\")","v":""},{"$f":"IF('liste engagés'!$G78=2,'liste engagés'!C78,\"\")","v":""},{"$f":"IF('liste engagés'!$G78=2,'liste engagés'!D78,\"\")","v":""},{"$f":"IF('liste engagés'!$G78=2,'liste engagés'!E78,\"\")","v":""},{"$f":"IF('liste engagés'!$G78=2,'liste engagés'!K78,\"\")","v":""},{"$f":"IF('liste engagés'!$G78=2,'liste engagés'!L78,\"\")","v":""},0]
[78,{"$f":"IF('liste engagés'!$G79=2,'liste engagés'!A79,\"\")","v":""},{"$f":"IF('liste engagés'!$G79=2,'liste engagés'!B79,\"\")","v":""},{"$f":"IF('liste engagés'!$G79=2,'liste engagés'!C79,\"\")","v":""},{"$f":"IF('liste engagés'!$G79=2,'liste engagés'!D79,\"\")","v":""},{"$f":"IF('liste engagés'!$G79=2,'liste engagés'!E79,\"\")","v":""},{"$f":"IF('liste engagés'!$G79=2,'liste engagés'!K79,\"\")","v":""},{"$f":"IF('liste engagés'!$G79=2,'liste engagés'!L79,\"\")","v":""},0]
[79,{"$f":"IF('liste engagés'!$G80=2,'liste engagés'!A80,\"\")","v":""},{"$f":"IF('liste engagés'!$G80=2,'liste engagés'!B80,\"\")","v":""},{"$f":"IF('liste engagés'!$G80=2,'liste engagés'!C80,\"\")","v":""},{"$f":"IF('liste engagés'!$G80=2,'liste engagés'!D80,\"\")","v":""},{"$f":"IF('liste engagés'!$G80=2,'liste engagés'!E80,\"\")","v":""},{"$f":"IF('liste engagés'!$G80=2,'liste engagés'!K80,\"\")","v":""},{"$f":"IF('liste engagés'!$G80=2,'liste engagés'!L80,\"\")","v":""},0]
[80,{"$f":"IF('liste engagés'!$G81=2,'liste engagés'!A81,\"\")","v":""},{"$f":"IF('liste engagés'!$G81=2,'liste engagés'!B81,\"\")","v":""},{"$f":"IF('liste engagés'!$G81=2,'liste engagés'!C81,\"\")","v":""},{"$f":"IF('liste engagés'!$G81=2,'liste engagés'!D81,\"\")","v":""},{"$f":"IF('liste engagés'!$G81=2,'liste engagés'!E81,\"\")","v":""},{"$f":"IF('liste engagés'!$G81=2,'liste engagés'!K81,\"\")","v":""},{"$f":"IF('liste engagés'!$G81=2,'liste engagés'!L81,\"\")","v":""},0]
[81,{"$f":"IF('liste engagés'!$G82=2,'liste engagés'!A82,\"\")","v":""},{"$f":"IF('liste engagés'!$G82=2,'liste engagés'!B82,\"\")","v":""},{"$f":"IF('liste engagés'!$G82=2,'liste engagés'!C82,\"\")","v":""},{"$f":"IF('liste engagés'!$G82=2,'liste engagés'!D82,\"\")","v":""},{"$f":"IF('liste engagés'!$G82=2,'liste engagés'!E82,\"\")","v":""},{"$f":"IF('liste engagés'!$G82=2,'liste engagés'!K82,\"\")","v":""},{"$f":"IF('liste engagés'!$G82=2,'liste engagés'!L82,\"\")","v":""},0]
[82,{"$f":"IF('liste engagés'!$G83=2,'liste engagés'!A83,\"\")","v":""},{"$f":"IF('liste engagés'!$G83=2,'liste engagés'!B83,\"\")","v":""},{"$f":"IF('liste engagés'!$G83=2,'liste engagés'!C83,\"\")","v":""},{"$f":"IF('liste engagés'!$G83=2,'liste engagés'!D83,\"\")","v":""},{"$f":"IF('liste engagés'!$G83=2,'liste engagés'!E83,\"\")","v":""},{"$f":"IF('liste engagés'!$G83=2,'liste engagés'!K83,\"\")","v":""},{"$f":"IF('liste engagés'!$G83=2,'liste engagés'!L83,\"\")","v":""},0]
[83,{"$f":"IF('liste engagés'!$G84=2,'liste engagés'!A84,\"\")","v":""},{"$f":"IF('liste engagés'!$G84=2,'liste engagés'!B84,\"\")","v":""},{"$f":"IF('liste engagés'!$G84=2,'liste engagés'!C84,\"\")","v":""},{"$f":"IF('liste engagés'!$G84=2,'liste engagés'!D84,\"\")","v":""},{"$f":"IF('liste engagés'!$G84=2,'liste engagés'!E84,\"\")","v":""},{"$f":"IF('liste engagés'!$G84=2,'liste engagés'!K84,\"\")","v":""},{"$f":"IF('liste engagés'!$G84=2,'liste engagés'!L84,\"\")","v":""},0]
[84,{"$f":"IF('liste engagés'!$G85=2,'liste engagés'!A85,\"\")","v":""},{"$f":"IF('liste engagés'!$G85=2,'liste engagés'!B85,\"\")","v":""},{"$f":"IF('liste engagés'!$G85=2,'liste engagés'!C85,\"\")","v":""},{"$f":"IF('liste engagés'!$G85=2,'liste engagés'!D85,\"\")","v":""},{"$f":"IF('liste engagés'!$G85=2,'liste engagés'!E85,\"\")","v":""},{"$f":"IF('liste engagés'!$G85=2,'liste engagés'!K85,\"\")","v":""},{"$f":"IF('liste engagés'!$G85=2,'liste engagés'!L85,\"\")","v":""},0]
[85,{"$f":"IF('liste engagés'!$G86=2,'liste engagés'!A86,\"\")","v":""},{"$f":"IF('liste engagés'!$G86=2,'liste engagés'!B86,\"\")","v":""},{"$f":"IF('liste engagés'!$G86=2,'liste engagés'!C86,\"\")","v":""},{"$f":"IF('liste engagés'!$G86=2,'liste engagés'!D86,\"\")","v":""},{"$f":"IF('liste engagés'!$G86=2,'liste engagés'!E86,\"\")","v":""},{"$f":"IF('liste engagés'!$G86=2,'liste engagés'!K86,\"\")","v":""},{"$f":"IF('liste engagés'!$G86=2,'liste engagés'!L86,\"\")","v":""},0]
[86,{"$f":"IF('liste engagés'!$G87=2,'liste engagés'!A87,\"\")","v":""},{"$f":"IF('liste engagés'!$G87=2,'liste engagés'!B87,\"\")","v":""},{"$f":"IF('liste engagés'!$G87=2,'liste engagés'!C87,\"\")","v":""},{"$f":"IF('liste engagés'!$G87=2,'liste engagés'!D87,\"\")","v":""},{"$f":"IF('liste engagés'!$G87=2,'liste engagés'!E87,\"\")","v":""},{"$f":"IF('liste engagés'!$G87=2,'liste engagés'!K87,\"\")","v":""},{"$f":"IF('liste engagés'!$G87=2,'liste engagés'!L87,\"\")","v":""},0]
[87,{"$f":"IF('liste engagés'!$G88=2,'liste engagés'!A88,\"\")","v":""},{"$f":"IF('liste engagés'!$G88=2,'liste engagés'!B88,\"\")","v":""},{"$f":"IF('liste engagés'!$G88=2,'liste engagés'!C88,\"\")","v":""},{"$f":"IF('liste engagés'!$G88=2,'liste engagés'!D88,\"\")","v":""},{"$f":"IF('liste engagés'!$G88=2,'liste engagés'!E88,\"\")","v":""},{"$f":"IF('liste engagés'!$G88=2,'liste engagés'!K88,\"\")","v":""},{"$f":"IF('liste engagés'!$G88=2,'liste engagés'!L88,\"\")","v":""},0]
[88,{"$f":"IF('liste engagés'!$G89=2,'liste engagés'!A89,\"\")","v":""},{"$f":"IF('liste engagés'!$G89=2,'liste engagés'!B89,\"\")","v":""},{"$f":"IF('liste engagés'!$G89=2,'liste engagés'!C89,\"\")","v":""},{"$f":"IF('liste engagés'!$G89=2,'liste engagés'!D89,\"\")","v":""},{"$f":"IF('liste engagés'!$G89=2,'liste engagés'!E89,\"\")","v":""},{"$f":"IF('liste engagés'!$G89=2,'liste engagés'!K89,\"\")","v":""},{"$f":"IF('liste engagés'!$G89=2,'liste engagés'!L89,\"\")","v":""},0]
[89,{"$f":"IF('liste engagés'!$G90=2,'liste engagés'!A90,\"\")","v":""},{"$f":"IF('liste engagés'!$G90=2,'liste engagés'!B90,\"\")","v":""},{"$f":"IF('liste engagés'!$G90=2,'liste engagés'!C90,\"\")","v":""},{"$f":"IF('liste engagés'!$G90=2,'liste engagés'!D90,\"\")","v":""},{"$f":"IF('liste engagés'!$G90=2,'liste engagés'!E90,\"\")","v":""},{"$f":"IF('liste engagés'!$G90=2,'liste engagés'!K90,\"\")","v":""},{"$f":"IF('liste engagés'!$G90=2,'liste engagés'!L90,\"\")","v":""},0]
[90,{"$f":"IF('liste engagés'!$G91=2,'liste engagés'!A91,\"\")","v":""},{"$f":"IF('liste engagés'!$G91=2,'liste engagés'!B91,\"\")","v":""},{"$f":"IF('liste engagés'!$G91=2,'liste engagés'!C91,\"\")","v":""},{"$f":"IF('liste engagés'!$G91=2,'liste engagés'!D91,\"\")","v":""},{"$f":"IF('liste engagés'!$G91=2,'liste engagés'!E91,\"\")","v":""},{"$f":"IF('liste engagés'!$G91=2,'liste engagés'!K91,\"\")","v":""},{"$f":"IF('liste engagés'!$G91=2,'liste engagés'!L91,\"\")","v":""},0]
[91,{"$f":"IF('liste engagés'!$G92=2,'liste engagés'!A92,\"\")","v":""},{"$f":"IF('liste engagés'!$G92=2,'liste engagés'!B92,\"\")","v":""},{"$f":"IF('liste engagés'!$G92=2,'liste engagés'!C92,\"\")","v":""},{"$f":"IF('liste engagés'!$G92=2,'liste engagés'!D92,\"\")","v":""},{"$f":"IF('liste engagés'!$G92=2,'liste engagés'!E92,\"\")","v":""},{"$f":"IF('liste engagés'!$G92=2,'liste engagés'!K92,\"\")","v":""},{"$f":"IF('liste engagés'!$G92=2,'liste engagés'!L92,\"\")","v":""},0]
[92,{"$f":"IF('liste engagés'!$G93=2,'liste engagés'!A93,\"\")","v":""},{"$f":"IF('liste engagés'!$G93=2,'liste engagés'!B93,\"\")","v":""},{"$f":"IF('liste engagés'!$G93=2,'liste engagés'!C93,\"\")","v":""},{"$f":"IF('liste engagés'!$G93=2,'liste engagés'!D93,\"\")","v":""},{"$f":"IF('liste engagés'!$G93=2,'liste engagés'!E93,\"\")","v":""},{"$f":"IF('liste engagés'!$G93=2,'liste engagés'!K93,\"\")","v":""},{"$f":"IF('liste engagés'!$G93=2,'liste engagés'!L93,\"\")","v":""},0]
[93,{"$f":"IF('liste engagés'!$G94=2,'liste engagés'!A94,\"\")","v":""},{"$f":"IF('liste engagés'!$G94=2,'liste engagés'!B94,\"\")","v":""},{"$f":"IF('liste engagés'!$G94=2,'liste engagés'!C94,\"\")","v":""},{"$f":"IF('liste engagés'!$G94=2,'liste engagés'!D94,\"\")","v":""},{"$f":"IF('liste engagés'!$G94=2,'liste engagés'!E94,\"\")","v":""},{"$f":"IF('liste engagés'!$G94=2,'liste engagés'!K94,\"\")","v":""},{"$f":"IF('liste engagés'!$G94=2,'liste engagés'!L94,\"\")","v":""},0]
[94,{"$f":"IF('liste engagés'!$G95=2,'liste engagés'!A95,\"\")","v":""},{"$f":"IF('liste engagés'!$G95=2,'liste engagés'!B95,\"\")","v":""},{"$f":"IF('liste engagés'!$G95=2,'liste engagés'!C95,\"\")","v":""},{"$f":"IF('liste engagés'!$G95=2,'liste engagés'!D95,\"\")","v":""},{"$f":"IF('liste engagés'!$G95=2,'liste engagés'!E95,\"\")","v":""},{"$f":"IF('liste engagés'!$G95=2,'liste engagés'!K95,\"\")","v":""},{"$f":"IF('liste engagés'!$G95=2,'liste engagés'!L95,\"\")","v":""},0]
[95,{"$f":"IF('liste engagés'!$G96=2,'liste engagés'!A96,\"\")","v":""},{"$f":"IF('liste engagés'!$G96=2,'liste engagés'!B96,\"\")","v":""},{"$f":"IF('liste engagés'!$G96=2,'liste engagés'!C96,\"\")","v":""},{"$f":"IF('liste engagés'!$G96=2,'liste engagés'!D96,\"\")","v":""},{"$f":"IF('liste engagés'!$G96=2,'liste engagés'!E96,\"\")","v":""},{"$f":"IF('liste engagés'!$G96=2,'liste engagés'!K96,\"\")","v":""},{"$f":"IF('liste engagés'!$G96=2,'liste engagés'!L96,\"\")","v":""},0]
[96,{"$f":"IF('liste engagés'!$G97=2,'liste engagés'!A97,\"\")","v":""},{"$f":"IF('liste engagés'!$G97=2,'liste engagés'!B97,\"\")","v":""},{"$f":"IF('liste engagés'!$G97=2,'liste engagés'!C97,\"\")","v":""},{"$f":"IF('liste engagés'!$G97=2,'liste engagés'!D97,\"\")","v":""},{"$f":"IF('liste engagés'!$G97=2,'liste engagés'!E97,\"\")","v":""},{"$f":"IF('liste engagés'!$G97=2,'liste engagés'!K97,\"\")","v":""},{"$f":"IF('liste engagés'!$G97=2,'liste engagés'!L97,\"\")","v":""},0]
[97,{"$f":"IF('liste engagés'!$G98=2,'liste engagés'!A98,\"\")","v":""},{"$f":"IF('liste engagés'!$G98=2,'liste engagés'!B98,\"\")","v":""},{"$f":"IF('liste engagés'!$G98=2,'liste engagés'!C98,\"\")","v":""},{"$f":"IF('liste engagés'!$G98=2,'liste engagés'!D98,\"\")","v":""},{"$f":"IF('liste engagés'!$G98=2,'liste engagés'!E98,\"\")","v":""},{"$f":"IF('liste engagés'!$G98=2,'liste engagés'!K98,\"\")","v":""},{"$f":"IF('liste engagés'!$G98=2,'liste engagés'!L98,\"\")","v":""},0]
[98,{"$f":"IF('liste engagés'!$G99=2,'liste engagés'!A99,\"\")","v":""},{"$f":"IF('liste engagés'!$G99=2,'liste engagés'!B99,\"\")","v":""},{"$f":"IF('liste engagés'!$G99=2,'liste engagés'!C99,\"\")","v":""},{"$f":"IF('liste engagés'!$G99=2,'liste engagés'!D99,\"\")","v":""},{"$f":"IF('liste engagés'!$G99=2,'liste engagés'!E99,\"\")","v":""},{"$f":"IF('liste engagés'!$G99=2,'liste engagés'!K99,\"\")","v":""},{"$f":"IF('liste engagés'!$G99=2,'liste engagés'!L99,\"\")","v":""},0]
[99,{"$f":"IF('liste engagés'!$G100=2,'liste engagés'!A100,\"\")","v":""},{"$f":"IF('liste engagés'!$G100=2,'liste engagés'!B100,\"\")","v":""},{"$f":"IF('liste engagés'!$G100=2,'liste engagés'!C100,\"\")","v":""},{"$f":"IF('liste engagés'!$G100=2,'liste engagés'!D100,\"\")","v":""},{"$f":"IF('liste engagés'!$G100=2,'liste engagés'!E100,\"\")","v":""},{"$f":"IF('liste engagés'!$G100=2,'liste engagés'!K100,\"\")","v":""},{"$f":"IF('liste engagés'!$G100=2,'liste engagés'!L100,\"\")","v":""},0]
[100,{"$f":"IF('liste engagés'!$G101=2,'liste engagés'!A101,\"\")","v":""},{"$f":"IF('liste engagés'!$G101=2,'liste engagés'!B101,\"\")","v":""},{"$f":"IF('liste engagés'!$G101=2,'liste engagés'!C101,\"\")","v":""},{"$f":"IF('liste engagés'!$G101=2,'liste engagés'!D101,\"\")","v":""},{"$f":"IF('liste engagés'!$G101=2,'liste engagés'!E101,\"\")","v":""},{"$f":"IF('liste engagés'!$G101=2,'liste engagés'!K101,\"\")","v":""},{"$f":"IF('liste engagés'!$G101=2,'liste engagés'!L101,\"\")","v":""},0]
[101,{"$f":"IF('liste engagés'!$G102=2,'liste engagés'!A102,\"\")","v":""},{"$f":"IF('liste engagés'!$G102=2,'liste engagés'!B102,\"\")","v":""},{"$f":"IF('liste engagés'!$G102=2,'liste engagés'!C102,\"\")","v":""},{"$f":"IF('liste engagés'!$G102=2,'liste engagés'!D102,\"\")","v":""},{"$f":"IF('liste engagés'!$G102=2,'liste engagés'!E102,\"\")","v":""},{"$f":"IF('liste engagés'!$G102=2,'liste engagés'!K102,\"\")","v":""},{"$f":"IF('liste engagés'!$G102=2,'liste engagés'!L102,\"\")","v":""},0]
[102,{"$f":"IF('liste engagés'!$G103=2,'liste engagés'!A103,\"\")","v":""},{"$f":"IF('liste engagés'!$G103=2,'liste engagés'!B103,\"\")","v":""},{"$f":"IF('liste engagés'!$G103=2,'liste engagés'!C103,\"\")","v":""},{"$f":"IF('liste engagés'!$G103=2,'liste engagés'!D103,\"\")","v":""},{"$f":"IF('liste engagés'!$G103=2,'liste engagés'!E103,\"\")","v":""},{"$f":"IF('liste engagés'!$G103=2,'liste engagés'!K103,\"\")","v":""},{"$f":"IF('liste engagés'!$G103=2,'liste engagés'!L103,\"\")","v":""},0]
[103,{"$f":"IF('liste engagés'!$G104=2,'liste engagés'!A104,\"\")","v":""},{"$f":"IF('liste engagés'!$G104=2,'liste engagés'!B104,\"\")","v":""},{"$f":"IF('liste engagés'!$G104=2,'liste engagés'!C104,\"\")","v":""},{"$f":"IF('liste engagés'!$G104=2,'liste engagés'!D104,\"\")","v":""},{"$f":"IF('liste engagés'!$G104=2,'liste engagés'!E104,\"\")","v":""},{"$f":"IF('liste engagés'!$G104=2,'liste engagés'!K104,\"\")","v":""},{"$f":"IF('liste engagés'!$G104=2,'liste engagés'!L104,\"\")","v":""},0]
[104,{"$f":"IF('liste engagés'!$G105=2,'liste engagés'!A105,\"\")","v":""},{"$f":"IF('liste engagés'!$G105=2,'liste engagés'!B105,\"\")","v":""},{"$f":"IF('liste engagés'!$G105=2,'liste engagés'!C105,\"\")","v":""},{"$f":"IF('liste engagés'!$G105=2,'liste engagés'!D105,\"\")","v":""},{"$f":"IF('liste engagés'!$G105=2,'liste engagés'!E105,\"\")","v":""},{"$f":"IF('liste engagés'!$G105=2,'liste engagés'!K105,\"\")","v":""},{"$f":"IF('liste engagés'!$G105=2,'liste engagés'!L105,\"\")","v":""},0]
[105,{"$f":"IF('liste engagés'!$G106=2,'liste engagés'!A106,\"\")","v":""},{"$f":"IF('liste engagés'!$G106=2,'liste engagés'!B106,\"\")","v":""},{"$f":"IF('liste engagés'!$G106=2,'liste engagés'!C106,\"\")","v":""},{"$f":"IF('liste engagés'!$G106=2,'liste engagés'!D106,\"\")","v":""},{"$f":"IF('liste engagés'!$G106=2,'liste engagés'!E106,\"\")","v":""},{"$f":"IF('liste engagés'!$G106=2,'liste engagés'!K106,\"\")","v":""},{"$f":"IF('liste engagés'!$G106=2,'liste engagés'!L106,\"\")","v":""},0]
[106,{"$f":"IF('liste engagés'!$G107=2,'liste engagés'!A107,\"\")","v":""},{"$f":"IF('liste engagés'!$G107=2,'liste engagés'!B107,\"\")","v":""},{"$f":"IF('liste engagés'!$G107=2,'liste engagés'!C107,\"\")","v":""},{"$f":"IF('liste engagés'!$G107=2,'liste engagés'!D107,\"\")","v":""},{"$f":"IF('liste engagés'!$G107=2,'liste engagés'!E107,\"\")","v":""},{"$f":"IF('liste engagés'!$G107=2,'liste engagés'!K107,\"\")","v":""},{"$f":"IF('liste engagés'!$G107=2,'liste engagés'!L107,\"\")","v":""},0]
[107,{"$f":"IF('liste engagés'!$G108=2,'liste engagés'!A108,\"\")","v":""},{"$f":"IF('liste engagés'!$G108=2,'liste engagés'!B108,\"\")","v":""},{"$f":"IF('liste engagés'!$G108=2,'liste engagés'!C108,\"\")","v":""},{"$f":"IF('liste engagés'!$G108=2,'liste engagés'!D108,\"\")","v":""},{"$f":"IF('liste engagés'!$G108=2,'liste engagés'!E108,\"\")","v":""},{"$f":"IF('liste engagés'!$G108=2,'liste engagés'!K108,\"\")","v":""},{"$f":"IF('liste engagés'!$G108=2,'liste engagés'!L108,\"\")","v":""},0]
[108,{"$f":"IF('liste engagés'!$G109=2,'liste engagés'!A109,\"\")","v":""},{"$f":"IF('liste engagés'!$G109=2,'liste engagés'!B109,\"\")","v":""},{"$f":"IF('liste engagés'!$G109=2,'liste engagés'!C109,\"\")","v":""},{"$f":"IF('liste engagés'!$G109=2,'liste engagés'!D109,\"\")","v":""},{"$f":"IF('liste engagés'!$G109=2,'liste engagés'!E109,\"\")","v":""},{"$f":"IF('liste engagés'!$G109=2,'liste engagés'!K109,\"\")","v":""},{"$f":"IF('liste engagés'!$G109=2,'liste engagés'!L109,\"\")","v":""},0]
[109,{"$f":"IF('liste engagés'!$G110=2,'liste engagés'!A110,\"\")","v":""},{"$f":"IF('liste engagés'!$G110=2,'liste engagés'!B110,\"\")","v":""},{"$f":"IF('liste engagés'!$G110=2,'liste engagés'!C110,\"\")","v":""},{"$f":"IF('liste engagés'!$G110=2,'liste engagés'!D110,\"\")","v":""},{"$f":"IF('liste engagés'!$G110=2,'liste engagés'!E110,\"\")","v":""},{"$f":"IF('liste engagés'!$G110=2,'liste engagés'!K110,\"\")","v":""},{"$f":"IF('liste engagés'!$G110=2,'liste engagés'!L110,\"\")","v":""},0]
[110,{"$f":"IF('liste engagés'!$G111=2,'liste engagés'!A111,\"\")","v":""},{"$f":"IF('liste engagés'!$G111=2,'liste engagés'!B111,\"\")","v":""},{"$f":"IF('liste engagés'!$G111=2,'liste engagés'!C111,\"\")","v":""},{"$f":"IF('liste engagés'!$G111=2,'liste engagés'!D111,\"\")","v":""},{"$f":"IF('liste engagés'!$G111=2,'liste engagés'!E111,\"\")","v":""},{"$f":"IF('liste engagés'!$G111=2,'liste engagés'!K111,\"\")","v":""},{"$f":"IF('liste engagés'!$G111=2,'liste engagés'!L111,\"\")","v":""},0]
[111,{"$f":"IF('liste engagés'!$G112=2,'liste engagés'!A112,\"\")","v":""},{"$f":"IF('liste engagés'!$G112=2,'liste engagés'!B112,\"\")","v":""},{"$f":"IF('liste engagés'!$G112=2,'liste engagés'!C112,\"\")","v":""},{"$f":"IF('liste engagés'!$G112=2,'liste engagés'!D112,\"\")","v":""},{"$f":"IF('liste engagés'!$G112=2,'liste engagés'!E112,\"\")","v":""},{"$f":"IF('liste engagés'!$G112=2,'liste engagés'!K112,\"\")","v":""},{"$f":"IF('liste engagés'!$G112=2,'liste engagés'!L112,\"\")","v":""},0]
[112,{"$f":"IF('liste engagés'!$G113=2,'liste engagés'!A113,\"\")","v":""},{"$f":"IF('liste engagés'!$G113=2,'liste engagés'!B113,\"\")","v":""},{"$f":"IF('liste engagés'!$G113=2,'liste engagés'!C113,\"\")","v":""},{"$f":"IF('liste engagés'!$G113=2,'liste engagés'!D113,\"\")","v":""},{"$f":"IF('liste engagés'!$G113=2,'liste engagés'!E113,\"\")","v":""},{"$f":"IF('liste engagés'!$G113=2,'liste engagés'!K113,\"\")","v":""},{"$f":"IF('liste engagés'!$G113=2,'liste engagés'!L113,\"\")","v":""},0]
[113,{"$f":"IF('liste engagés'!$G114=2,'liste engagés'!A114,\"\")","v":""},{"$f":"IF('liste engagés'!$G114=2,'liste engagés'!B114,\"\")","v":""},{"$f":"IF('liste engagés'!$G114=2,'liste engagés'!C114,\"\")","v":""},{"$f":"IF('liste engagés'!$G114=2,'liste engagés'!D114,\"\")","v":""},{"$f":"IF('liste engagés'!$G114=2,'liste engagés'!E114,\"\")","v":""},{"$f":"IF('liste engagés'!$G114=2,'liste engagés'!K114,\"\")","v":""},{"$f":"IF('liste engagés'!$G114=2,'liste engagés'!L114,\"\")","v":""},0]
[114,{"$f":"IF('liste engagés'!$G115=2,'liste engagés'!A115,\"\")","v":""},{"$f":"IF('liste engagés'!$G115=2,'liste engagés'!B115,\"\")","v":""},{"$f":"IF('liste engagés'!$G115=2,'liste engagés'!C115,\"\")","v":""},{"$f":"IF('liste engagés'!$G115=2,'liste engagés'!D115,\"\")","v":""},{"$f":"IF('liste engagés'!$G115=2,'liste engagés'!E115,\"\")","v":""},{"$f":"IF('liste engagés'!$G115=2,'liste engagés'!K115,\"\")","v":""},{"$f":"IF('liste engagés'!$G115=2,'liste engagés'!L115,\"\")","v":""},0]
[115,{"$f":"IF('liste engagés'!$G116=2,'liste engagés'!A116,\"\")","v":""},{"$f":"IF('liste engagés'!$G116=2,'liste engagés'!B116,\"\")","v":""},{"$f":"IF('liste engagés'!$G116=2,'liste engagés'!C116,\"\")","v":""},{"$f":"IF('liste engagés'!$G116=2,'liste engagés'!D116,\"\")","v":""},{"$f":"IF('liste engagés'!$G116=2,'liste engagés'!E116,\"\")","v":""},{"$f":"IF('liste engagés'!$G116=2,'liste engagés'!K116,\"\")","v":""},{"$f":"IF('liste engagés'!$G116=2,'liste engagés'!L116,\"\")","v":""},0]
[116,{"$f":"IF('liste engagés'!$G117=2,'liste engagés'!A117,\"\")","v":""},{"$f":"IF('liste engagés'!$G117=2,'liste engagés'!B117,\"\")","v":""},{"$f":"IF('liste engagés'!$G117=2,'liste engagés'!C117,\"\")","v":""},{"$f":"IF('liste engagés'!$G117=2,'liste engagés'!D117,\"\")","v":""},{"$f":"IF('liste engagés'!$G117=2,'liste engagés'!E117,\"\")","v":""},{"$f":"IF('liste engagés'!$G117=2,'liste engagés'!K117,\"\")","v":""},{"$f":"IF('liste engagés'!$G117=2,'liste engagés'!L117,\"\")","v":""},0]
[117,{"$f":"IF('liste engagés'!$G119=2,'liste engagés'!A119,\"\")","v":""},{"$f":"IF('liste engagés'!$G119=2,'liste engagés'!B119,\"\")","v":""},{"$f":"IF('liste engagés'!$G119=2,'liste engagés'!C119,\"\")","v":""},{"$f":"IF('liste engagés'!$G119=2,'liste engagés'!D119,\"\")","v":""},{"$f":"IF('liste engagés'!$G119=2,'liste engagés'!E119,\"\")","v":""},{"$f":"IF('liste engagés'!$G119=2,'liste engagés'!K119,\"\")","v":""},{"$f":"IF('liste engagés'!$G119=2,'liste engagés'!L119,\"\")","v":""},0]
[118,{"$f":"IF('liste engagés'!$G120=2,'liste engagés'!A120,\"\")","v":""},{"$f":"IF('liste engagés'!$G120=2,'liste engagés'!B120,\"\")","v":""},{"$f":"IF('liste engagés'!$G120=2,'liste engagés'!C120,\"\")","v":""},{"$f":"IF('liste engagés'!$G120=2,'liste engagés'!D120,\"\")","v":""},{"$f":"IF('liste engagés'!$G120=2,'liste engagés'!E120,\"\")","v":""},{"$f":"IF('liste engagés'!$G120=2,'liste engagés'!K120,\"\")","v":""},{"$f":"IF('liste engagés'!$G120=2,'liste engagés'!L120,\"\")","v":""},0]
[119,{"$f":"IF('liste engagés'!$G121=2,'liste engagés'!A121,\"\")","v":""},{"$f":"IF('liste engagés'!$G121=2,'liste engagés'!B121,\"\")","v":""},{"$f":"IF('liste engagés'!$G121=2,'liste engagés'!C121,\"\")","v":""},{"$f":"IF('liste engagés'!$G121=2,'liste engagés'!D121,\"\")","v":""},{"$f":"IF('liste engagés'!$G121=2,'liste engagés'!E121,\"\")","v":""},{"$f":"IF('liste engagés'!$G121=2,'liste engagés'!K121,\"\")","v":""},{"$f":"IF('liste engagés'!$G121=2,'liste engagés'!L121,\"\")","v":""},0]
[120,{"$f":"IF('liste engagés'!$G122=2,'liste engagés'!A122,\"\")","v":""},{"$f":"IF('liste engagés'!$G122=2,'liste engagés'!B122,\"\")","v":""},{"$f":"IF('liste engagés'!$G122=2,'liste engagés'!C122,\"\")","v":""},{"$f":"IF('liste engagés'!$G122=2,'liste engagés'!D122,\"\")","v":""},{"$f":"IF('liste engagés'!$G122=2,'liste engagés'!E122,\"\")","v":""},{"$f":"IF('liste engagés'!$G122=2,'liste engagés'!K122,\"\")","v":""},{"$f":"IF('liste engagés'!$G122=2,'liste engagés'!L122,\"\")","v":""},0]
[121,{"$f":"IF('liste engagés'!$G123=2,'liste engagés'!A123,\"\")","v":""},{"$f":"IF('liste engagés'!$G123=2,'liste engagés'!B123,\"\")","v":""},{"$f":"IF('liste engagés'!$G123=2,'liste engagés'!C123,\"\")","v":""},{"$f":"IF('liste engagés'!$G123=2,'liste engagés'!D123,\"\")","v":""},{"$f":"IF('liste engagés'!$G123=2,'liste engagés'!E123,\"\")","v":""},{"$f":"IF('liste engagés'!$G123=2,'liste engagés'!K123,\"\")","v":""},{"$f":"IF('liste engagés'!$G123=2,'liste engagés'!L123,\"\")","v":""},0]
[122,{"$f":"IF('liste engagés'!$G124=2,'liste engagés'!A124,\"\")","v":""},{"$f":"IF('liste engagés'!$G124=2,'liste engagés'!B124,\"\")","v":""},{"$f":"IF('liste engagés'!$G124=2,'liste engagés'!C124,\"\")","v":""},{"$f":"IF('liste engagés'!$G124=2,'liste engagés'!D124,\"\")","v":""},{"$f":"IF('liste engagés'!$G124=2,'liste engagés'!E124,\"\")","v":""},{"$f":"IF('liste engagés'!$G124=2,'liste engagés'!K124,\"\")","v":""},{"$f":"IF('liste engagés'!$G124=2,'liste engagés'!L124,\"\")","v":""},0]
[123,{"$f":"IF('liste engagés'!$G125=2,'liste engagés'!A125,\"\")","v":""},{"$f":"IF('liste engagés'!$G125=2,'liste engagés'!B125,\"\")","v":""},{"$f":"IF('liste engagés'!$G125=2,'liste engagés'!C125,\"\")","v":""},{"$f":"IF('liste engagés'!$G125=2,'liste engagés'!D125,\"\")","v":""},{"$f":"IF('liste engagés'!$G125=2,'liste engagés'!E125,\"\")","v":""},{"$f":"IF('liste engagés'!$G125=2,'liste engagés'!K125,\"\")","v":""},{"$f":"IF('liste engagés'!$G125=2,'liste engagés'!L125,\"\")","v":""},0]
[124,{"$f":"IF('liste engagés'!$G126=2,'liste engagés'!A126,\"\")","v":""},{"$f":"IF('liste engagés'!$G126=2,'liste engagés'!B126,\"\")","v":""},{"$f":"IF('liste engagés'!$G126=2,'liste engagés'!C126,\"\")","v":""},{"$f":"IF('liste engagés'!$G126=2,'liste engagés'!D126,\"\")","v":""},{"$f":"IF('liste engagés'!$G126=2,'liste engagés'!E126,\"\")","v":""},{"$f":"IF('liste engagés'!$G126=2,'liste engagés'!K126,\"\")","v":""},{"$f":"IF('liste engagés'!$G126=2,'liste engagés'!L126,\"\")","v":""},0]
[125,{"$f":"IF('liste engagés'!$G127=2,'liste engagés'!A127,\"\")","v":""},{"$f":"IF('liste engagés'!$G127=2,'liste engagés'!B127,\"\")","v":""},{"$f":"IF('liste engagés'!$G127=2,'liste engagés'!C127,\"\")","v":""},{"$f":"IF('liste engagés'!$G127=2,'liste engagés'!D127,\"\")","v":""},{"$f":"IF('liste engagés'!$G127=2,'liste engagés'!E127,\"\")","v":""},{"$f":"IF('liste engagés'!$G127=2,'liste engagés'!K127,\"\")","v":""},{"$f":"IF('liste engagés'!$G127=2,'liste engagés'!L127,\"\")","v":""},0]
[126,{"$f":"IF('liste engagés'!$G128=2,'liste engagés'!A128,\"\")","v":""},{"$f":"IF('liste engagés'!$G128=2,'liste engagés'!B128,\"\")","v":""},{"$f":"IF('liste engagés'!$G128=2,'liste engagés'!C128,\"\")","v":""},{"$f":"IF('liste engagés'!$G128=2,'liste engagés'!D128,\"\")","v":""},{"$f":"IF('liste engagés'!$G128=2,'liste engagés'!E128,\"\")","v":""},{"$f":"IF('liste engagés'!$G128=2,'liste engagés'!K128,\"\")","v":""},{"$f":"IF('liste engagés'!$G128=2,'liste engagés'!L128,\"\")","v":""},0]
[127,{"$f":"IF('liste engagés'!$G129=2,'liste engagés'!A129,\"\")","v":""},{"$f":"IF('liste engagés'!$G129=2,'liste engagés'!B129,\"\")","v":""},{"$f":"IF('liste engagés'!$G129=2,'liste engagés'!C129,\"\")","v":""},{"$f":"IF('liste engagés'!$G129=2,'liste engagés'!D129,\"\")","v":""},{"$f":"IF('liste engagés'!$G129=2,'liste engagés'!E129,\"\")","v":""},{"$f":"IF('liste engagés'!$G129=2,'liste engagés'!K129,\"\")","v":""},{"$f":"IF('liste engagés'!$G129=2,'liste engagés'!L129,\"\")","v":""},0]
[128,{"$f":"IF('liste engagés'!$G130=2,'liste engagés'!A130,\"\")","v":""},{"$f":"IF('liste engagés'!$G130=2,'liste engagés'!B130,\"\")","v":""},{"$f":"IF('liste engagés'!$G130=2,'liste engagés'!C130,\"\")","v":""},{"$f":"IF('liste engagés'!$G130=2,'liste engagés'!D130,\"\")","v":""},{"$f":"IF('liste engagés'!$G130=2,'liste engagés'!E130,\"\")","v":""},{"$f":"IF('liste engagés'!$G130=2,'liste engagés'!K130,\"\")","v":""},{"$f":"IF('liste engagés'!$G130=2,'liste engagés'!L130,\"\")","v":""},0]
[129,{"$f":"IF('liste engagés'!$G131=2,'liste engagés'!A131,\"\")","v":""},{"$f":"IF('liste engagés'!$G131=2,'liste engagés'!B131,\"\")","v":""},{"$f":"IF('liste engagés'!$G131=2,'liste engagés'!C131,\"\")","v":""},{"$f":"IF('liste engagés'!$G131=2,'liste engagés'!D131,\"\")","v":""},{"$f":"IF('liste engagés'!$G131=2,'liste engagés'!E131,\"\")","v":""},{"$f":"IF('liste engagés'!$G131=2,'liste engagés'!K131,\"\")","v":""},{"$f":"IF('liste engagés'!$G131=2,'liste engagés'!L131,\"\")","v":""},{"$f":"+IF(C135=\"\",0,1)","v":0}]
[{"$f":"+A135+1","v":130},{"$f":"IF('liste engagés'!$G132=2,'liste engagés'!A132,\"\")","v":""},{"$f":"IF('liste engagés'!$G132=2,'liste engagés'!B132,\"\")","v":""},{"$f":"IF('liste engagés'!$G132=2,'liste engagés'!C132,\"\")","v":""},{"$f":"IF('liste engagés'!$G132=2,'liste engagés'!D132,\"\")","v":""},{"$f":"IF('liste engagés'!$G132=2,'liste engagés'!E132,\"\")","v":""},{"$f":"IF('liste engagés'!$G132=2,'liste engagés'!K132,\"\")","v":""},{"$f":"IF('liste engagés'!$G132=2,'liste engagés'!L132,\"\")","v":""},0]
[131,{"$f":"IF('liste engagés'!$G134=2,'liste engagés'!A134,\"\")","v":""},{"$f":"IF('liste engagés'!$G134=2,'liste engagés'!B134,\"\")","v":""},{"$f":"IF('liste engagés'!$G134=2,'liste engagés'!C134,\"\")","v":""},{"$f":"IF('liste engagés'!$G134=2,'liste engagés'!D134,\"\")","v":""},{"$f":"IF('liste engagés'!$G134=2,'liste engagés'!E134,\"\")","v":""},{"$f":"IF('liste engagés'!$G134=2,'liste engagés'!K134,\"\")","v":""},{"$f":"IF('liste engagés'!$G134=2,'liste engagés'!L134,\"\")","v":""},0]
[132,{"$f":"IF('liste engagés'!$G135=2,'liste engagés'!A135,\"\")","v":""},{"$f":"IF('liste engagés'!$G135=2,'liste engagés'!B135,\"\")","v":""},{"$f":"IF('liste engagés'!$G135=2,'liste engagés'!C135,\"\")","v":""},{"$f":"IF('liste engagés'!$G135=2,'liste engagés'!D135,\"\")","v":""},{"$f":"IF('liste engagés'!$G135=2,'liste engagés'!E135,\"\")","v":""},{"$f":"IF('liste engagés'!$G135=2,'liste engagés'!K135,\"\")","v":""},{"$f":"IF('liste engagés'!$G135=2,'liste engagés'!L135,\"\")","v":""},0]
[133,{"$f":"IF('liste engagés'!$G136=2,'liste engagés'!A136,\"\")","v":""},{"$f":"IF('liste engagés'!$G136=2,'liste engagés'!B136,\"\")","v":""},{"$f":"IF('liste engagés'!$G136=2,'liste engagés'!C136,\"\")","v":""},{"$f":"IF('liste engagés'!$G136=2,'liste engagés'!D136,\"\")","v":""},{"$f":"IF('liste engagés'!$G136=2,'liste engagés'!E136,\"\")","v":""},{"$f":"IF('liste engagés'!$G136=2,'liste engagés'!K136,\"\")","v":""},{"$f":"IF('liste engagés'!$G136=2,'liste engagés'!L136,\"\")","v":""},0]
[134,{"$f":"IF('liste engagés'!$G137=2,'liste engagés'!A137,\"\")","v":""},{"$f":"IF('liste engagés'!$G137=2,'liste engagés'!B137,\"\")","v":""},{"$f":"IF('liste engagés'!$G137=2,'liste engagés'!C137,\"\")","v":""},{"$f":"IF('liste engagés'!$G137=2,'liste engagés'!D137,\"\")","v":""},{"$f":"IF('liste engagés'!$G137=2,'liste engagés'!E137,\"\")","v":""},{"$f":"IF('liste engagés'!$G137=2,'liste engagés'!K137,\"\")","v":""},{"$f":"IF('liste engagés'!$G137=2,'liste engagés'!L137,\"\")","v":""},0]
[135,{"$f":"IF('liste engagés'!$G138=2,'liste engagés'!A138,\"\")","v":""},{"$f":"IF('liste engagés'!$G138=2,'liste engagés'!B138,\"\")","v":""},{"$f":"IF('liste engagés'!$G138=2,'liste engagés'!C138,\"\")","v":""},{"$f":"IF('liste engagés'!$G138=2,'liste engagés'!D138,\"\")","v":""},{"$f":"IF('liste engagés'!$G138=2,'liste engagés'!E138,\"\")","v":""},{"$f":"IF('liste engagés'!$G138=2,'liste engagés'!K138,\"\")","v":""},{"$f":"IF('liste engagés'!$G138=2,'liste engagés'!L138,\"\")","v":""},0]
[136,{"$f":"IF('liste engagés'!$G139=2,'liste engagés'!A139,\"\")","v":""},{"$f":"IF('liste engagés'!$G139=2,'liste engagés'!B139,\"\")","v":""},{"$f":"IF('liste engagés'!$G139=2,'liste engagés'!C139,\"\")","v":""},{"$f":"IF('liste engagés'!$G139=2,'liste engagés'!D139,\"\")","v":""},{"$f":"IF('liste engagés'!$G139=2,'liste engagés'!E139,\"\")","v":""},{"$f":"IF('liste engagés'!$G139=2,'liste engagés'!K139,\"\")","v":""},{"$f":"IF('liste engagés'!$G139=2,'liste engagés'!L139,\"\")","v":""},0]
[137,{"$f":"IF('liste engagés'!$G141=2,'liste engagés'!A141,\"\")","v":""},{"$f":"IF('liste engagés'!$G141=2,'liste engagés'!B141,\"\")","v":""},{"$f":"IF('liste engagés'!$G141=2,'liste engagés'!C141,\"\")","v":""},{"$f":"IF('liste engagés'!$G141=2,'liste engagés'!D141,\"\")","v":""},{"$f":"IF('liste engagés'!$G141=2,'liste engagés'!E141,\"\")","v":""},{"$f":"IF('liste engagés'!$G141=2,'liste engagés'!K141,\"\")","v":""},{"$f":"IF('liste engagés'!$G141=2,'liste engagés'!L141,\"\")","v":""},0]
[138,{"$f":"IF('liste engagés'!$G142=2,'liste engagés'!A142,\"\")","v":""},{"$f":"IF('liste engagés'!$G142=2,'liste engagés'!B142,\"\")","v":""},{"$f":"IF('liste engagés'!$G142=2,'liste engagés'!C142,\"\")","v":""},{"$f":"IF('liste engagés'!$G142=2,'liste engagés'!D142,\"\")","v":""},{"$f":"IF('liste engagés'!$G142=2,'liste engagés'!E142,\"\")","v":""},{"$f":"IF('liste engagés'!$G142=2,'liste engagés'!K142,\"\")","v":""},{"$f":"IF('liste engagés'!$G142=2,'liste engagés'!L142,\"\")","v":""},0]
[139,{"$f":"IF('liste engagés'!$G143=2,'liste engagés'!A143,\"\")","v":""},{"$f":"IF('liste engagés'!$G143=2,'liste engagés'!B143,\"\")","v":""},{"$f":"IF('liste engagés'!$G143=2,'liste engagés'!C143,\"\")","v":""},{"$f":"IF('liste engagés'!$G143=2,'liste engagés'!D143,\"\")","v":""},{"$f":"IF('liste engagés'!$G143=2,'liste engagés'!E143,\"\")","v":""},{"$f":"IF('liste engagés'!$G143=2,'liste engagés'!K143,\"\")","v":""},{"$f":"IF('liste engagés'!$G143=2,'liste engagés'!L143,\"\")","v":""},0]
[140,{"$f":"IF('liste engagés'!$G144=2,'liste engagés'!A144,\"\")","v":""},{"$f":"IF('liste engagés'!$G144=2,'liste engagés'!B144,\"\")","v":""},{"$f":"IF('liste engagés'!$G144=2,'liste engagés'!C144,\"\")","v":""},{"$f":"IF('liste engagés'!$G144=2,'liste engagés'!D144,\"\")","v":""},{"$f":"IF('liste engagés'!$G144=2,'liste engagés'!E144,\"\")","v":""},{"$f":"IF('liste engagés'!$G144=2,'liste engagés'!K144,\"\")","v":""},{"$f":"IF('liste engagés'!$G144=2,'liste engagés'!L144,\"\")","v":""},0]
[141,{"$f":"IF('liste engagés'!$G145=2,'liste engagés'!A145,\"\")","v":""},{"$f":"IF('liste engagés'!$G145=2,'liste engagés'!B145,\"\")","v":""},{"$f":"IF('liste engagés'!$G145=2,'liste engagés'!#REF!,\"\")","v":""},{"$f":"IF('liste engagés'!$G145=2,'liste engagés'!D145,\"\")","v":""},{"$f":"IF('liste engagés'!$G145=2,'liste engagés'!E145,\"\")","v":""},{"$f":"IF('liste engagés'!$G145=2,'liste engagés'!K145,\"\")","v":""},{"$f":"IF('liste engagés'!$G145=2,'liste engagés'!L145,\"\")","v":""},0]
[142,{"$f":"IF('liste engagés'!$G146=2,'liste engagés'!A146,\"\")","v":""},{"$f":"IF('liste engagés'!$G146=2,'liste engagés'!B146,\"\")","v":""},{"$f":"IF('liste engagés'!$G146=2,'liste engagés'!C145,\"\")","v":""},{"$f":"IF('liste engagés'!$G146=2,'liste engagés'!D146,\"\")","v":""},{"$f":"IF('liste engagés'!$G146=2,'liste engagés'!E146,\"\")","v":""},{"$f":"IF('liste engagés'!$G146=2,'liste engagés'!K146,\"\")","v":""},{"$f":"IF('liste engagés'!$G146=2,'liste engagés'!L146,\"\")","v":""},0]
[143,{"$f":"IF('liste engagés'!$G147=2,'liste engagés'!A147,\"\")","v":""},{"$f":"IF('liste engagés'!$G147=2,'liste engagés'!B147,\"\")","v":""},{"$f":"IF('liste engagés'!$G147=2,'liste engagés'!C147,\"\")","v":""},{"$f":"IF('liste engagés'!$G147=2,'liste engagés'!D147,\"\")","v":""},{"$f":"IF('liste engagés'!$G147=2,'liste engagés'!E147,\"\")","v":""},{"$f":"IF('liste engagés'!$G147=2,'liste engagés'!K147,\"\")","v":""},{"$f":"IF('liste engagés'!$G147=2,'liste engagés'!L147,\"\")","v":""},0]
[144,{"$f":"IF('liste engagés'!$G148=2,'liste engagés'!A148,\"\")","v":""},{"$f":"IF('liste engagés'!$G148=2,'liste engagés'!B148,\"\")","v":""},{"$f":"IF('liste engagés'!$G148=2,'liste engagés'!C148,\"\")","v":""},{"$f":"IF('liste engagés'!$G148=2,'liste engagés'!D148,\"\")","v":""},{"$f":"IF('liste engagés'!$G148=2,'liste engagés'!E148,\"\")","v":""},{"$f":"IF('liste engagés'!$G148=2,'liste engagés'!K148,\"\")","v":""},{"$f":"IF('liste engagés'!$G148=2,'liste engagés'!L148,\"\")","v":""},0]
[145,{"$f":"IF('liste engagés'!$G149=2,'liste engagés'!A149,\"\")","v":""},{"$f":"IF('liste engagés'!$G149=2,'liste engagés'!B149,\"\")","v":""},{"$f":"IF('liste engagés'!$G149=2,'liste engagés'!C149,\"\")","v":""},{"$f":"IF('liste engagés'!$G149=2,'liste engagés'!D149,\"\")","v":""},{"$f":"IF('liste engagés'!$G149=2,'liste engagés'!E149,\"\")","v":""},{"$f":"IF('liste engagés'!$G149=2,'liste engagés'!K149,\"\")","v":""},{"$f":"IF('liste engagés'!$G149=2,'liste engagés'!L149,\"\")","v":""},0]
[146,{"$f":"IF('liste engagés'!$G150=2,'liste engagés'!A150,\"\")","v":""},{"$f":"IF('liste engagés'!$G150=2,'liste engagés'!B150,\"\")","v":""},{"$f":"IF('liste engagés'!$G150=2,'liste engagés'!C150,\"\")","v":""},{"$f":"IF('liste engagés'!$G150=2,'liste engagés'!D150,\"\")","v":""},{"$f":"IF('liste engagés'!$G150=2,'liste engagés'!E150,\"\")","v":""},{"$f":"IF('liste engagés'!$G150=2,'liste engagés'!K150,\"\")","v":""},{"$f":"IF('liste engagés'!$G150=2,'liste engagés'!L150,\"\")","v":""},0]
[147,{"$f":"IF('liste engagés'!$G151=2,'liste engagés'!A151,\"\")","v":""},{"$f":"IF('liste engagés'!$G151=2,'liste engagés'!B151,\"\")","v":""},{"$f":"IF('liste engagés'!$G151=2,'liste engagés'!C151,\"\")","v":""},{"$f":"IF('liste engagés'!$G151=2,'liste engagés'!D151,\"\")","v":""},{"$f":"IF('liste engagés'!$G151=2,'liste engagés'!E151,\"\")","v":""},{"$f":"IF('liste engagés'!$G151=2,'liste engagés'!K151,\"\")","v":""},{"$f":"IF('liste engagés'!$G151=2,'liste engagés'!L151,\"\")","v":""},0]
[148,{"$f":"IF('liste engagés'!$G152=2,'liste engagés'!A152,\"\")","v":""},{"$f":"IF('liste engagés'!$G152=2,'liste engagés'!B152,\"\")","v":""},{"$f":"IF('liste engagés'!$G152=2,'liste engagés'!C152,\"\")","v":""},{"$f":"IF('liste engagés'!$G152=2,'liste engagés'!D152,\"\")","v":""},{"$f":"IF('liste engagés'!$G152=2,'liste engagés'!E152,\"\")","v":""},{"$f":"IF('liste engagés'!$G152=2,'liste engagés'!K152,\"\")","v":""},{"$f":"IF('liste engagés'!$G152=2,'liste engagés'!L152,\"\")","v":""},0]
[149,{"$f":"IF('liste engagés'!$G153=2,'liste engagés'!A153,\"\")","v":""},{"$f":"IF('liste engagés'!$G153=2,'liste engagés'!B153,\"\")","v":""},{"$f":"IF('liste engagés'!$G153=2,'liste engagés'!C153,\"\")","v":""},{"$f":"IF('liste engagés'!$G153=2,'liste engagés'!D153,\"\")","v":""},{"$f":"IF('liste engagés'!$G153=2,'liste engagés'!E153,\"\")","v":""},{"$f":"IF('liste engagés'!$G153=2,'liste engagés'!K153,\"\")","v":""},{"$f":"IF('liste engagés'!$G153=2,'liste engagés'!L153,\"\")","v":""},0]
[150,{"$f":"IF('liste engagés'!$G154=2,'liste engagés'!A154,\"\")","v":""},{"$f":"IF('liste engagés'!$G154=2,'liste engagés'!B154,\"\")","v":""},{"$f":"IF('liste engagés'!$G154=2,'liste engagés'!C154,\"\")","v":""},{"$f":"IF('liste engagés'!$G154=2,'liste engagés'!D154,\"\")","v":""},{"$f":"IF('liste engagés'!$G154=2,'liste engagés'!E154,\"\")","v":""},{"$f":"IF('liste engagés'!$G154=2,'liste engagés'!K154,\"\")","v":""},{"$f":"IF('liste engagés'!$G154=2,'liste engagés'!L154,\"\")","v":""},0]
[151,{"$f":"IF('liste engagés'!$G155=2,'liste engagés'!A155,\"\")","v":""},{"$f":"IF('liste engagés'!$G155=2,'liste engagés'!B155,\"\")","v":""},{"$f":"IF('liste engagés'!$G155=2,'liste engagés'!C155,\"\")","v":""},{"$f":"IF('liste engagés'!$G155=2,'liste engagés'!D155,\"\")","v":""},{"$f":"IF('liste engagés'!$G155=2,'liste engagés'!E155,\"\")","v":""},{"$f":"IF('liste engagés'!$G155=2,'liste engagés'!K155,\"\")","v":""},{"$f":"IF('liste engagés'!$G155=2,'liste engagés'!L155,\"\")","v":""},0]
[152,{"$f":"IF('liste engagés'!$G156=2,'liste engagés'!A156,\"\")","v":""},{"$f":"IF('liste engagés'!$G156=2,'liste engagés'!B156,\"\")","v":""},{"$f":"IF('liste engagés'!$G156=2,'liste engagés'!C156,\"\")","v":""},{"$f":"IF('liste engagés'!$G156=2,'liste engagés'!D156,\"\")","v":""},{"$f":"IF('liste engagés'!$G156=2,'liste engagés'!E156,\"\")","v":""},{"$f":"IF('liste engagés'!$G156=2,'liste engagés'!K156,\"\")","v":""},{"$f":"IF('liste engagés'!$G156=2,'liste engagés'!L156,\"\")","v":""},0]
[153,{"$f":"IF('liste engagés'!$G157=2,'liste engagés'!A157,\"\")","v":""},{"$f":"IF('liste engagés'!$G157=2,'liste engagés'!B157,\"\")","v":""},{"$f":"IF('liste engagés'!$G157=2,'liste engagés'!C157,\"\")","v":""},{"$f":"IF('liste engagés'!$G157=2,'liste engagés'!D157,\"\")","v":""},{"$f":"IF('liste engagés'!$G157=2,'liste engagés'!E157,\"\")","v":""},{"$f":"IF('liste engagés'!$G157=2,'liste engagés'!K157,\"\")","v":""},{"$f":"IF('liste engagés'!$G157=2,'liste engagés'!L157,\"\")","v":""},0]
[154,{"$f":"IF('liste engagés'!$G158=2,'liste engagés'!A158,\"\")","v":""},{"$f":"IF('liste engagés'!$G158=2,'liste engagés'!B158,\"\")","v":""},{"$f":"IF('liste engagés'!$G158=2,'liste engagés'!C158,\"\")","v":""},{"$f":"IF('liste engagés'!$G158=2,'liste engagés'!D158,\"\")","v":""},{"$f":"IF('liste engagés'!$G158=2,'liste engagés'!E158,\"\")","v":""},{"$f":"IF('liste engagés'!$G158=2,'liste engagés'!K158,\"\")","v":""},{"$f":"IF('liste engagés'!$G158=2,'liste engagés'!L158,\"\")","v":""},0]
[155,{"$f":"IF('liste engagés'!$G159=2,'liste engagés'!A159,\"\")","v":""},{"$f":"IF('liste engagés'!$G159=2,'liste engagés'!B159,\"\")","v":""},{"$f":"IF('liste engagés'!$G159=2,'liste engagés'!C159,\"\")","v":""},{"$f":"IF('liste engagés'!$G159=2,'liste engagés'!D159,\"\")","v":""},{"$f":"IF('liste engagés'!$G159=2,'liste engagés'!E159,\"\")","v":""},{"$f":"IF('liste engagés'!$G159=2,'liste engagés'!K159,\"\")","v":""},{"$f":"IF('liste engagés'!$G159=2,'liste engagés'!L159,\"\")","v":""},0]
[156,{"$f":"IF('liste engagés'!$G160=2,'liste engagés'!A160,\"\")","v":""},{"$f":"IF('liste engagés'!$G160=2,'liste engagés'!B160,\"\")","v":""},{"$f":"IF('liste engagés'!$G160=2,'liste engagés'!C160,\"\")","v":""},{"$f":"IF('liste engagés'!$G160=2,'liste engagés'!D160,\"\")","v":""},{"$f":"IF('liste engagés'!$G160=2,'liste engagés'!E160,\"\")","v":""},{"$f":"IF('liste engagés'!$G160=2,'liste engagés'!K160,\"\")","v":""},{"$f":"IF('liste engagés'!$G160=2,'liste engagés'!L160,\"\")","v":""},0]
[157,{"$f":"IF('liste engagés'!$G161=2,'liste engagés'!A161,\"\")","v":""},{"$f":"IF('liste engagés'!$G161=2,'liste engagés'!B161,\"\")","v":""},{"$f":"IF('liste engagés'!$G161=2,'liste engagés'!C161,\"\")","v":""},{"$f":"IF('liste engagés'!$G161=2,'liste engagés'!D161,\"\")","v":""},{"$f":"IF('liste engagés'!$G161=2,'liste engagés'!E161,\"\")","v":""},{"$f":"IF('liste engagés'!$G161=2,'liste engagés'!K161,\"\")","v":""},{"$f":"IF('liste engagés'!$G161=2,'liste engagés'!L161,\"\")","v":""},0]
[158,{"$f":"IF('liste engagés'!$G162=2,'liste engagés'!A162,\"\")","v":""},{"$f":"IF('liste engagés'!$G162=2,'liste engagés'!B162,\"\")","v":""},{"$f":"IF('liste engagés'!$G162=2,'liste engagés'!C162,\"\")","v":""},{"$f":"IF('liste engagés'!$G162=2,'liste engagés'!D162,\"\")","v":""},{"$f":"IF('liste engagés'!$G162=2,'liste engagés'!E162,\"\")","v":""},{"$f":"IF('liste engagés'!$G162=2,'liste engagés'!K162,\"\")","v":""},{"$f":"IF('liste engagés'!$G162=2,'liste engagés'!L162,\"\")","v":""},0]
[159,{"$f":"IF('liste engagés'!$G163=2,'liste engagés'!A163,\"\")","v":""},{"$f":"IF('liste engagés'!$G163=2,'liste engagés'!B163,\"\")","v":""},{"$f":"IF('liste engagés'!$G163=2,'liste engagés'!C163,\"\")","v":""},{"$f":"IF('liste engagés'!$G163=2,'liste engagés'!D163,\"\")","v":""},{"$f":"IF('liste engagés'!$G163=2,'liste engagés'!E163,\"\")","v":""},{"$f":"IF('liste engagés'!$G163=2,'liste engagés'!K163,\"\")","v":""},{"$f":"IF('liste engagés'!$G163=2,'liste engagés'!L163,\"\")","v":""},0]
[160,{"$f":"IF('liste engagés'!$G164=2,'liste engagés'!A164,\"\")","v":""},{"$f":"IF('liste engagés'!$G164=2,'liste engagés'!B164,\"\")","v":""},{"$f":"IF('liste engagés'!$G164=2,'liste engagés'!C164,\"\")","v":""},{"$f":"IF('liste engagés'!$G164=2,'liste engagés'!D164,\"\")","v":""},{"$f":"IF('liste engagés'!$G164=2,'liste engagés'!E164,\"\")","v":""},{"$f":"IF('liste engagés'!$G164=2,'liste engagés'!K164,\"\")","v":""},{"$f":"IF('liste engagés'!$G164=2,'liste engagés'!L164,\"\")","v":""},0]
[161,{"$f":"IF('liste engagés'!$G165=2,'liste engagés'!A165,\"\")","v":""},{"$f":"IF('liste engagés'!$G165=2,'liste engagés'!B165,\"\")","v":""},{"$f":"IF('liste engagés'!$G165=2,'liste engagés'!C165,\"\")","v":""},{"$f":"IF('liste engagés'!$G165=2,'liste engagés'!D165,\"\")","v":""},{"$f":"IF('liste engagés'!$G165=2,'liste engagés'!E165,\"\")","v":""},{"$f":"IF('liste engagés'!$G165=2,'liste engagés'!K165,\"\")","v":""},{"$f":"IF('liste engagés'!$G165=2,'liste engagés'!L165,\"\")","v":""},0]
[162,{"$f":"IF('liste engagés'!$G166=2,'liste engagés'!A166,\"\")","v":""},{"$f":"IF('liste engagés'!$G166=2,'liste engagés'!B166,\"\")","v":""},{"$f":"IF('liste engagés'!$G166=2,'liste engagés'!C166,\"\")","v":""},{"$f":"IF('liste engagés'!$G166=2,'liste engagés'!D166,\"\")","v":""},{"$f":"IF('liste engagés'!$G166=2,'liste engagés'!E166,\"\")","v":""},{"$f":"IF('liste engagés'!$G166=2,'liste engagés'!K166,\"\")","v":""},{"$f":"IF('liste engagés'!$G166=2,'liste engagés'!L166,\"\")","v":""},0]
[163,{"$f":"IF('liste engagés'!$G167=2,'liste engagés'!A167,\"\")","v":""},{"$f":"IF('liste engagés'!$G167=2,'liste engagés'!B167,\"\")","v":""},{"$f":"IF('liste engagés'!$G167=2,'liste engagés'!C167,\"\")","v":""},{"$f":"IF('liste engagés'!$G167=2,'liste engagés'!D167,\"\")","v":""},{"$f":"IF('liste engagés'!$G167=2,'liste engagés'!E167,\"\")","v":""},{"$f":"IF('liste engagés'!$G167=2,'liste engagés'!K167,\"\")","v":""},{"$f":"IF('liste engagés'!$G167=2,'liste engagés'!L167,\"\")","v":""},0]
[164,{"$f":"IF('liste engagés'!$G168=2,'liste engagés'!A168,\"\")","v":""},{"$f":"IF('liste engagés'!$G168=2,'liste engagés'!B168,\"\")","v":""},{"$f":"IF('liste engagés'!$G168=2,'liste engagés'!C168,\"\")","v":""},{"$f":"IF('liste engagés'!$G168=2,'liste engagés'!D168,\"\")","v":""},{"$f":"IF('liste engagés'!$G168=2,'liste engagés'!E168,\"\")","v":""},{"$f":"IF('liste engagés'!$G168=2,'liste engagés'!K168,\"\")","v":""},{"$f":"IF('liste engagés'!$G168=2,'liste engagés'!L168,\"\")","v":""},0]
[165,{"$f":"IF('liste engagés'!$G169=2,'liste engagés'!A169,\"\")","v":""},{"$f":"IF('liste engagés'!$G169=2,'liste engagés'!B169,\"\")","v":""},{"$f":"IF('liste engagés'!$G169=2,'liste engagés'!C169,\"\")","v":""},{"$f":"IF('liste engagés'!$G169=2,'liste engagés'!D169,\"\")","v":""},{"$f":"IF('liste engagés'!$G169=2,'liste engagés'!E169,\"\")","v":""},{"$f":"IF('liste engagés'!$G169=2,'liste engagés'!K169,\"\")","v":""},{"$f":"IF('liste engagés'!$G169=2,'liste engagés'!L169,\"\")","v":""},0]
[166,{"$f":"IF('liste engagés'!$G171=2,'liste engagés'!A171,\"\")","v":""},{"$f":"IF('liste engagés'!$G171=2,'liste engagés'!B171,\"\")","v":""},{"$f":"IF('liste engagés'!$G171=2,'liste engagés'!C171,\"\")","v":""},{"$f":"IF('liste engagés'!$G171=2,'liste engagés'!D171,\"\")","v":""},{"$f":"IF('liste engagés'!$G171=2,'liste engagés'!E171,\"\")","v":""},{"$f":"IF('liste engagés'!$G171=2,'liste engagés'!K171,\"\")","v":""},{"$f":"IF('liste engagés'!$G171=2,'liste engagés'!L171,\"\")","v":""},0]
[167,{"$f":"IF('liste engagés'!$G172=2,'liste engagés'!A172,\"\")","v":""},{"$f":"IF('liste engagés'!$G172=2,'liste engagés'!B172,\"\")","v":""},{"$f":"IF('liste engagés'!$G172=2,'liste engagés'!C172,\"\")","v":""},{"$f":"IF('liste engagés'!$G172=2,'liste engagés'!D172,\"\")","v":""},{"$f":"IF('liste engagés'!$G172=2,'liste engagés'!E172,\"\")","v":""},{"$f":"IF('liste engagés'!$G172=2,'liste engagés'!K172,\"\")","v":""},{"$f":"IF('liste engagés'!$G172=2,'liste engagés'!L172,\"\")","v":""},0]
[168,{"$f":"IF('liste engagés'!$G173=2,'liste engagés'!A173,\"\")","v":""},{"$f":"IF('liste engagés'!$G173=2,'liste engagés'!B173,\"\")","v":""},{"$f":"IF('liste engagés'!$G173=2,'liste engagés'!C173,\"\")","v":""},{"$f":"IF('liste engagés'!$G173=2,'liste engagés'!D173,\"\")","v":""},{"$f":"IF('liste engagés'!$G173=2,'liste engagés'!E173,\"\")","v":""},{"$f":"IF('liste engagés'!$G173=2,'liste engagés'!K173,\"\")","v":""},{"$f":"IF('liste engagés'!$G173=2,'liste engagés'!L173,\"\")","v":""},0]
[169,{"$f":"IF('liste engagés'!$G174=2,'liste engagés'!A174,\"\")","v":""},{"$f":"IF('liste engagés'!$G174=2,'liste engagés'!B174,\"\")","v":""},{"$f":"IF('liste engagés'!$G174=2,'liste engagés'!C174,\"\")","v":""},{"$f":"IF('liste engagés'!$G174=2,'liste engagés'!D174,\"\")","v":""},{"$f":"IF('liste engagés'!$G174=2,'liste engagés'!E174,\"\")","v":""},{"$f":"IF('liste engagés'!$G174=2,'liste engagés'!K174,\"\")","v":""},{"$f":"IF('liste engagés'!$G174=2,'liste engagés'!L174,\"\")","v":""},0]
[170,{"$f":"IF('liste engagés'!$G175=2,'liste engagés'!A175,\"\")","v":""},{"$f":"IF('liste engagés'!$G175=2,'liste engagés'!B175,\"\")","v":""},{"$f":"IF('liste engagés'!$G175=2,'liste engagés'!C175,\"\")","v":""},{"$f":"IF('liste engagés'!$G175=2,'liste engagés'!D175,\"\")","v":""},{"$f":"IF('liste engagés'!$G175=2,'liste engagés'!E175,\"\")","v":""},{"$f":"IF('liste engagés'!$G175=2,'liste engagés'!K175,\"\")","v":""},{"$f":"IF('liste engagés'!$G175=2,'liste engagés'!L175,\"\")","v":""},0]
[171,{"$f":"IF('liste engagés'!$G176=2,'liste engagés'!A176,\"\")","v":""},{"$f":"IF('liste engagés'!$G176=2,'liste engagés'!B176,\"\")","v":""},{"$f":"IF('liste engagés'!$G176=2,'liste engagés'!C176,\"\")","v":""},{"$f":"IF('liste engagés'!$G176=2,'liste engagés'!D176,\"\")","v":""},{"$f":"IF('liste engagés'!$G176=2,'liste engagés'!E176,\"\")","v":""},{"$f":"IF('liste engagés'!$G176=2,'liste engagés'!K176,\"\")","v":""},{"$f":"IF('liste engagés'!$G176=2,'liste engagés'!L176,\"\")","v":""},0]
[172,{"$f":"IF('liste engagés'!$G177=2,'liste engagés'!A177,\"\")","v":""},{"$f":"IF('liste engagés'!$G177=2,'liste engagés'!B177,\"\")","v":""},{"$f":"IF('liste engagés'!$G177=2,'liste engagés'!C177,\"\")","v":""},{"$f":"IF('liste engagés'!$G177=2,'liste engagés'!D177,\"\")","v":""},{"$f":"IF('liste engagés'!$G177=2,'liste engagés'!E177,\"\")","v":""},{"$f":"IF('liste engagés'!$G177=2,'liste engagés'!K177,\"\")","v":""},{"$f":"IF('liste engagés'!$G177=2,'liste engagés'!L177,\"\")","v":""},0]
[173,{"$f":"IF('liste engagés'!$G178=2,'liste engagés'!A178,\"\")","v":""},{"$f":"IF('liste engagés'!$G178=2,'liste engagés'!B178,\"\")","v":""},{"$f":"IF('liste engagés'!$G178=2,'liste engagés'!C178,\"\")","v":""},{"$f":"IF('liste engagés'!$G178=2,'liste engagés'!D178,\"\")","v":""},{"$f":"IF('liste engagés'!$G178=2,'liste engagés'!E178,\"\")","v":""},{"$f":"IF('liste engagés'!$G178=2,'liste engagés'!K178,\"\")","v":""},{"$f":"IF('liste engagés'!$G178=2,'liste engagés'!L178,\"\")","v":""},0]
[174,{"$f":"IF('liste engagés'!$G179=2,'liste engagés'!A179,\"\")","v":""},{"$f":"IF('liste engagés'!$G179=2,'liste engagés'!B179,\"\")","v":""},{"$f":"IF('liste engagés'!$G179=2,'liste engagés'!C179,\"\")","v":""},{"$f":"IF('liste engagés'!$G179=2,'liste engagés'!D179,\"\")","v":""},{"$f":"IF('liste engagés'!$G179=2,'liste engagés'!E179,\"\")","v":""},{"$f":"IF('liste engagés'!$G179=2,'liste engagés'!K179,\"\")","v":""},{"$f":"IF('liste engagés'!$G179=2,'liste engagés'!L179,\"\")","v":""},0]
[175,{"$f":"IF('liste engagés'!$G180=2,'liste engagés'!A180,\"\")","v":""},{"$f":"IF('liste engagés'!$G180=2,'liste engagés'!B180,\"\")","v":""},{"$f":"IF('liste engagés'!$G180=2,'liste engagés'!C180,\"\")","v":""},{"$f":"IF('liste engagés'!$G180=2,'liste engagés'!D180,\"\")","v":""},{"$f":"IF('liste engagés'!$G180=2,'liste engagés'!E180,\"\")","v":""},{"$f":"IF('liste engagés'!$G180=2,'liste engagés'!K180,\"\")","v":""},{"$f":"IF('liste engagés'!$G180=2,'liste engagés'!L180,\"\")","v":""},0]
[176,{"$f":"IF('liste engagés'!$G181=2,'liste engagés'!A181,\"\")","v":""},{"$f":"IF('liste engagés'!$G181=2,'liste engagés'!B181,\"\")","v":""},{"$f":"IF('liste engagés'!$G181=2,'liste engagés'!C181,\"\")","v":""},{"$f":"IF('liste engagés'!$G181=2,'liste engagés'!D181,\"\")","v":""},{"$f":"IF('liste engagés'!$G181=2,'liste engagés'!E181,\"\")","v":""},{"$f":"IF('liste engagés'!$G181=2,'liste engagés'!K181,\"\")","v":""},{"$f":"IF('liste engagés'!$G181=2,'liste engagés'!L181,\"\")","v":""},0]
[177,{"$f":"IF('liste engagés'!$G182=2,'liste engagés'!A182,\"\")","v":""},{"$f":"IF('liste engagés'!$G182=2,'liste engagés'!B182,\"\")","v":""},{"$f":"IF('liste engagés'!$G182=2,'liste engagés'!C182,\"\")","v":""},{"$f":"IF('liste engagés'!$G182=2,'liste engagés'!D182,\"\")","v":""},{"$f":"IF('liste engagés'!$G182=2,'liste engagés'!E182,\"\")","v":""},{"$f":"IF('liste engagés'!$G182=2,'liste engagés'!K182,\"\")","v":""},{"$f":"IF('liste engagés'!$G182=2,'liste engagés'!L182,\"\")","v":""},0]
[178,{"$f":"IF('liste engagés'!$G183=2,'liste engagés'!A183,\"\")","v":""},{"$f":"IF('liste engagés'!$G183=2,'liste engagés'!B183,\"\")","v":""},{"$f":"IF('liste engagés'!$G183=2,'liste engagés'!C183,\"\")","v":""},{"$f":"IF('liste engagés'!$G183=2,'liste engagés'!D183,\"\")","v":""},{"$f":"IF('liste engagés'!$G183=2,'liste engagés'!E183,\"\")","v":""},{"$f":"IF('liste engagés'!$G183=2,'liste engagés'!K183,\"\")","v":""},{"$f":"IF('liste engagés'!$G183=2,'liste engagés'!L183,\"\")","v":""},0]
[179,{"$f":"IF('liste engagés'!$G184=2,'liste engagés'!A184,\"\")","v":""},{"$f":"IF('liste engagés'!$G184=2,'liste engagés'!B184,\"\")","v":""},{"$f":"IF('liste engagés'!$G184=2,'liste engagés'!C184,\"\")","v":""},{"$f":"IF('liste engagés'!$G184=2,'liste engagés'!D184,\"\")","v":""},{"$f":"IF('liste engagés'!$G184=2,'liste engagés'!E184,\"\")","v":""},{"$f":"IF('liste engagés'!$G184=2,'liste engagés'!K184,\"\")","v":""},{"$f":"IF('liste engagés'!$G184=2,'liste engagés'!L184,\"\")","v":""},0]
[180,{"$f":"IF('liste engagés'!$G185=2,'liste engagés'!A185,\"\")","v":""},{"$f":"IF('liste engagés'!$G185=2,'liste engagés'!B185,\"\")","v":""},{"$f":"IF('liste engagés'!$G185=2,'liste engagés'!C185,\"\")","v":""},{"$f":"IF('liste engagés'!$G185=2,'liste engagés'!D185,\"\")","v":""},{"$f":"IF('liste engagés'!$G185=2,'liste engagés'!E185,\"\")","v":""},{"$f":"IF('liste engagés'!$G185=2,'liste engagés'!K185,\"\")","v":""},{"$f":"IF('liste engagés'!$G185=2,'liste engagés'!L185,\"\")","v":""},0]
[181,{"$f":"IF('liste engagés'!$G186=2,'liste engagés'!A186,\"\")","v":""},{"$f":"IF('liste engagés'!$G186=2,'liste engagés'!B186,\"\")","v":""},{"$f":"IF('liste engagés'!$G186=2,'liste engagés'!C186,\"\")","v":""},{"$f":"IF('liste engagés'!$G186=2,'liste engagés'!D186,\"\")","v":""},{"$f":"IF('liste engagés'!$G186=2,'liste engagés'!E186,\"\")","v":""},{"$f":"IF('liste engagés'!$G186=2,'liste engagés'!K186,\"\")","v":""},{"$f":"IF('liste engagés'!$G186=2,'liste engagés'!L186,\"\")","v":""},0]
[182,{"$f":"IF('liste engagés'!$G187=2,'liste engagés'!A187,\"\")","v":""},{"$f":"IF('liste engagés'!$G187=2,'liste engagés'!B187,\"\")","v":""},{"$f":"IF('liste engagés'!$G187=2,'liste engagés'!C187,\"\")","v":""},{"$f":"IF('liste engagés'!$G187=2,'liste engagés'!D187,\"\")","v":""},{"$f":"IF('liste engagés'!$G187=2,'liste engagés'!E187,\"\")","v":""},{"$f":"IF('liste engagés'!$G187=2,'liste engagés'!K187,\"\")","v":""},{"$f":"IF('liste engagés'!$G187=2,'liste engagés'!L187,\"\")","v":""},0]
[183,{"$f":"IF('liste engagés'!$G188=2,'liste engagés'!A188,\"\")","v":""},{"$f":"IF('liste engagés'!$G188=2,'liste engagés'!B188,\"\")","v":""},{"$f":"IF('liste engagés'!$G188=2,'liste engagés'!C188,\"\")","v":""},{"$f":"IF('liste engagés'!$G188=2,'liste engagés'!D188,\"\")","v":""},{"$f":"IF('liste engagés'!$G188=2,'liste engagés'!E188,\"\")","v":""},{"$f":"IF('liste engagés'!$G188=2,'liste engagés'!K188,\"\")","v":""},{"$f":"IF('liste engagés'!$G188=2,'liste engagés'!L188,\"\")","v":""},0]
[184,{"$f":"IF('liste engagés'!$G189=2,'liste engagés'!A189,\"\")","v":""},{"$f":"IF('liste engagés'!$G189=2,'liste engagés'!B189,\"\")","v":""},{"$f":"IF('liste engagés'!$G189=2,'liste engagés'!C189,\"\")","v":""},{"$f":"IF('liste engagés'!$G189=2,'liste engagés'!D189,\"\")","v":""},{"$f":"IF('liste engagés'!$G189=2,'liste engagés'!E189,\"\")","v":""},{"$f":"IF('liste engagés'!$G189=2,'liste engagés'!K189,\"\")","v":""},{"$f":"IF('liste engagés'!$G189=2,'liste engagés'!L189,\"\")","v":""},0]
[185,{"$f":"IF('liste engagés'!$G190=2,'liste engagés'!A190,\"\")","v":""},{"$f":"IF('liste engagés'!$G190=2,'liste engagés'!B190,\"\")","v":""},{"$f":"IF('liste engagés'!$G190=2,'liste engagés'!C190,\"\")","v":""},{"$f":"IF('liste engagés'!$G190=2,'liste engagés'!D190,\"\")","v":""},{"$f":"IF('liste engagés'!$G190=2,'liste engagés'!E190,\"\")","v":""},{"$f":"IF('liste engagés'!$G190=2,'liste engagés'!K190,\"\")","v":""},{"$f":"IF('liste engagés'!$G190=2,'liste engagés'!L190,\"\")","v":""},0]
[186,{"$f":"IF('liste engagés'!$G191=2,'liste engagés'!A191,\"\")","v":""},{"$f":"IF('liste engagés'!$G191=2,'liste engagés'!B191,\"\")","v":""},{"$f":"IF('liste engagés'!$G191=2,'liste engagés'!C191,\"\")","v":""},{"$f":"IF('liste engagés'!$G191=2,'liste engagés'!D191,\"\")","v":""},{"$f":"IF('liste engagés'!$G191=2,'liste engagés'!E191,\"\")","v":""},{"$f":"IF('liste engagés'!$G191=2,'liste engagés'!K191,\"\")","v":""},{"$f":"IF('liste engagés'!$G191=2,'liste engagés'!L191,\"\")","v":""},0]
[187,{"$f":"IF('liste engagés'!$G192=2,'liste engagés'!A192,\"\")","v":""},{"$f":"IF('liste engagés'!$G192=2,'liste engagés'!B192,\"\")","v":""},{"$f":"IF('liste engagés'!$G192=2,'liste engagés'!C192,\"\")","v":""},{"$f":"IF('liste engagés'!$G192=2,'liste engagés'!D192,\"\")","v":""},{"$f":"IF('liste engagés'!$G192=2,'liste engagés'!E192,\"\")","v":""},{"$f":"IF('liste engagés'!$G192=2,'liste engagés'!K192,\"\")","v":""},{"$f":"IF('liste engagés'!$G192=2,'liste engagés'!L192,\"\")","v":""},0]
[188,{"$f":"IF('liste engagés'!$G193=2,'liste engagés'!A193,\"\")","v":""},{"$f":"IF('liste engagés'!$G193=2,'liste engagés'!B193,\"\")","v":""},{"$f":"IF('liste engagés'!$G193=2,'liste engagés'!C193,\"\")","v":""},{"$f":"IF('liste engagés'!$G193=2,'liste engagés'!D193,\"\")","v":""},{"$f":"IF('liste engagés'!$G193=2,'liste engagés'!E193,\"\")","v":""},{"$f":"IF('liste engagés'!$G193=2,'liste engagés'!K193,\"\")","v":""},{"$f":"IF('liste engagés'!$G193=2,'liste engagés'!L193,\"\")","v":""},0]
[189,{"$f":"IF('liste engagés'!$G194=2,'liste engagés'!A194,\"\")","v":""},{"$f":"IF('liste engagés'!$G194=2,'liste engagés'!B194,\"\")","v":""},{"$f":"IF('liste engagés'!$G194=2,'liste engagés'!C194,\"\")","v":""},{"$f":"IF('liste engagés'!$G194=2,'liste engagés'!D194,\"\")","v":""},{"$f":"IF('liste engagés'!$G194=2,'liste engagés'!E194,\"\")","v":""},{"$f":"IF('liste engagés'!$G194=2,'liste engagés'!K194,\"\")","v":""},{"$f":"IF('liste engagés'!$G194=2,'liste engagés'!L194,\"\")","v":""},0]
[190,{"$f":"IF('liste engagés'!$G195=2,'liste engagés'!A195,\"\")","v":""},{"$f":"IF('liste engagés'!$G195=2,'liste engagés'!B195,\"\")","v":""},{"$f":"IF('liste engagés'!$G195=2,'liste engagés'!C195,\"\")","v":""},{"$f":"IF('liste engagés'!$G195=2,'liste engagés'!D195,\"\")","v":""},{"$f":"IF('liste engagés'!$G195=2,'liste engagés'!E195,\"\")","v":""},{"$f":"IF('liste engagés'!$G195=2,'liste engagés'!K195,\"\")","v":""},{"$f":"IF('liste engagés'!$G195=2,'liste engagés'!L195,\"\")","v":""},0]
[191,{"$f":"IF('liste engagés'!$G196=2,'liste engagés'!A196,\"\")","v":""},{"$f":"IF('liste engagés'!$G196=2,'liste engagés'!B196,\"\")","v":""},{"$f":"IF('liste engagés'!$G196=2,'liste engagés'!C196,\"\")","v":""},{"$f":"IF('liste engagés'!$G196=2,'liste engagés'!D196,\"\")","v":""},{"$f":"IF('liste engagés'!$G196=2,'liste engagés'!E196,\"\")","v":""},{"$f":"IF('liste engagés'!$G196=2,'liste engagés'!K196,\"\")","v":""},{"$f":"IF('liste engagés'!$G196=2,'liste engagés'!L196,\"\")","v":""},0]
[192,{"$f":"IF('liste engagés'!$G197=2,'liste engagés'!A197,\"\")","v":""},{"$f":"IF('liste engagés'!$G197=2,'liste engagés'!B197,\"\")","v":""},{"$f":"IF('liste engagés'!$G197=2,'liste engagés'!C197,\"\")","v":""},{"$f":"IF('liste engagés'!$G197=2,'liste engagés'!D197,\"\")","v":""},{"$f":"IF('liste engagés'!$G197=2,'liste engagés'!E197,\"\")","v":""},{"$f":"IF('liste engagés'!$G197=2,'liste engagés'!K197,\"\")","v":""},{"$f":"IF('liste engagés'!$G197=2,'liste engagés'!L197,\"\")","v":""},0]
[193,{"$f":"IF('liste engagés'!$G198=2,'liste engagés'!A198,\"\")","v":""},{"$f":"IF('liste engagés'!$G198=2,'liste engagés'!B198,\"\")","v":""},{"$f":"IF('liste engagés'!$G198=2,'liste engagés'!C198,\"\")","v":""},{"$f":"IF('liste engagés'!$G198=2,'liste engagés'!D198,\"\")","v":""},{"$f":"IF('liste engagés'!$G198=2,'liste engagés'!E198,\"\")","v":""},{"$f":"IF('liste engagés'!$G198=2,'liste engagés'!K198,\"\")","v":""},{"$f":"IF('liste engagés'!$G198=2,'liste engagés'!L198,\"\")","v":""},{"$f":"+IF(C199=\"\",0,1)","v":0}]
[{"$f":"+A199+1","v":194},{"$f":"IF('liste engagés'!$G199=2,'liste engagés'!A199,\"\")","v":""},{"$f":"IF('liste engagés'!$G199=2,'liste engagés'!B199,\"\")","v":""},{"$f":"IF('liste engagés'!$G199=2,'liste engagés'!C199,\"\")","v":""},{"$f":"IF('liste engagés'!$G199=2,'liste engagés'!D199,\"\")","v":""},{"$f":"IF('liste engagés'!$G199=2,'liste engagés'!E199,\"\")","v":""},{"$f":"IF('liste engagés'!$G199=2,'liste engagés'!K199,\"\")","v":""},{"$f":"IF('liste engagés'!$G199=2,'liste engagés'!L199,\"\")","v":""},0]
[195,{"$f":"IF('liste engagés'!$G200=2,'liste engagés'!A200,\"\")","v":""},{"$f":"IF('liste engagés'!$G200=2,'liste engagés'!B200,\"\")","v":""},{"$f":"IF('liste engagés'!$G200=2,'liste engagés'!C200,\"\")","v":""},{"$f":"IF('liste engagés'!$G200=2,'liste engagés'!D200,\"\")","v":""},{"$f":"IF('liste engagés'!$G200=2,'liste engagés'!E200,\"\")","v":""},{"$f":"IF('liste engagés'!$G200=2,'liste engagés'!K200,\"\")","v":""},{"$f":"IF('liste engagés'!$G200=2,'liste engagés'!L200,\"\")","v":""},0]
[196,{"$f":"IF('liste engagés'!$G201=2,'liste engagés'!A201,\"\")","v":""},{"$f":"IF('liste engagés'!$G201=2,'liste engagés'!B201,\"\")","v":""},{"$f":"IF('liste engagés'!$G201=2,'liste engagés'!C201,\"\")","v":""},{"$f":"IF('liste engagés'!$G201=2,'liste engagés'!D201,\"\")","v":""},{"$f":"IF('liste engagés'!$G201=2,'liste engagés'!E201,\"\")","v":""},{"$f":"IF('liste engagés'!$G201=2,'liste engagés'!K201,\"\")","v":""},{"$f":"IF('liste engagés'!$G201=2,'liste engagés'!L201,\"\")","v":""},0]
[197,{"$f":"IF('liste engagés'!$G202=2,'liste engagés'!A202,\"\")","v":""},{"$f":"IF('liste engagés'!$G202=2,'liste engagés'!B202,\"\")","v":""},{"$f":"IF('liste engagés'!$G202=2,'liste engagés'!C202,\"\")","v":""},{"$f":"IF('liste engagés'!$G202=2,'liste engagés'!D202,\"\")","v":""},{"$f":"IF('liste engagés'!$G202=2,'liste engagés'!E202,\"\")","v":""},{"$f":"IF('liste engagés'!$G202=2,'liste engagés'!K202,\"\")","v":""},{"$f":"IF('liste engagés'!$G202=2,'liste engagés'!L202,\"\")","v":""},0]
[198,{"$f":"IF('liste engagés'!$G203=2,'liste engagés'!A203,\"\")","v":""},{"$f":"IF('liste engagés'!$G203=2,'liste engagés'!B203,\"\")","v":""},{"$f":"IF('liste engagés'!$G203=2,'liste engagés'!C203,\"\")","v":""},{"$f":"IF('liste engagés'!$G203=2,'liste engagés'!D203,\"\")","v":""},{"$f":"IF('liste engagés'!$G203=2,'liste engagés'!E203,\"\")","v":""},{"$f":"IF('liste engagés'!$G203=2,'liste engagés'!K203,\"\")","v":""},{"$f":"IF('liste engagés'!$G203=2,'liste engagés'!L203,\"\")","v":""},0]
[199,{"$f":"IF('liste engagés'!$G204=2,'liste engagés'!A204,\"\")","v":""},{"$f":"IF('liste engagés'!$G204=2,'liste engagés'!B204,\"\")","v":""},{"$f":"IF('liste engagés'!$G204=2,'liste engagés'!C204,\"\")","v":""},{"$f":"IF('liste engagés'!$G204=2,'liste engagés'!D204,\"\")","v":""},{"$f":"IF('liste engagés'!$G204=2,'liste engagés'!E204,\"\")","v":""},{"$f":"IF('liste engagés'!$G204=2,'liste engagés'!K204,\"\")","v":""},{"$f":"IF('liste engagés'!$G204=2,'liste engagés'!L204,\"\")","v":""},0]
[200,{"$f":"IF('liste engagés'!$G205=2,'liste engagés'!A205,\"\")","v":""},{"$f":"IF('liste engagés'!$G205=2,'liste engagés'!B205,\"\")","v":""},{"$f":"IF('liste engagés'!$G205=2,'liste engagés'!C205,\"\")","v":""},{"$f":"IF('liste engagés'!$G205=2,'liste engagés'!D205,\"\")","v":""},{"$f":"IF('liste engagés'!$G205=2,'liste engagés'!E205,\"\")","v":""},{"$f":"IF('liste engagés'!$G205=2,'liste engagés'!K205,\"\")","v":""},{"$f":"IF('liste engagés'!$G205=2,'liste engagés'!L205,\"\")","v":""},0]
[201,{"$f":"IF('liste engagés'!$G206=2,'liste engagés'!A206,\"\")","v":""},{"$f":"IF('liste engagés'!$G206=2,'liste engagés'!B206,\"\")","v":""},{"$f":"IF('liste engagés'!$G206=2,'liste engagés'!C206,\"\")","v":""},{"$f":"IF('liste engagés'!$G206=2,'liste engagés'!D206,\"\")","v":""},{"$f":"IF('liste engagés'!$G206=2,'liste engagés'!E206,\"\")","v":""},{"$f":"IF('liste engagés'!$G206=2,'liste engagés'!K206,\"\")","v":""},{"$f":"IF('liste engagés'!$G206=2,'liste engagés'!L206,\"\")","v":""},0]
[202,{"$f":"IF('liste engagés'!$G207=2,'liste engagés'!A207,\"\")","v":""},{"$f":"IF('liste engagés'!$G207=2,'liste engagés'!B207,\"\")","v":""},{"$f":"IF('liste engagés'!$G207=2,'liste engagés'!C207,\"\")","v":""},{"$f":"IF('liste engagés'!$G207=2,'liste engagés'!D207,\"\")","v":""},{"$f":"IF('liste engagés'!$G207=2,'liste engagés'!E207,\"\")","v":""},{"$f":"IF('liste engagés'!$G207=2,'liste engagés'!K207,\"\")","v":""},{"$f":"IF('liste engagés'!$G207=2,'liste engagés'!L207,\"\")","v":""},0]
[203,{"$f":"IF('liste engagés'!$G208=2,'liste engagés'!A208,\"\")","v":""},{"$f":"IF('liste engagés'!$G208=2,'liste engagés'!B208,\"\")","v":""},{"$f":"IF('liste engagés'!$G208=2,'liste engagés'!C208,\"\")","v":""},{"$f":"IF('liste engagés'!$G208=2,'liste engagés'!D208,\"\")","v":""},{"$f":"IF('liste engagés'!$G208=2,'liste engagés'!E208,\"\")","v":""},{"$f":"IF('liste engagés'!$G208=2,'liste engagés'!K208,\"\")","v":""},{"$f":"IF('liste engagés'!$G208=2,'liste engagés'!L208,\"\")","v":""},0]
[204,{"$f":"IF('liste engagés'!$G209=2,'liste engagés'!A209,\"\")","v":""},{"$f":"IF('liste engagés'!$G209=2,'liste engagés'!B209,\"\")","v":""},{"$f":"IF('liste engagés'!$G209=2,'liste engagés'!C209,\"\")","v":""},{"$f":"IF('liste engagés'!$G209=2,'liste engagés'!D209,\"\")","v":""},{"$f":"IF('liste engagés'!$G209=2,'liste engagés'!E209,\"\")","v":""},{"$f":"IF('liste engagés'!$G209=2,'liste engagés'!K209,\"\")","v":""},{"$f":"IF('liste engagés'!$G209=2,'liste engagés'!L209,\"\")","v":""},0]
[205,{"$f":"IF('liste engagés'!$G210=2,'liste engagés'!A210,\"\")","v":""},{"$f":"IF('liste engagés'!$G210=2,'liste engagés'!B210,\"\")","v":""},{"$f":"IF('liste engagés'!$G210=2,'liste engagés'!C210,\"\")","v":""},{"$f":"IF('liste engagés'!$G210=2,'liste engagés'!D210,\"\")","v":""},{"$f":"IF('liste engagés'!$G210=2,'liste engagés'!E210,\"\")","v":""},{"$f":"IF('liste engagés'!$G210=2,'liste engagés'!K210,\"\")","v":""},{"$f":"IF('liste engagés'!$G210=2,'liste engagés'!L210,\"\")","v":""},0]
[206,{"$f":"IF('liste engagés'!$G211=2,'liste engagés'!A211,\"\")","v":""},{"$f":"IF('liste engagés'!$G211=2,'liste engagés'!B211,\"\")","v":""},{"$f":"IF('liste engagés'!$G211=2,'liste engagés'!C211,\"\")","v":""},{"$f":"IF('liste engagés'!$G211=2,'liste engagés'!D211,\"\")","v":""},{"$f":"IF('liste engagés'!$G211=2,'liste engagés'!E211,\"\")","v":""},{"$f":"IF('liste engagés'!$G211=2,'liste engagés'!K211,\"\")","v":""},{"$f":"IF('liste engagés'!$G211=2,'liste engagés'!L211,\"\")","v":""},0]
[207,{"$f":"IF('liste engagés'!$G212=2,'liste engagés'!A212,\"\")","v":""},{"$f":"IF('liste engagés'!$G212=2,'liste engagés'!B212,\"\")","v":""},{"$f":"IF('liste engagés'!$G212=2,'liste engagés'!C212,\"\")","v":""},{"$f":"IF('liste engagés'!$G212=2,'liste engagés'!D212,\"\")","v":""},{"$f":"IF('liste engagés'!$G212=2,'liste engagés'!E212,\"\")","v":""},{"$f":"IF('liste engagés'!$G212=2,'liste engagés'!K212,\"\")","v":""},{"$f":"IF('liste engagés'!$G212=2,'liste engagés'!L212,\"\")","v":""},0]
[208,{"$f":"IF('liste engagés'!$G213=2,'liste engagés'!A213,\"\")","v":""},{"$f":"IF('liste engagés'!$G213=2,'liste engagés'!B213,\"\")","v":""},{"$f":"IF('liste engagés'!$G213=2,'liste engagés'!C213,\"\")","v":""},{"$f":"IF('liste engagés'!$G213=2,'liste engagés'!D213,\"\")","v":""},{"$f":"IF('liste engagés'!$G213=2,'liste engagés'!E213,\"\")","v":""},{"$f":"IF('liste engagés'!$G213=2,'liste engagés'!K213,\"\")","v":""},{"$f":"IF('liste engagés'!$G213=2,'liste engagés'!L213,\"\")","v":""},{"$f":"+IF(C214=\"\",0,1)","v":0}]
[209,{"$f":"IF('liste engagés'!$G214=2,'liste engagés'!A214,\"\")","v":""},{"$f":"IF('liste engagés'!$G214=2,'liste engagés'!B214,\"\")","v":""},{"$f":"IF('liste engagés'!$G214=2,'liste engagés'!C214,\"\")","v":""},{"$f":"IF('liste engagés'!$G214=2,'liste engagés'!D214,\"\")","v":""},{"$f":"IF('liste engagés'!$G214=2,'liste engagés'!E214,\"\")","v":""},{"$f":"IF('liste engagés'!$G214=2,'liste engagés'!K214,\"\")","v":""},{"$f":"IF('liste engagés'!$G214=2,'liste engagés'!L214,\"\")","v":""},{"$f":"+IF(C215=\"\",0,1)","v":0}]
[210,{"$f":"IF('liste engagés'!$G215=2,'liste engagés'!A215,\"\")","v":""},{"$f":"IF('liste engagés'!$G215=2,'liste engagés'!B215,\"\")","v":""},{"$f":"IF('liste engagés'!$G215=2,'liste engagés'!C215,\"\")","v":""},{"$f":"IF('liste engagés'!$G215=2,'liste engagés'!D215,\"\")","v":""},{"$f":"IF('liste engagés'!$G215=2,'liste engagés'!E215,\"\")","v":""},{"$f":"IF('liste engagés'!$G215=2,'liste engagés'!K215,\"\")","v":""},{"$f":"IF('liste engagés'!$G215=2,'liste engagés'!L215,\"\")","v":""},{"$f":"+IF(C216=\"\",0,1)","v":0}]
[null,null,null,null,null,null,null,null,{"$f":"SUM(I7:I216)","v":4}]

{"sheet":"cat4","index":7,"n_rows":217,"n_cols":10,"rows_kept":217,"cut":false,"hidden":false,"merged":[]}
[{"$f":"+MENU!A1","v":"CHRONO DES LIMOUCHES "},null,null,null,null,null,{"$f":"+MENU!I1","v":"EDITION"},{"$f":"+MENU!J1","v":2018}]
[null,null,null,null,null,null,null,null,"code cat",4]
["CLASSEMENT :",null,{"$f":"+IF(J2=\"\",\"\",VLOOKUP($J$2,Catégories!B3:D17,3))","v":"FSGT 5"}]
[]
[]
[null,"N°de DOSSARD","Nom ","Prénom","Club","Fédération","Temps","Moyenne"]
[1,{"$f":"IF('liste engagés'!$G126=4,'liste engagés'!A126,\"\")","v":121},{"$f":"IF('liste engagés'!$G126=4,'liste engagés'!B126,\"\")","v":"SCHWIND"},{"$f":"IF('liste engagés'!$G126=4,'liste engagés'!C126,\"\")","v":"MICHEL"},{"$f":"IF('liste engagés'!$G126=4,'liste engagés'!D126,\"\")","v":"UC PIERRELATTE"},{"$f":"IF('liste engagés'!$G126=4,'liste engagés'!E126,\"\")","v":"FSGT"},{"$f":"IF('liste engagés'!$G126=4,'liste engagés'!K126,\"\")","v":2.8113425925919255E-2},{"$f":"IF('liste engagés'!$G126=4,'liste engagés'!L126,\"\")","v":16.895841910255143},{"$f":"+IF(C7=\"\",0,1)","v":1}]
[{"$f":"+A7+1","v":2},{"$f":"IF('liste engagés'!$G145=4,'liste engagés'!A145,\"\")","v":140},{"$f":"IF('liste engagés'!$G145=4,'liste engagés'!B145,\"\")","v":"PEREZ"},"RAPHAEL",{"$f":"IF('liste engagés'!$G145=4,'liste engagés'!D145,\"\")","v":"UC PIERRELATTE"},{"$f":"IF('liste engagés'!$G145=4,'liste engagés'!E145,\"\")","v":"FSGT"},{"$f":"IF('liste engagés'!$G145=4,'liste engagés'!K145,\"\")","v":2.8460648148140977E-2},{"$f":"IF('liste engagés'!$G145=4,'liste engagés'!L145,\"\")","v":16.68971126474597},1]
[3,{"$f":"IF('liste engagés'!$G94=4,'liste engagés'!A94,\"\")","v":89},{"$f":"IF('liste engagés'!$G94=4,'liste engagés'!B94,\"\")","v":"AURECHE"},{"$f":"IF('liste engagés'!$G94=4,'liste engagés'!C94,\"\")","v":"ETIENNE"},{"$f":"IF('liste engagés'!$G94=4,'liste engagés'!D94,\"\")","v":"AC TOURRETTOISE"},{"$f":"IF('liste engagés'!$G94=4,'liste engagés'!E94,\"\")","v":"FSGT"},{"$f":"IF('liste engagés'!$G94=4,'liste engagés'!K94,\"\")","v":2.9328703703698833E-2},{"$f":"IF('liste engagés'!$G94=4,'liste engagés'!L94,\"\")","v":16.195737963696455},1]
[4,{"$f":"IF('liste engagés'!$G11=4,'liste engagés'!A11,\"\")","v":6},{"$f":"IF('liste engagés'!$G11=4,'liste engagés'!B11,\"\")","v":"DIDIER"},{"$f":"IF('liste engagés'!$G11=4,'liste engagés'!C11,\"\")","v":"PHILIPPE"},{"$f":"IF('liste engagés'!$G11=4,'liste engagés'!D11,\"\")","v":"UCMV"},{"$f":"IF('liste engagés'!$G11=4,'liste engagés'!E11,\"\")","v":"FSGT"},{"$f":"IF('liste engagés'!$G11=4,'liste engagés'!K11,\"\")","v":2.9953703703703649E-2},{"$f":"IF('liste engagés'!$G11=4,'liste engagés'!L11,\"\")","v":15.857805255023214},1]
[5,{"$f":"IF('liste engagés'!$G56=4,'liste engagés'!A56,\"\")","v":51},{"$f":"IF('liste engagés'!$G56=4,'liste engagés'!B56,\"\")","v":"DEUMIER"},{"$f":"IF('liste engagés'!$G56=4,'liste engagés'!C56,\"\")","v":"XAVIER"},{"$f":"IF('liste engagés'!$G56=4,'liste engagés'!D56,\"\")","v":"CC ST PERAY"},{"$f":"IF('liste engagés'!$G56=4,'liste engagés'!E56,\"\")","v":"FSGT"},{"$f":"IF('liste engagés'!$G56=4,'liste engagés'!K56,\"\")","v":3.0324074074071339E-2},{"$f":"IF('liste engagés'!$G56=4,'liste engagés'!L56,\"\")","v":15.664122137405993},1]
[6,{"$f":"IF('liste engagés'!$G151=4,'liste engagés'!A151,\"\")","v":146},{"$f":"IF('liste engagés'!$G151=4,'liste engagés'!B151,\"\")","v":"HAREL"},{"$f":"IF('liste engagés'!$G151=4,'liste engagés'!C151,\"\")","v":"MARCEL"},{"$f":"IF('liste engagés'!$G151=4,'liste engagés'!D151,\"\")","v":"VC SOYONNAIS"},{"$f":"IF('liste engagés'!$G151=4,'liste engagés'!E151,\"\")","v":"FSGT"},{"$f":"IF('liste engagés'!$G151=4,'liste engagés'!K151,\"\")","v":3.0405092592585059E-2},{"$f":"IF('liste engagés'!$G151=4,'liste engagés'!L151,\"\")","v":15.622382946330479},1]
[7,{"$f":"IF('liste engagés'!$G88=4,'liste engagés'!A88,\"\")","v":83},{"$f":"IF('liste engagés'!$G88=4,'liste engagés'!B88,\"\")","v":"GONZALEZ"},{"$f":"IF('liste engagés'!$G88=4,'liste engagés'!C88,\"\")","v":"MIGUEL"},{"$f":"IF('liste engagés'!$G88=4,'liste engagés'!D88,\"\")","v":"UC PIERRELATTE"},{"$f":"IF('liste engagés'!$G88=4,'liste engagés'!E88,\"\")","v":"FSGT"},{"$f":"IF('liste engagés'!$G88=4,'liste engagés'!K88,\"\")","v":3.1539351851847308E-2},{"$f":"IF('liste engagés'!$G88=4,'liste engagés'!L88,\"\")","v":15.060550458717767},1]
[8,{"$f":"IF('liste engagés'!$G7=4,'liste engagés'!A7,\"\")","v":2},{"$f":"IF('liste engagés'!$G7=4,'liste engagés'!B7,\"\")","v":"TERRON"},{"$f":"IF('liste engagés'!$G7=4,'liste engagés'!C7,\"\")","v":"SERGE"},{"$f":"IF('liste engagés'!$G7=4,'liste engagés'!D7,\"\")","v":"CS COUXOIS"},{"$f":"IF('liste engagés'!$G7=4,'liste engagés'!E7,\"\")","v":"FSGT"},{"$f":"IF('liste engagés'!$G7=4,'liste engagés'!K7,\"\")","v":3.2291666666666607E-2},{"$f":"IF('liste engagés'!$G7=4,'liste engagés'!L7,\"\")","v":14.709677419354867},1]
[9,{"$f":"IF('liste engagés'!$G57=4,'liste engagés'!A57,\"\")","v":52},{"$f":"IF('liste engagés'!$G57=4,'liste engagés'!B57,\"\")","v":"LECOMTE"},{"$f":"IF('liste engagés'!$G57=4,'liste engagés'!C57,\"\")","v":"MARC"},{"$f":"IF('liste engagés'!$G57=4,'liste engagés'!D57,\"\")","v":"CS COUXOIS"},{"$f":"IF('liste engagés'!$G57=4,'liste engagés'!E57,\"\")","v":"FSGT"},{"$f":"IF('liste engagés'!$G57=4,'liste engagés'!K57,\"\")","v":3.3703703703701404E-2},{"$f":"IF('liste engagés'!$G57=4,'liste engagés'!L57,\"\")","v":14.093406593407556},1]
[10,{"$f":"IF('liste engagés'!$G147=4,'liste engagés'!A147,\"\")","v":142},{"$f":"IF('liste engagés'!$G147=4,'liste engagés'!B147,\"\")","v":"DALAYGUE"},{"$f":"IF('liste engagés'!$G147=4,'liste engagés'!C147,\"\")","v":"HERVE"},{"$f":"IF('liste engagés'!$G147=4,'liste engagés'!D147,\"\")","v":"VC SOYONNAIS"},{"$f":"IF('liste engagés'!$G147=4,'liste engagés'!E147,\"\")","v":"FSGT"},{"$f":"IF('liste engagés'!$G147=4,'liste engagés'!K147,\"\")","v":3.6388888888881532E-2},{"$f":"IF('liste engagés'!$G147=4,'liste engagés'!L147,\"\")","v":13.053435114506456},1]
[11,{"$f":"IF('liste engagés'!$G81=4,'liste engagés'!A81,\"\")","v":76},{"$f":"IF('liste engagés'!$G81=4,'liste engagés'!B81,\"\")","v":"GILLES"},{"$f":"IF('liste engagés'!$G81=4,'liste engagés'!C81,\"\")","v":"PATRICK"},{"$f":"IF('liste engagés'!$G81=4,'liste engagés'!D81,\"\")","v":"CC ST PERAY"},{"$f":"IF('liste engagés'!$G81=4,'liste engagés'!E81,\"\")","v":"FSGT"},{"$f":"IF('liste engagés'!$G81=4,'liste engagés'!K81,\"\")","v":3.6412037037033385E-2},{"$f":"IF('liste engagés'!$G81=4,'liste engagés'!L81,\"\")","v":13.045136681501626},1]
[12,{"$f":"IF('liste engagés'!$G59=4,'liste engagés'!A59,\"\")","v":54},{"$f":"IF('liste engagés'!$G59=4,'liste engagés'!B59,\"\")","v":"BRUN"},{"$f":"IF('liste engagés'!$G59=4,'liste engagés'!C59,\"\")","v":"HERVE"},{"$f":"IF('liste engagés'!$G59=4,'liste engagés'!D59,\"\")","v":"CS COUXOIS"},{"$f":"IF('liste engagés'!$G59=4,'liste engagés'!E59,\"\")","v":"FSGT"},{"$f":"IF('liste engagés'!$G59=4,'liste engagés'!K59,\"\")","v":4.2048611111108691E-2},{"$f":"IF('liste engagés'!$G59=4,'liste engagés'!L59,\"\")","v":11.29644921552501},1]
[13,{"$f":"IF('liste engagés'!$G6=4,'liste engagés'!A6,\"\")","v":""},{"$f":"IF('liste engagés'!$G6=4,'liste engagés'!B6,\"\")","v":""},{"$f":"IF('liste engagés'!$G6=4,'liste engagés'!C6,\"\")","v":""},{"$f":"IF('liste engagés'!$G6=4,'liste engagés'!D6,\"\")","v":""},{"$f":"IF('liste engagés'!$G6=4,'liste engagés'!E6,\"\")","v":""},{"$f":"IF('liste engagés'!$G6=4,'liste engagés'!K6,\"\")","v":""},{"$f":"IF('liste engagés'!$G6=4,'liste engagés'!L6,\"\")","v":""},0]
[14,{"$f":"IF('liste engagés'!$G8=4,'liste engagés'!A8,\"\")","v":""},{"$f":"IF('liste engagés'!$G8=4,'liste engagés'!B8,\"\")","v":""},{"$f":"IF('liste engagés'!$G8=4,'liste engagés'!C8,\"\")","v":""},{"$f":"IF('liste engagés'!$G8=4,'liste engagés'!D8,\"\")","v":""},{"$f":"IF('liste engagés'!$G8=4,'liste engagés'!E8,\"\")","v":""},{"$f":"IF('liste engagés'!$G8=4,'liste engagés'!K8,\"\")","v":""},{"$f":"IF('liste engagés'!$G8=4,'liste engagés'!L8,\"\")","v":""},0]
[15,{"$f":"IF('liste engagés'!$G9=4,'liste engagés'!A9,\"\")","v":""},{"$f":"IF('liste engagés'!$G9=4,'liste engagés'!B9,\"\")","v":""},{"$f":"IF('liste engagés'!$G9=4,'liste engagés'!C9,\"\")","v":""},{"$f":"IF('liste engagés'!$G9=4,'liste engagés'!D9,\"\")","v":""},{"$f":"IF('liste engagés'!$G9=4,'liste engagés'!E9,\"\")","v":""},{"$f":"IF('liste engagés'!$G9=4,'liste engagés'!K9,\"\")","v":""},{"$f":"IF('liste engagés'!$G9=4,'liste engagés'!L9,\"\")","v":""},0]
[16,{"$f":"IF('liste engagés'!$G10=4,'liste engagés'!A10,\"\")","v":""},{"$f":"IF('liste engagés'!$G10=4,'liste engagés'!B10,\"\")","v":""},{"$f":"IF('liste engagés'!$G10=4,'liste engagés'!C10,\"\")","v":""},{"$f":"IF('liste engagés'!$G10=4,'liste engagés'!D10,\"\")","v":""},{"$f":"IF('liste engagés'!$G10=4,'liste engagés'!E10,\"\")","v":""},{"$f":"IF('liste engagés'!$G10=4,'liste engagés'!K10,\"\")","v":""},{"$f":"IF('liste engagés'!$G10=4,'liste engagés'!L10,\"\")","v":""},0]
[17,{"$f":"IF('liste engagés'!$G12=4,'liste engagés'!A12,\"\")","v":""},{"$f":"IF('liste engagés'!$G12=4,'liste engagés'!B12,\"\")","v":""},{"$f":"IF('liste engagés'!$G12=4,'liste engagés'!C12,\"\")","v":""},{"$f":"IF('liste engagés'!$G12=4,'liste engagés'!D12,\"\")","v":""},{"$f":"IF('liste engagés'!$G12=4,'liste engagés'!E12,\"\")","v":""},{"$f":"IF('liste engagés'!$G12=4,'liste engagés'!K12,\"\")","v":""},{"$f":"IF('liste engagés'!$G12=4,'liste engagés'!L12,\"\")","v":""},0]
[18,{"$f":"IF('liste engagés'!$G13=4,'liste engagés'!A13,\"\")","v":""},{"$f":"IF('liste engagés'!$G13=4,'liste engagés'!B13,\"\")","v":""},{"$f":"IF('liste engagés'!$G13=4,'liste engagés'!C13,\"\")","v":""},{"$f":"IF('liste engagés'!$G13=4,'liste engagés'!D13,\"\")","v":""},{"$f":"IF('liste engagés'!$G13=4,'liste engagés'!E13,\"\")","v":""},{"$f":"IF('liste engagés'!$G13=4,'liste engagés'!K13,\"\")","v":""},{"$f":"IF('liste engagés'!$G13=4,'liste engagés'!L13,\"\")","v":""},0]
[19,{"$f":"IF('liste engagés'!$G14=4,'liste engagés'!A14,\"\")","v":""},{"$f":"IF('liste engagés'!$G14=4,'liste engagés'!B14,\"\")","v":""},{"$f":"IF('liste engagés'!$G14=4,'liste engagés'!C14,\"\")","v":""},{"$f":"IF('liste engagés'!$G14=4,'liste engagés'!D14,\"\")","v":""},{"$f":"IF('liste engagés'!$G14=4,'liste engagés'!E14,\"\")","v":""},{"$f":"IF('liste engagés'!$G14=4,'liste engagés'!K14,\"\")","v":""},{"$f":"IF('liste engagés'!$G14=4,'liste engagés'!L14,\"\")","v":""},0]
[20,{"$f":"IF('liste engagés'!$G15=4,'liste engagés'!A15,\"\")","v":""},{"$f":"IF('liste engagés'!$G15=4,'liste engagés'!B15,\"\")","v":""},{"$f":"IF('liste engagés'!$G15=4,'liste engagés'!C15,\"\")","v":""},{"$f":"IF('liste engagés'!$G15=4,'liste engagés'!D15,\"\")","v":""},{"$f":"IF('liste engagés'!$G15=4,'liste engagés'!E15,\"\")","v":""},{"$f":"IF('liste engagés'!$G15=4,'liste engagés'!K15,\"\")","v":""},{"$f":"IF('liste engagés'!$G15=4,'liste engagés'!L15,\"\")","v":""},0]
[21,{"$f":"IF('liste engagés'!$G16=4,'liste engagés'!A16,\"\")","v":""},{"$f":"IF('liste engagés'!$G16=4,'liste engagés'!B16,\"\")","v":""},{"$f":"IF('liste engagés'!$G16=4,'liste engagés'!C16,\"\")","v":""},{"$f":"IF('liste engagés'!$G16=4,'liste engagés'!D16,\"\")","v":""},{"$f":"IF('liste engagés'!$G16=4,'liste engagés'!E16,\"\")","v":""},{"$f":"IF('liste engagés'!$G16=4,'liste engagés'!K16,\"\")","v":""},{"$f":"IF('liste engagés'!$G16=4,'liste engagés'!L16,\"\")","v":""},0]
[22,{"$f":"IF('liste engagés'!$G17=4,'liste engagés'!A17,\"\")","v":""},{"$f":"IF('liste engagés'!$G17=4,'liste engagés'!B17,\"\")","v":""},{"$f":"IF('liste engagés'!$G17=4,'liste engagés'!C17,\"\")","v":""},{"$f":"IF('liste engagés'!$G17=4,'liste engagés'!D17,\"\")","v":""},{"$f":"IF('liste engagés'!$G17=4,'liste engagés'!E17,\"\")","v":""},{"$f":"IF('liste engagés'!$G17=4,'liste engagés'!K17,\"\")","v":""},{"$f":"IF('liste engagés'!$G17=4,'liste engagés'!L17,\"\")","v":""},0]
[23,{"$f":"IF('liste engagés'!$G18=4,'liste engagés'!A18,\"\")","v":""},{"$f":"IF('liste engagés'!$G18=4,'liste engagés'!B18,\"\")","v":""},{"$f":"IF('liste engagés'!$G18=4,'liste engagés'!C18,\"\")","v":""},{"$f":"IF('liste engagés'!$G18=4,'liste engagés'!D18,\"\")","v":""},{"$f":"IF('liste engagés'!$G18=4,'liste engagés'!E18,\"\")","v":""},{"$f":"IF('liste engagés'!$G18=4,'liste engagés'!K18,\"\")","v":""},{"$f":"IF('liste engagés'!$G18=4,'liste engagés'!L18,\"\")","v":""},0]
[24,{"$f":"IF('liste engagés'!$G19=4,'liste engagés'!A19,\"\")","v":""},{"$f":"IF('liste engagés'!$G19=4,'liste engagés'!B19,\"\")","v":""},{"$f":"IF('liste engagés'!$G19=4,'liste engagés'!C19,\"\")","v":""},{"$f":"IF('liste engagés'!$G19=4,'liste engagés'!D19,\"\")","v":""},{"$f":"IF('liste engagés'!$G19=4,'liste engagés'!E19,\"\")","v":""},{"$f":"IF('liste engagés'!$G19=4,'liste engagés'!K19,\"\")","v":""},{"$f":"IF('liste engagés'!$G19=4,'liste engagés'!L19,\"\")","v":""},0]
[25,{"$f":"IF('liste engagés'!$G20=4,'liste engagés'!A20,\"\")","v":""},{"$f":"IF('liste engagés'!$G20=4,'liste engagés'!B20,\"\")","v":""},{"$f":"IF('liste engagés'!$G20=4,'liste engagés'!C20,\"\")","v":""},{"$f":"IF('liste engagés'!$G20=4,'liste engagés'!D20,\"\")","v":""},{"$f":"IF('liste engagés'!$G20=4,'liste engagés'!E20,\"\")","v":""},{"$f":"IF('liste engagés'!$G20=4,'liste engagés'!K20,\"\")","v":""},{"$f":"IF('liste engagés'!$G20=4,'liste engagés'!L20,\"\")","v":""},0]
[26,{"$f":"IF('liste engagés'!$G21=4,'liste engagés'!A21,\"\")","v":""},{"$f":"IF('liste engagés'!$G21=4,'liste engagés'!B21,\"\")","v":""},{"$f":"IF('liste engagés'!$G21=4,'liste engagés'!C21,\"\")","v":""},{"$f":"IF('liste engagés'!$G21=4,'liste engagés'!D21,\"\")","v":""},{"$f":"IF('liste engagés'!$G21=4,'liste engagés'!E21,\"\")","v":""},{"$f":"IF('liste engagés'!$G21=4,'liste engagés'!K21,\"\")","v":""},{"$f":"IF('liste engagés'!$G21=4,'liste engagés'!L21,\"\")","v":""},0]
[27,{"$f":"IF('liste engagés'!$G22=4,'liste engagés'!A22,\"\")","v":""},{"$f":"IF('liste engagés'!$G22=4,'liste engagés'!B22,\"\")","v":""},{"$f":"IF('liste engagés'!$G22=4,'liste engagés'!C22,\"\")","v":""},{"$f":"IF('liste engagés'!$G22=4,'liste engagés'!D22,\"\")","v":""},{"$f":"IF('liste engagés'!$G22=4,'liste engagés'!E22,\"\")","v":""},{"$f":"IF('liste engagés'!$G22=4,'liste engagés'!K22,\"\")","v":""},{"$f":"IF('liste engagés'!$G22=4,'liste engagés'!L22,\"\")","v":""},0]
[28,{"$f":"IF('liste engagés'!$G23=4,'liste engagés'!A23,\"\")","v":""},{"$f":"IF('liste engagés'!$G23=4,'liste engagés'!B23,\"\")","v":""},{"$f":"IF('liste engagés'!$G23=4,'liste engagés'!C23,\"\")","v":""},{"$f":"IF('liste engagés'!$G23=4,'liste engagés'!D23,\"\")","v":""},{"$f":"IF('liste engagés'!$G23=4,'liste engagés'!E23,\"\")","v":""},{"$f":"IF('liste engagés'!$G23=4,'liste engagés'!K23,\"\")","v":""},{"$f":"IF('liste engagés'!$G23=4,'liste engagés'!L23,\"\")","v":""},0]
[29,{"$f":"IF('liste engagés'!$G24=4,'liste engagés'!A24,\"\")","v":""},{"$f":"IF('liste engagés'!$G24=4,'liste engagés'!B24,\"\")","v":""},{"$f":"IF('liste engagés'!$G24=4,'liste engagés'!C24,\"\")","v":""},{"$f":"IF('liste engagés'!$G24=4,'liste engagés'!D24,\"\")","v":""},{"$f":"IF('liste engagés'!$G24=4,'liste engagés'!E24,\"\")","v":""},{"$f":"IF('liste engagés'!$G24=4,'liste engagés'!K24,\"\")","v":""},{"$f":"IF('liste engagés'!$G24=4,'liste engagés'!L24,\"\")","v":""},0]
[30,{"$f":"IF('liste engagés'!$G25=4,'liste engagés'!A25,\"\")","v":""},{"$f":"IF('liste engagés'!$G25=4,'liste engagés'!B25,\"\")","v":""},{"$f":"IF('liste engagés'!$G25=4,'liste engagés'!C25,\"\")","v":""},{"$f":"IF('liste engagés'!$G25=4,'liste engagés'!D25,\"\")","v":""},{"$f":"IF('liste engagés'!$G25=4,'liste engagés'!E25,\"\")","v":""},{"$f":"IF('liste engagés'!$G25=4,'liste engagés'!K25,\"\")","v":""},{"$f":"IF('liste engagés'!$G25=4,'liste engagés'!L25,\"\")","v":""},0]
[31,{"$f":"IF('liste engagés'!$G26=4,'liste engagés'!A26,\"\")","v":""},{"$f":"IF('liste engagés'!$G26=4,'liste engagés'!B26,\"\")","v":""},{"$f":"IF('liste engagés'!$G26=4,'liste engagés'!C26,\"\")","v":""},{"$f":"IF('liste engagés'!$G26=4,'liste engagés'!D26,\"\")","v":""},{"$f":"IF('liste engagés'!$G26=4,'liste engagés'!E26,\"\")","v":""},{"$f":"IF('liste engagés'!$G26=4,'liste engagés'!K26,\"\")","v":""},{"$f":"IF('liste engagés'!$G26=4,'liste engagés'!L26,\"\")","v":""},0]
[32,{"$f":"IF('liste engagés'!$G27=4,'liste engagés'!A27,\"\")","v":""},{"$f":"IF('liste engagés'!$G27=4,'liste engagés'!B27,\"\")","v":""},{"$f":"IF('liste engagés'!$G27=4,'liste engagés'!C27,\"\")","v":""},{"$f":"IF('liste engagés'!$G27=4,'liste engagés'!D27,\"\")","v":""},{"$f":"IF('liste engagés'!$G27=4,'liste engagés'!E27,\"\")","v":""},{"$f":"IF('liste engagés'!$G27=4,'liste engagés'!K27,\"\")","v":""},{"$f":"IF('liste engagés'!$G27=4,'liste engagés'!L27,\"\")","v":""},0]
[33,{"$f":"IF('liste engagés'!$G28=4,'liste engagés'!A28,\"\")","v":""},{"$f":"IF('liste engagés'!$G28=4,'liste engagés'!B28,\"\")","v":""},{"$f":"IF('liste engagés'!$G28=4,'liste engagés'!C28,\"\")","v":""},{"$f":"IF('liste engagés'!$G28=4,'liste engagés'!D28,\"\")","v":""},{"$f":"IF('liste engagés'!$G28=4,'liste engagés'!E28,\"\")","v":""},{"$f":"IF('liste engagés'!$G28=4,'liste engagés'!K28,\"\")","v":""},{"$f":"IF('liste engagés'!$G28=4,'liste engagés'!L28,\"\")","v":""},0]
[34,{"$f":"IF('liste engagés'!$G29=4,'liste engagés'!A29,\"\")","v":""},{"$f":"IF('liste engagés'!$G29=4,'liste engagés'!B29,\"\")","v":""},{"$f":"IF('liste engagés'!$G29=4,'liste engagés'!C29,\"\")","v":""},{"$f":"IF('liste engagés'!$G29=4,'liste engagés'!D29,\"\")","v":""},{"$f":"IF('liste engagés'!$G29=4,'liste engagés'!E29,\"\")","v":""},{"$f":"IF('liste engagés'!$G29=4,'liste engagés'!K29,\"\")","v":""},{"$f":"IF('liste engagés'!$G29=4,'liste engagés'!L29,\"\")","v":""},0]
[35,{"$f":"IF('liste engagés'!$G30=4,'liste engagés'!A30,\"\")","v":""},{"$f":"IF('liste engagés'!$G30=4,'liste engagés'!B30,\"\")","v":""},{"$f":"IF('liste engagés'!$G30=4,'liste engagés'!C30,\"\")","v":""},{"$f":"IF('liste engagés'!$G30=4,'liste engagés'!D30,\"\")","v":""},{"$f":"IF('liste engagés'!$G30=4,'liste engagés'!E30,\"\")","v":""},{"$f":"IF('liste engagés'!$G30=4,'liste engagés'!K30,\"\")","v":""},{"$f":"IF('liste engagés'!$G30=4,'liste engagés'!L30,\"\")","v":""},0]
[36,{"$f":"IF('liste engagés'!$G31=4,'liste engagés'!A31,\"\")","v":""},{"$f":"IF('liste engagés'!$G31=4,'liste engagés'!B31,\"\")","v":""},{"$f":"IF('liste engagés'!$G31=4,'liste engagés'!C31,\"\")","v":""},{"$f":"IF('liste engagés'!$G31=4,'liste engagés'!D31,\"\")","v":""},{"$f":"IF('liste engagés'!$G31=4,'liste engagés'!E31,\"\")","v":""},{"$f":"IF('liste engagés'!$G31=4,'liste engagés'!K31,\"\")","v":""},{"$f":"IF('liste engagés'!$G31=4,'liste engagés'!L31,\"\")","v":""},0]
[37,{"$f":"IF('liste engagés'!$G32=4,'liste engagés'!A32,\"\")","v":""},{"$f":"IF('liste engagés'!$G32=4,'liste engagés'!B32,\"\")","v":""},{"$f":"IF('liste engagés'!$G32=4,'liste engagés'!C32,\"\")","v":""},{"$f":"IF('liste engagés'!$G32=4,'liste engagés'!D32,\"\")","v":""},{"$f":"IF('liste engagés'!$G32=4,'liste engagés'!E32,\"\")","v":""},{"$f":"IF('liste engagés'!$G32=4,'liste engagés'!K32,\"\")","v":""},{"$f":"IF('liste engagés'!$G32=4,'liste engagés'!L32,\"\")","v":""},0]
[38,{"$f":"IF('liste engagés'!$G33=4,'liste engagés'!A33,\"\")","v":""},{"$f":"IF('liste engagés'!$G33=4,'liste engagés'!B33,\"\")","v":""},{"$f":"IF('liste engagés'!$G33=4,'liste engagés'!C33,\"\")","v":""},{"$f":"IF('liste engagés'!$G33=4,'liste engagés'!D33,\"\")","v":""},{"$f":"IF('liste engagés'!$G33=4,'liste engagés'!E33,\"\")","v":""},{"$f":"IF('liste engagés'!$G33=4,'liste engagés'!K33,\"\")","v":""},{"$f":"IF('liste engagés'!$G33=4,'liste engagés'!L33,\"\")","v":""},0]
[39,{"$f":"IF('liste engagés'!$G34=4,'liste engagés'!A34,\"\")","v":""},{"$f":"IF('liste engagés'!$G34=4,'liste engagés'!B34,\"\")","v":""},{"$f":"IF('liste engagés'!$G34=4,'liste engagés'!C34,\"\")","v":""},{"$f":"IF('liste engagés'!$G34=4,'liste engagés'!D34,\"\")","v":""},{"$f":"IF('liste engagés'!$G34=4,'liste engagés'!E34,\"\")","v":""},{"$f":"IF('liste engagés'!$G34=4,'liste engagés'!K34,\"\")","v":""},{"$f":"IF('liste engagés'!$G34=4,'liste engagés'!L34,\"\")","v":""},0]
[40,{"$f":"IF('liste engagés'!$G35=4,'liste engagés'!A35,\"\")","v":""},{"$f":"IF('liste engagés'!$G35=4,'liste engagés'!B35,\"\")","v":""},{"$f":"IF('liste engagés'!$G35=4,'liste engagés'!C35,\"\")","v":""},{"$f":"IF('liste engagés'!$G35=4,'liste engagés'!D35,\"\")","v":""},{"$f":"IF('liste engagés'!$G35=4,'liste engagés'!E35,\"\")","v":""},{"$f":"IF('liste engagés'!$G35=4,'liste engagés'!K35,\"\")","v":""},{"$f":"IF('liste engagés'!$G35=4,'liste engagés'!L35,\"\")","v":""},0]
[41,{"$f":"IF('liste engagés'!$G36=4,'liste engagés'!A36,\"\")","v":""},{"$f":"IF('liste engagés'!$G36=4,'liste engagés'!B36,\"\")","v":""},{"$f":"IF('liste engagés'!$G36=4,'liste engagés'!C36,\"\")","v":""},{"$f":"IF('liste engagés'!$G36=4,'liste engagés'!D36,\"\")","v":""},{"$f":"IF('liste engagés'!$G36=4,'liste engagés'!E36,\"\")","v":""},{"$f":"IF('liste engagés'!$G36=4,'liste engagés'!K36,\"\")","v":""},{"$f":"IF('liste engagés'!$G36=4,'liste engagés'!L36,\"\")","v":""},0]
[42,{"$f":"IF('liste engagés'!$G37=4,'liste engagés'!A37,\"\")","v":""},{"$f":"IF('liste engagés'!$G37=4,'liste engagés'!B37,\"\")","v":""},{"$f":"IF('liste engagés'!$G37=4,'liste engagés'!C37,\"\")","v":""},{"$f":"IF('liste engagés'!$G37=4,'liste engagés'!D37,\"\")","v":""},{"$f":"IF('liste engagés'!$G37=4,'liste engagés'!E37,\"\")","v":""},{"$f":"IF('liste engagés'!$G37=4,'liste engagés'!K37,\"\")","v":""},{"$f":"IF('liste engagés'!$G37=4,'liste engagés'!L37,\"\")","v":""},0]
[43,{"$f":"IF('liste engagés'!$G38=4,'liste engagés'!A38,\"\")","v":""},{"$f":"IF('liste engagés'!$G38=4,'liste engagés'!B38,\"\")","v":""},{"$f":"IF('liste engagés'!$G38=4,'liste engagés'!C38,\"\")","v":""},{"$f":"IF('liste engagés'!$G38=4,'liste engagés'!D38,\"\")","v":""},{"$f":"IF('liste engagés'!$G38=4,'liste engagés'!E38,\"\")","v":""},{"$f":"IF('liste engagés'!$G38=4,'liste engagés'!K38,\"\")","v":""},{"$f":"IF('liste engagés'!$G38=4,'liste engagés'!L38,\"\")","v":""},0]
[44,{"$f":"IF('liste engagés'!$G39=4,'liste engagés'!A39,\"\")","v":""},{"$f":"IF('liste engagés'!$G39=4,'liste engagés'!B39,\"\")","v":""},{"$f":"IF('liste engagés'!$G39=4,'liste engagés'!C39,\"\")","v":""},{"$f":"IF('liste engagés'!$G39=4,'liste engagés'!D39,\"\")","v":""},{"$f":"IF('liste engagés'!$G39=4,'liste engagés'!E39,\"\")","v":""},{"$f":"IF('liste engagés'!$G39=4,'liste engagés'!K39,\"\")","v":""},{"$f":"IF('liste engagés'!$G39=4,'liste engagés'!L39,\"\")","v":""},0]
[45,{"$f":"IF('liste engagés'!$G40=4,'liste engagés'!A40,\"\")","v":""},{"$f":"IF('liste engagés'!$G40=4,'liste engagés'!B40,\"\")","v":""},{"$f":"IF('liste engagés'!$G40=4,'liste engagés'!C40,\"\")","v":""},{"$f":"IF('liste engagés'!$G40=4,'liste engagés'!D40,\"\")","v":""},{"$f":"IF('liste engagés'!$G40=4,'liste engagés'!E40,\"\")","v":""},{"$f":"IF('liste engagés'!$G40=4,'liste engagés'!K40,\"\")","v":""},{"$f":"IF('liste engagés'!$G40=4,'liste engagés'!L40,\"\")","v":""},0]
[46,{"$f":"IF('liste engagés'!$G41=4,'liste engagés'!A41,\"\")","v":""},{"$f":"IF('liste engagés'!$G41=4,'liste engagés'!B41,\"\")","v":""},{"$f":"IF('liste engagés'!$G41=4,'liste engagés'!C41,\"\")","v":""},{"$f":"IF('liste engagés'!$G41=4,'liste engagés'!D41,\"\")","v":""},{"$f":"IF('liste engagés'!$G41=4,'liste engagés'!E41,\"\")","v":""},{"$f":"IF('liste engagés'!$G41=4,'liste engagés'!K41,\"\")","v":""},{"$f":"IF('liste engagés'!$G41=4,'liste engagés'!L41,\"\")","v":""},0]
[47,{"$f":"IF('liste engagés'!$G42=4,'liste engagés'!A42,\"\")","v":""},{"$f":"IF('liste engagés'!$G42=4,'liste engagés'!B42,\"\")","v":""},{"$f":"IF('liste engagés'!$G42=4,'liste engagés'!C42,\"\")","v":""},{"$f":"IF('liste engagés'!$G42=4,'liste engagés'!D42,\"\")","v":""},{"$f":"IF('liste engagés'!$G42=4,'liste engagés'!E42,\"\")","v":""},{"$f":"IF('liste engagés'!$G42=4,'liste engagés'!K42,\"\")","v":""},{"$f":"IF('liste engagés'!$G42=4,'liste engagés'!L42,\"\")","v":""},0]
[48,{"$f":"IF('liste engagés'!$G43=4,'liste engagés'!A43,\"\")","v":""},{"$f":"IF('liste engagés'!$G43=4,'liste engagés'!B43,\"\")","v":""},{"$f":"IF('liste engagés'!$G43=4,'liste engagés'!C43,\"\")","v":""},{"$f":"IF('liste engagés'!$G43=4,'liste engagés'!D43,\"\")","v":""},{"$f":"IF('liste engagés'!$G43=4,'liste engagés'!E43,\"\")","v":""},{"$f":"IF('liste engagés'!$G43=4,'liste engagés'!K43,\"\")","v":""},{"$f":"IF('liste engagés'!$G43=4,'liste engagés'!L43,\"\")","v":""},0]
[49,{"$f":"IF('liste engagés'!$G44=4,'liste engagés'!A44,\"\")","v":""},{"$f":"IF('liste engagés'!$G44=4,'liste engagés'!B44,\"\")","v":""},{"$f":"IF('liste engagés'!$G44=4,'liste engagés'!C44,\"\")","v":""},{"$f":"IF('liste engagés'!$G44=4,'liste engagés'!D44,\"\")","v":""},{"$f":"IF('liste engagés'!$G44=4,'liste engagés'!E44,\"\")","v":""},{"$f":"IF('liste engagés'!$G44=4,'liste engagés'!K44,\"\")","v":""},{"$f":"IF('liste engagés'!$G44=4,'liste engagés'!L44,\"\")","v":""},0]
[50,{"$f":"IF('liste engagés'!$G45=4,'liste engagés'!A45,\"\")","v":""},{"$f":"IF('liste engagés'!$G45=4,'liste engagés'!B45,\"\")","v":""},{"$f":"IF('liste engagés'!$G45=4,'liste engagés'!C45,\"\")","v":""},{"$f":"IF('liste engagés'!$G45=4,'liste engagés'!D45,\"\")","v":""},{"$f":"IF('liste engagés'!$G45=4,'liste engagés'!E45,\"\")","v":""},{"$f":"IF('liste engagés'!$G45=4,'liste engagés'!K45,\"\")","v":""},{"$f":"IF('liste engagés'!$G45=4,'liste engagés'!L45,\"\")","v":""},0]
[51,{"$f":"IF('liste engagés'!$G46=4,'liste engagés'!A46,\"\")","v":""},{"$f":"IF('liste engagés'!$G46=4,'liste engagés'!B46,\"\")","v":""},{"$f":"IF('liste engagés'!$G46=4,'liste engagés'!C46,\"\")","v":""},{"$f":"IF('liste engagés'!$G46=4,'liste engagés'!D46,\"\")","v":""},{"$f":"IF('liste engagés'!$G46=4,'liste engagés'!E46,\"\")","v":""},{"$f":"IF('liste engagés'!$G46=4,'liste engagés'!K46,\"\")","v":""},{"$f":"IF('liste engagés'!$G46=4,'liste engagés'!L46,\"\")","v":""},0]
[52,{"$f":"IF('liste engagés'!$G47=4,'liste engagés'!A47,\"\")","v":""},{"$f":"IF('liste engagés'!$G47=4,'liste engagés'!B47,\"\")","v":""},{"$f":"IF('liste engagés'!$G47=4,'liste engagés'!C47,\"\")","v":""},{"$f":"IF('liste engagés'!$G47=4,'liste engagés'!D47,\"\")","v":""},{"$f":"IF('liste engagés'!$G47=4,'liste engagés'!E47,\"\")","v":""},{"$f":"IF('liste engagés'!$G47=4,'liste engagés'!K47,\"\")","v":""},{"$f":"IF('liste engagés'!$G47=4,'liste engagés'!L47,\"\")","v":""},0]
[53,{"$f":"IF('liste engagés'!$G48=4,'liste engagés'!A48,\"\")","v":""},{"$f":"IF('liste engagés'!$G48=4,'liste engagés'!B48,\"\")","v":""},{"$f":"IF('liste engagés'!$G48=4,'liste engagés'!C48,\"\")","v":""},{"$f":"IF('liste engagés'!$G48=4,'liste engagés'!D48,\"\")","v":""},{"$f":"IF('liste engagés'!$G48=4,'liste engagés'!E48,\"\")","v":""},{"$f":"IF('liste engagés'!$G48=4,'liste engagés'!K48,\"\")","v":""},{"$f":"IF('liste engagés'!$G48=4,'liste engagés'!L48,\"\")","v":""},0]
[54,{"$f":"IF('liste engagés'!$G49=4,'liste engagés'!A49,\"\")","v":""},{"$f":"IF('liste engagés'!$G49=4,'liste engagés'!B49,\"\")","v":""},{"$f":"IF('liste engagés'!$G49=4,'liste engagés'!C49,\"\")","v":""},{"$f":"IF('liste engagés'!$G49=4,'liste engagés'!D49,\"\")","v":""},{"$f":"IF('liste engagés'!$G49=4,'liste engagés'!E49,\"\")","v":""},{"$f":"IF('liste engagés'!$G49=4,'liste engagés'!K49,\"\")","v":""},{"$f":"IF('liste engagés'!$G49=4,'liste engagés'!L49,\"\")","v":""},0]
[55,{"$f":"IF('liste engagés'!$G50=4,'liste engagés'!A50,\"\")","v":""},{"$f":"IF('liste engagés'!$G50=4,'liste engagés'!B50,\"\")","v":""},{"$f":"IF('liste engagés'!$G50=4,'liste engagés'!C50,\"\")","v":""},{"$f":"IF('liste engagés'!$G50=4,'liste engagés'!D50,\"\")","v":""},{"$f":"IF('liste engagés'!$G50=4,'liste engagés'!E50,\"\")","v":""},{"$f":"IF('liste engagés'!$G50=4,'liste engagés'!K50,\"\")","v":""},{"$f":"IF('liste engagés'!$G50=4,'liste engagés'!L50,\"\")","v":""},0]
[56,{"$f":"IF('liste engagés'!$G51=4,'liste engagés'!A51,\"\")","v":""},{"$f":"IF('liste engagés'!$G51=4,'liste engagés'!B51,\"\")","v":""},{"$f":"IF('liste engagés'!$G51=4,'liste engagés'!C51,\"\")","v":""},{"$f":"IF('liste engagés'!$G51=4,'liste engagés'!D51,\"\")","v":""},{"$f":"IF('liste engagés'!$G51=4,'liste engagés'!E51,\"\")","v":""},{"$f":"IF('liste engagés'!$G51=4,'liste engagés'!K51,\"\")","v":""},{"$f":"IF('liste engagés'!$G51=4,'liste engagés'!L51,\"\")","v":""},0]
[57,{"$f":"IF('liste engagés'!$G52=4,'liste engagés'!A52,\"\")","v":""},{"$f":"IF('liste engagés'!$G52=4,'liste engagés'!B52,\"\")","v":""},{"$f":"IF('liste engagés'!$G52=4,'liste engagés'!C52,\"\")","v":""},{"$f":"IF('liste engagés'!$G52=4,'liste engagés'!D52,\"\")","v":""},{"$f":"IF('liste engagés'!$G52=4,'liste engagés'!E52,\"\")","v":""},{"$f":"IF('liste engagés'!$G52=4,'liste engagés'!K52,\"\")","v":""},{"$f":"IF('liste engagés'!$G52=4,'liste engagés'!L52,\"\")","v":""},0]
[58,{"$f":"IF('liste engagés'!$G53=4,'liste engagés'!A53,\"\")","v":""},{"$f":"IF('liste engagés'!$G53=4,'liste engagés'!B53,\"\")","v":""},{"$f":"IF('liste engagés'!$G53=4,'liste engagés'!C53,\"\")","v":""},{"$f":"IF('liste engagés'!$G53=4,'liste engagés'!D53,\"\")","v":""},{"$f":"IF('liste engagés'!$G53=4,'liste engagés'!E53,\"\")","v":""},{"$f":"IF('liste engagés'!$G53=4,'liste engagés'!K53,\"\")","v":""},{"$f":"IF('liste engagés'!$G53=4,'liste engagés'!L53,\"\")","v":""},0]
[59,{"$f":"IF('liste engagés'!$G54=4,'liste engagés'!A54,\"\")","v":""},{"$f":"IF('liste engagés'!$G54=4,'liste engagés'!B54,\"\")","v":""},{"$f":"IF('liste engagés'!$G54=4,'liste engagés'!C54,\"\")","v":""},{"$f":"IF('liste engagés'!$G54=4,'liste engagés'!D54,\"\")","v":""},{"$f":"IF('liste engagés'!$G54=4,'liste engagés'!E54,\"\")","v":""},{"$f":"IF('liste engagés'!$G54=4,'liste engagés'!K54,\"\")","v":""},{"$f":"IF('liste engagés'!$G54=4,'liste engagés'!L54,\"\")","v":""},0]
[60,{"$f":"IF('liste engagés'!$G55=4,'liste engagés'!A55,\"\")","v":""},{"$f":"IF('liste engagés'!$G55=4,'liste engagés'!B55,\"\")","v":""},{"$f":"IF('liste engagés'!$G55=4,'liste engagés'!C55,\"\")","v":""},{"$f":"IF('liste engagés'!$G55=4,'liste engagés'!D55,\"\")","v":""},{"$f":"IF('liste engagés'!$G55=4,'liste engagés'!E55,\"\")","v":""},{"$f":"IF('liste engagés'!$G55=4,'liste engagés'!K55,\"\")","v":""},{"$f":"IF('liste engagés'!$G55=4,'liste engagés'!L55,\"\")","v":""},0]
[61,{"$f":"IF('liste engagés'!$G58=4,'liste engagés'!A58,\"\")","v":""},{"$f":"IF('liste engagés'!$G58=4,'liste engagés'!B58,\"\")","v":""},{"$f":"IF('liste engagés'!$G58=4,'liste engagés'!C58,\"\")","v":""},{"$f":"IF('liste engagés'!$G58=4,'liste engagés'!D58,\"\")","v":""},{"$f":"IF('liste engagés'!$G58=4,'liste engagés'!E58,\"\")","v":""},{"$f":"IF('liste engagés'!$G58=4,'liste engagés'!K58,\"\")","v":""},{"$f":"IF('liste engagés'!$G58=4,'liste engagés'!L58,\"\")","v":""},0]
[62,{"$f":"IF('liste engagés'!$G60=4,'liste engagés'!A60,\"\")","v":""},{"$f":"IF('liste engagés'!$G60=4,'liste engagés'!B60,\"\")","v":""},{"$f":"IF('liste engagés'!$G60=4,'liste engagés'!C60,\"\")","v":""},{"$f":"IF('liste engagés'!$G60=4,'liste engagés'!D60,\"\")","v":""},{"$f":"IF('liste engagés'!$G60=4,'liste engagés'!E60,\"\")","v":""},{"$f":"IF('liste engagés'!$G60=4,'liste engagés'!K60,\"\")","v":""},{"$f":"IF('liste engagés'!$G60=4,'liste engagés'!L60,\"\")","v":""},0]
[63,{"$f":"IF('liste engagés'!$G61=4,'liste engagés'!A61,\"\")","v":""},{"$f":"IF('liste engagés'!$G61=4,'liste engagés'!B61,\"\")","v":""},{"$f":"IF('liste engagés'!$G61=4,'liste engagés'!C61,\"\")","v":""},{"$f":"IF('liste engagés'!$G61=4,'liste engagés'!D61,\"\")","v":""},{"$f":"IF('liste engagés'!$G61=4,'liste engagés'!E61,\"\")","v":""},{"$f":"IF('liste engagés'!$G61=4,'liste engagés'!K61,\"\")","v":""},{"$f":"IF('liste engagés'!$G61=4,'liste engagés'!L61,\"\")","v":""},0]
[64,{"$f":"IF('liste engagés'!$G62=4,'liste engagés'!A62,\"\")","v":""},{"$f":"IF('liste engagés'!$G62=4,'liste engagés'!B62,\"\")","v":""},{"$f":"IF('liste engagés'!$G62=4,'liste engagés'!C62,\"\")","v":""},{"$f":"IF('liste engagés'!$G62=4,'liste engagés'!D62,\"\")","v":""},{"$f":"IF('liste engagés'!$G62=4,'liste engagés'!E62,\"\")","v":""},{"$f":"IF('liste engagés'!$G62=4,'liste engagés'!K62,\"\")","v":""},{"$f":"IF('liste engagés'!$G62=4,'liste engagés'!L62,\"\")","v":""},0]
[65,{"$f":"IF('liste engagés'!$G63=4,'liste engagés'!A63,\"\")","v":""},{"$f":"IF('liste engagés'!$G63=4,'liste engagés'!B63,\"\")","v":""},{"$f":"IF('liste engagés'!$G63=4,'liste engagés'!C63,\"\")","v":""},{"$f":"IF('liste engagés'!$G63=4,'liste engagés'!D63,\"\")","v":""},{"$f":"IF('liste engagés'!$G63=4,'liste engagés'!E63,\"\")","v":""},{"$f":"IF('liste engagés'!$G63=4,'liste engagés'!K63,\"\")","v":""},{"$f":"IF('liste engagés'!$G63=4,'liste engagés'!L63,\"\")","v":""},{"$f":"+IF(C71=\"\",0,1)","v":0}]
[{"$f":"+A71+1","v":66},{"$f":"IF('liste engagés'!$G64=4,'liste engagés'!A64,\"\")","v":""},{"$f":"IF('liste engagés'!$G64=4,'liste engagés'!B64,\"\")","v":""},{"$f":"IF('liste engagés'!$G64=4,'liste engagés'!C64,\"\")","v":""},{"$f":"IF('liste engagés'!$G64=4,'liste engagés'!D64,\"\")","v":""},{"$f":"IF('liste engagés'!$G64=4,'liste engagés'!E64,\"\")","v":""},{"$f":"IF('liste engagés'!$G64=4,'liste engagés'!K64,\"\")","v":""},{"$f":"IF('liste engagés'!$G64=4,'liste engagés'!L64,\"\")","v":""},0]
[67,{"$f":"IF('liste engagés'!$G65=4,'liste engagés'!A65,\"\")","v":""},{"$f":"IF('liste engagés'!$G65=4,'liste engagés'!B65,\"\")","v":""},{"$f":"IF('liste engagés'!$G65=4,'liste engagés'!C65,\"\")","v":""},{"$f":"IF('liste engagés'!$G65=4,'liste engagés'!D65,\"\")","v":""},{"$f":"IF('liste engagés'!$G65=4,'liste engagés'!E65,\"\")","v":""},{"$f":"IF('liste engagés'!$G65=4,'liste engagés'!K65,\"\")","v":""},{"$f":"IF('liste engagés'!$G65=4,'liste engagés'!L65,\"\")","v":""},0]
[68,{"$f":"IF('liste engagés'!$G66=4,'liste engagés'!A66,\"\")","v":""},{"$f":"IF('liste engagés'!$G66=4,'liste engagés'!B66,\"\")","v":""},{"$f":"IF('liste engagés'!$G66=4,'liste engagés'!C66,\"\")","v":""},{"$f":"IF('liste engagés'!$G66=4,'liste engagés'!D66,\"\")","v":""},{"$f":"IF('liste engagés'!$G66=4,'liste engagés'!E66,\"\")","v":""},{"$f":"IF('liste engagés'!$G66=4,'liste engagés'!K66,\"\")","v":""},{"$f":"IF('liste engagés'!$G66=4,'liste engagés'!L66,\"\")","v":""},0]
[69,{"$f":"IF('liste engagés'!$G67=4,'liste engagés'!A67,\"\")","v":""},{"$f":"IF('liste engagés'!$G67=4,'liste engagés'!B67,\"\")","v":""},{"$f":"IF('liste engagés'!$G67=4,'liste engagés'!C67,\"\")","v":""},{"$f":"IF('liste engagés'!$G67=4,'liste engagés'!D67,\"\")","v":""},{"$f":"IF('liste engagés'!$G67=4,'liste engagés'!E67,\"\")","v":""},{"$f":"IF('liste engagés'!$G67=4,'liste engagés'!K67,\"\")","v":""},{"$f":"IF('liste engagés'!$G67=4,'liste engagés'!L67,\"\")","v":""},0]
[70,{"$f":"IF('liste engagés'!$G68=4,'liste engagés'!A68,\"\")","v":""},{"$f":"IF('liste engagés'!$G68=4,'liste engagés'!B68,\"\")","v":""},{"$f":"IF('liste engagés'!$G68=4,'liste engagés'!C68,\"\")","v":""},{"$f":"IF('liste engagés'!$G68=4,'liste engagés'!D68,\"\")","v":""},{"$f":"IF('liste engagés'!$G68=4,'liste engagés'!E68,\"\")","v":""},{"$f":"IF('liste engagés'!$G68=4,'liste engagés'!K68,\"\")","v":""},{"$f":"IF('liste engagés'!$G68=4,'liste engagés'!L68,\"\")","v":""},0]
[71,{"$f":"IF('liste engagés'!$G69=4,'liste engagés'!A69,\"\")","v":""},{"$f":"IF('liste engagés'!$G69=4,'liste engagés'!B69,\"\")","v":""},{"$f":"IF('liste engagés'!$G69=4,'liste engagés'!C69,\"\")","v":""},{"$f":"IF('liste engagés'!$G69=4,'liste engagés'!D69,\"\")","v":""},{"$f":"IF('liste engagés'!$G69=4,'liste engagés'!E69,\"\")","v":""},{"$f":"IF('liste engagés'!$G69=4,'liste engagés'!K69,\"\")","v":""},{"$f":"IF('liste engagés'!$G69=4,'liste engagés'!L69,\"\")","v":""},0]
[72,{"$f":"IF('liste engagés'!$G70=4,'liste engagés'!A70,\"\")","v":""},{"$f":"IF('liste engagés'!$G70=4,'liste engagés'!B70,\"\")","v":""},{"$f":"IF('liste engagés'!$G70=4,'liste engagés'!C70,\"\")","v":""},{"$f":"IF('liste engagés'!$G70=4,'liste engagés'!D70,\"\")","v":""},{"$f":"IF('liste engagés'!$G70=4,'liste engagés'!E70,\"\")","v":""},{"$f":"IF('liste engagés'!$G70=4,'liste engagés'!K70,\"\")","v":""},{"$f":"IF('liste engagés'!$G70=4,'liste engagés'!L70,\"\")","v":""},0]
[73,{"$f":"IF('liste engagés'!$G71=4,'liste engagés'!A71,\"\")","v":""},{"$f":"IF('liste engagés'!$G71=4,'liste engagés'!B71,\"\")","v":""},{"$f":"IF('liste engagés'!$G71=4,'liste engagés'!C71,\"\")","v":""},{"$f":"IF('liste engagés'!$G71=4,'liste engagés'!D71,\"\")","v":""},{"$f":"IF('liste engagés'!$G71=4,'liste engagés'!E71,\"\")","v":""},{"$f":"IF('liste engagés'!$G71=4,'liste engagés'!K71,\"\")","v":""},{"$f":"IF('liste engagés'!$G71=4,'liste engagés'!L71,\"\")","v":""},0]
[74,{"$f":"IF('liste engagés'!$G72=4,'liste engagés'!A72,\"\")","v":""},{"$f":"IF('liste engagés'!$G72=4,'liste engagés'!B72,\"\")","v":""},{"$f":"IF('liste engagés'!$G72=4,'liste engagés'!C72,\"\")","v":""},{"$f":"IF('liste engagés'!$G72=4,'liste engagés'!D72,\"\")","v":""},{"$f":"IF('liste engagés'!$G72=4,'liste engagés'!E72,\"\")","v":""},{"$f":"IF('liste engagés'!$G72=4,'liste engagés'!K72,\"\")","v":""},{"$f":"IF('liste engagés'!$G72=4,'liste engagés'!L72,\"\")","v":""},0]
[75,{"$f":"IF('liste engagés'!$G73=4,'liste engagés'!A73,\"\")","v":""},{"$f":"IF('liste engagés'!$G73=4,'liste engagés'!B73,\"\")","v":""},{"$f":"IF('liste engagés'!$G73=4,'liste engagés'!C73,\"\")","v":""},{"$f":"IF('liste engagés'!$G73=4,'liste engagés'!D73,\"\")","v":""},{"$f":"IF('liste engagés'!$G73=4,'liste engagés'!E73,\"\")","v":""},{"$f":"IF('liste engagés'!$G73=4,'liste engagés'!K73,\"\")","v":""},{"$f":"IF('liste engagés'!$G73=4,'liste engagés'!L73,\"\")","v":""},0]
[76,{"$f":"IF('liste engagés'!$G74=4,'liste engagés'!A74,\"\")","v":""},{"$f":"IF('liste engagés'!$G74=4,'liste engagés'!B74,\"\")","v":""},{"$f":"IF('liste engagés'!$G74=4,'liste engagés'!C74,\"\")","v":""},{"$f":"IF('liste engagés'!$G74=4,'liste engagés'!D74,\"\")","v":""},{"$f":"IF('liste engagés'!$G74=4,'liste engagés'!E74,\"\")","v":""},{"$f":"IF('liste engagés'!$G74=4,'liste engagés'!K74,\"\")","v":""},{"$f":"IF('liste engagés'!$G74=4,'liste engagés'!L74,\"\")","v":""},0]
[77,{"$f":"IF('liste engagés'!$G75=4,'liste engagés'!A75,\"\")","v":""},{"$f":"IF('liste engagés'!$G75=4,'liste engagés'!B75,\"\")","v":""},{"$f":"IF('liste engagés'!$G75=4,'liste engagés'!C75,\"\")","v":""},{"$f":"IF('liste engagés'!$G75=4,'liste engagés'!D75,\"\")","v":""},{"$f":"IF('liste engagés'!$G75=4,'liste engagés'!E75,\"\")","v":""},{"$f":"IF('liste engagés'!$G75=4,'liste engagés'!K75,\"\")","v":""},{"$f":"IF('liste engagés'!$G75=4,'liste engagés'!L75,\"\")","v":""},0]
[78,{"$f":"IF('liste engagés'!$G76=4,'liste engagés'!A76,\"\")","v":""},{"$f":"IF('liste engagés'!$G76=4,'liste engagés'!B76,\"\")","v":""},{"$f":"IF('liste engagés'!$G76=4,'liste engagés'!C76,\"\")","v":""},{"$f":"IF('liste engagés'!$G76=4,'liste engagés'!D76,\"\")","v":""},{"$f":"IF('liste engagés'!$G76=4,'liste engagés'!E76,\"\")","v":""},{"$f":"IF('liste engagés'!$G76=4,'liste engagés'!K76,\"\")","v":""},{"$f":"IF('liste engagés'!$G76=4,'liste engagés'!L76,\"\")","v":""},0]
[79,{"$f":"IF('liste engagés'!$G77=4,'liste engagés'!A77,\"\")","v":""},{"$f":"IF('liste engagés'!$G77=4,'liste engagés'!B77,\"\")","v":""},{"$f":"IF('liste engagés'!$G77=4,'liste engagés'!C77,\"\")","v":""},{"$f":"IF('liste engagés'!$G77=4,'liste engagés'!D77,\"\")","v":""},{"$f":"IF('liste engagés'!$G77=4,'liste engagés'!E77,\"\")","v":""},{"$f":"IF('liste engagés'!$G77=4,'liste engagés'!K77,\"\")","v":""},{"$f":"IF('liste engagés'!$G77=4,'liste engagés'!L77,\"\")","v":""},0]
[80,{"$f":"IF('liste engagés'!$G78=4,'liste engagés'!A78,\"\")","v":""},{"$f":"IF('liste engagés'!$G78=4,'liste engagés'!B78,\"\")","v":""},{"$f":"IF('liste engagés'!$G78=4,'liste engagés'!C78,\"\")","v":""},{"$f":"IF('liste engagés'!$G78=4,'liste engagés'!D78,\"\")","v":""},{"$f":"IF('liste engagés'!$G78=4,'liste engagés'!E78,\"\")","v":""},{"$f":"IF('liste engagés'!$G78=4,'liste engagés'!K78,\"\")","v":""},{"$f":"IF('liste engagés'!$G78=4,'liste engagés'!L78,\"\")","v":""},0]
[81,{"$f":"IF('liste engagés'!$G79=4,'liste engagés'!A79,\"\")","v":""},{"$f":"IF('liste engagés'!$G79=4,'liste engagés'!B79,\"\")","v":""},{"$f":"IF('liste engagés'!$G79=4,'liste engagés'!C79,\"\")","v":""},{"$f":"IF('liste engagés'!$G79=4,'liste engagés'!D79,\"\")","v":""},{"$f":"IF('liste engagés'!$G79=4,'liste engagés'!E79,\"\")","v":""},{"$f":"IF('liste engagés'!$G79=4,'liste engagés'!K79,\"\")","v":""},{"$f":"IF('liste engagés'!$G79=4,'liste engagés'!L79,\"\")","v":""},0]
[82,{"$f":"IF('liste engagés'!$G80=4,'liste engagés'!A80,\"\")","v":""},{"$f":"IF('liste engagés'!$G80=4,'liste engagés'!B80,\"\")","v":""},{"$f":"IF('liste engagés'!$G80=4,'liste engagés'!C80,\"\")","v":""},{"$f":"IF('liste engagés'!$G80=4,'liste engagés'!D80,\"\")","v":""},{"$f":"IF('liste engagés'!$G80=4,'liste engagés'!E80,\"\")","v":""},{"$f":"IF('liste engagés'!$G80=4,'liste engagés'!K80,\"\")","v":""},{"$f":"IF('liste engagés'!$G80=4,'liste engagés'!L80,\"\")","v":""},0]
[83,{"$f":"IF('liste engagés'!$G82=4,'liste engagés'!A82,\"\")","v":""},{"$f":"IF('liste engagés'!$G82=4,'liste engagés'!B82,\"\")","v":""},{"$f":"IF('liste engagés'!$G82=4,'liste engagés'!C82,\"\")","v":""},{"$f":"IF('liste engagés'!$G82=4,'liste engagés'!D82,\"\")","v":""},{"$f":"IF('liste engagés'!$G82=4,'liste engagés'!E82,\"\")","v":""},{"$f":"IF('liste engagés'!$G82=4,'liste engagés'!K82,\"\")","v":""},{"$f":"IF('liste engagés'!$G82=4,'liste engagés'!L82,\"\")","v":""},0]
[84,{"$f":"IF('liste engagés'!$G83=4,'liste engagés'!A83,\"\")","v":""},{"$f":"IF('liste engagés'!$G83=4,'liste engagés'!B83,\"\")","v":""},{"$f":"IF('liste engagés'!$G83=4,'liste engagés'!C83,\"\")","v":""},{"$f":"IF('liste engagés'!$G83=4,'liste engagés'!D83,\"\")","v":""},{"$f":"IF('liste engagés'!$G83=4,'liste engagés'!E83,\"\")","v":""},{"$f":"IF('liste engagés'!$G83=4,'liste engagés'!K83,\"\")","v":""},{"$f":"IF('liste engagés'!$G83=4,'liste engagés'!L83,\"\")","v":""},0]
[85,{"$f":"IF('liste engagés'!$G84=4,'liste engagés'!A84,\"\")","v":""},{"$f":"IF('liste engagés'!$G84=4,'liste engagés'!B84,\"\")","v":""},{"$f":"IF('liste engagés'!$G84=4,'liste engagés'!C84,\"\")","v":""},{"$f":"IF('liste engagés'!$G84=4,'liste engagés'!D84,\"\")","v":""},{"$f":"IF('liste engagés'!$G84=4,'liste engagés'!E84,\"\")","v":""},{"$f":"IF('liste engagés'!$G84=4,'liste engagés'!K84,\"\")","v":""},{"$f":"IF('liste engagés'!$G84=4,'liste engagés'!L84,\"\")","v":""},0]
[86,{"$f":"IF('liste engagés'!$G85=4,'liste engagés'!A85,\"\")","v":""},{"$f":"IF('liste engagés'!$G85=4,'liste engagés'!B85,\"\")","v":""},{"$f":"IF('liste engagés'!$G85=4,'liste engagés'!C85,\"\")","v":""},{"$f":"IF('liste engagés'!$G85=4,'liste engagés'!D85,\"\")","v":""},{"$f":"IF('liste engagés'!$G85=4,'liste engagés'!E85,\"\")","v":""},{"$f":"IF('liste engagés'!$G85=4,'liste engagés'!K85,\"\")","v":""},{"$f":"IF('liste engagés'!$G85=4,'liste engagés'!L85,\"\")","v":""},0]
[87,{"$f":"IF('liste engagés'!$G86=4,'liste engagés'!A86,\"\")","v":""},{"$f":"IF('liste engagés'!$G86=4,'liste engagés'!B86,\"\")","v":""},{"$f":"IF('liste engagés'!$G86=4,'liste engagés'!C86,\"\")","v":""},{"$f":"IF('liste engagés'!$G86=4,'liste engagés'!D86,\"\")","v":""},{"$f":"IF('liste engagés'!$G86=4,'liste engagés'!E86,\"\")","v":""},{"$f":"IF('liste engagés'!$G86=4,'liste engagés'!K86,\"\")","v":""},{"$f":"IF('liste engagés'!$G86=4,'liste engagés'!L86,\"\")","v":""},0]
[88,{"$f":"IF('liste engagés'!$G87=4,'liste engagés'!A87,\"\")","v":""},{"$f":"IF('liste engagés'!$G87=4,'liste engagés'!B87,\"\")","v":""},{"$f":"IF('liste engagés'!$G87=4,'liste engagés'!C87,\"\")","v":""},{"$f":"IF('liste engagés'!$G87=4,'liste engagés'!D87,\"\")","v":""},{"$f":"IF('liste engagés'!$G87=4,'liste engagés'!E87,\"\")","v":""},{"$f":"IF('liste engagés'!$G87=4,'liste engagés'!K87,\"\")","v":""},{"$f":"IF('liste engagés'!$G87=4,'liste engagés'!L87,\"\")","v":""},0]
[89,{"$f":"IF('liste engagés'!$G89=4,'liste engagés'!A89,\"\")","v":""},{"$f":"IF('liste engagés'!$G89=4,'liste engagés'!B89,\"\")","v":""},{"$f":"IF('liste engagés'!$G89=4,'liste engagés'!C89,\"\")","v":""},{"$f":"IF('liste engagés'!$G89=4,'liste engagés'!D89,\"\")","v":""},{"$f":"IF('liste engagés'!$G89=4,'liste engagés'!E89,\"\")","v":""},{"$f":"IF('liste engagés'!$G89=4,'liste engagés'!K89,\"\")","v":""},{"$f":"IF('liste engagés'!$G89=4,'liste engagés'!L89,\"\")","v":""},0]
[90,{"$f":"IF('liste engagés'!$G90=4,'liste engagés'!A90,\"\")","v":""},{"$f":"IF('liste engagés'!$G90=4,'liste engagés'!B90,\"\")","v":""},{"$f":"IF('liste engagés'!$G90=4,'liste engagés'!C90,\"\")","v":""},{"$f":"IF('liste engagés'!$G90=4,'liste engagés'!D90,\"\")","v":""},{"$f":"IF('liste engagés'!$G90=4,'liste engagés'!E90,\"\")","v":""},{"$f":"IF('liste engagés'!$G90=4,'liste engagés'!K90,\"\")","v":""},{"$f":"IF('liste engagés'!$G90=4,'liste engagés'!L90,\"\")","v":""},0]
[91,{"$f":"IF('liste engagés'!$G91=4,'liste engagés'!A91,\"\")","v":""},{"$f":"IF('liste engagés'!$G91=4,'liste engagés'!B91,\"\")","v":""},{"$f":"IF('liste engagés'!$G91=4,'liste engagés'!C91,\"\")","v":""},{"$f":"IF('liste engagés'!$G91=4,'liste engagés'!D91,\"\")","v":""},{"$f":"IF('liste engagés'!$G91=4,'liste engagés'!E91,\"\")","v":""},{"$f":"IF('liste engagés'!$G91=4,'liste engagés'!K91,\"\")","v":""},{"$f":"IF('liste engagés'!$G91=4,'liste engagés'!L91,\"\")","v":""},0]
[92,{"$f":"IF('liste engagés'!$G92=4,'liste engagés'!A92,\"\")","v":""},{"$f":"IF('liste engagés'!$G92=4,'liste engagés'!B92,\"\")","v":""},{"$f":"IF('liste engagés'!$G92=4,'liste engagés'!C92,\"\")","v":""},{"$f":"IF('liste engagés'!$G92=4,'liste engagés'!D92,\"\")","v":""},{"$f":"IF('liste engagés'!$G92=4,'liste engagés'!E92,\"\")","v":""},{"$f":"IF('liste engagés'!$G92=4,'liste engagés'!K92,\"\")","v":""},{"$f":"IF('liste engagés'!$G92=4,'liste engagés'!L92,\"\")","v":""},0]
[93,{"$f":"IF('liste engagés'!$G93=4,'liste engagés'!A93,\"\")","v":""},{"$f":"IF('liste engagés'!$G93=4,'liste engagés'!B93,\"\")","v":""},{"$f":"IF('liste engagés'!$G93=4,'liste engagés'!C93,\"\")","v":""},{"$f":"IF('liste engagés'!$G93=4,'liste engagés'!D93,\"\")","v":""},{"$f":"IF('liste engagés'!$G93=4,'liste engagés'!E93,\"\")","v":""},{"$f":"IF('liste engagés'!$G93=4,'liste engagés'!K93,\"\")","v":""},{"$f":"IF('liste engagés'!$G93=4,'liste engagés'!L93,\"\")","v":""},0]
[94,{"$f":"IF('liste engagés'!$G95=4,'liste engagés'!A95,\"\")","v":""},{"$f":"IF('liste engagés'!$G95=4,'liste engagés'!B95,\"\")","v":""},{"$f":"IF('liste engagés'!$G95=4,'liste engagés'!C95,\"\")","v":""},{"$f":"IF('liste engagés'!$G95=4,'liste engagés'!D95,\"\")","v":""},{"$f":"IF('liste engagés'!$G95=4,'liste engagés'!E95,\"\")","v":""},{"$f":"IF('liste engagés'!$G95=4,'liste engagés'!K95,\"\")","v":""},{"$f":"IF('liste engagés'!$G95=4,'liste engagés'!L95,\"\")","v":""},0]
[95,{"$f":"IF('liste engagés'!$G96=4,'liste engagés'!A96,\"\")","v":""},{"$f":"IF('liste engagés'!$G96=4,'liste engagés'!B96,\"\")","v":""},{"$f":"IF('liste engagés'!$G96=4,'liste engagés'!C96,\"\")","v":""},{"$f":"IF('liste engagés'!$G96=4,'liste engagés'!D96,\"\")","v":""},{"$f":"IF('liste engagés'!$G96=4,'liste engagés'!E96,\"\")","v":""},{"$f":"IF('liste engagés'!$G96=4,'liste engagés'!K96,\"\")","v":""},{"$f":"IF('liste engagés'!$G96=4,'liste engagés'!L96,\"\")","v":""},0]
[96,{"$f":"IF('liste engagés'!$G97=4,'liste engagés'!A97,\"\")","v":""},{"$f":"IF('liste engagés'!$G97=4,'liste engagés'!B97,\"\")","v":""},{"$f":"IF('liste engagés'!$G97=4,'liste engagés'!C97,\"\")","v":""},{"$f":"IF('liste engagés'!$G97=4,'liste engagés'!D97,\"\")","v":""},{"$f":"IF('liste engagés'!$G97=4,'liste engagés'!E97,\"\")","v":""},{"$f":"IF('liste engagés'!$G97=4,'liste engagés'!K97,\"\")","v":""},{"$f":"IF('liste engagés'!$G97=4,'liste engagés'!L97,\"\")","v":""},0]
[97,{"$f":"IF('liste engagés'!$G98=4,'liste engagés'!A98,\"\")","v":""},{"$f":"IF('liste engagés'!$G98=4,'liste engagés'!B98,\"\")","v":""},{"$f":"IF('liste engagés'!$G98=4,'liste engagés'!C98,\"\")","v":""},{"$f":"IF('liste engagés'!$G98=4,'liste engagés'!D98,\"\")","v":""},{"$f":"IF('liste engagés'!$G98=4,'liste engagés'!E98,\"\")","v":""},{"$f":"IF('liste engagés'!$G98=4,'liste engagés'!K98,\"\")","v":""},{"$f":"IF('liste engagés'!$G98=4,'liste engagés'!L98,\"\")","v":""},0]
[98,{"$f":"IF('liste engagés'!$G99=4,'liste engagés'!A99,\"\")","v":""},{"$f":"IF('liste engagés'!$G99=4,'liste engagés'!B99,\"\")","v":""},{"$f":"IF('liste engagés'!$G99=4,'liste engagés'!C99,\"\")","v":""},{"$f":"IF('liste engagés'!$G99=4,'liste engagés'!D99,\"\")","v":""},{"$f":"IF('liste engagés'!$G99=4,'liste engagés'!E99,\"\")","v":""},{"$f":"IF('liste engagés'!$G99=4,'liste engagés'!K99,\"\")","v":""},{"$f":"IF('liste engagés'!$G99=4,'liste engagés'!L99,\"\")","v":""},0]
[99,{"$f":"IF('liste engagés'!$G100=4,'liste engagés'!A100,\"\")","v":""},{"$f":"IF('liste engagés'!$G100=4,'liste engagés'!B100,\"\")","v":""},{"$f":"IF('liste engagés'!$G100=4,'liste engagés'!C100,\"\")","v":""},{"$f":"IF('liste engagés'!$G100=4,'liste engagés'!D100,\"\")","v":""},{"$f":"IF('liste engagés'!$G100=4,'liste engagés'!E100,\"\")","v":""},{"$f":"IF('liste engagés'!$G100=4,'liste engagés'!K100,\"\")","v":""},{"$f":"IF('liste engagés'!$G100=4,'liste engagés'!L100,\"\")","v":""},0]
[100,{"$f":"IF('liste engagés'!$G101=4,'liste engagés'!A101,\"\")","v":""},{"$f":"IF('liste engagés'!$G101=4,'liste engagés'!B101,\"\")","v":""},{"$f":"IF('liste engagés'!$G101=4,'liste engagés'!C101,\"\")","v":""},{"$f":"IF('liste engagés'!$G101=4,'liste engagés'!D101,\"\")","v":""},{"$f":"IF('liste engagés'!$G101=4,'liste engagés'!E101,\"\")","v":""},{"$f":"IF('liste engagés'!$G101=4,'liste engagés'!K101,\"\")","v":""},{"$f":"IF('liste engagés'!$G101=4,'liste engagés'!L101,\"\")","v":""},0]
[101,{"$f":"IF('liste engagés'!$G102=4,'liste engagés'!A102,\"\")","v":""},{"$f":"IF('liste engagés'!$G102=4,'liste engagés'!B102,\"\")","v":""},{"$f":"IF('liste engagés'!$G102=4,'liste engagés'!C102,\"\")","v":""},{"$f":"IF('liste engagés'!$G102=4,'liste engagés'!D102,\"\")","v":""},{"$f":"IF('liste engagés'!$G102=4,'liste engagés'!E102,\"\")","v":""},{"$f":"IF('liste engagés'!$G102=4,'liste engagés'!K102,\"\")","v":""},{"$f":"IF('liste engagés'!$G102=4,'liste engagés'!L102,\"\")","v":""},0]
[102,{"$f":"IF('liste engagés'!$G103=4,'liste engagés'!A103,\"\")","v":""},{"$f":"IF('liste engagés'!$G103=4,'liste engagés'!B103,\"\")","v":""},{"$f":"IF('liste engagés'!$G103=4,'liste engagés'!C103,\"\")","v":""},{"$f":"IF('liste engagés'!$G103=4,'liste engagés'!D103,\"\")","v":""},{"$f":"IF('liste engagés'!$G103=4,'liste engagés'!E103,\"\")","v":""},{"$f":"IF('liste engagés'!$G103=4,'liste engagés'!K103,\"\")","v":""},{"$f":"IF('liste engagés'!$G103=4,'liste engagés'!L103,\"\")","v":""},0]
[103,{"$f":"IF('liste engagés'!$G104=4,'liste engagés'!A104,\"\")","v":""},{"$f":"IF('liste engagés'!$G104=4,'liste engagés'!B104,\"\")","v":""},{"$f":"IF('liste engagés'!$G104=4,'liste engagés'!C104,\"\")","v":""},{"$f":"IF('liste engagés'!$G104=4,'liste engagés'!D104,\"\")","v":""},{"$f":"IF('liste engagés'!$G104=4,'liste engagés'!E104,\"\")","v":""},{"$f":"IF('liste engagés'!$G104=4,'liste engagés'!K104,\"\")","v":""},{"$f":"IF('liste engagés'!$G104=4,'liste engagés'!L104,\"\")","v":""},0]
[104,{"$f":"IF('liste engagés'!$G105=4,'liste engagés'!A105,\"\")","v":""},{"$f":"IF('liste engagés'!$G105=4,'liste engagés'!B105,\"\")","v":""},{"$f":"IF('liste engagés'!$G105=4,'liste engagés'!C105,\"\")","v":""},{"$f":"IF('liste engagés'!$G105=4,'liste engagés'!D105,\"\")","v":""},{"$f":"IF('liste engagés'!$G105=4,'liste engagés'!E105,\"\")","v":""},{"$f":"IF('liste engagés'!$G105=4,'liste engagés'!K105,\"\")","v":""},{"$f":"IF('liste engagés'!$G105=4,'liste engagés'!L105,\"\")","v":""},0]
[105,{"$f":"IF('liste engagés'!$G106=4,'liste engagés'!A106,\"\")","v":""},{"$f":"IF('liste engagés'!$G106=4,'liste engagés'!B106,\"\")","v":""},{"$f":"IF('liste engagés'!$G106=4,'liste engagés'!C106,\"\")","v":""},{"$f":"IF('liste engagés'!$G106=4,'liste engagés'!D106,\"\")","v":""},{"$f":"IF('liste engagés'!$G106=4,'liste engagés'!E106,\"\")","v":""},{"$f":"IF('liste engagés'!$G106=4,'liste engagés'!K106,\"\")","v":""},{"$f":"IF('liste engagés'!$G106=4,'liste engagés'!L106,\"\")","v":""},0]
[106,{"$f":"IF('liste engagés'!$G107=4,'liste engagés'!A107,\"\")","v":""},{"$f":"IF('liste engagés'!$G107=4,'liste engagés'!B107,\"\")","v":""},{"$f":"IF('liste engagés'!$G107=4,'liste engagés'!C107,\"\")","v":""},{"$f":"IF('liste engagés'!$G107=4,'liste engagés'!D107,\"\")","v":""},{"$f":"IF('liste engagés'!$G107=4,'liste engagés'!E107,\"\")","v":""},{"$f":"IF('liste engagés'!$G107=4,'liste engagés'!K107,\"\")","v":""},{"$f":"IF('liste engagés'!$G107=4,'liste engagés'!L107,\"\")","v":""},0]
[107,{"$f":"IF('liste engagés'!$G108=4,'liste engagés'!A108,\"\")","v":""},{"$f":"IF('liste engagés'!$G108=4,'liste engagés'!B108,\"\")","v":""},{"$f":"IF('liste engagés'!$G108=4,'liste engagés'!C108,\"\")","v":""},{"$f":"IF('liste engagés'!$G108=4,'liste engagés'!D108,\"\")","v":""},{"$f":"IF('liste engagés'!$G108=4,'liste engagés'!E108,\"\")","v":""},{"$f":"IF('liste engagés'!$G108=4,'liste engagés'!K108,\"\")","v":""},{"$f":"IF('liste engagés'!$G108=4,'liste engagés'!L108,\"\")","v":""},0]
[108,{"$f":"IF('liste engagés'!$G109=4,'liste engagés'!A109,\"\")","v":""},{"$f":"IF('liste engagés'!$G109=4,'liste engagés'!B109,\"\")","v":""},{"$f":"IF('liste engagés'!$G109=4,'liste engagés'!C109,\"\")","v":""},{"$f":"IF('liste engagés'!$G109=4,'liste engagés'!D109,\"\")","v":""},{"$f":"IF('liste engagés'!$G109=4,'liste engagés'!E109,\"\")","v":""},{"$f":"IF('liste engagés'!$G109=4,'liste engagés'!K109,\"\")","v":""},{"$f":"IF('liste engagés'!$G109=4,'liste engagés'!L109,\"\")","v":""},0]
[109,{"$f":"IF('liste engagés'!$G110=4,'liste engagés'!A110,\"\")","v":""},{"$f":"IF('liste engagés'!$G110=4,'liste engagés'!B110,\"\")","v":""},{"$f":"IF('liste engagés'!$G110=4,'liste engagés'!C110,\"\")","v":""},{"$f":"IF('liste engagés'!$G110=4,'liste engagés'!D110,\"\")","v":""},{"$f":"IF('liste engagés'!$G110=4,'liste engagés'!E110,\"\")","v":""},{"$f":"IF('liste engagés'!$G110=4,'liste engagés'!K110,\"\")","v":""},{"$f":"IF('liste engagés'!$G110=4,'liste engagés'!L110,\"\")","v":""},0]
[110,{"$f":"IF('liste engagés'!$G111=4,'liste engagés'!A111,\"\")","v":""},{"$f":"IF('liste engagés'!$G111=4,'liste engagés'!B111,\"\")","v":""},{"$f":"IF('liste engagés'!$G111=4,'liste engagés'!C111,\"\")","v":""},{"$f":"IF('liste engagés'!$G111=4,'liste engagés'!D111,\"\")","v":""},{"$f":"IF('liste engagés'!$G111=4,'liste engagés'!E111,\"\")","v":""},{"$f":"IF('liste engagés'!$G111=4,'liste engagés'!K111,\"\")","v":""},{"$f":"IF('liste engagés'!$G111=4,'liste engagés'!L111,\"\")","v":""},0]
[111,{"$f":"IF('liste engagés'!$G112=4,'liste engagés'!A112,\"\")","v":""},{"$f":"IF('liste engagés'!$G112=4,'liste engagés'!B112,\"\")","v":""},{"$f":"IF('liste engagés'!$G112=4,'liste engagés'!C112,\"\")","v":""},{"$f":"IF('liste engagés'!$G112=4,'liste engagés'!D112,\"\")","v":""},{"$f":"IF('liste engagés'!$G112=4,'liste engagés'!E112,\"\")","v":""},{"$f":"IF('liste engagés'!$G112=4,'liste engagés'!K112,\"\")","v":""},{"$f":"IF('liste engagés'!$G112=4,'liste engagés'!L112,\"\")","v":""},0]
[112,{"$f":"IF('liste engagés'!$G113=4,'liste engagés'!A113,\"\")","v":""},{"$f":"IF('liste engagés'!$G113=4,'liste engagés'!B113,\"\")","v":""},{"$f":"IF('liste engagés'!$G113=4,'liste engagés'!C113,\"\")","v":""},{"$f":"IF('liste engagés'!$G113=4,'liste engagés'!D113,\"\")","v":""},{"$f":"IF('liste engagés'!$G113=4,'liste engagés'!E113,\"\")","v":""},{"$f":"IF('liste engagés'!$G113=4,'liste engagés'!K113,\"\")","v":""},{"$f":"IF('liste engagés'!$G113=4,'liste engagés'!L113,\"\")","v":""},0]
[113,{"$f":"IF('liste engagés'!$G114=4,'liste engagés'!A114,\"\")","v":""},{"$f":"IF('liste engagés'!$G114=4,'liste engagés'!B114,\"\")","v":""},{"$f":"IF('liste engagés'!$G114=4,'liste engagés'!C114,\"\")","v":""},{"$f":"IF('liste engagés'!$G114=4,'liste engagés'!D114,\"\")","v":""},{"$f":"IF('liste engagés'!$G114=4,'liste engagés'!E114,\"\")","v":""},{"$f":"IF('liste engagés'!$G114=4,'liste engagés'!K114,\"\")","v":""},{"$f":"IF('liste engagés'!$G114=4,'liste engagés'!L114,\"\")","v":""},0]
[114,{"$f":"IF('liste engagés'!$G115=4,'liste engagés'!A115,\"\")","v":""},{"$f":"IF('liste engagés'!$G115=4,'liste engagés'!B115,\"\")","v":""},{"$f":"IF('liste engagés'!$G115=4,'liste engagés'!C115,\"\")","v":""},{"$f":"IF('liste engagés'!$G115=4,'liste engagés'!D115,\"\")","v":""},{"$f":"IF('liste engagés'!$G115=4,'liste engagés'!E115,\"\")","v":""},{"$f":"IF('liste engagés'!$G115=4,'liste engagés'!K115,\"\")","v":""},{"$f":"IF('liste engagés'!$G115=4,'liste engagés'!L115,\"\")","v":""},0]
[115,{"$f":"IF('liste engagés'!$G116=4,'liste engagés'!A116,\"\")","v":""},{"$f":"IF('liste engagés'!$G116=4,'liste engagés'!B116,\"\")","v":""},{"$f":"IF('liste engagés'!$G116=4,'liste engagés'!C116,\"\")","v":""},{"$f":"IF('liste engagés'!$G116=4,'liste engagés'!D116,\"\")","v":""},{"$f":"IF('liste engagés'!$G116=4,'liste engagés'!E116,\"\")","v":""},{"$f":"IF('liste engagés'!$G116=4,'liste engagés'!K116,\"\")","v":""},{"$f":"IF('liste engagés'!$G116=4,'liste engagés'!L116,\"\")","v":""},0]
[116,{"$f":"IF('liste engagés'!$G117=4,'liste engagés'!A117,\"\")","v":""},{"$f":"IF('liste engagés'!$G117=4,'liste engagés'!B117,\"\")","v":""},{"$f":"IF('liste engagés'!$G117=4,'liste engagés'!C117,\"\")","v":""},{"$f":"IF('liste engagés'!$G117=4,'liste engagés'!D117,\"\")","v":""},{"$f":"IF('liste engagés'!$G117=4,'liste engagés'!E117,\"\")","v":""},{"$f":"IF('liste engagés'!$G117=4,'liste engagés'!K117,\"\")","v":""},{"$f":"IF('liste engagés'!$G117=4,'liste engagés'!L117,\"\")","v":""},0]
[117,{"$f":"IF('liste engagés'!$G118=4,'liste engagés'!A118,\"\")","v":""},{"$f":"IF('liste engagés'!$G118=4,'liste engagés'!B118,\"\")","v":""},{"$f":"IF('liste engagés'!$G118=4,'liste engagés'!C118,\"\")","v":""},{"$f":"IF('liste engagés'!$G118=4,'liste engagés'!D118,\"\")","v":""},{"$f":"IF('liste engagés'!$G118=4,'liste engagés'!E118,\"\")","v":""},{"$f":"IF('liste engagés'!$G118=4,'liste engagés'!K118,\"\")","v":""},{"$f":"IF('liste engagés'!$G118=4,'liste engagés'!L118,\"\")","v":""},0]
[118,{"$f":"IF('liste engagés'!$G119=4,'liste engagés'!A119,\"\")","v":""},{"$f":"IF('liste engagés'!$G119=4,'liste engagés'!B119,\"\")","v":""},{"$f":"IF('liste engagés'!$G119=4,'liste engagés'!C119,\"\")","v":""},{"$f":"IF('liste engagés'!$G119=4,'liste engagés'!D119,\"\")","v":""},{"$f":"IF('liste engagés'!$G119=4,'liste engagés'!E119,\"\")","v":""},{"$f":"IF('liste engagés'!$G119=4,'liste engagés'!K119,\"\")","v":""},{"$f":"IF('liste engagés'!$G119=4,'liste engagés'!L119,\"\")","v":""},0]
[119,{"$f":"IF('liste engagés'!$G120=4,'liste engagés'!A120,\"\")","v":""},{"$f":"IF('liste engagés'!$G120=4,'liste engagés'!B120,\"\")","v":""},{"$f":"IF('liste engagés'!$G120=4,'liste engagés'!C120,\"\")","v":""},{"$f":"IF('liste engagés'!$G120=4,'liste engagés'!D120,\"\")","v":""},{"$f":"IF('liste engagés'!$G120=4,'liste engagés'!E120,\"\")","v":""},{"$f":"IF('liste engagés'!$G120=4,'liste engagés'!K120,\"\")","v":""},{"$f":"IF('liste engagés'!$G120=4,'liste engagés'!L120,\"\")","v":""},0]
[120,{"$f":"IF('liste engagés'!$G121=4,'liste engagés'!A121,\"\")","v":""},{"$f":"IF('liste engagés'!$G121=4,'liste engagés'!B121,\"\")","v":""},{"$f":"IF('liste engagés'!$G121=4,'liste engagés'!C121,\"\")","v":""},{"$f":"IF('liste engagés'!$G121=4,'liste engagés'!D121,\"\")","v":""},{"$f":"IF('liste engagés'!$G121=4,'liste engagés'!E121,\"\")","v":""},{"$f":"IF('liste engagés'!$G121=4,'liste engagés'!K121,\"\")","v":""},{"$f":"IF('liste engagés'!$G121=4,'liste engagés'!L121,\"\")","v":""},0]
[121,{"$f":"IF('liste engagés'!$G122=4,'liste engagés'!A122,\"\")","v":""},{"$f":"IF('liste engagés'!$G122=4,'liste engagés'!B122,\"\")","v":""},{"$f":"IF('liste engagés'!$G122=4,'liste engagés'!C122,\"\")","v":""},{"$f":"IF('liste engagés'!$G122=4,'liste engagés'!D122,\"\")","v":""},{"$f":"IF('liste engagés'!$G122=4,'liste engagés'!E122,\"\")","v":""},{"$f":"IF('liste engagés'!$G122=4,'liste engagés'!K122,\"\")","v":""},{"$f":"IF('liste engagés'!$G122=4,'liste engagés'!L122,\"\")","v":""},0]
[122,{"$f":"IF('liste engagés'!$G123=4,'liste engagés'!A123,\"\")","v":""},{"$f":"IF('liste engagés'!$G123=4,'liste engagés'!B123,\"\")","v":""},{"$f":"IF('liste engagés'!$G123=4,'liste engagés'!C123,\"\")","v":""},{"$f":"IF('liste engagés'!$G123=4,'liste engagés'!D123,\"\")","v":""},{"$f":"IF('liste engagés'!$G123=4,'liste engagés'!E123,\"\")","v":""},{"$f":"IF('liste engagés'!$G123=4,'liste engagés'!K123,\"\")","v":""},{"$f":"IF('liste engagés'!$G123=4,'liste engagés'!L123,\"\")","v":""},0]
[123,{"$f":"IF('liste engagés'!$G124=4,'liste engagés'!A124,\"\")","v":""},{"$f":"IF('liste engagés'!$G124=4,'liste engagés'!B124,\"\")","v":""},{"$f":"IF('liste engagés'!$G124=4,'liste engagés'!C124,\"\")","v":""},{"$f":"IF('liste engagés'!$G124=4,'liste engagés'!D124,\"\")","v":""},{"$f":"IF('liste engagés'!$G124=4,'liste engagés'!E124,\"\")","v":""},{"$f":"IF('liste engagés'!$G124=4,'liste engagés'!K124,\"\")","v":""},{"$f":"IF('liste engagés'!$G124=4,'liste engagés'!L124,\"\")","v":""},0]
[124,{"$f":"IF('liste engagés'!$G125=4,'liste engagés'!A125,\"\")","v":""},{"$f":"IF('liste engagés'!$G125=4,'liste engagés'!B125,\"\")","v":""},{"$f":"IF('liste engagés'!$G125=4,'liste engagés'!C125,\"\")","v":""},{"$f":"IF('liste engagés'!$G125=4,'liste engagés'!D125,\"\")","v":""},{"$f":"IF('liste engagés'!$G125=4,'liste engagés'!E125,\"\")","v":""},{"$f":"IF('liste engagés'!$G125=4,'liste engagés'!K125,\"\")","v":""},{"$f":"IF('liste engagés'!$G125=4,'liste engagés'!L125,\"\")","v":""},0]
[125,{"$f":"IF('liste engagés'!$G127=4,'liste engagés'!A127,\"\")","v":""},{"$f":"IF('liste engagés'!$G127=4,'liste engagés'!B127,\"\")","v":""},{"$f":"IF('liste engagés'!$G127=4,'liste engagés'!C127,\"\")","v":""},{"$f":"IF('liste engagés'!$G127=4,'liste engagés'!D127,\"\")","v":""},{"$f":"IF('liste engagés'!$G127=4,'liste engagés'!E127,\"\")","v":""},{"$f":"IF('liste engagés'!$G127=4,'liste engagés'!K127,\"\")","v":""},{"$f":"IF('liste engagés'!$G127=4,'liste engagés'!L127,\"\")","v":""},0]
[126,{"$f":"IF('liste engagés'!$G128=4,'liste engagés'!A128,\"\")","v":""},{"$f":"IF('liste engagés'!$G128=4,'liste engagés'!B128,\"\")","v":""},{"$f":"IF('liste engagés'!$G128=4,'liste engagés'!C128,\"\")","v":""},{"$f":"IF('liste engagés'!$G128=4,'liste engagés'!D128,\"\")","v":""},{"$f":"IF('liste engagés'!$G128=4,'liste engagés'!E128,\"\")","v":""},{"$f":"IF('liste engagés'!$G128=4,'liste engagés'!K128,\"\")","v":""},{"$f":"IF('liste engagés'!$G128=4,'liste engagés'!L128,\"\")","v":""},0]
[127,{"$f":"IF('liste engagés'!$G129=4,'liste engagés'!A129,\"\")","v":""},{"$f":"IF('liste engagés'!$G129=4,'liste engagés'!B129,\"\")","v":""},{"$f":"IF('liste engagés'!$G129=4,'liste engagés'!C129,\"\")","v":""},{"$f":"IF('liste engagés'!$G129=4,'liste engagés'!D129,\"\")","v":""},{"$f":"IF('liste engagés'!$G129=4,'liste engagés'!E129,\"\")","v":""},{"$f":"IF('liste engagés'!$G129=4,'liste engagés'!K129,\"\")","v":""},{"$f":"IF('liste engagés'!$G129=4,'liste engagés'!L129,\"\")","v":""},0]
[128,{"$f":"IF('liste engagés'!$G130=4,'liste engagés'!A130,\"\")","v":""},{"$f":"IF('liste engagés'!$G130=4,'liste engagés'!B130,\"\")","v":""},{"$f":"IF('liste engagés'!$G130=4,'liste engagés'!C130,\"\")","v":""},{"$f":"IF('liste engagés'!$G130=4,'liste engagés'!D130,\"\")","v":""},{"$f":"IF('liste engagés'!$G130=4,'liste engagés'!E130,\"\")","v":""},{"$f":"IF('liste engagés'!$G130=4,'liste engagés'!K130,\"\")","v":""},{"$f":"IF('liste engagés'!$G130=4,'liste engagés'!L130,\"\")","v":""},0]
[129,{"$f":"IF('liste engagés'!$G131=4,'liste engagés'!A131,\"\")","v":""},{"$f":"IF('liste engagés'!$G131=4,'liste engagés'!B131,\"\")","v":""},{"$f":"IF('liste engagés'!$G131=4,'liste engagés'!C131,\"\")","v":""},{"$f":"IF('liste engagés'!$G131=4,'liste engagés'!D131,\"\")","v":""},{"$f":"IF('liste engagés'!$G131=4,'liste engagés'!E131,\"\")","v":""},{"$f":"IF('liste engagés'!$G131=4,'liste engagés'!K131,\"\")","v":""},{"$f":"IF('liste engagés'!$G131=4,'liste engagés'!L131,\"\")","v":""},{"$f":"+IF(C135=\"\",0,1)","v":0}]
[{"$f":"+A135+1","v":130},{"$f":"IF('liste engagés'!$G132=4,'liste engagés'!A132,\"\")","v":""},{"$f":"IF('liste engagés'!$G132=4,'liste engagés'!B132,\"\")","v":""},{"$f":"IF('liste engagés'!$G132=4,'liste engagés'!C132,\"\")","v":""},{"$f":"IF('liste engagés'!$G132=4,'liste engagés'!D132,\"\")","v":""},{"$f":"IF('liste engagés'!$G132=4,'liste engagés'!E132,\"\")","v":""},{"$f":"IF('liste engagés'!$G132=4,'liste engagés'!K132,\"\")","v":""},{"$f":"IF('liste engagés'!$G132=4,'liste engagés'!L132,\"\")","v":""},0]
[131,{"$f":"IF('liste engagés'!$G133=4,'liste engagés'!A133,\"\")","v":""},{"$f":"IF('liste engagés'!$G133=4,'liste engagés'!B133,\"\")","v":""},{"$f":"IF('liste engagés'!$G133=4,'liste engagés'!C133,\"\")","v":""},{"$f":"IF('liste engagés'!$G133=4,'liste engagés'!D133,\"\")","v":""},{"$f":"IF('liste engagés'!$G133=4,'liste engagés'!E133,\"\")","v":""},{"$f":"IF('liste engagés'!$G133=4,'liste engagés'!K133,\"\")","v":""},{"$f":"IF('liste engagés'!$G133=4,'liste engagés'!L133,\"\")","v":""},0]
[132,{"$f":"IF('liste engagés'!$G134=4,'liste engagés'!A134,\"\")","v":""},{"$f":"IF('liste engagés'!$G134=4,'liste engagés'!B134,\"\")","v":""},{"$f":"IF('liste engagés'!$G134=4,'liste engagés'!C134,\"\")","v":""},{"$f":"IF('liste engagés'!$G134=4,'liste engagés'!D134,\"\")","v":""},{"$f":"IF('liste engagés'!$G134=4,'liste engagés'!E134,\"\")","v":""},{"$f":"IF('liste engagés'!$G134=4,'liste engagés'!K134,\"\")","v":""},{"$f":"IF('liste engagés'!$G134=4,'liste engagés'!L134,\"\")","v":""},0]
[133,{"$f":"IF('liste engagés'!$G135=4,'liste engagés'!A135,\"\")","v":""},{"$f":"IF('liste engagés'!$G135=4,'liste engagés'!B135,\"\")","v":""},{"$f":"IF('liste engagés'!$G135=4,'liste engagés'!C135,\"\")","v":""},{"$f":"IF('liste engagés'!$G135=4,'liste engagés'!D135,\"\")","v":""},{"$f":"IF('liste engagés'!$G135=4,'liste engagés'!E135,\"\")","v":""},{"$f":"IF('liste engagés'!$G135=4,'liste engagés'!K135,\"\")","v":""},{"$f":"IF('liste engagés'!$G135=4,'liste engagés'!L135,\"\")","v":""},0]
[134,{"$f":"IF('liste engagés'!$G136=4,'liste engagés'!A136,\"\")","v":""},{"$f":"IF('liste engagés'!$G136=4,'liste engagés'!B136,\"\")","v":""},{"$f":"IF('liste engagés'!$G136=4,'liste engagés'!C136,\"\")","v":""},{"$f":"IF('liste engagés'!$G136=4,'liste engagés'!D136,\"\")","v":""},{"$f":"IF('liste engagés'!$G136=4,'liste engagés'!E136,\"\")","v":""},{"$f":"IF('liste engagés'!$G136=4,'liste engagés'!K136,\"\")","v":""},{"$f":"IF('liste engagés'!$G136=4,'liste engagés'!L136,\"\")","v":""},0]
[135,{"$f":"IF('liste engagés'!$G137=4,'liste engagés'!A137,\"\")","v":""},{"$f":"IF('liste engagés'!$G137=4,'liste engagés'!B137,\"\")","v":""},{"$f":"IF('liste engagés'!$G137=4,'liste engagés'!C137,\"\")","v":""},{"$f":"IF('liste engagés'!$G137=4,'liste engagés'!D137,\"\")","v":""},{"$f":"IF('liste engagés'!$G137=4,'liste engagés'!E137,\"\")","v":""},{"$f":"IF('liste engagés'!$G137=4,'liste engagés'!K137,\"\")","v":""},{"$f":"IF('liste engagés'!$G137=4,'liste engagés'!L137,\"\")","v":""},0]
[136,{"$f":"IF('liste engagés'!$G138=4,'liste engagés'!A138,\"\")","v":""},{"$f":"IF('liste engagés'!$G138=4,'liste engagés'!B138,\"\")","v":""},{"$f":"IF('liste engagés'!$G138=4,'liste engagés'!C138,\"\")","v":""},{"$f":"IF('liste engagés'!$G138=4,'liste engagés'!D138,\"\")","v":""},{"$f":"IF('liste engagés'!$G138=4,'liste engagés'!E138,\"\")","v":""},{"$f":"IF('liste engagés'!$G138=4,'liste engagés'!K138,\"\")","v":""},{"$f":"IF('liste engagés'!$G138=4,'liste engagés'!L138,\"\")","v":""},0]
[137,{"$f":"IF('liste engagés'!$G139=4,'liste engagés'!A139,\"\")","v":""},{"$f":"IF('liste engagés'!$G139=4,'liste engagés'!B139,\"\")","v":""},{"$f":"IF('liste engagés'!$G139=4,'liste engagés'!C139,\"\")","v":""},{"$f":"IF('liste engagés'!$G139=4,'liste engagés'!D139,\"\")","v":""},{"$f":"IF('liste engagés'!$G139=4,'liste engagés'!E139,\"\")","v":""},{"$f":"IF('liste engagés'!$G139=4,'liste engagés'!K139,\"\")","v":""},{"$f":"IF('liste engagés'!$G139=4,'liste engagés'!L139,\"\")","v":""},0]
[138,{"$f":"IF('liste engagés'!$G140=4,'liste engagés'!A140,\"\")","v":""},{"$f":"IF('liste engagés'!$G140=4,'liste engagés'!B140,\"\")","v":""},{"$f":"IF('liste engagés'!$G140=4,'liste engagés'!C140,\"\")","v":""},{"$f":"IF('liste engagés'!$G140=4,'liste engagés'!D140,\"\")","v":""},{"$f":"IF('liste engagés'!$G140=4,'liste engagés'!E140,\"\")","v":""},{"$f":"IF('liste engagés'!$G140=4,'liste engagés'!K140,\"\")","v":""},{"$f":"IF('liste engagés'!$G140=4,'liste engagés'!L140,\"\")","v":""},0]
[139,{"$f":"IF('liste engagés'!$G141=4,'liste engagés'!A141,\"\")","v":""},{"$f":"IF('liste engagés'!$G141=4,'liste engagés'!B141,\"\")","v":""},{"$f":"IF('liste engagés'!$G141=4,'liste engagés'!C141,\"\")","v":""},{"$f":"IF('liste engagés'!$G141=4,'liste engagés'!D141,\"\")","v":""},{"$f":"IF('liste engagés'!$G141=4,'liste engagés'!E141,\"\")","v":""},{"$f":"IF('liste engagés'!$G141=4,'liste engagés'!K141,\"\")","v":""},{"$f":"IF('liste engagés'!$G141=4,'liste engagés'!L141,\"\")","v":""},0]
[140,{"$f":"IF('liste engagés'!$G142=4,'liste engagés'!A142,\"\")","v":""},{"$f":"IF('liste engagés'!$G142=4,'liste engagés'!B142,\"\")","v":""},{"$f":"IF('liste engagés'!$G142=4,'liste engagés'!C142,\"\")","v":""},{"$f":"IF('liste engagés'!$G142=4,'liste engagés'!D142,\"\")","v":""},{"$f":"IF('liste engagés'!$G142=4,'liste engagés'!E142,\"\")","v":""},{"$f":"IF('liste engagés'!$G142=4,'liste engagés'!K142,\"\")","v":""},{"$f":"IF('liste engagés'!$G142=4,'liste engagés'!L142,\"\")","v":""},0]
[141,{"$f":"IF('liste engagés'!$G143=4,'liste engagés'!A143,\"\")","v":""},{"$f":"IF('liste engagés'!$G143=4,'liste engagés'!B143,\"\")","v":""},{"$f":"IF('liste engagés'!$G143=4,'liste engagés'!C143,\"\")","v":""},{"$f":"IF('liste engagés'!$G143=4,'liste engagés'!D143,\"\")","v":""},{"$f":"IF('liste engagés'!$G143=4,'liste engagés'!E143,\"\")","v":""},{"$f":"IF('liste engagés'!$G143=4,'liste engagés'!K143,\"\")","v":""},{"$f":"IF('liste engagés'!$G143=4,'liste engagés'!L143,\"\")","v":""},0]
[142,{"$f":"IF('liste engagés'!$G144=4,'liste engagés'!A144,\"\")","v":""},{"$f":"IF('liste engagés'!$G144=4,'liste engagés'!B144,\"\")","v":""},{"$f":"IF('liste engagés'!$G144=4,'liste engagés'!C144,\"\")","v":""},{"$f":"IF('liste engagés'!$G144=4,'liste engagés'!D144,\"\")","v":""},{"$f":"IF('liste engagés'!$G144=4,'liste engagés'!E144,\"\")","v":""},{"$f":"IF('liste engagés'!$G144=4,'liste engagés'!K144,\"\")","v":""},{"$f":"IF('liste engagés'!$G144=4,'liste engagés'!L144,\"\")","v":""},0]
[143,{"$f":"IF('liste engagés'!$G146=4,'liste engagés'!A146,\"\")","v":""},{"$f":"IF('liste engagés'!$G146=4,'liste engagés'!B146,\"\")","v":""},{"$f":"IF('liste engagés'!$G146=4,'liste engagés'!C145,\"\")","v":""},{"$f":"IF('liste engagés'!$G146=4,'liste engagés'!D146,\"\")","v":""},{"$f":"IF('liste engagés'!$G146=4,'liste engagés'!E146,\"\")","v":""},{"$f":"IF('liste engagés'!$G146=4,'liste engagés'!K146,\"\")","v":""},{"$f":"IF('liste engagés'!$G146=4,'liste engagés'!L146,\"\")","v":""},0]
[144,{"$f":"IF('liste engagés'!$G148=4,'liste engagés'!A148,\"\")","v":""},{"$f":"IF('liste engagés'!$G148=4,'liste engagés'!B148,\"\")","v":""},{"$f":"IF('liste engagés'!$G148=4,'liste engagés'!C148,\"\")","v":""},{"$f":"IF('liste engagés'!$G148=4,'liste engagés'!D148,\"\")","v":""},{"$f":"IF('liste engagés'!$G148=4,'liste engagés'!E148,\"\")","v":""},{"$f":"IF('liste engagés'!$G148=4,'liste engagés'!K148,\"\")","v":""},{"$f":"IF('liste engagés'!$G148=4,'liste engagés'!L148,\"\")","v":""},0]
[145,{"$f":"IF('liste engagés'!$G149=4,'liste engagés'!A149,\"\")","v":""},{"$f":"IF('liste engagés'!$G149=4,'liste engagés'!B149,\"\")","v":""},{"$f":"IF('liste engagés'!$G149=4,'liste engagés'!C149,\"\")","v":""},{"$f":"IF('liste engagés'!$G149=4,'liste engagés'!D149,\"\")","v":""},{"$f":"IF('liste engagés'!$G149=4,'liste engagés'!E149,\"\")","v":""},{"$f":"IF('liste engagés'!$G149=4,'liste engagés'!K149,\"\")","v":""},{"$f":"IF('liste engagés'!$G149=4,'liste engagés'!L149,\"\")","v":""},0]
[146,{"$f":"IF('liste engagés'!$G150=4,'liste engagés'!A150,\"\")","v":""},{"$f":"IF('liste engagés'!$G150=4,'liste engagés'!B150,\"\")","v":""},{"$f":"IF('liste engagés'!$G150=4,'liste engagés'!C150,\"\")","v":""},{"$f":"IF('liste engagés'!$G150=4,'liste engagés'!D150,\"\")","v":""},{"$f":"IF('liste engagés'!$G150=4,'liste engagés'!E150,\"\")","v":""},{"$f":"IF('liste engagés'!$G150=4,'liste engagés'!K150,\"\")","v":""},{"$f":"IF('liste engagés'!$G150=4,'liste engagés'!L150,\"\")","v":""},0]
[147,{"$f":"IF('liste engagés'!$G152=4,'liste engagés'!A152,\"\")","v":""},{"$f":"IF('liste engagés'!$G152=4,'liste engagés'!B152,\"\")","v":""},{"$f":"IF('liste engagés'!$G152=4,'liste engagés'!C152,\"\")","v":""},{"$f":"IF('liste engagés'!$G152=4,'liste engagés'!D152,\"\")","v":""},{"$f":"IF('liste engagés'!$G152=4,'liste engagés'!E152,\"\")","v":""},{"$f":"IF('liste engagés'!$G152=4,'liste engagés'!K152,\"\")","v":""},{"$f":"IF('liste engagés'!$G152=4,'liste engagés'!L152,\"\")","v":""},0]
[148,{"$f":"IF('liste engagés'!$G153=4,'liste engagés'!A153,\"\")","v":""},{"$f":"IF('liste engagés'!$G153=4,'liste engagés'!B153,\"\")","v":""},{"$f":"IF('liste engagés'!$G153=4,'liste engagés'!C153,\"\")","v":""},{"$f":"IF('liste engagés'!$G153=4,'liste engagés'!D153,\"\")","v":""},{"$f":"IF('liste engagés'!$G153=4,'liste engagés'!E153,\"\")","v":""},{"$f":"IF('liste engagés'!$G153=4,'liste engagés'!K153,\"\")","v":""},{"$f":"IF('liste engagés'!$G153=4,'liste engagés'!L153,\"\")","v":""},0]
[149,{"$f":"IF('liste engagés'!$G154=4,'liste engagés'!A154,\"\")","v":""},{"$f":"IF('liste engagés'!$G154=4,'liste engagés'!B154,\"\")","v":""},{"$f":"IF('liste engagés'!$G154=4,'liste engagés'!C154,\"\")","v":""},{"$f":"IF('liste engagés'!$G154=4,'liste engagés'!D154,\"\")","v":""},{"$f":"IF('liste engagés'!$G154=4,'liste engagés'!E154,\"\")","v":""},{"$f":"IF('liste engagés'!$G154=4,'liste engagés'!K154,\"\")","v":""},{"$f":"IF('liste engagés'!$G154=4,'liste engagés'!L154,\"\")","v":""},0]
[150,{"$f":"IF('liste engagés'!$G155=4,'liste engagés'!A155,\"\")","v":""},{"$f":"IF('liste engagés'!$G155=4,'liste engagés'!B155,\"\")","v":""},{"$f":"IF('liste engagés'!$G155=4,'liste engagés'!C155,\"\")","v":""},{"$f":"IF('liste engagés'!$G155=4,'liste engagés'!D155,\"\")","v":""},{"$f":"IF('liste engagés'!$G155=4,'liste engagés'!E155,\"\")","v":""},{"$f":"IF('liste engagés'!$G155=4,'liste engagés'!K155,\"\")","v":""},{"$f":"IF('liste engagés'!$G155=4,'liste engagés'!L155,\"\")","v":""},0]
[151,{"$f":"IF('liste engagés'!$G156=4,'liste engagés'!A156,\"\")","v":""},{"$f":"IF('liste engagés'!$G156=4,'liste engagés'!B156,\"\")","v":""},{"$f":"IF('liste engagés'!$G156=4,'liste engagés'!C156,\"\")","v":""},{"$f":"IF('liste engagés'!$G156=4,'liste engagés'!D156,\"\")","v":""},{"$f":"IF('liste engagés'!$G156=4,'liste engagés'!E156,\"\")","v":""},{"$f":"IF('liste engagés'!$G156=4,'liste engagés'!K156,\"\")","v":""},{"$f":"IF('liste engagés'!$G156=4,'liste engagés'!L156,\"\")","v":""},0]
[152,{"$f":"IF('liste engagés'!$G157=4,'liste engagés'!A157,\"\")","v":""},{"$f":"IF('liste engagés'!$G157=4,'liste engagés'!B157,\"\")","v":""},{"$f":"IF('liste engagés'!$G157=4,'liste engagés'!C157,\"\")","v":""},{"$f":"IF('liste engagés'!$G157=4,'liste engagés'!D157,\"\")","v":""},{"$f":"IF('liste engagés'!$G157=4,'liste engagés'!E157,\"\")","v":""},{"$f":"IF('liste engagés'!$G157=4,'liste engagés'!K157,\"\")","v":""},{"$f":"IF('liste engagés'!$G157=4,'liste engagés'!L157,\"\")","v":""},0]
[153,{"$f":"IF('liste engagés'!$G158=4,'liste engagés'!A158,\"\")","v":""},{"$f":"IF('liste engagés'!$G158=4,'liste engagés'!B158,\"\")","v":""},{"$f":"IF('liste engagés'!$G158=4,'liste engagés'!C158,\"\")","v":""},{"$f":"IF('liste engagés'!$G158=4,'liste engagés'!D158,\"\")","v":""},{"$f":"IF('liste engagés'!$G158=4,'liste engagés'!E158,\"\")","v":""},{"$f":"IF('liste engagés'!$G158=4,'liste engagés'!K158,\"\")","v":""},{"$f":"IF('liste engagés'!$G158=4,'liste engagés'!L158,\"\")","v":""},0]
[154,{"$f":"IF('liste engagés'!$G159=4,'liste engagés'!A159,\"\")","v":""},{"$f":"IF('liste engagés'!$G159=4,'liste engagés'!B159,\"\")","v":""},{"$f":"IF('liste engagés'!$G159=4,'liste engagés'!C159,\"\")","v":""},{"$f":"IF('liste engagés'!$G159=4,'liste engagés'!D159,\"\")","v":""},{"$f":"IF('liste engagés'!$G159=4,'liste engagés'!E159,\"\")","v":""},{"$f":"IF('liste engagés'!$G159=4,'liste engagés'!K159,\"\")","v":""},{"$f":"IF('liste engagés'!$G159=4,'liste engagés'!L159,\"\")","v":""},0]
[155,{"$f":"IF('liste engagés'!$G160=4,'liste engagés'!A160,\"\")","v":""},{"$f":"IF('liste engagés'!$G160=4,'liste engagés'!B160,\"\")","v":""},{"$f":"IF('liste engagés'!$G160=4,'liste engagés'!C160,\"\")","v":""},{"$f":"IF('liste engagés'!$G160=4,'liste engagés'!D160,\"\")","v":""},{"$f":"IF('liste engagés'!$G160=4,'liste engagés'!E160,\"\")","v":""},{"$f":"IF('liste engagés'!$G160=4,'liste engagés'!K160,\"\")","v":""},{"$f":"IF('liste engagés'!$G160=4,'liste engagés'!L160,\"\")","v":""},0]
[156,{"$f":"IF('liste engagés'!$G161=4,'liste engagés'!A161,\"\")","v":""},{"$f":"IF('liste engagés'!$G161=4,'liste engagés'!B161,\"\")","v":""},{"$f":"IF('liste engagés'!$G161=4,'liste engagés'!C161,\"\")","v":""},{"$f":"IF('liste engagés'!$G161=4,'liste engagés'!D161,\"\")","v":""},{"$f":"IF('liste engagés'!$G161=4,'liste engagés'!E161,\"\")","v":""},{"$f":"IF('liste engagés'!$G161=4,'liste engagés'!K161,\"\")","v":""},{"$f":"IF('liste engagés'!$G161=4,'liste engagés'!L161,\"\")","v":""},0]
[157,{"$f":"IF('liste engagés'!$G162=4,'liste engagés'!A162,\"\")","v":""},{"$f":"IF('liste engagés'!$G162=4,'liste engagés'!B162,\"\")","v":""},{"$f":"IF('liste engagés'!$G162=4,'liste engagés'!C162,\"\")","v":""},{"$f":"IF('liste engagés'!$G162=4,'liste engagés'!D162,\"\")","v":""},{"$f":"IF('liste engagés'!$G162=4,'liste engagés'!E162,\"\")","v":""},{"$f":"IF('liste engagés'!$G162=4,'liste engagés'!K162,\"\")","v":""},{"$f":"IF('liste engagés'!$G162=4,'liste engagés'!L162,\"\")","v":""},0]
[158,{"$f":"IF('liste engagés'!$G163=4,'liste engagés'!A163,\"\")","v":""},{"$f":"IF('liste engagés'!$G163=4,'liste engagés'!B163,\"\")","v":""},{"$f":"IF('liste engagés'!$G163=4,'liste engagés'!C163,\"\")","v":""},{"$f":"IF('liste engagés'!$G163=4,'liste engagés'!D163,\"\")","v":""},{"$f":"IF('liste engagés'!$G163=4,'liste engagés'!E163,\"\")","v":""},{"$f":"IF('liste engagés'!$G163=4,'liste engagés'!K163,\"\")","v":""},{"$f":"IF('liste engagés'!$G163=4,'liste engagés'!L163,\"\")","v":""},0]
[159,{"$f":"IF('liste engagés'!$G164=4,'liste engagés'!A164,\"\")","v":""},{"$f":"IF('liste engagés'!$G164=4,'liste engagés'!B164,\"\")","v":""},{"$f":"IF('liste engagés'!$G164=4,'liste engagés'!C164,\"\")","v":""},{"$f":"IF('liste engagés'!$G164=4,'liste engagés'!D164,\"\")","v":""},{"$f":"IF('liste engagés'!$G164=4,'liste engagés'!E164,\"\")","v":""},{"$f":"IF('liste engagés'!$G164=4,'liste engagés'!K164,\"\")","v":""},{"$f":"IF('liste engagés'!$G164=4,'liste engagés'!L164,\"\")","v":""},0]
[160,{"$f":"IF('liste engagés'!$G165=4,'liste engagés'!A165,\"\")","v":""},{"$f":"IF('liste engagés'!$G165=4,'liste engagés'!B165,\"\")","v":""},{"$f":"IF('liste engagés'!$G165=4,'liste engagés'!C165,\"\")","v":""},{"$f":"IF('liste engagés'!$G165=4,'liste engagés'!D165,\"\")","v":""},{"$f":"IF('liste engagés'!$G165=4,'liste engagés'!E165,\"\")","v":""},{"$f":"IF('liste engagés'!$G165=4,'liste engagés'!K165,\"\")","v":""},{"$f":"IF('liste engagés'!$G165=4,'liste engagés'!L165,\"\")","v":""},0]
[161,{"$f":"IF('liste engagés'!$G166=4,'liste engagés'!A166,\"\")","v":""},{"$f":"IF('liste engagés'!$G166=4,'liste engagés'!B166,\"\")","v":""},{"$f":"IF('liste engagés'!$G166=4,'liste engagés'!C166,\"\")","v":""},{"$f":"IF('liste engagés'!$G166=4,'liste engagés'!D166,\"\")","v":""},{"$f":"IF('liste engagés'!$G166=4,'liste engagés'!E166,\"\")","v":""},{"$f":"IF('liste engagés'!$G166=4,'liste engagés'!K166,\"\")","v":""},{"$f":"IF('liste engagés'!$G166=4,'liste engagés'!L166,\"\")","v":""},0]
[162,{"$f":"IF('liste engagés'!$G167=4,'liste engagés'!A167,\"\")","v":""},{"$f":"IF('liste engagés'!$G167=4,'liste engagés'!B167,\"\")","v":""},{"$f":"IF('liste engagés'!$G167=4,'liste engagés'!C167,\"\")","v":""},{"$f":"IF('liste engagés'!$G167=4,'liste engagés'!D167,\"\")","v":""},{"$f":"IF('liste engagés'!$G167=4,'liste engagés'!E167,\"\")","v":""},{"$f":"IF('liste engagés'!$G167=4,'liste engagés'!K167,\"\")","v":""},{"$f":"IF('liste engagés'!$G167=4,'liste engagés'!L167,\"\")","v":""},0]
[163,{"$f":"IF('liste engagés'!$G168=4,'liste engagés'!A168,\"\")","v":""},{"$f":"IF('liste engagés'!$G168=4,'liste engagés'!B168,\"\")","v":""},{"$f":"IF('liste engagés'!$G168=4,'liste engagés'!C168,\"\")","v":""},{"$f":"IF('liste engagés'!$G168=4,'liste engagés'!D168,\"\")","v":""},{"$f":"IF('liste engagés'!$G168=4,'liste engagés'!E168,\"\")","v":""},{"$f":"IF('liste engagés'!$G168=4,'liste engagés'!K168,\"\")","v":""},{"$f":"IF('liste engagés'!$G168=4,'liste engagés'!L168,\"\")","v":""},0]
[164,{"$f":"IF('liste engagés'!$G169=4,'liste engagés'!A169,\"\")","v":""},{"$f":"IF('liste engagés'!$G169=4,'liste engagés'!B169,\"\")","v":""},{"$f":"IF('liste engagés'!$G169=4,'liste engagés'!C169,\"\")","v":""},{"$f":"IF('liste engagés'!$G169=4,'liste engagés'!D169,\"\")","v":""},{"$f":"IF('liste engagés'!$G169=4,'liste engagés'!E169,\"\")","v":""},{"$f":"IF('liste engagés'!$G169=4,'liste engagés'!K169,\"\")","v":""},{"$f":"IF('liste engagés'!$G169=4,'liste engagés'!L169,\"\")","v":""},0]
[165,{"$f":"IF('liste engagés'!$G170=4,'liste engagés'!A170,\"\")","v":""},{"$f":"IF('liste engagés'!$G170=4,'liste engagés'!B170,\"\")","v":""},{"$f":"IF('liste engagés'!$G170=4,'liste engagés'!C170,\"\")","v":""},{"$f":"IF('liste engagés'!$G170=4,'liste engagés'!D170,\"\")","v":""},{"$f":"IF('liste engagés'!$G170=4,'liste engagés'!E170,\"\")","v":""},{"$f":"IF('liste engagés'!$G170=4,'liste engagés'!K170,\"\")","v":""},{"$f":"IF('liste engagés'!$G170=4,'liste engagés'!L170,\"\")","v":""},0]
[166,{"$f":"IF('liste engagés'!$G171=4,'liste engagés'!A171,\"\")","v":""},{"$f":"IF('liste engagés'!$G171=4,'liste engagés'!B171,\"\")","v":""},{"$f":"IF('liste engagés'!$G171=4,'liste engagés'!C171,\"\")","v":""},{"$f":"IF('liste engagés'!$G171=4,'liste engagés'!D171,\"\")","v":""},{"$f":"IF('liste engagés'!$G171=4,'liste engagés'!E171,\"\")","v":""},{"$f":"IF('liste engagés'!$G171=4,'liste engagés'!K171,\"\")","v":""},{"$f":"IF('liste engagés'!$G171=4,'liste engagés'!L171,\"\")","v":""},0]
[167,{"$f":"IF('liste engagés'!$G172=4,'liste engagés'!A172,\"\")","v":""},{"$f":"IF('liste engagés'!$G172=4,'liste engagés'!B172,\"\")","v":""},{"$f":"IF('liste engagés'!$G172=4,'liste engagés'!C172,\"\")","v":""},{"$f":"IF('liste engagés'!$G172=4,'liste engagés'!D172,\"\")","v":""},{"$f":"IF('liste engagés'!$G172=4,'liste engagés'!E172,\"\")","v":""},{"$f":"IF('liste engagés'!$G172=4,'liste engagés'!K172,\"\")","v":""},{"$f":"IF('liste engagés'!$G172=4,'liste engagés'!L172,\"\")","v":""},0]
[168,{"$f":"IF('liste engagés'!$G173=4,'liste engagés'!A173,\"\")","v":""},{"$f":"IF('liste engagés'!$G173=4,'liste engagés'!B173,\"\")","v":""},{"$f":"IF('liste engagés'!$G173=4,'liste engagés'!C173,\"\")","v":""},{"$f":"IF('liste engagés'!$G173=4,'liste engagés'!D173,\"\")","v":""},{"$f":"IF('liste engagés'!$G173=4,'liste engagés'!E173,\"\")","v":""},{"$f":"IF('liste engagés'!$G173=4,'liste engagés'!K173,\"\")","v":""},{"$f":"IF('liste engagés'!$G173=4,'liste engagés'!L173,\"\")","v":""},0]
[169,{"$f":"IF('liste engagés'!$G174=4,'liste engagés'!A174,\"\")","v":""},{"$f":"IF('liste engagés'!$G174=4,'liste engagés'!B174,\"\")","v":""},{"$f":"IF('liste engagés'!$G174=4,'liste engagés'!C174,\"\")","v":""},{"$f":"IF('liste engagés'!$G174=4,'liste engagés'!D174,\"\")","v":""},{"$f":"IF('liste engagés'!$G174=4,'liste engagés'!E174,\"\")","v":""},{"$f":"IF('liste engagés'!$G174=4,'liste engagés'!K174,\"\")","v":""},{"$f":"IF('liste engagés'!$G174=4,'liste engagés'!L174,\"\")","v":""},0]
[170,{"$f":"IF('liste engagés'!$G175=4,'liste engagés'!A175,\"\")","v":""},{"$f":"IF('liste engagés'!$G175=4,'liste engagés'!B175,\"\")","v":""},{"$f":"IF('liste engagés'!$G175=4,'liste engagés'!C175,\"\")","v":""},{"$f":"IF('liste engagés'!$G175=4,'liste engagés'!D175,\"\")","v":""},{"$f":"IF('liste engagés'!$G175=4,'liste engagés'!E175,\"\")","v":""},{"$f":"IF('liste engagés'!$G175=4,'liste engagés'!K175,\"\")","v":""},{"$f":"IF('liste engagés'!$G175=4,'liste engagés'!L175,\"\")","v":""},0]
[171,{"$f":"IF('liste engagés'!$G176=4,'liste engagés'!A176,\"\")","v":""},{"$f":"IF('liste engagés'!$G176=4,'liste engagés'!B176,\"\")","v":""},{"$f":"IF('liste engagés'!$G176=4,'liste engagés'!C176,\"\")","v":""},{"$f":"IF('liste engagés'!$G176=4,'liste engagés'!D176,\"\")","v":""},{"$f":"IF('liste engagés'!$G176=4,'liste engagés'!E176,\"\")","v":""},{"$f":"IF('liste engagés'!$G176=4,'liste engagés'!K176,\"\")","v":""},{"$f":"IF('liste engagés'!$G176=4,'liste engagés'!L176,\"\")","v":""},0]
[172,{"$f":"IF('liste engagés'!$G177=4,'liste engagés'!A177,\"\")","v":""},{"$f":"IF('liste engagés'!$G177=4,'liste engagés'!B177,\"\")","v":""},{"$f":"IF('liste engagés'!$G177=4,'liste engagés'!C177,\"\")","v":""},{"$f":"IF('liste engagés'!$G177=4,'liste engagés'!D177,\"\")","v":""},{"$f":"IF('liste engagés'!$G177=4,'liste engagés'!E177,\"\")","v":""},{"$f":"IF('liste engagés'!$G177=4,'liste engagés'!K177,\"\")","v":""},{"$f":"IF('liste engagés'!$G177=4,'liste engagés'!L177,\"\")","v":""},0]
[173,{"$f":"IF('liste engagés'!$G178=4,'liste engagés'!A178,\"\")","v":""},{"$f":"IF('liste engagés'!$G178=4,'liste engagés'!B178,\"\")","v":""},{"$f":"IF('liste engagés'!$G178=4,'liste engagés'!C178,\"\")","v":""},{"$f":"IF('liste engagés'!$G178=4,'liste engagés'!D178,\"\")","v":""},{"$f":"IF('liste engagés'!$G178=4,'liste engagés'!E178,\"\")","v":""},{"$f":"IF('liste engagés'!$G178=4,'liste engagés'!K178,\"\")","v":""},{"$f":"IF('liste engagés'!$G178=4,'liste engagés'!L178,\"\")","v":""},0]
[174,{"$f":"IF('liste engagés'!$G179=4,'liste engagés'!A179,\"\")","v":""},{"$f":"IF('liste engagés'!$G179=4,'liste engagés'!B179,\"\")","v":""},{"$f":"IF('liste engagés'!$G179=4,'liste engagés'!C179,\"\")","v":""},{"$f":"IF('liste engagés'!$G179=4,'liste engagés'!D179,\"\")","v":""},{"$f":"IF('liste engagés'!$G179=4,'liste engagés'!E179,\"\")","v":""},{"$f":"IF('liste engagés'!$G179=4,'liste engagés'!K179,\"\")","v":""},{"$f":"IF('liste engagés'!$G179=4,'liste engagés'!L179,\"\")","v":""},0]
[175,{"$f":"IF('liste engagés'!$G180=4,'liste engagés'!A180,\"\")","v":""},{"$f":"IF('liste engagés'!$G180=4,'liste engagés'!B180,\"\")","v":""},{"$f":"IF('liste engagés'!$G180=4,'liste engagés'!C180,\"\")","v":""},{"$f":"IF('liste engagés'!$G180=4,'liste engagés'!D180,\"\")","v":""},{"$f":"IF('liste engagés'!$G180=4,'liste engagés'!E180,\"\")","v":""},{"$f":"IF('liste engagés'!$G180=4,'liste engagés'!K180,\"\")","v":""},{"$f":"IF('liste engagés'!$G180=4,'liste engagés'!L180,\"\")","v":""},0]
[176,{"$f":"IF('liste engagés'!$G181=4,'liste engagés'!A181,\"\")","v":""},{"$f":"IF('liste engagés'!$G181=4,'liste engagés'!B181,\"\")","v":""},{"$f":"IF('liste engagés'!$G181=4,'liste engagés'!C181,\"\")","v":""},{"$f":"IF('liste engagés'!$G181=4,'liste engagés'!D181,\"\")","v":""},{"$f":"IF('liste engagés'!$G181=4,'liste engagés'!E181,\"\")","v":""},{"$f":"IF('liste engagés'!$G181=4,'liste engagés'!K181,\"\")","v":""},{"$f":"IF('liste engagés'!$G181=4,'liste engagés'!L181,\"\")","v":""},0]
[177,{"$f":"IF('liste engagés'!$G182=4,'liste engagés'!A182,\"\")","v":""},{"$f":"IF('liste engagés'!$G182=4,'liste engagés'!B182,\"\")","v":""},{"$f":"IF('liste engagés'!$G182=4,'liste engagés'!C182,\"\")","v":""},{"$f":"IF('liste engagés'!$G182=4,'liste engagés'!D182,\"\")","v":""},{"$f":"IF('liste engagés'!$G182=4,'liste engagés'!E182,\"\")","v":""},{"$f":"IF('liste engagés'!$G182=4,'liste engagés'!K182,\"\")","v":""},{"$f":"IF('liste engagés'!$G182=4,'liste engagés'!L182,\"\")","v":""},0]
[178,{"$f":"IF('liste engagés'!$G183=4,'liste engagés'!A183,\"\")","v":""},{"$f":"IF('liste engagés'!$G183=4,'liste engagés'!B183,\"\")","v":""},{"$f":"IF('liste engagés'!$G183=4,'liste engagés'!C183,\"\")","v":""},{"$f":"IF('liste engagés'!$G183=4,'liste engagés'!D183,\"\")","v":""},{"$f":"IF('liste engagés'!$G183=4,'liste engagés'!E183,\"\")","v":""},{"$f":"IF('liste engagés'!$G183=4,'liste engagés'!K183,\"\")","v":""},{"$f":"IF('liste engagés'!$G183=4,'liste engagés'!L183,\"\")","v":""},0]
[179,{"$f":"IF('liste engagés'!$G184=4,'liste engagés'!A184,\"\")","v":""},{"$f":"IF('liste engagés'!$G184=4,'liste engagés'!B184,\"\")","v":""},{"$f":"IF('liste engagés'!$G184=4,'liste engagés'!C184,\"\")","v":""},{"$f":"IF('liste engagés'!$G184=4,'liste engagés'!D184,\"\")","v":""},{"$f":"IF('liste engagés'!$G184=4,'liste engagés'!E184,\"\")","v":""},{"$f":"IF('liste engagés'!$G184=4,'liste engagés'!K184,\"\")","v":""},{"$f":"IF('liste engagés'!$G184=4,'liste engagés'!L184,\"\")","v":""},0]
[180,{"$f":"IF('liste engagés'!$G185=4,'liste engagés'!A185,\"\")","v":""},{"$f":"IF('liste engagés'!$G185=4,'liste engagés'!B185,\"\")","v":""},{"$f":"IF('liste engagés'!$G185=4,'liste engagés'!C185,\"\")","v":""},{"$f":"IF('liste engagés'!$G185=4,'liste engagés'!D185,\"\")","v":""},{"$f":"IF('liste engagés'!$G185=4,'liste engagés'!E185,\"\")","v":""},{"$f":"IF('liste engagés'!$G185=4,'liste engagés'!K185,\"\")","v":""},{"$f":"IF('liste engagés'!$G185=4,'liste engagés'!L185,\"\")","v":""},0]
[181,{"$f":"IF('liste engagés'!$G186=4,'liste engagés'!A186,\"\")","v":""},{"$f":"IF('liste engagés'!$G186=4,'liste engagés'!B186,\"\")","v":""},{"$f":"IF('liste engagés'!$G186=4,'liste engagés'!C186,\"\")","v":""},{"$f":"IF('liste engagés'!$G186=4,'liste engagés'!D186,\"\")","v":""},{"$f":"IF('liste engagés'!$G186=4,'liste engagés'!E186,\"\")","v":""},{"$f":"IF('liste engagés'!$G186=4,'liste engagés'!K186,\"\")","v":""},{"$f":"IF('liste engagés'!$G186=4,'liste engagés'!L186,\"\")","v":""},0]
[182,{"$f":"IF('liste engagés'!$G187=4,'liste engagés'!A187,\"\")","v":""},{"$f":"IF('liste engagés'!$G187=4,'liste engagés'!B187,\"\")","v":""},{"$f":"IF('liste engagés'!$G187=4,'liste engagés'!C187,\"\")","v":""},{"$f":"IF('liste engagés'!$G187=4,'liste engagés'!D187,\"\")","v":""},{"$f":"IF('liste engagés'!$G187=4,'liste engagés'!E187,\"\")","v":""},{"$f":"IF('liste engagés'!$G187=4,'liste engagés'!K187,\"\")","v":""},{"$f":"IF('liste engagés'!$G187=4,'liste engagés'!L187,\"\")","v":""},0]
[183,{"$f":"IF('liste engagés'!$G188=4,'liste engagés'!A188,\"\")","v":""},{"$f":"IF('liste engagés'!$G188=4,'liste engagés'!B188,\"\")","v":""},{"$f":"IF('liste engagés'!$G188=4,'liste engagés'!C188,\"\")","v":""},{"$f":"IF('liste engagés'!$G188=4,'liste engagés'!D188,\"\")","v":""},{"$f":"IF('liste engagés'!$G188=4,'liste engagés'!E188,\"\")","v":""},{"$f":"IF('liste engagés'!$G188=4,'liste engagés'!K188,\"\")","v":""},{"$f":"IF('liste engagés'!$G188=4,'liste engagés'!L188,\"\")","v":""},0]
[184,{"$f":"IF('liste engagés'!$G189=4,'liste engagés'!A189,\"\")","v":""},{"$f":"IF('liste engagés'!$G189=4,'liste engagés'!B189,\"\")","v":""},{"$f":"IF('liste engagés'!$G189=4,'liste engagés'!C189,\"\")","v":""},{"$f":"IF('liste engagés'!$G189=4,'liste engagés'!D189,\"\")","v":""},{"$f":"IF('liste engagés'!$G189=4,'liste engagés'!E189,\"\")","v":""},{"$f":"IF('liste engagés'!$G189=4,'liste engagés'!K189,\"\")","v":""},{"$f":"IF('liste engagés'!$G189=4,'liste engagés'!L189,\"\")","v":""},0]
[185,{"$f":"IF('liste engagés'!$G190=4,'liste engagés'!A190,\"\")","v":""},{"$f":"IF('liste engagés'!$G190=4,'liste engagés'!B190,\"\")","v":""},{"$f":"IF('liste engagés'!$G190=4,'liste engagés'!C190,\"\")","v":""},{"$f":"IF('liste engagés'!$G190=4,'liste engagés'!D190,\"\")","v":""},{"$f":"IF('liste engagés'!$G190=4,'liste engagés'!E190,\"\")","v":""},{"$f":"IF('liste engagés'!$G190=4,'liste engagés'!K190,\"\")","v":""},{"$f":"IF('liste engagés'!$G190=4,'liste engagés'!L190,\"\")","v":""},0]
[186,{"$f":"IF('liste engagés'!$G191=4,'liste engagés'!A191,\"\")","v":""},{"$f":"IF('liste engagés'!$G191=4,'liste engagés'!B191,\"\")","v":""},{"$f":"IF('liste engagés'!$G191=4,'liste engagés'!C191,\"\")","v":""},{"$f":"IF('liste engagés'!$G191=4,'liste engagés'!D191,\"\")","v":""},{"$f":"IF('liste engagés'!$G191=4,'liste engagés'!E191,\"\")","v":""},{"$f":"IF('liste engagés'!$G191=4,'liste engagés'!K191,\"\")","v":""},{"$f":"IF('liste engagés'!$G191=4,'liste engagés'!L191,\"\")","v":""},0]
[187,{"$f":"IF('liste engagés'!$G192=4,'liste engagés'!A192,\"\")","v":""},{"$f":"IF('liste engagés'!$G192=4,'liste engagés'!B192,\"\")","v":""},{"$f":"IF('liste engagés'!$G192=4,'liste engagés'!C192,\"\")","v":""},{"$f":"IF('liste engagés'!$G192=4,'liste engagés'!D192,\"\")","v":""},{"$f":"IF('liste engagés'!$G192=4,'liste engagés'!E192,\"\")","v":""},{"$f":"IF('liste engagés'!$G192=4,'liste engagés'!K192,\"\")","v":""},{"$f":"IF('liste engagés'!$G192=4,'liste engagés'!L192,\"\")","v":""},0]
[188,{"$f":"IF('liste engagés'!$G193=4,'liste engagés'!A193,\"\")","v":""},{"$f":"IF('liste engagés'!$G193=4,'liste engagés'!B193,\"\")","v":""},{"$f":"IF('liste engagés'!$G193=4,'liste engagés'!C193,\"\")","v":""},{"$f":"IF('liste engagés'!$G193=4,'liste engagés'!D193,\"\")","v":""},{"$f":"IF('liste engagés'!$G193=4,'liste engagés'!E193,\"\")","v":""},{"$f":"IF('liste engagés'!$G193=4,'liste engagés'!K193,\"\")","v":""},{"$f":"IF('liste engagés'!$G193=4,'liste engagés'!L193,\"\")","v":""},0]
[189,{"$f":"IF('liste engagés'!$G194=4,'liste engagés'!A194,\"\")","v":""},{"$f":"IF('liste engagés'!$G194=4,'liste engagés'!B194,\"\")","v":""},{"$f":"IF('liste engagés'!$G194=4,'liste engagés'!C194,\"\")","v":""},{"$f":"IF('liste engagés'!$G194=4,'liste engagés'!D194,\"\")","v":""},{"$f":"IF('liste engagés'!$G194=4,'liste engagés'!E194,\"\")","v":""},{"$f":"IF('liste engagés'!$G194=4,'liste engagés'!K194,\"\")","v":""},{"$f":"IF('liste engagés'!$G194=4,'liste engagés'!L194,\"\")","v":""},0]
[190,{"$f":"IF('liste engagés'!$G195=4,'liste engagés'!A195,\"\")","v":""},{"$f":"IF('liste engagés'!$G195=4,'liste engagés'!B195,\"\")","v":""},{"$f":"IF('liste engagés'!$G195=4,'liste engagés'!C195,\"\")","v":""},{"$f":"IF('liste engagés'!$G195=4,'liste engagés'!D195,\"\")","v":""},{"$f":"IF('liste engagés'!$G195=4,'liste engagés'!E195,\"\")","v":""},{"$f":"IF('liste engagés'!$G195=4,'liste engagés'!K195,\"\")","v":""},{"$f":"IF('liste engagés'!$G195=4,'liste engagés'!L195,\"\")","v":""},0]
[191,{"$f":"IF('liste engagés'!$G196=4,'liste engagés'!A196,\"\")","v":""},{"$f":"IF('liste engagés'!$G196=4,'liste engagés'!B196,\"\")","v":""},{"$f":"IF('liste engagés'!$G196=4,'liste engagés'!C196,\"\")","v":""},{"$f":"IF('liste engagés'!$G196=4,'liste engagés'!D196,\"\")","v":""},{"$f":"IF('liste engagés'!$G196=4,'liste engagés'!E196,\"\")","v":""},{"$f":"IF('liste engagés'!$G196=4,'liste engagés'!K196,\"\")","v":""},{"$f":"IF('liste engagés'!$G196=4,'liste engagés'!L196,\"\")","v":""},0]
[192,{"$f":"IF('liste engagés'!$G197=4,'liste engagés'!A197,\"\")","v":""},{"$f":"IF('liste engagés'!$G197=4,'liste engagés'!B197,\"\")","v":""},{"$f":"IF('liste engagés'!$G197=4,'liste engagés'!C197,\"\")","v":""},{"$f":"IF('liste engagés'!$G197=4,'liste engagés'!D197,\"\")","v":""},{"$f":"IF('liste engagés'!$G197=4,'liste engagés'!E197,\"\")","v":""},{"$f":"IF('liste engagés'!$G197=4,'liste engagés'!K197,\"\")","v":""},{"$f":"IF('liste engagés'!$G197=4,'liste engagés'!L197,\"\")","v":""},0]
[193,{"$f":"IF('liste engagés'!$G198=4,'liste engagés'!A198,\"\")","v":""},{"$f":"IF('liste engagés'!$G198=4,'liste engagés'!B198,\"\")","v":""},{"$f":"IF('liste engagés'!$G198=4,'liste engagés'!C198,\"\")","v":""},{"$f":"IF('liste engagés'!$G198=4,'liste engagés'!D198,\"\")","v":""},{"$f":"IF('liste engagés'!$G198=4,'liste engagés'!E198,\"\")","v":""},{"$f":"IF('liste engagés'!$G198=4,'liste engagés'!K198,\"\")","v":""},{"$f":"IF('liste engagés'!$G198=4,'liste engagés'!L198,\"\")","v":""},{"$f":"+IF(C199=\"\",0,1)","v":0}]
[{"$f":"+A199+1","v":194},{"$f":"IF('liste engagés'!$G199=4,'liste engagés'!A199,\"\")","v":""},{"$f":"IF('liste engagés'!$G199=4,'liste engagés'!B199,\"\")","v":""},{"$f":"IF('liste engagés'!$G199=4,'liste engagés'!C199,\"\")","v":""},{"$f":"IF('liste engagés'!$G199=4,'liste engagés'!D199,\"\")","v":""},{"$f":"IF('liste engagés'!$G199=4,'liste engagés'!E199,\"\")","v":""},{"$f":"IF('liste engagés'!$G199=4,'liste engagés'!K199,\"\")","v":""},{"$f":"IF('liste engagés'!$G199=4,'liste engagés'!L199,\"\")","v":""},0]
[195,{"$f":"IF('liste engagés'!$G200=4,'liste engagés'!A200,\"\")","v":""},{"$f":"IF('liste engagés'!$G200=4,'liste engagés'!B200,\"\")","v":""},{"$f":"IF('liste engagés'!$G200=4,'liste engagés'!C200,\"\")","v":""},{"$f":"IF('liste engagés'!$G200=4,'liste engagés'!D200,\"\")","v":""},{"$f":"IF('liste engagés'!$G200=4,'liste engagés'!E200,\"\")","v":""},{"$f":"IF('liste engagés'!$G200=4,'liste engagés'!K200,\"\")","v":""},{"$f":"IF('liste engagés'!$G200=4,'liste engagés'!L200,\"\")","v":""},0]
[196,{"$f":"IF('liste engagés'!$G201=4,'liste engagés'!A201,\"\")","v":""},{"$f":"IF('liste engagés'!$G201=4,'liste engagés'!B201,\"\")","v":""},{"$f":"IF('liste engagés'!$G201=4,'liste engagés'!C201,\"\")","v":""},{"$f":"IF('liste engagés'!$G201=4,'liste engagés'!D201,\"\")","v":""},{"$f":"IF('liste engagés'!$G201=4,'liste engagés'!E201,\"\")","v":""},{"$f":"IF('liste engagés'!$G201=4,'liste engagés'!K201,\"\")","v":""},{"$f":"IF('liste engagés'!$G201=4,'liste engagés'!L201,\"\")","v":""},0]
[197,{"$f":"IF('liste engagés'!$G202=4,'liste engagés'!A202,\"\")","v":""},{"$f":"IF('liste engagés'!$G202=4,'liste engagés'!B202,\"\")","v":""},{"$f":"IF('liste engagés'!$G202=4,'liste engagés'!C202,\"\")","v":""},{"$f":"IF('liste engagés'!$G202=4,'liste engagés'!D202,\"\")","v":""},{"$f":"IF('liste engagés'!$G202=4,'liste engagés'!E202,\"\")","v":""},{"$f":"IF('liste engagés'!$G202=4,'liste engagés'!K202,\"\")","v":""},{"$f":"IF('liste engagés'!$G202=4,'liste engagés'!L202,\"\")","v":""},0]
[198,{"$f":"IF('liste engagés'!$G203=4,'liste engagés'!A203,\"\")","v":""},{"$f":"IF('liste engagés'!$G203=4,'liste engagés'!B203,\"\")","v":""},{"$f":"IF('liste engagés'!$G203=4,'liste engagés'!C203,\"\")","v":""},{"$f":"IF('liste engagés'!$G203=4,'liste engagés'!D203,\"\")","v":""},{"$f":"IF('liste engagés'!$G203=4,'liste engagés'!E203,\"\")","v":""},{"$f":"IF('liste engagés'!$G203=4,'liste engagés'!K203,\"\")","v":""},{"$f":"IF('liste engagés'!$G203=4,'liste engagés'!L203,\"\")","v":""},0]
[199,{"$f":"IF('liste engagés'!$G204=4,'liste engagés'!A204,\"\")","v":""},{"$f":"IF('liste engagés'!$G204=4,'liste engagés'!B204,\"\")","v":""},{"$f":"IF('liste engagés'!$G204=4,'liste engagés'!C204,\"\")","v":""},{"$f":"IF('liste engagés'!$G204=4,'liste engagés'!D204,\"\")","v":""},{"$f":"IF('liste engagés'!$G204=4,'liste engagés'!E204,\"\")","v":""},{"$f":"IF('liste engagés'!$G204=4,'liste engagés'!K204,\"\")","v":""},{"$f":"IF('liste engagés'!$G204=4,'liste engagés'!L204,\"\")","v":""},0]
[200,{"$f":"IF('liste engagés'!$G205=4,'liste engagés'!A205,\"\")","v":""},{"$f":"IF('liste engagés'!$G205=4,'liste engagés'!B205,\"\")","v":""},{"$f":"IF('liste engagés'!$G205=4,'liste engagés'!C205,\"\")","v":""},{"$f":"IF('liste engagés'!$G205=4,'liste engagés'!D205,\"\")","v":""},{"$f":"IF('liste engagés'!$G205=4,'liste engagés'!E205,\"\")","v":""},{"$f":"IF('liste engagés'!$G205=4,'liste engagés'!K205,\"\")","v":""},{"$f":"IF('liste engagés'!$G205=4,'liste engagés'!L205,\"\")","v":""},0]
[201,{"$f":"IF('liste engagés'!$G206=4,'liste engagés'!A206,\"\")","v":""},{"$f":"IF('liste engagés'!$G206=4,'liste engagés'!B206,\"\")","v":""},{"$f":"IF('liste engagés'!$G206=4,'liste engagés'!C206,\"\")","v":""},{"$f":"IF('liste engagés'!$G206=4,'liste engagés'!D206,\"\")","v":""},{"$f":"IF('liste engagés'!$G206=4,'liste engagés'!E206,\"\")","v":""},{"$f":"IF('liste engagés'!$G206=4,'liste engagés'!K206,\"\")","v":""},{"$f":"IF('liste engagés'!$G206=4,'liste engagés'!L206,\"\")","v":""},0]
[202,{"$f":"IF('liste engagés'!$G207=4,'liste engagés'!A207,\"\")","v":""},{"$f":"IF('liste engagés'!$G207=4,'liste engagés'!B207,\"\")","v":""},{"$f":"IF('liste engagés'!$G207=4,'liste engagés'!C207,\"\")","v":""},{"$f":"IF('liste engagés'!$G207=4,'liste engagés'!D207,\"\")","v":""},{"$f":"IF('liste engagés'!$G207=4,'liste engagés'!E207,\"\")","v":""},{"$f":"IF('liste engagés'!$G207=4,'liste engagés'!K207,\"\")","v":""},{"$f":"IF('liste engagés'!$G207=4,'liste engagés'!L207,\"\")","v":""},0]
[203,{"$f":"IF('liste engagés'!$G208=4,'liste engagés'!A208,\"\")","v":""},{"$f":"IF('liste engagés'!$G208=4,'liste engagés'!B208,\"\")","v":""},{"$f":"IF('liste engagés'!$G208=4,'liste engagés'!C208,\"\")","v":""},{"$f":"IF('liste engagés'!$G208=4,'liste engagés'!D208,\"\")","v":""},{"$f":"IF('liste engagés'!$G208=4,'liste engagés'!E208,\"\")","v":""},{"$f":"IF('liste engagés'!$G208=4,'liste engagés'!K208,\"\")","v":""},{"$f":"IF('liste engagés'!$G208=4,'liste engagés'!L208,\"\")","v":""},0]
[204,{"$f":"IF('liste engagés'!$G209=4,'liste engagés'!A209,\"\")","v":""},{"$f":"IF('liste engagés'!$G209=4,'liste engagés'!B209,\"\")","v":""},{"$f":"IF('liste engagés'!$G209=4,'liste engagés'!C209,\"\")","v":""},{"$f":"IF('liste engagés'!$G209=4,'liste engagés'!D209,\"\")","v":""},{"$f":"IF('liste engagés'!$G209=4,'liste engagés'!E209,\"\")","v":""},{"$f":"IF('liste engagés'!$G209=4,'liste engagés'!K209,\"\")","v":""},{"$f":"IF('liste engagés'!$G209=4,'liste engagés'!L209,\"\")","v":""},0]
[205,{"$f":"IF('liste engagés'!$G210=4,'liste engagés'!A210,\"\")","v":""},{"$f":"IF('liste engagés'!$G210=4,'liste engagés'!B210,\"\")","v":""},{"$f":"IF('liste engagés'!$G210=4,'liste engagés'!C210,\"\")","v":""},{"$f":"IF('liste engagés'!$G210=4,'liste engagés'!D210,\"\")","v":""},{"$f":"IF('liste engagés'!$G210=4,'liste engagés'!E210,\"\")","v":""},{"$f":"IF('liste engagés'!$G210=4,'liste engagés'!K210,\"\")","v":""},{"$f":"IF('liste engagés'!$G210=4,'liste engagés'!L210,\"\")","v":""},0]
[206,{"$f":"IF('liste engagés'!$G211=4,'liste engagés'!A211,\"\")","v":""},{"$f":"IF('liste engagés'!$G211=4,'liste engagés'!B211,\"\")","v":""},{"$f":"IF('liste engagés'!$G211=4,'liste engagés'!C211,\"\")","v":""},{"$f":"IF('liste engagés'!$G211=4,'liste engagés'!D211,\"\")","v":""},{"$f":"IF('liste engagés'!$G211=4,'liste engagés'!E211,\"\")","v":""},{"$f":"IF('liste engagés'!$G211=4,'liste engagés'!K211,\"\")","v":""},{"$f":"IF('liste engagés'!$G211=4,'liste engagés'!L211,\"\")","v":""},0]
[207,{"$f":"IF('liste engagés'!$G212=4,'liste engagés'!A212,\"\")","v":""},{"$f":"IF('liste engagés'!$G212=4,'liste engagés'!B212,\"\")","v":""},{"$f":"IF('liste engagés'!$G212=4,'liste engagés'!C212,\"\")","v":""},{"$f":"IF('liste engagés'!$G212=4,'liste engagés'!D212,\"\")","v":""},{"$f":"IF('liste engagés'!$G212=4,'liste engagés'!E212,\"\")","v":""},{"$f":"IF('liste engagés'!$G212=4,'liste engagés'!K212,\"\")","v":""},{"$f":"IF('liste engagés'!$G212=4,'liste engagés'!L212,\"\")","v":""},0]
[208,{"$f":"IF('liste engagés'!$G213=4,'liste engagés'!A213,\"\")","v":""},{"$f":"IF('liste engagés'!$G213=4,'liste engagés'!B213,\"\")","v":""},{"$f":"IF('liste engagés'!$G213=4,'liste engagés'!C213,\"\")","v":""},{"$f":"IF('liste engagés'!$G213=4,'liste engagés'!D213,\"\")","v":""},{"$f":"IF('liste engagés'!$G213=4,'liste engagés'!E213,\"\")","v":""},{"$f":"IF('liste engagés'!$G213=4,'liste engagés'!K213,\"\")","v":""},{"$f":"IF('liste engagés'!$G213=4,'liste engagés'!L213,\"\")","v":""},0]
[209,{"$f":"IF('liste engagés'!$G214=4,'liste engagés'!A214,\"\")","v":""},{"$f":"IF('liste engagés'!$G214=4,'liste engagés'!B214,\"\")","v":""},{"$f":"IF('liste engagés'!$G214=4,'liste engagés'!C214,\"\")","v":""},{"$f":"IF('liste engagés'!$G214=4,'liste engagés'!D214,\"\")","v":""},{"$f":"IF('liste engagés'!$G214=4,'liste engagés'!E214,\"\")","v":""},{"$f":"IF('liste engagés'!$G214=4,'liste engagés'!K214,\"\")","v":""},{"$f":"IF('liste engagés'!$G214=4,'liste engagés'!L214,\"\")","v":""},0]
[210,{"$f":"IF('liste engagés'!$G215=4,'liste engagés'!A215,\"\")","v":""},{"$f":"IF('liste engagés'!$G215=4,'liste engagés'!B215,\"\")","v":""},{"$f":"IF('liste engagés'!$G215=4,'liste engagés'!C215,\"\")","v":""},{"$f":"IF('liste engagés'!$G215=4,'liste engagés'!D215,\"\")","v":""},{"$f":"IF('liste engagés'!$G215=4,'liste engagés'!E215,\"\")","v":""},{"$f":"IF('liste engagés'!$G215=4,'liste engagés'!K215,\"\")","v":""},{"$f":"IF('liste engagés'!$G215=4,'liste engagés'!L215,\"\")","v":""},0]
[null,null,null,null,null,null,null,null,{"$f":"SUM(I7:I216)","v":12}]

{"sheet":"cat5","index":8,"n_rows":217,"n_cols":10,"rows_kept":217,"cut":false,"hidden":false,"merged":[]}
[{"$f":"+MENU!A1","v":"CHRONO DES LIMOUCHES "},null,null,null,null,null,{"$f":"+MENU!I1","v":"EDITION"},{"$f":"+MENU!J1","v":2018}]
[null,null,null,null,null,null,null,null,"code cat",5]
["CLASSEMENT :",null,{"$f":"+IF(J2=\"\",\"\",VLOOKUP($J$2,Catégories!B3:D17,3))","v":"Autres fédés / non licenciés + 60 ans"}]
[]
[]
[null,"N°de DOSSARD","Nom ","Prénom","Club","Fédération","Temps","Moyenne"]
[1,{"$f":"IF('liste engagés'!$G95=5,'liste engagés'!A95,\"\")","v":90},{"$f":"IF('liste engagés'!$G95=5,'liste engagés'!B95,\"\")","v":"BARTHES"},{"$f":"IF('liste engagés'!$G95=5,'liste engagés'!C95,\"\")","v":"SERGE"},{"$f":"IF('liste engagés'!$G95=5,'liste engagés'!D95,\"\")","v":"UC ST SATURNIN"},{"$f":"IF('liste engagés'!$G95=5,'liste engagés'!E95,\"\")","v":"UFOLEP"},{"$f":"IF('liste engagés'!$G95=5,'liste engagés'!K95,\"\")","v":2.6979166666662224E-2},{"$f":"IF('liste engagés'!$G95=5,'liste engagés'!L95,\"\")","v":17.606177606180506},{"$f":"+IF(C7=\"\",0,1)","v":1}]
[{"$f":"+A7+1","v":2},{"$f":"IF('liste engagés'!$G76=5,'liste engagés'!A76,\"\")","v":71},{"$f":"IF('liste engagés'!$G76=5,'liste engagés'!B76,\"\")","v":"BERNARD"},{"$f":"IF('liste engagés'!$G76=5,'liste engagés'!C76,\"\")","v":"CLAUDE"},{"$f":"IF('liste engagés'!$G76=5,'liste engagés'!D76,\"\")","v":"FRIOL CLUB"},{"$f":"IF('liste engagés'!$G76=5,'liste engagés'!E76,\"\")","v":"VELO RANDO"},{"$f":"IF('liste engagés'!$G76=5,'liste engagés'!K76,\"\")","v":2.8449074074070158E-2},{"$f":"IF('liste engagés'!$G76=5,'liste engagés'!L76,\"\")","v":16.696501220506775},1]
[3,{"$f":"IF('liste engagés'!$G6=5,'liste engagés'!A6,\"\")","v":""},{"$f":"IF('liste engagés'!$G6=5,'liste engagés'!B6,\"\")","v":""},{"$f":"IF('liste engagés'!$G6=5,'liste engagés'!C6,\"\")","v":""},{"$f":"IF('liste engagés'!$G6=5,'liste engagés'!D6,\"\")","v":""},{"$f":"IF('liste engagés'!$G6=5,'liste engagés'!E6,\"\")","v":""},{"$f":"IF('liste engagés'!$G6=5,'liste engagés'!K6,\"\")","v":""},{"$f":"IF('liste engagés'!$G6=5,'liste engagés'!L6,\"\")","v":""},0]
[4,{"$f":"IF('liste engagés'!$G7=5,'liste engagés'!A7,\"\")","v":""},{"$f":"IF('liste engagés'!$G7=5,'liste engagés'!B7,\"\")","v":""},{"$f":"IF('liste engagés'!$G7=5,'liste engagés'!C7,\"\")","v":""},{"$f":"IF('liste engagés'!$G7=5,'liste engagés'!D7,\"\")","v":""},{"$f":"IF('liste engagés'!$G7=5,'liste engagés'!E7,\"\")","v":""},{"$f":"IF('liste engagés'!$G7=5,'liste engagés'!K7,\"\")","v":""},{"$f":"IF('liste engagés'!$G7=5,'liste engagés'!L7,\"\")","v":""},0]
[5,{"$f":"IF('liste engagés'!$G8=5,'liste engagés'!A8,\"\")","v":""},{"$f":"IF('liste engagés'!$G8=5,'liste engagés'!B8,\"\")","v":""},{"$f":"IF('liste engagés'!$G8=5,'liste engagés'!C8,\"\")","v":""},{"$f":"IF('liste engagés'!$G8=5,'liste engagés'!D8,\"\")","v":""},{"$f":"IF('liste engagés'!$G8=5,'liste engagés'!E8,\"\")","v":""},{"$f":"IF('liste engagés'!$G8=5,'liste engagés'!K8,\"\")","v":""},{"$f":"IF('liste engagés'!$G8=5,'liste engagés'!L8,\"\")","v":""},0]
[6,{"$f":"IF('liste engagés'!$G9=5,'liste engagés'!A9,\"\")","v":""},{"$f":"IF('liste engagés'!$G9=5,'liste engagés'!B9,\"\")","v":""},{"$f":"IF('liste engagés'!$G9=5,'liste engagés'!C9,\"\")","v":""},{"$f":"IF('liste engagés'!$G9=5,'liste engagés'!D9,\"\")","v":""},{"$f":"IF('liste engagés'!$G9=5,'liste engagés'!E9,\"\")","v":""},{"$f":"IF('liste engagés'!$G9=5,'liste engagés'!K9,\"\")","v":""},{"$f":"IF('liste engagés'!$G9=5,'liste engagés'!L9,\"\")","v":""},0]
[7,{"$f":"IF('liste engagés'!$G10=5,'liste engagés'!A10,\"\")","v":""},{"$f":"IF('liste engagés'!$G10=5,'liste engagés'!B10,\"\")","v":""},{"$f":"IF('liste engagés'!$G10=5,'liste engagés'!C10,\"\")","v":""},{"$f":"IF('liste engagés'!$G10=5,'liste engagés'!D10,\"\")","v":""},{"$f":"IF('liste engagés'!$G10=5,'liste engagés'!E10,\"\")","v":""},{"$f":"IF('liste engagés'!$G10=5,'liste engagés'!K10,\"\")","v":""},{"$f":"IF('liste engagés'!$G10=5,'liste engagés'!L10,\"\")","v":""},0]
[8,{"$f":"IF('liste engagés'!$G11=5,'liste engagés'!A11,\"\")","v":""},{"$f":"IF('liste engagés'!$G11=5,'liste engagés'!B11,\"\")","v":""},{"$f":"IF('liste engagés'!$G11=5,'liste engagés'!C11,\"\")","v":""},{"$f":"IF('liste engagés'!$G11=5,'liste engagés'!D11,\"\")","v":""},{"$f":"IF('liste engagés'!$G11=5,'liste engagés'!E11,\"\")","v":""},{"$f":"IF('liste engagés'!$G11=5,'liste engagés'!K11,\"\")","v":""},{"$f":"IF('liste engagés'!$G11=5,'liste engagés'!L11,\"\")","v":""},0]
[9,{"$f":"IF('liste engagés'!$G12=5,'liste engagés'!A12,\"\")","v":""},{"$f":"IF('liste engagés'!$G12=5,'liste engagés'!B12,\"\")","v":""},{"$f":"IF('liste engagés'!$G12=5,'liste engagés'!C12,\"\")","v":""},{"$f":"IF('liste engagés'!$G12=5,'liste engagés'!D12,\"\")","v":""},{"$f":"IF('liste engagés'!$G12=5,'liste engagés'!E12,\"\")","v":""},{"$f":"IF('liste engagés'!$G12=5,'liste engagés'!K12,\"\")","v":""},{"$f":"IF('liste engagés'!$G12=5,'liste engagés'!L12,\"\")","v":""},0]
[10,{"$f":"IF('liste engagés'!$G13=5,'liste engagés'!A13,\"\")","v":""},{"$f":"IF('liste engagés'!$G13=5,'liste engagés'!B13,\"\")","v":""},{"$f":"IF('liste engagés'!$G13=5,'liste engagés'!C13,\"\")","v":""},{"$f":"IF('liste engagés'!$G13=5,'liste engagés'!D13,\"\")","v":""},{"$f":"IF('liste engagés'!$G13=5,'liste engagés'!E13,\"\")","v":""},{"$f":"IF('liste engagés'!$G13=5,'liste engagés'!K13,\"\")","v":""},{"$f":"IF('liste engagés'!$G13=5,'liste engagés'!L13,\"\")","v":""},0]
[11,{"$f":"IF('liste engagés'!$G14=5,'liste engagés'!A14,\"\")","v":""},{"$f":"IF('liste engagés'!$G14=5,'liste engagés'!B14,\"\")","v":""},{"$f":"IF('liste engagés'!$G14=5,'liste engagés'!C14,\"\")","v":""},{"$f":"IF('liste engagés'!$G14=5,'liste engagés'!D14,\"\")","v":""},{"$f":"IF('liste engagés'!$G14=5,'liste engagés'!E14,\"\")","v":""},{"$f":"IF('liste engagés'!$G14=5,'liste engagés'!K14,\"\")","v":""},{"$f":"IF('liste engagés'!$G14=5,'liste engagés'!L14,\"\")","v":""},0]
[12,{"$f":"IF('liste engagés'!$G15=5,'liste engagés'!A15,\"\")","v":""},{"$f":"IF('liste engagés'!$G15=5,'liste engagés'!B15,\"\")","v":""},{"$f":"IF('liste engagés'!$G15=5,'liste engagés'!C15,\"\")","v":""},{"$f":"IF('liste engagés'!$G15=5,'liste engagés'!D15,\"\")","v":""},{"$f":"IF('liste engagés'!$G15=5,'liste engagés'!E15,\"\")","v":""},{"$f":"IF('liste engagés'!$G15=5,'liste engagés'!K15,\"\")","v":""},{"$f":"IF('liste engagés'!$G15=5,'liste engagés'!L15,\"\")","v":""},0]
[13,{"$f":"IF('liste engagés'!$G16=5,'liste engagés'!A16,\"\")","v":""},{"$f":"IF('liste engagés'!$G16=5,'liste engagés'!B16,\"\")","v":""},{"$f":"IF('liste engagés'!$G16=5,'liste engagés'!C16,\"\")","v":""},{"$f":"IF('liste engagés'!$G16=5,'liste engagés'!D16,\"\")","v":""},{"$f":"IF('liste engagés'!$G16=5,'liste engagés'!E16,\"\")","v":""},{"$f":"IF('liste engagés'!$G16=5,'liste engagés'!K16,\"\")","v":""},{"$f":"IF('liste engagés'!$G16=5,'liste engagés'!L16,\"\")","v":""},0]
[14,{"$f":"IF('liste engagés'!$G17=5,'liste engagés'!A17,\"\")","v":""},{"$f":"IF('liste engagés'!$G17=5,'liste engagés'!B17,\"\")","v":""},{"$f":"IF('liste engagés'!$G17=5,'liste engagés'!C17,\"\")","v":""},{"$f":"IF('liste engagés'!$G17=5,'liste engagés'!D17,\"\")","v":""},{"$f":"IF('liste engagés'!$G17=5,'liste engagés'!E17,\"\")","v":""},{"$f":"IF('liste engagés'!$G17=5,'liste engagés'!K17,\"\")","v":""},{"$f":"IF('liste engagés'!$G17=5,'liste engagés'!L17,\"\")","v":""},0]
[15,{"$f":"IF('liste engagés'!$G18=5,'liste engagés'!A18,\"\")","v":""},{"$f":"IF('liste engagés'!$G18=5,'liste engagés'!B18,\"\")","v":""},{"$f":"IF('liste engagés'!$G18=5,'liste engagés'!C18,\"\")","v":""},{"$f":"IF('liste engagés'!$G18=5,'liste engagés'!D18,\"\")","v":""},{"$f":"IF('liste engagés'!$G18=5,'liste engagés'!E18,\"\")","v":""},{"$f":"IF('liste engagés'!$G18=5,'liste engagés'!K18,\"\")","v":""},{"$f":"IF('liste engagés'!$G18=5,'liste engagés'!L18,\"\")","v":""},0]
[16,{"$f":"IF('liste engagés'!$G19=5,'liste engagés'!A19,\"\")","v":""},{"$f":"IF('liste engagés'!$G19=5,'liste engagés'!B19,\"\")","v":""},{"$f":"IF('liste engagés'!$G19=5,'liste engagés'!C19,\"\")","v":""},{"$f":"IF('liste engagés'!$G19=5,'liste engagés'!D19,\"\")","v":""},{"$f":"IF('liste engagés'!$G19=5,'liste engagés'!E19,\"\")","v":""},{"$f":"IF('liste engagés'!$G19=5,'liste engagés'!K19,\"\")","v":""},{"$f":"IF('liste engagés'!$G19=5,'liste engagés'!L19,\"\")","v":""},0]
[17,{"$f":"IF('liste engagés'!$G20=5,'liste engagés'!A20,\"\")","v":""},{"$f":"IF('liste engagés'!$G20=5,'liste engagés'!B20,\"\")","v":""},{"$f":"IF('liste engagés'!$G20=5,'liste engagés'!C20,\"\")","v":""},{"$f":"IF('liste engagés'!$G20=5,'liste engagés'!D20,\"\")","v":""},{"$f":"IF('liste engagés'!$G20=5,'liste engagés'!E20,\"\")","v":""},{"$f":"IF('liste engagés'!$G20=5,'liste engagés'!K20,\"\")","v":""},{"$f":"IF('liste engagés'!$G20=5,'liste engagés'!L20,\"\")","v":""},0]
[18,{"$f":"IF('liste engagés'!$G21=5,'liste engagés'!A21,\"\")","v":""},{"$f":"IF('liste engagés'!$G21=5,'liste engagés'!B21,\"\")","v":""},{"$f":"IF('liste engagés'!$G21=5,'liste engagés'!C21,\"\")","v":""},{"$f":"IF('liste engagés'!$G21=5,'liste engagés'!D21,\"\")","v":""},{"$f":"IF('liste engagés'!$G21=5,'liste engagés'!E21,\"\")","v":""},{"$f":"IF('liste engagés'!$G21=5,'liste engagés'!K21,\"\")","v":""},{"$f":"IF('liste engagés'!$G21=5,'liste engagés'!L21,\"\")","v":""},0]
[19,{"$f":"IF('liste engagés'!$G22=5,'liste engagés'!A22,\"\")","v":""},{"$f":"IF('liste engagés'!$G22=5,'liste engagés'!B22,\"\")","v":""},{"$f":"IF('liste engagés'!$G22=5,'liste engagés'!C22,\"\")","v":""},{"$f":"IF('liste engagés'!$G22=5,'liste engagés'!D22,\"\")","v":""},{"$f":"IF('liste engagés'!$G22=5,'liste engagés'!E22,\"\")","v":""},{"$f":"IF('liste engagés'!$G22=5,'liste engagés'!K22,\"\")","v":""},{"$f":"IF('liste engagés'!$G22=5,'liste engagés'!L22,\"\")","v":""},0]
[20,{"$f":"IF('liste engagés'!$G23=5,'liste engagés'!A23,\"\")","v":""},{"$f":"IF('liste engagés'!$G23=5,'liste engagés'!B23,\"\")","v":""},{"$f":"IF('liste engagés'!$G23=5,'liste engagés'!C23,\"\")","v":""},{"$f":"IF('liste engagés'!$G23=5,'liste engagés'!D23,\"\")","v":""},{"$f":"IF('liste engagés'!$G23=5,'liste engagés'!E23,\"\")","v":""},{"$f":"IF('liste engagés'!$G23=5,'liste engagés'!K23,\"\")","v":""},{"$f":"IF('liste engagés'!$G23=5,'liste engagés'!L23,\"\")","v":""},0]
[21,{"$f":"IF('liste engagés'!$G24=5,'liste engagés'!A24,\"\")","v":""},{"$f":"IF('liste engagés'!$G24=5,'liste engagés'!B24,\"\")","v":""},{"$f":"IF('liste engagés'!$G24=5,'liste engagés'!C24,\"\")","v":""},{"$f":"IF('liste engagés'!$G24=5,'liste engagés'!D24,\"\")","v":""},{"$f":"IF('liste engagés'!$G24=5,'liste engagés'!E24,\"\")","v":""},{"$f":"IF('liste engagés'!$G24=5,'liste engagés'!K24,\"\")","v":""},{"$f":"IF('liste engagés'!$G24=5,'liste engagés'!L24,\"\")","v":""},0]
[22,{"$f":"IF('liste engagés'!$G25=5,'liste engagés'!A25,\"\")","v":""},{"$f":"IF('liste engagés'!$G25=5,'liste engagés'!B25,\"\")","v":""},{"$f":"IF('liste engagés'!$G25=5,'liste engagés'!C25,\"\")","v":""},{"$f":"IF('liste engagés'!$G25=5,'liste engagés'!D25,\"\")","v":""},{"$f":"IF('liste engagés'!$G25=5,'liste engagés'!E25,\"\")","v":""},{"$f":"IF('liste engagés'!$G25=5,'liste engagés'!K25,\"\")","v":""},{"$f":"IF('liste engagés'!$G25=5,'liste engagés'!L25,\"\")","v":""},0]
[23,{"$f":"IF('liste engagés'!$G26=5,'liste engagés'!A26,\"\")","v":""},{"$f":"IF('liste engagés'!$G26=5,'liste engagés'!B26,\"\")","v":""},{"$f":"IF('liste engagés'!$G26=5,'liste engagés'!C26,\"\")","v":""},{"$f":"IF('liste engagés'!$G26=5,'liste engagés'!D26,\"\")","v":""},{"$f":"IF('liste engagés'!$G26=5,'liste engagés'!E26,\"\")","v":""},{"$f":"IF('liste engagés'!$G26=5,'liste engagés'!K26,\"\")","v":""},{"$f":"IF('liste engagés'!$G26=5,'liste engagés'!L26,\"\")","v":""},0]
[24,{"$f":"IF('liste engagés'!$G27=5,'liste engagés'!A27,\"\")","v":""},{"$f":"IF('liste engagés'!$G27=5,'liste engagés'!B27,\"\")","v":""},{"$f":"IF('liste engagés'!$G27=5,'liste engagés'!C27,\"\")","v":""},{"$f":"IF('liste engagés'!$G27=5,'liste engagés'!D27,\"\")","v":""},{"$f":"IF('liste engagés'!$G27=5,'liste engagés'!E27,\"\")","v":""},{"$f":"IF('liste engagés'!$G27=5,'liste engagés'!K27,\"\")","v":""},{"$f":"IF('liste engagés'!$G27=5,'liste engagés'!L27,\"\")","v":""},0]
[25,{"$f":"IF('liste engagés'!$G28=5,'liste engagés'!A28,\"\")","v":""},{"$f":"IF('liste engagés'!$G28=5,'liste engagés'!B28,\"\")","v":""},{"$f":"IF('liste engagés'!$G28=5,'liste engagés'!C28,\"\")","v":""},{"$f":"IF('liste engagés'!$G28=5,'liste engagés'!D28,\"\")","v":""},{"$f":"IF('liste engagés'!$G28=5,'liste engagés'!E28,\"\")","v":""},{"$f":"IF('liste engagés'!$G28=5,'liste engagés'!K28,\"\")","v":""},{"$f":"IF('liste engagés'!$G28=5,'liste engagés'!L28,\"\")","v":""},0]
[26,{"$f":"IF('liste engagés'!$G29=5,'liste engagés'!A29,\"\")","v":""},{"$f":"IF('liste engagés'!$G29=5,'liste engagés'!B29,\"\")","v":""},{"$f":"IF('liste engagés'!$G29=5,'liste engagés'!C29,\"\")","v":""},{"$f":"IF('liste engagés'!$G29=5,'liste engagés'!D29,\"\")","v":""},{"$f":"IF('liste engagés'!$G29=5,'liste engagés'!E29,\"\")","v":""},{"$f":"IF('liste engagés'!$G29=5,'liste engagés'!K29,\"\")","v":""},{"$f":"IF('liste engagés'!$G29=5,'liste engagés'!L29,\"\")","v":""},0]
[27,{"$f":"IF('liste engagés'!$G30=5,'liste engagés'!A30,\"\")","v":""},{"$f":"IF('liste engagés'!$G30=5,'liste engagés'!B30,\"\")","v":""},{"$f":"IF('liste engagés'!$G30=5,'liste engagés'!C30,\"\")","v":""},{"$f":"IF('liste engagés'!$G30=5,'liste engagés'!D30,\"\")","v":""},{"$f":"IF('liste engagés'!$G30=5,'liste engagés'!E30,\"\")","v":""},{"$f":"IF('liste engagés'!$G30=5,'liste engagés'!K30,\"\")","v":""},{"$f":"IF('liste engagés'!$G30=5,'liste engagés'!L30,\"\")","v":""},0]
[28,{"$f":"IF('liste engagés'!$G31=5,'liste engagés'!A31,\"\")","v":""},{"$f":"IF('liste engagés'!$G31=5,'liste engagés'!B31,\"\")","v":""},{"$f":"IF('liste engagés'!$G31=5,'liste engagés'!C31,\"\")","v":""},{"$f":"IF('liste engagés'!$G31=5,'liste engagés'!D31,\"\")","v":""},{"$f":"IF('liste engagés'!$G31=5,'liste engagés'!E31,\"\")","v":""},{"$f":"IF('liste engagés'!$G31=5,'liste engagés'!K31,\"\")","v":""},{"$f":"IF('liste engagés'!$G31=5,'liste engagés'!L31,\"\")","v":""},0]
[29,{"$f":"IF('liste engagés'!$G32=5,'liste engagés'!A32,\"\")","v":""},{"$f":"IF('liste engagés'!$G32=5,'liste engagés'!B32,\"\")","v":""},{"$f":"IF('liste engagés'!$G32=5,'liste engagés'!C32,\"\")","v":""},{"$f":"IF('liste engagés'!$G32=5,'liste engagés'!D32,\"\")","v":""},{"$f":"IF('liste engagés'!$G32=5,'liste engagés'!E32,\"\")","v":""},{"$f":"IF('liste engagés'!$G32=5,'liste engagés'!K32,\"\")","v":""},{"$f":"IF('liste engagés'!$G32=5,'liste engagés'!L32,\"\")","v":""},0]
[30,{"$f":"IF('liste engagés'!$G33=5,'liste engagés'!A33,\"\")","v":""},{"$f":"IF('liste engagés'!$G33=5,'liste engagés'!B33,\"\")","v":""},{"$f":"IF('liste engagés'!$G33=5,'liste engagés'!C33,\"\")","v":""},{"$f":"IF('liste engagés'!$G33=5,'liste engagés'!D33,\"\")","v":""},{"$f":"IF('liste engagés'!$G33=5,'liste engagés'!E33,\"\")","v":""},{"$f":"IF('liste engagés'!$G33=5,'liste engagés'!K33,\"\")","v":""},{"$f":"IF('liste engagés'!$G33=5,'liste engagés'!L33,\"\")","v":""},0]
[31,{"$f":"IF('liste engagés'!$G34=5,'liste engagés'!A34,\"\")","v":""},{"$f":"IF('liste engagés'!$G34=5,'liste engagés'!B34,\"\")","v":""},{"$f":"IF('liste engagés'!$G34=5,'liste engagés'!C34,\"\")","v":""},{"$f":"IF('liste engagés'!$G34=5,'liste engagés'!D34,\"\")","v":""},{"$f":"IF('liste engagés'!$G34=5,'liste engagés'!E34,\"\")","v":""},{"$f":"IF('liste engagés'!$G34=5,'liste engagés'!K34,\"\")","v":""},{"$f":"IF('liste engagés'!$G34=5,'liste engagés'!L34,\"\")","v":""},0]
[32,{"$f":"IF('liste engagés'!$G35=5,'liste engagés'!A35,\"\")","v":""},{"$f":"IF('liste engagés'!$G35=5,'liste engagés'!B35,\"\")","v":""},{"$f":"IF('liste engagés'!$G35=5,'liste engagés'!C35,\"\")","v":""},{"$f":"IF('liste engagés'!$G35=5,'liste engagés'!D35,\"\")","v":""},{"$f":"IF('liste engagés'!$G35=5,'liste engagés'!E35,\"\")","v":""},{"$f":"IF('liste engagés'!$G35=5,'liste engagés'!K35,\"\")","v":""},{"$f":"IF('liste engagés'!$G35=5,'liste engagés'!L35,\"\")","v":""},0]
[33,{"$f":"IF('liste engagés'!$G36=5,'liste engagés'!A36,\"\")","v":""},{"$f":"IF('liste engagés'!$G36=5,'liste engagés'!B36,\"\")","v":""},{"$f":"IF('liste engagés'!$G36=5,'liste engagés'!C36,\"\")","v":""},{"$f":"IF('liste engagés'!$G36=5,'liste engagés'!D36,\"\")","v":""},{"$f":"IF('liste engagés'!$G36=5,'liste engagés'!E36,\"\")","v":""},{"$f":"IF('liste engagés'!$G36=5,'liste engagés'!K36,\"\")","v":""},{"$f":"IF('liste engagés'!$G36=5,'liste engagés'!L36,\"\")","v":""},0]
[34,{"$f":"IF('liste engagés'!$G37=5,'liste engagés'!A37,\"\")","v":""},{"$f":"IF('liste engagés'!$G37=5,'liste engagés'!B37,\"\")","v":""},{"$f":"IF('liste engagés'!$G37=5,'liste engagés'!C37,\"\")","v":""},{"$f":"IF('liste engagés'!$G37=5,'liste engagés'!D37,\"\")","v":""},{"$f":"IF('liste engagés'!$G37=5,'liste engagés'!E37,\"\")","v":""},{"$f":"IF('liste engagés'!$G37=5,'liste engagés'!K37,\"\")","v":""},{"$f":"IF('liste engagés'!$G37=5,'liste engagés'!L37,\"\")","v":""},0]
[35,{"$f":"IF('liste engagés'!$G38=5,'liste engagés'!A38,\"\")","v":""},{"$f":"IF('liste engagés'!$G38=5,'liste engagés'!B38,\"\")","v":""},{"$f":"IF('liste engagés'!$G38=5,'liste engagés'!C38,\"\")","v":""},{"$f":"IF('liste engagés'!$G38=5,'liste engagés'!D38,\"\")","v":""},{"$f":"IF('liste engagés'!$G38=5,'liste engagés'!E38,\"\")","v":""},{"$f":"IF('liste engagés'!$G38=5,'liste engagés'!K38,\"\")","v":""},{"$f":"IF('liste engagés'!$G38=5,'liste engagés'!L38,\"\")","v":""},0]
[36,{"$f":"IF('liste engagés'!$G39=5,'liste engagés'!A39,\"\")","v":""},{"$f":"IF('liste engagés'!$G39=5,'liste engagés'!B39,\"\")","v":""},{"$f":"IF('liste engagés'!$G39=5,'liste engagés'!C39,\"\")","v":""},{"$f":"IF('liste engagés'!$G39=5,'liste engagés'!D39,\"\")","v":""},{"$f":"IF('liste engagés'!$G39=5,'liste engagés'!E39,\"\")","v":""},{"$f":"IF('liste engagés'!$G39=5,'liste engagés'!K39,\"\")","v":""},{"$f":"IF('liste engagés'!$G39=5,'liste engagés'!L39,\"\")","v":""},0]
[37,{"$f":"IF('liste engagés'!$G40=5,'liste engagés'!A40,\"\")","v":""},{"$f":"IF('liste engagés'!$G40=5,'liste engagés'!B40,\"\")","v":""},{"$f":"IF('liste engagés'!$G40=5,'liste engagés'!C40,\"\")","v":""},{"$f":"IF('liste engagés'!$G40=5,'liste engagés'!D40,\"\")","v":""},{"$f":"IF('liste engagés'!$G40=5,'liste engagés'!E40,\"\")","v":""},{"$f":"IF('liste engagés'!$G40=5,'liste engagés'!K40,\"\")","v":""},{"$f":"IF('liste engagés'!$G40=5,'liste engagés'!L40,\"\")","v":""},0]
[38,{"$f":"IF('liste engagés'!$G41=5,'liste engagés'!A41,\"\")","v":""},{"$f":"IF('liste engagés'!$G41=5,'liste engagés'!B41,\"\")","v":""},{"$f":"IF('liste engagés'!$G41=5,'liste engagés'!C41,\"\")","v":""},{"$f":"IF('liste engagés'!$G41=5,'liste engagés'!D41,\"\")","v":""},{"$f":"IF('liste engagés'!$G41=5,'liste engagés'!E41,\"\")","v":""},{"$f":"IF('liste engagés'!$G41=5,'liste engagés'!K41,\"\")","v":""},{"$f":"IF('liste engagés'!$G41=5,'liste engagés'!L41,\"\")","v":""},0]
[39,{"$f":"IF('liste engagés'!$G42=5,'liste engagés'!A42,\"\")","v":""},{"$f":"IF('liste engagés'!$G42=5,'liste engagés'!B42,\"\")","v":""},{"$f":"IF('liste engagés'!$G42=5,'liste engagés'!C42,\"\")","v":""},{"$f":"IF('liste engagés'!$G42=5,'liste engagés'!D42,\"\")","v":""},{"$f":"IF('liste engagés'!$G42=5,'liste engagés'!E42,\"\")","v":""},{"$f":"IF('liste engagés'!$G42=5,'liste engagés'!K42,\"\")","v":""},{"$f":"IF('liste engagés'!$G42=5,'liste engagés'!L42,\"\")","v":""},0]
[40,{"$f":"IF('liste engagés'!$G43=5,'liste engagés'!A43,\"\")","v":""},{"$f":"IF('liste engagés'!$G43=5,'liste engagés'!B43,\"\")","v":""},{"$f":"IF('liste engagés'!$G43=5,'liste engagés'!C43,\"\")","v":""},{"$f":"IF('liste engagés'!$G43=5,'liste engagés'!D43,\"\")","v":""},{"$f":"IF('liste engagés'!$G43=5,'liste engagés'!E43,\"\")","v":""},{"$f":"IF('liste engagés'!$G43=5,'liste engagés'!K43,\"\")","v":""},{"$f":"IF('liste engagés'!$G43=5,'liste engagés'!L43,\"\")","v":""},0]
[41,{"$f":"IF('liste engagés'!$G44=5,'liste engagés'!A44,\"\")","v":""},{"$f":"IF('liste engagés'!$G44=5,'liste engagés'!B44,\"\")","v":""},{"$f":"IF('liste engagés'!$G44=5,'liste engagés'!C44,\"\")","v":""},{"$f":"IF('liste engagés'!$G44=5,'liste engagés'!D44,\"\")","v":""},{"$f":"IF('liste engagés'!$G44=5,'liste engagés'!E44,\"\")","v":""},{"$f":"IF('liste engagés'!$G44=5,'liste engagés'!K44,\"\")","v":""},{"$f":"IF('liste engagés'!$G44=5,'liste engagés'!L44,\"\")","v":""},0]
[42,{"$f":"IF('liste engagés'!$G45=5,'liste engagés'!A45,\"\")","v":""},{"$f":"IF('liste engagés'!$G45=5,'liste engagés'!B45,\"\")","v":""},{"$f":"IF('liste engagés'!$G45=5,'liste engagés'!C45,\"\")","v":""},{"$f":"IF('liste engagés'!$G45=5,'liste engagés'!D45,\"\")","v":""},{"$f":"IF('liste engagés'!$G45=5,'liste engagés'!E45,\"\")","v":""},{"$f":"IF('liste engagés'!$G45=5,'liste engagés'!K45,\"\")","v":""},{"$f":"IF('liste engagés'!$G45=5,'liste engagés'!L45,\"\")","v":""},0]
[43,{"$f":"IF('liste engagés'!$G46=5,'liste engagés'!A46,\"\")","v":""},{"$f":"IF('liste engagés'!$G46=5,'liste engagés'!B46,\"\")","v":""},{"$f":"IF('liste engagés'!$G46=5,'liste engagés'!C46,\"\")","v":""},{"$f":"IF('liste engagés'!$G46=5,'liste engagés'!D46,\"\")","v":""},{"$f":"IF('liste engagés'!$G46=5,'liste engagés'!E46,\"\")","v":""},{"$f":"IF('liste engagés'!$G46=5,'liste engagés'!K46,\"\")","v":""},{"$f":"IF('liste engagés'!$G46=5,'liste engagés'!L46,\"\")","v":""},0]
[44,{"$f":"IF('liste engagés'!$G47=5,'liste engagés'!A47,\"\")","v":""},{"$f":"IF('liste engagés'!$G47=5,'liste engagés'!B47,\"\")","v":""},{"$f":"IF('liste engagés'!$G47=5,'liste engagés'!C47,\"\")","v":""},{"$f":"IF('liste engagés'!$G47=5,'liste engagés'!D47,\"\")","v":""},{"$f":"IF('liste engagés'!$G47=5,'liste engagés'!E47,\"\")","v":""},{"$f":"IF('liste engagés'!$G47=5,'liste engagés'!K47,\"\")","v":""},{"$f":"IF('liste engagés'!$G47=5,'liste engagés'!L47,\"\")","v":""},0]
[45,{"$f":"IF('liste engagés'!$G48=5,'liste engagés'!A48,\"\")","v":""},{"$f":"IF('liste engagés'!$G48=5,'liste engagés'!B48,\"\")","v":""},{"$f":"IF('liste engagés'!$G48=5,'liste engagés'!C48,\"\")","v":""},{"$f":"IF('liste engagés'!$G48=5,'liste engagés'!D48,\"\")","v":""},{"$f":"IF('liste engagés'!$G48=5,'liste engagés'!E48,\"\")","v":""},{"$f":"IF('liste engagés'!$G48=5,'liste engagés'!K48,\"\")","v":""},{"$f":"IF('liste engagés'!$G48=5,'liste engagés'!L48,\"\")","v":""},0]
[46,{"$f":"IF('liste engagés'!$G49=5,'liste engagés'!A49,\"\")","v":""},{"$f":"IF('liste engagés'!$G49=5,'liste engagés'!B49,\"\")","v":""},{"$f":"IF('liste engagés'!$G49=5,'liste engagés'!C49,\"\")","v":""},{"$f":"IF('liste engagés'!$G49=5,'liste engagés'!D49,\"\")","v":""},{"$f":"IF('liste engagés'!$G49=5,'liste engagés'!E49,\"\")","v":""},{"$f":"IF('liste engagés'!$G49=5,'liste engagés'!K49,\"\")","v":""},{"$f":"IF('liste engagés'!$G49=5,'liste engagés'!L49,\"\")","v":""},0]
[47,{"$f":"IF('liste engagés'!$G50=5,'liste engagés'!A50,\"\")","v":""},{"$f":"IF('liste engagés'!$G50=5,'liste engagés'!B50,\"\")","v":""},{"$f":"IF('liste engagés'!$G50=5,'liste engagés'!C50,\"\")","v":""},{"$f":"IF('liste engagés'!$G50=5,'liste engagés'!D50,\"\")","v":""},{"$f":"IF('liste engagés'!$G50=5,'liste engagés'!E50,\"\")","v":""},{"$f":"IF('liste engagés'!$G50=5,'liste engagés'!K50,\"\")","v":""},{"$f":"IF('liste engagés'!$G50=5,'liste engagés'!L50,\"\")","v":""},0]
[48,{"$f":"IF('liste engagés'!$G51=5,'liste engagés'!A51,\"\")","v":""},{"$f":"IF('liste engagés'!$G51=5,'liste engagés'!B51,\"\")","v":""},{"$f":"IF('liste engagés'!$G51=5,'liste engagés'!C51,\"\")","v":""},{"$f":"IF('liste engagés'!$G51=5,'liste engagés'!D51,\"\")","v":""},{"$f":"IF('liste engagés'!$G51=5,'liste engagés'!E51,\"\")","v":""},{"$f":"IF('liste engagés'!$G51=5,'liste engagés'!K51,\"\")","v":""},{"$f":"IF('liste engagés'!$G51=5,'liste engagés'!L51,\"\")","v":""},0]
[49,{"$f":"IF('liste engagés'!$G52=5,'liste engagés'!A52,\"\")","v":""},{"$f":"IF('liste engagés'!$G52=5,'liste engagés'!B52,\"\")","v":""},{"$f":"IF('liste engagés'!$G52=5,'liste engagés'!C52,\"\")","v":""},{"$f":"IF('liste engagés'!$G52=5,'liste engagés'!D52,\"\")","v":""},{"$f":"IF('liste engagés'!$G52=5,'liste engagés'!E52,\"\")","v":""},{"$f":"IF('liste engagés'!$G52=5,'liste engagés'!K52,\"\")","v":""},{"$f":"IF('liste engagés'!$G52=5,'liste engagés'!L52,\"\")","v":""},0]
[50,{"$f":"IF('liste engagés'!$G53=5,'liste engagés'!A53,\"\")","v":""},{"$f":"IF('liste engagés'!$G53=5,'liste engagés'!B53,\"\")","v":""},{"$f":"IF('liste engagés'!$G53=5,'liste engagés'!C53,\"\")","v":""},{"$f":"IF('liste engagés'!$G53=5,'liste engagés'!D53,\"\")","v":""},{"$f":"IF('liste engagés'!$G53=5,'liste engagés'!E53,\"\")","v":""},{"$f":"IF('liste engagés'!$G53=5,'liste engagés'!K53,\"\")","v":""},{"$f":"IF('liste engagés'!$G53=5,'liste engagés'!L53,\"\")","v":""},0]
[51,{"$f":"IF('liste engagés'!$G54=5,'liste engagés'!A54,\"\")","v":""},{"$f":"IF('liste engagés'!$G54=5,'liste engagés'!B54,\"\")","v":""},{"$f":"IF('liste engagés'!$G54=5,'liste engagés'!C54,\"\")","v":""},{"$f":"IF('liste engagés'!$G54=5,'liste engagés'!D54,\"\")","v":""},{"$f":"IF('liste engagés'!$G54=5,'liste engagés'!E54,\"\")","v":""},{"$f":"IF('liste engagés'!$G54=5,'liste engagés'!K54,\"\")","v":""},{"$f":"IF('liste engagés'!$G54=5,'liste engagés'!L54,\"\")","v":""},0]
[52,{"$f":"IF('liste engagés'!$G55=5,'liste engagés'!A55,\"\")","v":""},{"$f":"IF('liste engagés'!$G55=5,'liste engagés'!B55,\"\")","v":""},{"$f":"IF('liste engagés'!$G55=5,'liste engagés'!C55,\"\")","v":""},{"$f":"IF('liste engagés'!$G55=5,'liste engagés'!D55,\"\")","v":""},{"$f":"IF('liste engagés'!$G55=5,'liste engagés'!E55,\"\")","v":""},{"$f":"IF('liste engagés'!$G55=5,'liste engagés'!K55,\"\")","v":""},{"$f":"IF('liste engagés'!$G55=5,'liste engagés'!L55,\"\")","v":""},0]
[53,{"$f":"IF('liste engagés'!$G56=5,'liste engagés'!A56,\"\")","v":""},{"$f":"IF('liste engagés'!$G56=5,'liste engagés'!B56,\"\")","v":""},{"$f":"IF('liste engagés'!$G56=5,'liste engagés'!C56,\"\")","v":""},{"$f":"IF('liste engagés'!$G56=5,'liste engagés'!D56,\"\")","v":""},{"$f":"IF('liste engagés'!$G56=5,'liste engagés'!E56,\"\")","v":""},{"$f":"IF('liste engagés'!$G56=5,'liste engagés'!K56,\"\")","v":""},{"$f":"IF('liste engagés'!$G56=5,'liste engagés'!L56,\"\")","v":""},0]
[54,{"$f":"IF('liste engagés'!$G57=5,'liste engagés'!A57,\"\")","v":""},{"$f":"IF('liste engagés'!$G57=5,'liste engagés'!B57,\"\")","v":""},{"$f":"IF('liste engagés'!$G57=5,'liste engagés'!C57,\"\")","v":""},{"$f":"IF('liste engagés'!$G57=5,'liste engagés'!D57,\"\")","v":""},{"$f":"IF('liste engagés'!$G57=5,'liste engagés'!E57,\"\")","v":""},{"$f":"IF('liste engagés'!$G57=5,'liste engagés'!K57,\"\")","v":""},{"$f":"IF('liste engagés'!$G57=5,'liste engagés'!L57,\"\")","v":""},0]
[55,{"$f":"IF('liste engagés'!$G58=5,'liste engagés'!A58,\"\")","v":""},{"$f":"IF('liste engagés'!$G58=5,'liste engagés'!B58,\"\")","v":""},{"$f":"IF('liste engagés'!$G58=5,'liste engagés'!C58,\"\")","v":""},{"$f":"IF('liste engagés'!$G58=5,'liste engagés'!D58,\"\")","v":""},{"$f":"IF('liste engagés'!$G58=5,'liste engagés'!E58,\"\")","v":""},{"$f":"IF('liste engagés'!$G58=5,'liste engagés'!K58,\"\")","v":""},{"$f":"IF('liste engagés'!$G58=5,'liste engagés'!L58,\"\")","v":""},0]
[56,{"$f":"IF('liste engagés'!$G59=5,'liste engagés'!A59,\"\")","v":""},{"$f":"IF('liste engagés'!$G59=5,'liste engagés'!B59,\"\")","v":""},{"$f":"IF('liste engagés'!$G59=5,'liste engagés'!C59,\"\")","v":""},{"$f":"IF('liste engagés'!$G59=5,'liste engagés'!D59,\"\")","v":""},{"$f":"IF('liste engagés'!$G59=5,'liste engagés'!E59,\"\")","v":""},{"$f":"IF('liste engagés'!$G59=5,'liste engagés'!K59,\"\")","v":""},{"$f":"IF('liste engagés'!$G59=5,'liste engagés'!L59,\"\")","v":""},0]
[57,{"$f":"IF('liste engagés'!$G60=5,'liste engagés'!A60,\"\")","v":""},{"$f":"IF('liste engagés'!$G60=5,'liste engagés'!B60,\"\")","v":""},{"$f":"IF('liste engagés'!$G60=5,'liste engagés'!C60,\"\")","v":""},{"$f":"IF('liste engagés'!$G60=5,'liste engagés'!D60,\"\")","v":""},{"$f":"IF('liste engagés'!$G60=5,'liste engagés'!E60,\"\")","v":""},{"$f":"IF('liste engagés'!$G60=5,'liste engagés'!K60,\"\")","v":""},{"$f":"IF('liste engagés'!$G60=5,'liste engagés'!L60,\"\")","v":""},0]
[58,{"$f":"IF('liste engagés'!$G61=5,'liste engagés'!A61,\"\")","v":""},{"$f":"IF('liste engagés'!$G61=5,'liste engagés'!B61,\"\")","v":""},{"$f":"IF('liste engagés'!$G61=5,'liste engagés'!C61,\"\")","v":""},{"$f":"IF('liste engagés'!$G61=5,'liste engagés'!D61,\"\")","v":""},{"$f":"IF('liste engagés'!$G61=5,'liste engagés'!E61,\"\")","v":""},{"$f":"IF('liste engagés'!$G61=5,'liste engagés'!K61,\"\")","v":""},{"$f":"IF('liste engagés'!$G61=5,'liste engagés'!L61,\"\")","v":""},0]
[59,{"$f":"IF('liste engagés'!$G62=5,'liste engagés'!A62,\"\")","v":""},{"$f":"IF('liste engagés'!$G62=5,'liste engagés'!B62,\"\")","v":""},{"$f":"IF('liste engagés'!$G62=5,'liste engagés'!C62,\"\")","v":""},{"$f":"IF('liste engagés'!$G62=5,'liste engagés'!D62,\"\")","v":""},{"$f":"IF('liste engagés'!$G62=5,'liste engagés'!E62,\"\")","v":""},{"$f":"IF('liste engagés'!$G62=5,'liste engagés'!K62,\"\")","v":""},{"$f":"IF('liste engagés'!$G62=5,'liste engagés'!L62,\"\")","v":""},0]
[60,{"$f":"IF('liste engagés'!$G63=5,'liste engagés'!A63,\"\")","v":""},{"$f":"IF('liste engagés'!$G63=5,'liste engagés'!B63,\"\")","v":""},{"$f":"IF('liste engagés'!$G63=5,'liste engagés'!C63,\"\")","v":""},{"$f":"IF('liste engagés'!$G63=5,'liste engagés'!D63,\"\")","v":""},{"$f":"IF('liste engagés'!$G63=5,'liste engagés'!E63,\"\")","v":""},{"$f":"IF('liste engagés'!$G63=5,'liste engagés'!K63,\"\")","v":""},{"$f":"IF('liste engagés'!$G63=5,'liste engagés'!L63,\"\")","v":""},0]
[61,{"$f":"IF('liste engagés'!$G64=5,'liste engagés'!A64,\"\")","v":""},{"$f":"IF('liste engagés'!$G64=5,'liste engagés'!B64,\"\")","v":""},{"$f":"IF('liste engagés'!$G64=5,'liste engagés'!C64,\"\")","v":""},{"$f":"IF('liste engagés'!$G64=5,'liste engagés'!D64,\"\")","v":""},{"$f":"IF('liste engagés'!$G64=5,'liste engagés'!E64,\"\")","v":""},{"$f":"IF('liste engagés'!$G64=5,'liste engagés'!K64,\"\")","v":""},{"$f":"IF('liste engagés'!$G64=5,'liste engagés'!L64,\"\")","v":""},0]
[62,{"$f":"IF('liste engagés'!$G65=5,'liste engagés'!A65,\"\")","v":""},{"$f":"IF('liste engagés'!$G65=5,'liste engagés'!B65,\"\")","v":""},{"$f":"IF('liste engagés'!$G65=5,'liste engagés'!C65,\"\")","v":""},{"$f":"IF('liste engagés'!$G65=5,'liste engagés'!D65,\"\")","v":""},{"$f":"IF('liste engagés'!$G65=5,'liste engagés'!E65,\"\")","v":""},{"$f":"IF('liste engagés'!$G65=5,'liste engagés'!K65,\"\")","v":""},{"$f":"IF('liste engagés'!$G65=5,'liste engagés'!L65,\"\")","v":""},0]
[63,{"$f":"IF('liste engagés'!$G66=5,'liste engagés'!A66,\"\")","v":""},{"$f":"IF('liste engagés'!$G66=5,'liste engagés'!B66,\"\")","v":""},{"$f":"IF('liste engagés'!$G66=5,'liste engagés'!C66,\"\")","v":""},{"$f":"IF('liste engagés'!$G66=5,'liste engagés'!D66,\"\")","v":""},{"$f":"IF('liste engagés'!$G66=5,'liste engagés'!E66,\"\")","v":""},{"$f":"IF('liste engagés'!$G66=5,'liste engagés'!K66,\"\")","v":""},{"$f":"IF('liste engagés'!$G66=5,'liste engagés'!L66,\"\")","v":""},0]
[64,{"$f":"IF('liste engagés'!$G67=5,'liste engagés'!A67,\"\")","v":""},{"$f":"IF('liste engagés'!$G67=5,'liste engagés'!B67,\"\")","v":""},{"$f":"IF('liste engagés'!$G67=5,'liste engagés'!C67,\"\")","v":""},{"$f":"IF('liste engagés'!$G67=5,'liste engagés'!D67,\"\")","v":""},{"$f":"IF('liste engagés'!$G67=5,'liste engagés'!E67,\"\")","v":""},{"$f":"IF('liste engagés'!$G67=5,'liste engagés'!K67,\"\")","v":""},{"$f":"IF('liste engagés'!$G67=5,'liste engagés'!L67,\"\")","v":""},0]
[65,{"$f":"IF('liste engagés'!$G68=5,'liste engagés'!A68,\"\")","v":""},{"$f":"IF('liste engagés'!$G68=5,'liste engagés'!B68,\"\")","v":""},{"$f":"IF('liste engagés'!$G68=5,'liste engagés'!C68,\"\")","v":""},{"$f":"IF('liste engagés'!$G68=5,'liste engagés'!D68,\"\")","v":""},{"$f":"IF('liste engagés'!$G68=5,'liste engagés'!E68,\"\")","v":""},{"$f":"IF('liste engagés'!$G68=5,'liste engagés'!K68,\"\")","v":""},{"$f":"IF('liste engagés'!$G68=5,'liste engagés'!L68,\"\")","v":""},{"$f":"+IF(C71=\"\",0,1)","v":0}]
[{"$f":"+A71+1","v":66},{"$f":"IF('liste engagés'!$G69=5,'liste engagés'!A69,\"\")","v":""},{"$f":"IF('liste engagés'!$G69=5,'liste engagés'!B69,\"\")","v":""},{"$f":"IF('liste engagés'!$G69=5,'liste engagés'!C69,\"\")","v":""},{"$f":"IF('liste engagés'!$G69=5,'liste engagés'!D69,\"\")","v":""},{"$f":"IF('liste engagés'!$G69=5,'liste engagés'!E69,\"\")","v":""},{"$f":"IF('liste engagés'!$G69=5,'liste engagés'!K69,\"\")","v":""},{"$f":"IF('liste engagés'!$G69=5,'liste engagés'!L69,\"\")","v":""},0]
[67,{"$f":"IF('liste engagés'!$G70=5,'liste engagés'!A70,\"\")","v":""},{"$f":"IF('liste engagés'!$G70=5,'liste engagés'!B70,\"\")","v":""},{"$f":"IF('liste engagés'!$G70=5,'liste engagés'!C70,\"\")","v":""},{"$f":"IF('liste engagés'!$G70=5,'liste engagés'!D70,\"\")","v":""},{"$f":"IF('liste engagés'!$G70=5,'liste engagés'!E70,\"\")","v":""},{"$f":"IF('liste engagés'!$G70=5,'liste engagés'!K70,\"\")","v":""},{"$f":"IF('liste engagés'!$G70=5,'liste engagés'!L70,\"\")","v":""},0]
[68,{"$f":"IF('liste engagés'!$G71=5,'liste engagés'!A71,\"\")","v":""},{"$f":"IF('liste engagés'!$G71=5,'liste engagés'!B71,\"\")","v":""},{"$f":"IF('liste engagés'!$G71=5,'liste engagés'!C71,\"\")","v":""},{"$f":"IF('liste engagés'!$G71=5,'liste engagés'!D71,\"\")","v":""},{"$f":"IF('liste engagés'!$G71=5,'liste engagés'!E71,\"\")","v":""},{"$f":"IF('liste engagés'!$G71=5,'liste engagés'!K71,\"\")","v":""},{"$f":"IF('liste engagés'!$G71=5,'liste engagés'!L71,\"\")","v":""},0]
[69,{"$f":"IF('liste engagés'!$G72=5,'liste engagés'!A72,\"\")","v":""},{"$f":"IF('liste engagés'!$G72=5,'liste engagés'!B72,\"\")","v":""},{"$f":"IF('liste engagés'!$G72=5,'liste engagés'!C72,\"\")","v":""},{"$f":"IF('liste engagés'!$G72=5,'liste engagés'!D72,\"\")","v":""},{"$f":"IF('liste engagés'!$G72=5,'liste engagés'!E72,\"\")","v":""},{"$f":"IF('liste engagés'!$G72=5,'liste engagés'!K72,\"\")","v":""},{"$f":"IF('liste engagés'!$G72=5,'liste engagés'!L72,\"\")","v":""},0]
[70,{"$f":"IF('liste engagés'!$G73=5,'liste engagés'!A73,\"\")","v":""},{"$f":"IF('liste engagés'!$G73=5,'liste engagés'!B73,\"\")","v":""},{"$f":"IF('liste engagés'!$G73=5,'liste engagés'!C73,\"\")","v":""},{"$f":"IF('liste engagés'!$G73=5,'liste engagés'!D73,\"\")","v":""},{"$f":"IF('liste engagés'!$G73=5,'liste engagés'!E73,\"\")","v":""},{"$f":"IF('liste engagés'!$G73=5,'liste engagés'!K73,\"\")","v":""},{"$f":"IF('liste engagés'!$G73=5,'liste engagés'!L73,\"\")","v":""},0]
[71,{"$f":"IF('liste engagés'!$G74=5,'liste engagés'!A74,\"\")","v":""},{"$f":"IF('liste engagés'!$G74=5,'liste engagés'!B74,\"\")","v":""},{"$f":"IF('liste engagés'!$G74=5,'liste engagés'!C74,\"\")","v":""},{"$f":"IF('liste engagés'!$G74=5,'liste engagés'!D74,\"\")","v":""},{"$f":"IF('liste engagés'!$G74=5,'liste engagés'!E74,\"\")","v":""},{"$f":"IF('liste engagés'!$G74=5,'liste engagés'!K74,\"\")","v":""},{"$f":"IF('liste engagés'!$G74=5,'liste engagés'!L74,\"\")","v":""},0]
[72,{"$f":"IF('liste engagés'!$G75=5,'liste engagés'!A75,\"\")","v":""},{"$f":"IF('liste engagés'!$G75=5,'liste engagés'!B75,\"\")","v":""},{"$f":"IF('liste engagés'!$G75=5,'liste engagés'!C75,\"\")","v":""},{"$f":"IF('liste engagés'!$G75=5,'liste engagés'!D75,\"\")","v":""},{"$f":"IF('liste engagés'!$G75=5,'liste engagés'!E75,\"\")","v":""},{"$f":"IF('liste engagés'!$G75=5,'liste engagés'!K75,\"\")","v":""},{"$f":"IF('liste engagés'!$G75=5,'liste engagés'!L75,\"\")","v":""},0]
[73,{"$f":"IF('liste engagés'!$G77=5,'liste engagés'!A77,\"\")","v":""},{"$f":"IF('liste engagés'!$G77=5,'liste engagés'!B77,\"\")","v":""},{"$f":"IF('liste engagés'!$G77=5,'liste engagés'!C77,\"\")","v":""},{"$f":"IF('liste engagés'!$G77=5,'liste engagés'!D77,\"\")","v":""},{"$f":"IF('liste engagés'!$G77=5,'liste engagés'!E77,\"\")","v":""},{"$f":"IF('liste engagés'!$G77=5,'liste engagés'!K77,\"\")","v":""},{"$f":"IF('liste engagés'!$G77=5,'liste engagés'!L77,\"\")","v":""},0]
[74,{"$f":"IF('liste engagés'!$G78=5,'liste engagés'!A78,\"\")","v":""},{"$f":"IF('liste engagés'!$G78=5,'liste engagés'!B78,\"\")","v":""},{"$f":"IF('liste engagés'!$G78=5,'liste engagés'!C78,\"\")","v":""},{"$f":"IF('liste engagés'!$G78=5,'liste engagés'!D78,\"\")","v":""},{"$f":"IF('liste engagés'!$G78=5,'liste engagés'!E78,\"\")","v":""},{"$f":"IF('liste engagés'!$G78=5,'liste engagés'!K78,\"\")","v":""},{"$f":"IF('liste engagés'!$G78=5,'liste engagés'!L78,\"\")","v":""},0]
[75,{"$f":"IF('liste engagés'!$G79=5,'liste engagés'!A79,\"\")","v":""},{"$f":"IF('liste engagés'!$G79=5,'liste engagés'!B79,\"\")","v":""},{"$f":"IF('liste engagés'!$G79=5,'liste engagés'!C79,\"\")","v":""},{"$f":"IF('liste engagés'!$G79=5,'liste engagés'!D79,\"\")","v":""},{"$f":"IF('liste engagés'!$G79=5,'liste engagés'!E79,\"\")","v":""},{"$f":"IF('liste engagés'!$G79=5,'liste engagés'!K79,\"\")","v":""},{"$f":"IF('liste engagés'!$G79=5,'liste engagés'!L79,\"\")","v":""},0]
[76,{"$f":"IF('liste engagés'!$G80=5,'liste engagés'!A80,\"\")","v":""},{"$f":"IF('liste engagés'!$G80=5,'liste engagés'!B80,\"\")","v":""},{"$f":"IF('liste engagés'!$G80=5,'liste engagés'!C80,\"\")","v":""},{"$f":"IF('liste engagés'!$G80=5,'liste engagés'!D80,\"\")","v":""},{"$f":"IF('liste engagés'!$G80=5,'liste engagés'!E80,\"\")","v":""},{"$f":"IF('liste engagés'!$G80=5,'liste engagés'!K80,\"\")","v":""},{"$f":"IF('liste engagés'!$G80=5,'liste engagés'!L80,\"\")","v":""},0]
[77,{"$f":"IF('liste engagés'!$G81=5,'liste engagés'!A81,\"\")","v":""},{"$f":"IF('liste engagés'!$G81=5,'liste engagés'!B81,\"\")","v":""},{"$f":"IF('liste engagés'!$G81=5,'liste engagés'!C81,\"\")","v":""},{"$f":"IF('liste engagés'!$G81=5,'liste engagés'!D81,\"\")","v":""},{"$f":"IF('liste engagés'!$G81=5,'liste engagés'!E81,\"\")","v":""},{"$f":"IF('liste engagés'!$G81=5,'liste engagés'!K81,\"\")","v":""},{"$f":"IF('liste engagés'!$G81=5,'liste engagés'!L81,\"\")","v":""},0]
[78,{"$f":"IF('liste engagés'!$G82=5,'liste engagés'!A82,\"\")","v":""},{"$f":"IF('liste engagés'!$G82=5,'liste engagés'!B82,\"\")","v":""},{"$f":"IF('liste engagés'!$G82=5,'liste engagés'!C82,\"\")","v":""},{"$f":"IF('liste engagés'!$G82=5,'liste engagés'!D82,\"\")","v":""},{"$f":"IF('liste engagés'!$G82=5,'liste engagés'!E82,\"\")","v":""},{"$f":"IF('liste engagés'!$G82=5,'liste engagés'!K82,\"\")","v":""},{"$f":"IF('liste engagés'!$G82=5,'liste engagés'!L82,\"\")","v":""},0]
[79,{"$f":"IF('liste engagés'!$G83=5,'liste engagés'!A83,\"\")","v":""},{"$f":"IF('liste engagés'!$G83=5,'liste engagés'!B83,\"\")","v":""},{"$f":"IF('liste engagés'!$G83=5,'liste engagés'!C83,\"\")","v":""},{"$f":"IF('liste engagés'!$G83=5,'liste engagés'!D83,\"\")","v":""},{"$f":"IF('liste engagés'!$G83=5,'liste engagés'!E83,\"\")","v":""},{"$f":"IF('liste engagés'!$G83=5,'liste engagés'!K83,\"\")","v":""},{"$f":"IF('liste engagés'!$G83=5,'liste engagés'!L83,\"\")","v":""},0]
[80,{"$f":"IF('liste engagés'!$G84=5,'liste engagés'!A84,\"\")","v":""},{"$f":"IF('liste engagés'!$G84=5,'liste engagés'!B84,\"\")","v":""},{"$f":"IF('liste engagés'!$G84=5,'liste engagés'!C84,\"\")","v":""},{"$f":"IF('liste engagés'!$G84=5,'liste engagés'!D84,\"\")","v":""},{"$f":"IF('liste engagés'!$G84=5,'liste engagés'!E84,\"\")","v":""},{"$f":"IF('liste engagés'!$G84=5,'liste engagés'!K84,\"\")","v":""},{"$f":"IF('liste engagés'!$G84=5,'liste engagés'!L84,\"\")","v":""},0]
[81,{"$f":"IF('liste engagés'!$G85=5,'liste engagés'!A85,\"\")","v":""},{"$f":"IF('liste engagés'!$G85=5,'liste engagés'!B85,\"\")","v":""},{"$f":"IF('liste engagés'!$G85=5,'liste engagés'!C85,\"\")","v":""},{"$f":"IF('liste engagés'!$G85=5,'liste engagés'!D85,\"\")","v":""},{"$f":"IF('liste engagés'!$G85=5,'liste engagés'!E85,\"\")","v":""},{"$f":"IF('liste engagés'!$G85=5,'liste engagés'!K85,\"\")","v":""},{"$f":"IF('liste engagés'!$G85=5,'liste engagés'!L85,\"\")","v":""},0]
[82,{"$f":"IF('liste engagés'!$G86=5,'liste engagés'!A86,\"\")","v":""},{"$f":"IF('liste engagés'!$G86=5,'liste engagés'!B86,\"\")","v":""},{"$f":"IF('liste engagés'!$G86=5,'liste engagés'!C86,\"\")","v":""},{"$f":"IF('liste engagés'!$G86=5,'liste engagés'!D86,\"\")","v":""},{"$f":"IF('liste engagés'!$G86=5,'liste engagés'!E86,\"\")","v":""},{"$f":"IF('liste engagés'!$G86=5,'liste engagés'!K86,\"\")","v":""},{"$f":"IF('liste engagés'!$G86=5,'liste engagés'!L86,\"\")","v":""},0]
[83,{"$f":"IF('liste engagés'!$G87=5,'liste engagés'!A87,\"\")","v":""},{"$f":"IF('liste engagés'!$G87=5,'liste engagés'!B87,\"\")","v":""},{"$f":"IF('liste engagés'!$G87=5,'liste engagés'!C87,\"\")","v":""},{"$f":"IF('liste engagés'!$G87=5,'liste engagés'!D87,\"\")","v":""},{"$f":"IF('liste engagés'!$G87=5,'liste engagés'!E87,\"\")","v":""},{"$f":"IF('liste engagés'!$G87=5,'liste engagés'!K87,\"\")","v":""},{"$f":"IF('liste engagés'!$G87=5,'liste engagés'!L87,\"\")","v":""},0]
[84,{"$f":"IF('liste engagés'!$G88=5,'liste engagés'!A88,\"\")","v":""},{"$f":"IF('liste engagés'!$G88=5,'liste engagés'!B88,\"\")","v":""},{"$f":"IF('liste engagés'!$G88=5,'liste engagés'!C88,\"\")","v":""},{"$f":"IF('liste engagés'!$G88=5,'liste engagés'!D88,\"\")","v":""},{"$f":"IF('liste engagés'!$G88=5,'liste engagés'!E88,\"\")","v":""},{"$f":"IF('liste engagés'!$G88=5,'liste engagés'!K88,\"\")","v":""},{"$f":"IF('liste engagés'!$G88=5,'liste engagés'!L88,\"\")","v":""},0]
[85,{"$f":"IF('liste engagés'!$G89=5,'liste engagés'!A89,\"\")","v":""},{"$f":"IF('liste engagés'!$G89=5,'liste engagés'!B89,\"\")","v":""},{"$f":"IF('liste engagés'!$G89=5,'liste engagés'!C89,\"\")","v":""},{"$f":"IF('liste engagés'!$G89=5,'liste engagés'!D89,\"\")","v":""},{"$f":"IF('liste engagés'!$G89=5,'liste engagés'!E89,\"\")","v":""},{"$f":"IF('liste engagés'!$G89=5,'liste engagés'!K89,\"\")","v":""},{"$f":"IF('liste engagés'!$G89=5,'liste engagés'!L89,\"\")","v":""},0]
[86,{"$f":"IF('liste engagés'!$G90=5,'liste engagés'!A90,\"\")","v":""},{"$f":"IF('liste engagés'!$G90=5,'liste engagés'!B90,\"\")","v":""},{"$f":"IF('liste engagés'!$G90=5,'liste engagés'!C90,\"\")","v":""},{"$f":"IF('liste engagés'!$G90=5,'liste engagés'!D90,\"\")","v":""},{"$f":"IF('liste engagés'!$G90=5,'liste engagés'!E90,\"\")","v":""},{"$f":"IF('liste engagés'!$G90=5,'liste engagés'!K90,\"\")","v":""},{"$f":"IF('liste engagés'!$G90=5,'liste engagés'!L90,\"\")","v":""},0]
[87,{"$f":"IF('liste engagés'!$G91=5,'liste engagés'!A91,\"\")","v":""},{"$f":"IF('liste engagés'!$G91=5,'liste engagés'!B91,\"\")","v":""},{"$f":"IF('liste engagés'!$G91=5,'liste engagés'!C91,\"\")","v":""},{"$f":"IF('liste engagés'!$G91=5,'liste engagés'!D91,\"\")","v":""},{"$f":"IF('liste engagés'!$G91=5,'liste engagés'!E91,\"\")","v":""},{"$f":"IF('liste engagés'!$G91=5,'liste engagés'!K91,\"\")","v":""},{"$f":"IF('liste engagés'!$G91=5,'liste engagés'!L91,\"\")","v":""},0]
[88,{"$f":"IF('liste engagés'!$G92=5,'liste engagés'!A92,\"\")","v":""},{"$f":"IF('liste engagés'!$G92=5,'liste engagés'!B92,\"\")","v":""},{"$f":"IF('liste engagés'!$G92=5,'liste engagés'!C92,\"\")","v":""},{"$f":"IF('liste engagés'!$G92=5,'liste engagés'!D92,\"\")","v":""},{"$f":"IF('liste engagés'!$G92=5,'liste engagés'!E92,\"\")","v":""},{"$f":"IF('liste engagés'!$G92=5,'liste engagés'!K92,\"\")","v":""},{"$f":"IF('liste engagés'!$G92=5,'liste engagés'!L92,\"\")","v":""},0]
[89,{"$f":"IF('liste engagés'!$G93=5,'liste engagés'!A93,\"\")","v":""},{"$f":"IF('liste engagés'!$G93=5,'liste engagés'!B93,\"\")","v":""},{"$f":"IF('liste engagés'!$G93=5,'liste engagés'!C93,\"\")","v":""},{"$f":"IF('liste engagés'!$G93=5,'liste engagés'!D93,\"\")","v":""},{"$f":"IF('liste engagés'!$G93=5,'liste engagés'!E93,\"\")","v":""},{"$f":"IF('liste engagés'!$G93=5,'liste engagés'!K93,\"\")","v":""},{"$f":"IF('liste engagés'!$G93=5,'liste engagés'!L93,\"\")","v":""},0]
[90,{"$f":"IF('liste engagés'!$G94=5,'liste engagés'!A94,\"\")","v":""},{"$f":"IF('liste engagés'!$G94=5,'liste engagés'!B94,\"\")","v":""},{"$f":"IF('liste engagés'!$G94=5,'liste engagés'!C94,\"\")","v":""},{"$f":"IF('liste engagés'!$G94=5,'liste engagés'!D94,\"\")","v":""},{"$f":"IF('liste engagés'!$G94=5,'liste engagés'!E94,\"\")","v":""},{"$f":"IF('liste engagés'!$G94=5,'liste engagés'!K94,\"\")","v":""},{"$f":"IF('liste engagés'!$G94=5,'liste engagés'!L94,\"\")","v":""},0]
[91,{"$f":"IF('liste engagés'!$G96=5,'liste engagés'!A96,\"\")","v":""},{"$f":"IF('liste engagés'!$G96=5,'liste engagés'!B96,\"\")","v":""},{"$f":"IF('liste engagés'!$G96=5,'liste engagés'!C96,\"\")","v":""},{"$f":"IF('liste engagés'!$G96=5,'liste engagés'!D96,\"\")","v":""},{"$f":"IF('liste engagés'!$G96=5,'liste engagés'!E96,\"\")","v":""},{"$f":"IF('liste engagés'!$G96=5,'liste engagés'!K96,\"\")","v":""},{"$f":"IF('liste engagés'!$G96=5,'liste engagés'!L96,\"\")","v":""},0]
[92,{"$f":"IF('liste engagés'!$G97=5,'liste engagés'!A97,\"\")","v":""},{"$f":"IF('liste engagés'!$G97=5,'liste engagés'!B97,\"\")","v":""},{"$f":"IF('liste engagés'!$G97=5,'liste engagés'!C97,\"\")","v":""},{"$f":"IF('liste engagés'!$G97=5,'liste engagés'!D97,\"\")","v":""},{"$f":"IF('liste engagés'!$G97=5,'liste engagés'!E97,\"\")","v":""},{"$f":"IF('liste engagés'!$G97=5,'liste engagés'!K97,\"\")","v":""},{"$f":"IF('liste engagés'!$G97=5,'liste engagés'!L97,\"\")","v":""},0]
[93,{"$f":"IF('liste engagés'!$G98=5,'liste engagés'!A98,\"\")","v":""},{"$f":"IF('liste engagés'!$G98=5,'liste engagés'!B98,\"\")","v":""},{"$f":"IF('liste engagés'!$G98=5,'liste engagés'!C98,\"\")","v":""},{"$f":"IF('liste engagés'!$G98=5,'liste engagés'!D98,\"\")","v":""},{"$f":"IF('liste engagés'!$G98=5,'liste engagés'!E98,\"\")","v":""},{"$f":"IF('liste engagés'!$G98=5,'liste engagés'!K98,\"\")","v":""},{"$f":"IF('liste engagés'!$G98=5,'liste engagés'!L98,\"\")","v":""},0]
[94,{"$f":"IF('liste engagés'!$G99=5,'liste engagés'!A99,\"\")","v":""},{"$f":"IF('liste engagés'!$G99=5,'liste engagés'!B99,\"\")","v":""},{"$f":"IF('liste engagés'!$G99=5,'liste engagés'!C99,\"\")","v":""},{"$f":"IF('liste engagés'!$G99=5,'liste engagés'!D99,\"\")","v":""},{"$f":"IF('liste engagés'!$G99=5,'liste engagés'!E99,\"\")","v":""},{"$f":"IF('liste engagés'!$G99=5,'liste engagés'!K99,\"\")","v":""},{"$f":"IF('liste engagés'!$G99=5,'liste engagés'!L99,\"\")","v":""},0]
[95,{"$f":"IF('liste engagés'!$G100=5,'liste engagés'!A100,\"\")","v":""},{"$f":"IF('liste engagés'!$G100=5,'liste engagés'!B100,\"\")","v":""},{"$f":"IF('liste engagés'!$G100=5,'liste engagés'!C100,\"\")","v":""},{"$f":"IF('liste engagés'!$G100=5,'liste engagés'!D100,\"\")","v":""},{"$f":"IF('liste engagés'!$G100=5,'liste engagés'!E100,\"\")","v":""},{"$f":"IF('liste engagés'!$G100=5,'liste engagés'!K100,\"\")","v":""},{"$f":"IF('liste engagés'!$G100=5,'liste engagés'!L100,\"\")","v":""},0]
[96,{"$f":"IF('liste engagés'!$G101=5,'liste engagés'!A101,\"\")","v":""},{"$f":"IF('liste engagés'!$G101=5,'liste engagés'!B101,\"\")","v":""},{"$f":"IF('liste engagés'!$G101=5,'liste engagés'!C101,\"\")","v":""},{"$f":"IF('liste engagés'!$G101=5,'liste engagés'!D101,\"\")","v":""},{"$f":"IF('liste engagés'!$G101=5,'liste engagés'!E101,\"\")","v":""},{"$f":"IF('liste engagés'!$G101=5,'liste engagés'!K101,\"\")","v":""},{"$f":"IF('liste engagés'!$G101=5,'liste engagés'!L101,\"\")","v":""},0]
[97,{"$f":"IF('liste engagés'!$G102=5,'liste engagés'!A102,\"\")","v":""},{"$f":"IF('liste engagés'!$G102=5,'liste engagés'!B102,\"\")","v":""},{"$f":"IF('liste engagés'!$G102=5,'liste engagés'!C102,\"\")","v":""},{"$f":"IF('liste engagés'!$G102=5,'liste engagés'!D102,\"\")","v":""},{"$f":"IF('liste engagés'!$G102=5,'liste engagés'!E102,\"\")","v":""},{"$f":"IF('liste engagés'!$G102=5,'liste engagés'!K102,\"\")","v":""},{"$f":"IF('liste engagés'!$G102=5,'liste engagés'!L102,\"\")","v":""},0]
[98,{"$f":"IF('liste engagés'!$G103=5,'liste engagés'!A103,\"\")","v":""},{"$f":"IF('liste engagés'!$G103=5,'liste engagés'!B103,\"\")","v":""},{"$f":"IF('liste engagés'!$G103=5,'liste engagés'!C103,\"\")","v":""},{"$f":"IF('liste engagés'!$G103=5,'liste engagés'!D103,\"\")","v":""},{"$f":"IF('liste engagés'!$G103=5,'liste engagés'!E103,\"\")","v":""},{"$f":"IF('liste engagés'!$G103=5,'liste engagés'!K103,\"\")","v":""},{"$f":"IF('liste engagés'!$G103=5,'liste engagés'!L103,\"\")","v":""},0]
[99,{"$f":"IF('liste engagés'!$G104=5,'liste engagés'!A104,\"\")","v":""},{"$f":"IF('liste engagés'!$G104=5,'liste engagés'!B104,\"\")","v":""},{"$f":"IF('liste engagés'!$G104=5,'liste engagés'!C104,\"\")","v":""},{"$f":"IF('liste engagés'!$G104=5,'liste engagés'!D104,\"\")","v":""},{"$f":"IF('liste engagés'!$G104=5,'liste engagés'!E104,\"\")","v":""},{"$f":"IF('liste engagés'!$G104=5,'liste engagés'!K104,\"\")","v":""},{"$f":"IF('liste engagés'!$G104=5,'liste engagés'!L104,\"\")","v":""},0]
[100,{"$f":"IF('liste engagés'!$G105=5,'liste engagés'!A105,\"\")","v":""},{"$f":"IF('liste engagés'!$G105=5,'liste engagés'!B105,\"\")","v":""},{"$f":"IF('liste engagés'!$G105=5,'liste engagés'!C105,\"\")","v":""},{"$f":"IF('liste engagés'!$G105=5,'liste engagés'!D105,\"\")","v":""},{"$f":"IF('liste engagés'!$G105=5,'liste engagés'!E105,\"\")","v":""},{"$f":"IF('liste engagés'!$G105=5,'liste engagés'!K105,\"\")","v":""},{"$f":"IF('liste engagés'!$G105=5,'liste engagés'!L105,\"\")","v":""},0]
[101,{"$f":"IF('liste engagés'!$G106=5,'liste engagés'!A106,\"\")","v":""},{"$f":"IF('liste engagés'!$G106=5,'liste engagés'!B106,\"\")","v":""},{"$f":"IF('liste engagés'!$G106=5,'liste engagés'!C106,\"\")","v":""},{"$f":"IF('liste engagés'!$G106=5,'liste engagés'!D106,\"\")","v":""},{"$f":"IF('liste engagés'!$G106=5,'liste engagés'!E106,\"\")","v":""},{"$f":"IF('liste engagés'!$G106=5,'liste engagés'!K106,\"\")","v":""},{"$f":"IF('liste engagés'!$G106=5,'liste engagés'!L106,\"\")","v":""},0]
[102,{"$f":"IF('liste engagés'!$G107=5,'liste engagés'!A107,\"\")","v":""},{"$f":"IF('liste engagés'!$G107=5,'liste engagés'!B107,\"\")","v":""},{"$f":"IF('liste engagés'!$G107=5,'liste engagés'!C107,\"\")","v":""},{"$f":"IF('liste engagés'!$G107=5,'liste engagés'!D107,\"\")","v":""},{"$f":"IF('liste engagés'!$G107=5,'liste engagés'!E107,\"\")","v":""},{"$f":"IF('liste engagés'!$G107=5,'liste engagés'!K107,\"\")","v":""},{"$f":"IF('liste engagés'!$G107=5,'liste engagés'!L107,\"\")","v":""},0]
[103,{"$f":"IF('liste engagés'!$G108=5,'liste engagés'!A108,\"\")","v":""},{"$f":"IF('liste engagés'!$G108=5,'liste engagés'!B108,\"\")","v":""},{"$f":"IF('liste engagés'!$G108=5,'liste engagés'!C108,\"\")","v":""},{"$f":"IF('liste engagés'!$G108=5,'liste engagés'!D108,\"\")","v":""},{"$f":"IF('liste engagés'!$G108=5,'liste engagés'!E108,\"\")","v":""},{"$f":"IF('liste engagés'!$G108=5,'liste engagés'!K108,\"\")","v":""},{"$f":"IF('liste engagés'!$G108=5,'liste engagés'!L108,\"\")","v":""},0]
[104,{"$f":"IF('liste engagés'!$G109=5,'liste engagés'!A109,\"\")","v":""},{"$f":"IF('liste engagés'!$G109=5,'liste engagés'!B109,\"\")","v":""},{"$f":"IF('liste engagés'!$G109=5,'liste engagés'!C109,\"\")","v":""},{"$f":"IF('liste engagés'!$G109=5,'liste engagés'!D109,\"\")","v":""},{"$f":"IF('liste engagés'!$G109=5,'liste engagés'!E109,\"\")","v":""},{"$f":"IF('liste engagés'!$G109=5,'liste engagés'!K109,\"\")","v":""},{"$f":"IF('liste engagés'!$G109=5,'liste engagés'!L109,\"\")","v":""},0]
[105,{"$f":"IF('liste engagés'!$G110=5,'liste engagés'!A110,\"\")","v":""},{"$f":"IF('liste engagés'!$G110=5,'liste engagés'!B110,\"\")","v":""},{"$f":"IF('liste engagés'!$G110=5,'liste engagés'!C110,\"\")","v":""},{"$f":"IF('liste engagés'!$G110=5,'liste engagés'!D110,\"\")","v":""},{"$f":"IF('liste engagés'!$G110=5,'liste engagés'!E110,\"\")","v":""},{"$f":"IF('liste engagés'!$G110=5,'liste engagés'!K110,\"\")","v":""},{"$f":"IF('liste engagés'!$G110=5,'liste engagés'!L110,\"\")","v":""},0]
[106,{"$f":"IF('liste engagés'!$G111=5,'liste engagés'!A111,\"\")","v":""},{"$f":"IF('liste engagés'!$G111=5,'liste engagés'!B111,\"\")","v":""},{"$f":"IF('liste engagés'!$G111=5,'liste engagés'!C111,\"\")","v":""},{"$f":"IF('liste engagés'!$G111=5,'liste engagés'!D111,\"\")","v":""},{"$f":"IF('liste engagés'!$G111=5,'liste engagés'!E111,\"\")","v":""},{"$f":"IF('liste engagés'!$G111=5,'liste engagés'!K111,\"\")","v":""},{"$f":"IF('liste engagés'!$G111=5,'liste engagés'!L111,\"\")","v":""},0]
[107,{"$f":"IF('liste engagés'!$G112=5,'liste engagés'!A112,\"\")","v":""},{"$f":"IF('liste engagés'!$G112=5,'liste engagés'!B112,\"\")","v":""},{"$f":"IF('liste engagés'!$G112=5,'liste engagés'!C112,\"\")","v":""},{"$f":"IF('liste engagés'!$G112=5,'liste engagés'!D112,\"\")","v":""},{"$f":"IF('liste engagés'!$G112=5,'liste engagés'!E112,\"\")","v":""},{"$f":"IF('liste engagés'!$G112=5,'liste engagés'!K112,\"\")","v":""},{"$f":"IF('liste engagés'!$G112=5,'liste engagés'!L112,\"\")","v":""},0]
[108,{"$f":"IF('liste engagés'!$G113=5,'liste engagés'!A113,\"\")","v":""},{"$f":"IF('liste engagés'!$G113=5,'liste engagés'!B113,\"\")","v":""},{"$f":"IF('liste engagés'!$G113=5,'liste engagés'!C113,\"\")","v":""},{"$f":"IF('liste engagés'!$G113=5,'liste engagés'!D113,\"\")","v":""},{"$f":"IF('liste engagés'!$G113=5,'liste engagés'!E113,\"\")","v":""},{"$f":"IF('liste engagés'!$G113=5,'liste engagés'!K113,\"\")","v":""},{"$f":"IF('liste engagés'!$G113=5,'liste engagés'!L113,\"\")","v":""},0]
[109,{"$f":"IF('liste engagés'!$G114=5,'liste engagés'!A114,\"\")","v":""},{"$f":"IF('liste engagés'!$G114=5,'liste engagés'!B114,\"\")","v":""},{"$f":"IF('liste engagés'!$G114=5,'liste engagés'!C114,\"\")","v":""},{"$f":"IF('liste engagés'!$G114=5,'liste engagés'!D114,\"\")","v":""},{"$f":"IF('liste engagés'!$G114=5,'liste engagés'!E114,\"\")","v":""},{"$f":"IF('liste engagés'!$G114=5,'liste engagés'!K114,\"\")","v":""},{"$f":"IF('liste engagés'!$G114=5,'liste engagés'!L114,\"\")","v":""},0]
[110,{"$f":"IF('liste engagés'!$G115=5,'liste engagés'!A115,\"\")","v":""},{"$f":"IF('liste engagés'!$G115=5,'liste engagés'!B115,\"\")","v":""},{"$f":"IF('liste engagés'!$G115=5,'liste engagés'!C115,\"\")","v":""},{"$f":"IF('liste engagés'!$G115=5,'liste engagés'!D115,\"\")","v":""},{"$f":"IF('liste engagés'!$G115=5,'liste engagés'!E115,\"\")","v":""},{"$f":"IF('liste engagés'!$G115=5,'liste engagés'!K115,\"\")","v":""},{"$f":"IF('liste engagés'!$G115=5,'liste engagés'!L115,\"\")","v":""},0]
[111,{"$f":"IF('liste engagés'!$G116=5,'liste engagés'!A116,\"\")","v":""},{"$f":"IF('liste engagés'!$G116=5,'liste engagés'!B116,\"\")","v":""},{"$f":"IF('liste engagés'!$G116=5,'liste engagés'!C116,\"\")","v":""},{"$f":"IF('liste engagés'!$G116=5,'liste engagés'!D116,\"\")","v":""},{"$f":"IF('liste engagés'!$G116=5,'liste engagés'!E116,\"\")","v":""},{"$f":"IF('liste engagés'!$G116=5,'liste engagés'!K116,\"\")","v":""},{"$f":"IF('liste engagés'!$G116=5,'liste engagés'!L116,\"\")","v":""},0]
[112,{"$f":"IF('liste engagés'!$G117=5,'liste engagés'!A117,\"\")","v":""},{"$f":"IF('liste engagés'!$G117=5,'liste engagés'!B117,\"\")","v":""},{"$f":"IF('liste engagés'!$G117=5,'liste engagés'!C117,\"\")","v":""},{"$f":"IF('liste engagés'!$G117=5,'liste engagés'!D117,\"\")","v":""},{"$f":"IF('liste engagés'!$G117=5,'liste engagés'!E117,\"\")","v":""},{"$f":"IF('liste engagés'!$G117=5,'liste engagés'!K117,\"\")","v":""},{"$f":"IF('liste engagés'!$G117=5,'liste engagés'!L117,\"\")","v":""},0]
[113,{"$f":"IF('liste engagés'!$G118=5,'liste engagés'!A118,\"\")","v":""},{"$f":"IF('liste engagés'!$G118=5,'liste engagés'!B118,\"\")","v":""},{"$f":"IF('liste engagés'!$G118=5,'liste engagés'!C118,\"\")","v":""},{"$f":"IF('liste engagés'!$G118=5,'liste engagés'!D118,\"\")","v":""},{"$f":"IF('liste engagés'!$G118=5,'liste engagés'!E118,\"\")","v":""},{"$f":"IF('liste engagés'!$G118=5,'liste engagés'!K118,\"\")","v":""},{"$f":"IF('liste engagés'!$G118=5,'liste engagés'!L118,\"\")","v":""},0]
[114,{"$f":"IF('liste engagés'!$G119=5,'liste engagés'!A119,\"\")","v":""},{"$f":"IF('liste engagés'!$G119=5,'liste engagés'!B119,\"\")","v":""},{"$f":"IF('liste engagés'!$G119=5,'liste engagés'!C119,\"\")","v":""},{"$f":"IF('liste engagés'!$G119=5,'liste engagés'!D119,\"\")","v":""},{"$f":"IF('liste engagés'!$G119=5,'liste engagés'!E119,\"\")","v":""},{"$f":"IF('liste engagés'!$G119=5,'liste engagés'!K119,\"\")","v":""},{"$f":"IF('liste engagés'!$G119=5,'liste engagés'!L119,\"\")","v":""},0]
[115,{"$f":"IF('liste engagés'!$G120=5,'liste engagés'!A120,\"\")","v":""},{"$f":"IF('liste engagés'!$G120=5,'liste engagés'!B120,\"\")","v":""},{"$f":"IF('liste engagés'!$G120=5,'liste engagés'!C120,\"\")","v":""},{"$f":"IF('liste engagés'!$G120=5,'liste engagés'!D120,\"\")","v":""},{"$f":"IF('liste engagés'!$G120=5,'liste engagés'!E120,\"\")","v":""},{"$f":"IF('liste engagés'!$G120=5,'liste engagés'!K120,\"\")","v":""},{"$f":"IF('liste engagés'!$G120=5,'liste engagés'!L120,\"\")","v":""},0]
[116,{"$f":"IF('liste engagés'!$G121=5,'liste engagés'!A121,\"\")","v":""},{"$f":"IF('liste engagés'!$G121=5,'liste engagés'!B121,\"\")","v":""},{"$f":"IF('liste engagés'!$G121=5,'liste engagés'!C121,\"\")","v":""},{"$f":"IF('liste engagés'!$G121=5,'liste engagés'!D121,\"\")","v":""},{"$f":"IF('liste engagés'!$G121=5,'liste engagés'!E121,\"\")","v":""},{"$f":"IF('liste engagés'!$G121=5,'liste engagés'!K121,\"\")","v":""},{"$f":"IF('liste engagés'!$G121=5,'liste engagés'!L121,\"\")","v":""},0]
[117,{"$f":"IF('liste engagés'!$G122=5,'liste engagés'!A122,\"\")","v":""},{"$f":"IF('liste engagés'!$G122=5,'liste engagés'!B122,\"\")","v":""},{"$f":"IF('liste engagés'!$G122=5,'liste engagés'!C122,\"\")","v":""},{"$f":"IF('liste engagés'!$G122=5,'liste engagés'!D122,\"\")","v":""},{"$f":"IF('liste engagés'!$G122=5,'liste engagés'!E122,\"\")","v":""},{"$f":"IF('liste engagés'!$G122=5,'liste engagés'!K122,\"\")","v":""},{"$f":"IF('liste engagés'!$G122=5,'liste engagés'!L122,\"\")","v":""},0]
[118,{"$f":"IF('liste engagés'!$G123=5,'liste engagés'!A123,\"\")","v":""},{"$f":"IF('liste engagés'!$G123=5,'liste engagés'!B123,\"\")","v":""},{"$f":"IF('liste engagés'!$G123=5,'liste engagés'!C123,\"\")","v":""},{"$f":"IF('liste engagés'!$G123=5,'liste engagés'!D123,\"\")","v":""},{"$f":"IF('liste engagés'!$G123=5,'liste engagés'!E123,\"\")","v":""},{"$f":"IF('liste engagés'!$G123=5,'liste engagés'!K123,\"\")","v":""},{"$f":"IF('liste engagés'!$G123=5,'liste engagés'!L123,\"\")","v":""},0]
[119,{"$f":"IF('liste engagés'!$G124=5,'liste engagés'!A124,\"\")","v":""},{"$f":"IF('liste engagés'!$G124=5,'liste engagés'!B124,\"\")","v":""},{"$f":"IF('liste engagés'!$G124=5,'liste engagés'!C124,\"\")","v":""},{"$f":"IF('liste engagés'!$G124=5,'liste engagés'!D124,\"\")","v":""},{"$f":"IF('liste engagés'!$G124=5,'liste engagés'!E124,\"\")","v":""},{"$f":"IF('liste engagés'!$G124=5,'liste engagés'!K124,\"\")","v":""},{"$f":"IF('liste engagés'!$G124=5,'liste engagés'!L124,\"\")","v":""},0]
[120,{"$f":"IF('liste engagés'!$G125=5,'liste engagés'!A125,\"\")","v":""},{"$f":"IF('liste engagés'!$G125=5,'liste engagés'!B125,\"\")","v":""},{"$f":"IF('liste engagés'!$G125=5,'liste engagés'!C125,\"\")","v":""},{"$f":"IF('liste engagés'!$G125=5,'liste engagés'!D125,\"\")","v":""},{"$f":"IF('liste engagés'!$G125=5,'liste engagés'!E125,\"\")","v":""},{"$f":"IF('liste engagés'!$G125=5,'liste engagés'!K125,\"\")","v":""},{"$f":"IF('liste engagés'!$G125=5,'liste engagés'!L125,\"\")","v":""},0]
[121,{"$f":"IF('liste engagés'!$G126=5,'liste engagés'!A126,\"\")","v":""},{"$f":"IF('liste engagés'!$G126=5,'liste engagés'!B126,\"\")","v":""},{"$f":"IF('liste engagés'!$G126=5,'liste engagés'!C126,\"\")","v":""},{"$f":"IF('liste engagés'!$G126=5,'liste engagés'!D126,\"\")","v":""},{"$f":"IF('liste engagés'!$G126=5,'liste engagés'!E126,\"\")","v":""},{"$f":"IF('liste engagés'!$G126=5,'liste engagés'!K126,\"\")","v":""},{"$f":"IF('liste engagés'!$G126=5,'liste engagés'!L126,\"\")","v":""},0]
[122,{"$f":"IF('liste engagés'!$G127=5,'liste engagés'!A127,\"\")","v":""},{"$f":"IF('liste engagés'!$G127=5,'liste engagés'!B127,\"\")","v":""},{"$f":"IF('liste engagés'!$G127=5,'liste engagés'!C127,\"\")","v":""},{"$f":"IF('liste engagés'!$G127=5,'liste engagés'!D127,\"\")","v":""},{"$f":"IF('liste engagés'!$G127=5,'liste engagés'!E127,\"\")","v":""},{"$f":"IF('liste engagés'!$G127=5,'liste engagés'!K127,\"\")","v":""},{"$f":"IF('liste engagés'!$G127=5,'liste engagés'!L127,\"\")","v":""},0]
[123,{"$f":"IF('liste engagés'!$G128=5,'liste engagés'!A128,\"\")","v":""},{"$f":"IF('liste engagés'!$G128=5,'liste engagés'!B128,\"\")","v":""},{"$f":"IF('liste engagés'!$G128=5,'liste engagés'!C128,\"\")","v":""},{"$f":"IF('liste engagés'!$G128=5,'liste engagés'!D128,\"\")","v":""},{"$f":"IF('liste engagés'!$G128=5,'liste engagés'!E128,\"\")","v":""},{"$f":"IF('liste engagés'!$G128=5,'liste engagés'!K128,\"\")","v":""},{"$f":"IF('liste engagés'!$G128=5,'liste engagés'!L128,\"\")","v":""},0]
[124,{"$f":"IF('liste engagés'!$G129=5,'liste engagés'!A129,\"\")","v":""},{"$f":"IF('liste engagés'!$G129=5,'liste engagés'!B129,\"\")","v":""},{"$f":"IF('liste engagés'!$G129=5,'liste engagés'!C129,\"\")","v":""},{"$f":"IF('liste engagés'!$G129=5,'liste engagés'!D129,\"\")","v":""},{"$f":"IF('liste engagés'!$G129=5,'liste engagés'!E129,\"\")","v":""},{"$f":"IF('liste engagés'!$G129=5,'liste engagés'!K129,\"\")","v":""},{"$f":"IF('liste engagés'!$G129=5,'liste engagés'!L129,\"\")","v":""},0]
[125,{"$f":"IF('liste engagés'!$G130=5,'liste engagés'!A130,\"\")","v":""},{"$f":"IF('liste engagés'!$G130=5,'liste engagés'!B130,\"\")","v":""},{"$f":"IF('liste engagés'!$G130=5,'liste engagés'!C130,\"\")","v":""},{"$f":"IF('liste engagés'!$G130=5,'liste engagés'!D130,\"\")","v":""},{"$f":"IF('liste engagés'!$G130=5,'liste engagés'!E130,\"\")","v":""},{"$f":"IF('liste engagés'!$G130=5,'liste engagés'!K130,\"\")","v":""},{"$f":"IF('liste engagés'!$G130=5,'liste engagés'!L130,\"\")","v":""},0]
[126,{"$f":"IF('liste engagés'!$G131=5,'liste engagés'!A131,\"\")","v":""},{"$f":"IF('liste engagés'!$G131=5,'liste engagés'!B131,\"\")","v":""},{"$f":"IF('liste engagés'!$G131=5,'liste engagés'!C131,\"\")","v":""},{"$f":"IF('liste engagés'!$G131=5,'liste engagés'!D131,\"\")","v":""},{"$f":"IF('liste engagés'!$G131=5,'liste engagés'!E131,\"\")","v":""},{"$f":"IF('liste engagés'!$G131=5,'liste engagés'!K131,\"\")","v":""},{"$f":"IF('liste engagés'!$G131=5,'liste engagés'!L131,\"\")","v":""},0]
[127,{"$f":"IF('liste engagés'!$G132=5,'liste engagés'!A132,\"\")","v":""},{"$f":"IF('liste engagés'!$G132=5,'liste engagés'!B132,\"\")","v":""},{"$f":"IF('liste engagés'!$G132=5,'liste engagés'!C132,\"\")","v":""},{"$f":"IF('liste engagés'!$G132=5,'liste engagés'!D132,\"\")","v":""},{"$f":"IF('liste engagés'!$G132=5,'liste engagés'!E132,\"\")","v":""},{"$f":"IF('liste engagés'!$G132=5,'liste engagés'!K132,\"\")","v":""},{"$f":"IF('liste engagés'!$G132=5,'liste engagés'!L132,\"\")","v":""},0]
[128,{"$f":"IF('liste engagés'!$G133=5,'liste engagés'!A133,\"\")","v":""},{"$f":"IF('liste engagés'!$G133=5,'liste engagés'!B133,\"\")","v":""},{"$f":"IF('liste engagés'!$G133=5,'liste engagés'!C133,\"\")","v":""},{"$f":"IF('liste engagés'!$G133=5,'liste engagés'!D133,\"\")","v":""},{"$f":"IF('liste engagés'!$G133=5,'liste engagés'!E133,\"\")","v":""},{"$f":"IF('liste engagés'!$G133=5,'liste engagés'!K133,\"\")","v":""},{"$f":"IF('liste engagés'!$G133=5,'liste engagés'!L133,\"\")","v":""},0]
[129,{"$f":"IF('liste engagés'!$G134=5,'liste engagés'!A134,\"\")","v":""},{"$f":"IF('liste engagés'!$G134=5,'liste engagés'!B134,\"\")","v":""},{"$f":"IF('liste engagés'!$G134=5,'liste engagés'!C134,\"\")","v":""},{"$f":"IF('liste engagés'!$G134=5,'liste engagés'!D134,\"\")","v":""},{"$f":"IF('liste engagés'!$G134=5,'liste engagés'!E134,\"\")","v":""},{"$f":"IF('liste engagés'!$G134=5,'liste engagés'!K134,\"\")","v":""},{"$f":"IF('liste engagés'!$G134=5,'liste engagés'!L134,\"\")","v":""},{"$f":"+IF(C135=\"\",0,1)","v":0}]
[{"$f":"+A135+1","v":130},{"$f":"IF('liste engagés'!$G135=5,'liste engagés'!A135,\"\")","v":""},{"$f":"IF('liste engagés'!$G135=5,'liste engagés'!B135,\"\")","v":""},{"$f":"IF('liste engagés'!$G135=5,'liste engagés'!C135,\"\")","v":""},{"$f":"IF('liste engagés'!$G135=5,'liste engagés'!D135,\"\")","v":""},{"$f":"IF('liste engagés'!$G135=5,'liste engagés'!E135,\"\")","v":""},{"$f":"IF('liste engagés'!$G135=5,'liste engagés'!K135,\"\")","v":""},{"$f":"IF('liste engagés'!$G135=5,'liste engagés'!L135,\"\")","v":""},0]
[131,{"$f":"IF('liste engagés'!$G136=5,'liste engagés'!A136,\"\")","v":""},{"$f":"IF('liste engagés'!$G136=5,'liste engagés'!B136,\"\")","v":""},{"$f":"IF('liste engagés'!$G136=5,'liste engagés'!C136,\"\")","v":""},{"$f":"IF('liste engagés'!$G136=5,'liste engagés'!D136,\"\")","v":""},{"$f":"IF('liste engagés'!$G136=5,'liste engagés'!E136,\"\")","v":""},{"$f":"IF('liste engagés'!$G136=5,'liste engagés'!K136,\"\")","v":""},{"$f":"IF('liste engagés'!$G136=5,'liste engagés'!L136,\"\")","v":""},0]
[132,{"$f":"IF('liste engagés'!$G137=5,'liste engagés'!A137,\"\")","v":""},{"$f":"IF('liste engagés'!$G137=5,'liste engagés'!B137,\"\")","v":""},{"$f":"IF('liste engagés'!$G137=5,'liste engagés'!C137,\"\")","v":""},{"$f":"IF('liste engagés'!$G137=5,'liste engagés'!D137,\"\")","v":""},{"$f":"IF('liste engagés'!$G137=5,'liste engagés'!E137,\"\")","v":""},{"$f":"IF('liste engagés'!$G137=5,'liste engagés'!K137,\"\")","v":""},{"$f":"IF('liste engagés'!$G137=5,'liste engagés'!L137,\"\")","v":""},0]
[133,{"$f":"IF('liste engagés'!$G138=5,'liste engagés'!A138,\"\")","v":""},{"$f":"IF('liste engagés'!$G138=5,'liste engagés'!B138,\"\")","v":""},{"$f":"IF('liste engagés'!$G138=5,'liste engagés'!C138,\"\")","v":""},{"$f":"IF('liste engagés'!$G138=5,'liste engagés'!D138,\"\")","v":""},{"$f":"IF('liste engagés'!$G138=5,'liste engagés'!E138,\"\")","v":""},{"$f":"IF('liste engagés'!$G138=5,'liste engagés'!K138,\"\")","v":""},{"$f":"IF('liste engagés'!$G138=5,'liste engagés'!L138,\"\")","v":""},0]
[134,{"$f":"IF('liste engagés'!$G139=5,'liste engagés'!A139,\"\")","v":""},{"$f":"IF('liste engagés'!$G139=5,'liste engagés'!B139,\"\")","v":""},{"$f":"IF('liste engagés'!$G139=5,'liste engagés'!C139,\"\")","v":""},{"$f":"IF('liste engagés'!$G139=5,'liste engagés'!D139,\"\")","v":""},{"$f":"IF('liste engagés'!$G139=5,'liste engagés'!E139,\"\")","v":""},{"$f":"IF('liste engagés'!$G139=5,'liste engagés'!K139,\"\")","v":""},{"$f":"IF('liste engagés'!$G139=5,'liste engagés'!L139,\"\")","v":""},0]
[135,{"$f":"IF('liste engagés'!$G140=5,'liste engagés'!A140,\"\")","v":""},{"$f":"IF('liste engagés'!$G140=5,'liste engagés'!B140,\"\")","v":""},{"$f":"IF('liste engagés'!$G140=5,'liste engagés'!C140,\"\")","v":""},{"$f":"IF('liste engagés'!$G140=5,'liste engagés'!D140,\"\")","v":""},{"$f":"IF('liste engagés'!$G140=5,'liste engagés'!E140,\"\")","v":""},{"$f":"IF('liste engagés'!$G140=5,'liste engagés'!K140,\"\")","v":""},{"$f":"IF('liste engagés'!$G140=5,'liste engagés'!L140,\"\")","v":""},0]
[136,{"$f":"IF('liste engagés'!$G141=5,'liste engagés'!A141,\"\")","v":""},{"$f":"IF('liste engagés'!$G141=5,'liste engagés'!B141,\"\")","v":""},{"$f":"IF('liste engagés'!$G141=5,'liste engagés'!C141,\"\")","v":""},{"$f":"IF('liste engagés'!$G141=5,'liste engagés'!D141,\"\")","v":""},{"$f":"IF('liste engagés'!$G141=5,'liste engagés'!E141,\"\")","v":""},{"$f":"IF('liste engagés'!$G141=5,'liste engagés'!K141,\"\")","v":""},{"$f":"IF('liste engagés'!$G141=5,'liste engagés'!L141,\"\")","v":""},0]
[137,{"$f":"IF('liste engagés'!$G142=5,'liste engagés'!A142,\"\")","v":""},{"$f":"IF('liste engagés'!$G142=5,'liste engagés'!B142,\"\")","v":""},{"$f":"IF('liste engagés'!$G142=5,'liste engagés'!C142,\"\")","v":""},{"$f":"IF('liste engagés'!$G142=5,'liste engagés'!D142,\"\")","v":""},{"$f":"IF('liste engagés'!$G142=5,'liste engagés'!E142,\"\")","v":""},{"$f":"IF('liste engagés'!$G142=5,'liste engagés'!K142,\"\")","v":""},{"$f":"IF('liste engagés'!$G142=5,'liste engagés'!L142,\"\")","v":""},0]
[138,{"$f":"IF('liste engagés'!$G143=5,'liste engagés'!A143,\"\")","v":""},{"$f":"IF('liste engagés'!$G143=5,'liste engagés'!B143,\"\")","v":""},{"$f":"IF('liste engagés'!$G143=5,'liste engagés'!C143,\"\")","v":""},{"$f":"IF('liste engagés'!$G143=5,'liste engagés'!D143,\"\")","v":""},{"$f":"IF('liste engagés'!$G143=5,'liste engagés'!E143,\"\")","v":""},{"$f":"IF('liste engagés'!$G143=5,'liste engagés'!K143,\"\")","v":""},{"$f":"IF('liste engagés'!$G143=5,'liste engagés'!L143,\"\")","v":""},0]
[139,{"$f":"IF('liste engagés'!$G144=5,'liste engagés'!A144,\"\")","v":""},{"$f":"IF('liste engagés'!$G144=5,'liste engagés'!B144,\"\")","v":""},{"$f":"IF('liste engagés'!$G144=5,'liste engagés'!C144,\"\")","v":""},{"$f":"IF('liste engagés'!$G144=5,'liste engagés'!D144,\"\")","v":""},{"$f":"IF('liste engagés'!$G144=5,'liste engagés'!E144,\"\")","v":""},{"$f":"IF('liste engagés'!$G144=5,'liste engagés'!K144,\"\")","v":""},{"$f":"IF('liste engagés'!$G144=5,'liste engagés'!L144,\"\")","v":""},0]
[140,{"$f":"IF('liste engagés'!$G145=5,'liste engagés'!A145,\"\")","v":""},{"$f":"IF('liste engagés'!$G145=5,'liste engagés'!B145,\"\")","v":""},{"$f":"IF('liste engagés'!$G145=5,'liste engagés'!#REF!,\"\")","v":""},{"$f":"IF('liste engagés'!$G145=5,'liste engagés'!D145,\"\")","v":""},{"$f":"IF('liste engagés'!$G145=5,'liste engagés'!E145,\"\")","v":""},{"$f":"IF('liste engagés'!$G145=5,'liste engagés'!K145,\"\")","v":""},{"$f":"IF('liste engagés'!$G145=5,'liste engagés'!L145,\"\")","v":""},0]
[141,{"$f":"IF('liste engagés'!$G146=5,'liste engagés'!A146,\"\")","v":""},{"$f":"IF('liste engagés'!$G146=5,'liste engagés'!B146,\"\")","v":""},{"$f":"IF('liste engagés'!$G146=5,'liste engagés'!C145,\"\")","v":""},{"$f":"IF('liste engagés'!$G146=5,'liste engagés'!D146,\"\")","v":""},{"$f":"IF('liste engagés'!$G146=5,'liste engagés'!E146,\"\")","v":""},{"$f":"IF('liste engagés'!$G146=5,'liste engagés'!K146,\"\")","v":""},{"$f":"IF('liste engagés'!$G146=5,'liste engagés'!L146,\"\")","v":""},0]
[142,{"$f":"IF('liste engagés'!$G147=5,'liste engagés'!A147,\"\")","v":""},{"$f":"IF('liste engagés'!$G147=5,'liste engagés'!B147,\"\")","v":""},{"$f":"IF('liste engagés'!$G147=5,'liste engagés'!C147,\"\")","v":""},{"$f":"IF('liste engagés'!$G147=5,'liste engagés'!D147,\"\")","v":""},{"$f":"IF('liste engagés'!$G147=5,'liste engagés'!E147,\"\")","v":""},{"$f":"IF('liste engagés'!$G147=5,'liste engagés'!K147,\"\")","v":""},{"$f":"IF('liste engagés'!$G147=5,'liste engagés'!L147,\"\")","v":""},0]
[143,{"$f":"IF('liste engagés'!$G148=5,'liste engagés'!A148,\"\")","v":""},{"$f":"IF('liste engagés'!$G148=5,'liste engagés'!B148,\"\")","v":""},{"$f":"IF('liste engagés'!$G148=5,'liste engagés'!C148,\"\")","v":""},{"$f":"IF('liste engagés'!$G148=5,'liste engagés'!D148,\"\")","v":""},{"$f":"IF('liste engagés'!$G148=5,'liste engagés'!E148,\"\")","v":""},{"$f":"IF('liste engagés'!$G148=5,'liste engagés'!K148,\"\")","v":""},{"$f":"IF('liste engagés'!$G148=5,'liste engagés'!L148,\"\")","v":""},0]
[144,{"$f":"IF('liste engagés'!$G149=5,'liste engagés'!A149,\"\")","v":""},{"$f":"IF('liste engagés'!$G149=5,'liste engagés'!B149,\"\")","v":""},{"$f":"IF('liste engagés'!$G149=5,'liste engagés'!C149,\"\")","v":""},{"$f":"IF('liste engagés'!$G149=5,'liste engagés'!D149,\"\")","v":""},{"$f":"IF('liste engagés'!$G149=5,'liste engagés'!E149,\"\")","v":""},{"$f":"IF('liste engagés'!$G149=5,'liste engagés'!K149,\"\")","v":""},{"$f":"IF('liste engagés'!$G149=5,'liste engagés'!L149,\"\")","v":""},0]
[145,{"$f":"IF('liste engagés'!$G150=5,'liste engagés'!A150,\"\")","v":""},{"$f":"IF('liste engagés'!$G150=5,'liste engagés'!B150,\"\")","v":""},{"$f":"IF('liste engagés'!$G150=5,'liste engagés'!C150,\"\")","v":""},{"$f":"IF('liste engagés'!$G150=5,'liste engagés'!D150,\"\")","v":""},{"$f":"IF('liste engagés'!$G150=5,'liste engagés'!E150,\"\")","v":""},{"$f":"IF('liste engagés'!$G150=5,'liste engagés'!K150,\"\")","v":""},{"$f":"IF('liste engagés'!$G150=5,'liste engagés'!L150,\"\")","v":""},0]
[146,{"$f":"IF('liste engagés'!$G151=5,'liste engagés'!A151,\"\")","v":""},{"$f":"IF('liste engagés'!$G151=5,'liste engagés'!B151,\"\")","v":""},{"$f":"IF('liste engagés'!$G151=5,'liste engagés'!C151,\"\")","v":""},{"$f":"IF('liste engagés'!$G151=5,'liste engagés'!D151,\"\")","v":""},{"$f":"IF('liste engagés'!$G151=5,'liste engagés'!E151,\"\")","v":""},{"$f":"IF('liste engagés'!$G151=5,'liste engagés'!K151,\"\")","v":""},{"$f":"IF('liste engagés'!$G151=5,'liste engagés'!L151,\"\")","v":""},0]
[147,{"$f":"IF('liste engagés'!$G152=5,'liste engagés'!A152,\"\")","v":""},{"$f":"IF('liste engagés'!$G152=5,'liste engagés'!B152,\"\")","v":""},{"$f":"IF('liste engagés'!$G152=5,'liste engagés'!C152,\"\")","v":""},{"$f":"IF('liste engagés'!$G152=5,'liste engagés'!D152,\"\")","v":""},{"$f":"IF('liste engagés'!$G152=5,'liste engagés'!E152,\"\")","v":""},{"$f":"IF('liste engagés'!$G152=5,'liste engagés'!K152,\"\")","v":""},{"$f":"IF('liste engagés'!$G152=5,'liste engagés'!L152,\"\")","v":""},0]
[148,{"$f":"IF('liste engagés'!$G153=5,'liste engagés'!A153,\"\")","v":""},{"$f":"IF('liste engagés'!$G153=5,'liste engagés'!B153,\"\")","v":""},{"$f":"IF('liste engagés'!$G153=5,'liste engagés'!C153,\"\")","v":""},{"$f":"IF('liste engagés'!$G153=5,'liste engagés'!D153,\"\")","v":""},{"$f":"IF('liste engagés'!$G153=5,'liste engagés'!E153,\"\")","v":""},{"$f":"IF('liste engagés'!$G153=5,'liste engagés'!K153,\"\")","v":""},{"$f":"IF('liste engagés'!$G153=5,'liste engagés'!L153,\"\")","v":""},0]
[149,{"$f":"IF('liste engagés'!$G154=5,'liste engagés'!A154,\"\")","v":""},{"$f":"IF('liste engagés'!$G154=5,'liste engagés'!B154,\"\")","v":""},{"$f":"IF('liste engagés'!$G154=5,'liste engagés'!C154,\"\")","v":""},{"$f":"IF('liste engagés'!$G154=5,'liste engagés'!D154,\"\")","v":""},{"$f":"IF('liste engagés'!$G154=5,'liste engagés'!E154,\"\")","v":""},{"$f":"IF('liste engagés'!$G154=5,'liste engagés'!K154,\"\")","v":""},{"$f":"IF('liste engagés'!$G154=5,'liste engagés'!L154,\"\")","v":""},0]
[150,{"$f":"IF('liste engagés'!$G155=5,'liste engagés'!A155,\"\")","v":""},{"$f":"IF('liste engagés'!$G155=5,'liste engagés'!B155,\"\")","v":""},{"$f":"IF('liste engagés'!$G155=5,'liste engagés'!C155,\"\")","v":""},{"$f":"IF('liste engagés'!$G155=5,'liste engagés'!D155,\"\")","v":""},{"$f":"IF('liste engagés'!$G155=5,'liste engagés'!E155,\"\")","v":""},{"$f":"IF('liste engagés'!$G155=5,'liste engagés'!K155,\"\")","v":""},{"$f":"IF('liste engagés'!$G155=5,'liste engagés'!L155,\"\")","v":""},0]
[151,{"$f":"IF('liste engagés'!$G156=5,'liste engagés'!A156,\"\")","v":""},{"$f":"IF('liste engagés'!$G156=5,'liste engagés'!B156,\"\")","v":""},{"$f":"IF('liste engagés'!$G156=5,'liste engagés'!C156,\"\")","v":""},{"$f":"IF('liste engagés'!$G156=5,'liste engagés'!D156,\"\")","v":""},{"$f":"IF('liste engagés'!$G156=5,'liste engagés'!E156,\"\")","v":""},{"$f":"IF('liste engagés'!$G156=5,'liste engagés'!K156,\"\")","v":""},{"$f":"IF('liste engagés'!$G156=5,'liste engagés'!L156,\"\")","v":""},0]
[152,{"$f":"IF('liste engagés'!$G157=5,'liste engagés'!A157,\"\")","v":""},{"$f":"IF('liste engagés'!$G157=5,'liste engagés'!B157,\"\")","v":""},{"$f":"IF('liste engagés'!$G157=5,'liste engagés'!C157,\"\")","v":""},{"$f":"IF('liste engagés'!$G157=5,'liste engagés'!D157,\"\")","v":""},{"$f":"IF('liste engagés'!$G157=5,'liste engagés'!E157,\"\")","v":""},{"$f":"IF('liste engagés'!$G157=5,'liste engagés'!K157,\"\")","v":""},{"$f":"IF('liste engagés'!$G157=5,'liste engagés'!L157,\"\")","v":""},0]
[153,{"$f":"IF('liste engagés'!$G158=5,'liste engagés'!A158,\"\")","v":""},{"$f":"IF('liste engagés'!$G158=5,'liste engagés'!B158,\"\")","v":""},{"$f":"IF('liste engagés'!$G158=5,'liste engagés'!C158,\"\")","v":""},{"$f":"IF('liste engagés'!$G158=5,'liste engagés'!D158,\"\")","v":""},{"$f":"IF('liste engagés'!$G158=5,'liste engagés'!E158,\"\")","v":""},{"$f":"IF('liste engagés'!$G158=5,'liste engagés'!K158,\"\")","v":""},{"$f":"IF('liste engagés'!$G158=5,'liste engagés'!L158,\"\")","v":""},0]
[154,{"$f":"IF('liste engagés'!$G159=5,'liste engagés'!A159,\"\")","v":""},{"$f":"IF('liste engagés'!$G159=5,'liste engagés'!B159,\"\")","v":""},{"$f":"IF('liste engagés'!$G159=5,'liste engagés'!C159,\"\")","v":""},{"$f":"IF('liste engagés'!$G159=5,'liste engagés'!D159,\"\")","v":""},{"$f":"IF('liste engagés'!$G159=5,'liste engagés'!E159,\"\")","v":""},{"$f":"IF('liste engagés'!$G159=5,'liste engagés'!K159,\"\")","v":""},{"$f":"IF('liste engagés'!$G159=5,'liste engagés'!L159,\"\")","v":""},0]
[155,{"$f":"IF('liste engagés'!$G160=5,'liste engagés'!A160,\"\")","v":""},{"$f":"IF('liste engagés'!$G160=5,'liste engagés'!B160,\"\")","v":""},{"$f":"IF('liste engagés'!$G160=5,'liste engagés'!C160,\"\")","v":""},{"$f":"IF('liste engagés'!$G160=5,'liste engagés'!D160,\"\")","v":""},{"$f":"IF('liste engagés'!$G160=5,'liste engagés'!E160,\"\")","v":""},{"$f":"IF('liste engagés'!$G160=5,'liste engagés'!K160,\"\")","v":""},{"$f":"IF('liste engagés'!$G160=5,'liste engagés'!L160,\"\")","v":""},0]
[156,{"$f":"IF('liste engagés'!$G161=5,'liste engagés'!A161,\"\")","v":""},{"$f":"IF('liste engagés'!$G161=5,'liste engagés'!B161,\"\")","v":""},{"$f":"IF('liste engagés'!$G161=5,'liste engagés'!C161,\"\")","v":""},{"$f":"IF('liste engagés'!$G161=5,'liste engagés'!D161,\"\")","v":""},{"$f":"IF('liste engagés'!$G161=5,'liste engagés'!E161,\"\")","v":""},{"$f":"IF('liste engagés'!$G161=5,'liste engagés'!K161,\"\")","v":""},{"$f":"IF('liste engagés'!$G161=5,'liste engagés'!L161,\"\")","v":""},0]
[157,{"$f":"IF('liste engagés'!$G162=5,'liste engagés'!A162,\"\")","v":""},{"$f":"IF('liste engagés'!$G162=5,'liste engagés'!B162,\"\")","v":""},{"$f":"IF('liste engagés'!$G162=5,'liste engagés'!C162,\"\")","v":""},{"$f":"IF('liste engagés'!$G162=5,'liste engagés'!D162,\"\")","v":""},{"$f":"IF('liste engagés'!$G162=5,'liste engagés'!E162,\"\")","v":""},{"$f":"IF('liste engagés'!$G162=5,'liste engagés'!K162,\"\")","v":""},{"$f":"IF('liste engagés'!$G162=5,'liste engagés'!L162,\"\")","v":""},0]
[158,{"$f":"IF('liste engagés'!$G163=5,'liste engagés'!A163,\"\")","v":""},{"$f":"IF('liste engagés'!$G163=5,'liste engagés'!B163,\"\")","v":""},{"$f":"IF('liste engagés'!$G163=5,'liste engagés'!C163,\"\")","v":""},{"$f":"IF('liste engagés'!$G163=5,'liste engagés'!D163,\"\")","v":""},{"$f":"IF('liste engagés'!$G163=5,'liste engagés'!E163,\"\")","v":""},{"$f":"IF('liste engagés'!$G163=5,'liste engagés'!K163,\"\")","v":""},{"$f":"IF('liste engagés'!$G163=5,'liste engagés'!L163,\"\")","v":""},0]
[159,{"$f":"IF('liste engagés'!$G164=5,'liste engagés'!A164,\"\")","v":""},{"$f":"IF('liste engagés'!$G164=5,'liste engagés'!B164,\"\")","v":""},{"$f":"IF('liste engagés'!$G164=5,'liste engagés'!C164,\"\")","v":""},{"$f":"IF('liste engagés'!$G164=5,'liste engagés'!D164,\"\")","v":""},{"$f":"IF('liste engagés'!$G164=5,'liste engagés'!E164,\"\")","v":""},{"$f":"IF('liste engagés'!$G164=5,'liste engagés'!K164,\"\")","v":""},{"$f":"IF('liste engagés'!$G164=5,'liste engagés'!L164,\"\")","v":""},0]
[160,{"$f":"IF('liste engagés'!$G165=5,'liste engagés'!A165,\"\")","v":""},{"$f":"IF('liste engagés'!$G165=5,'liste engagés'!B165,\"\")","v":""},{"$f":"IF('liste engagés'!$G165=5,'liste engagés'!C165,\"\")","v":""},{"$f":"IF('liste engagés'!$G165=5,'liste engagés'!D165,\"\")","v":""},{"$f":"IF('liste engagés'!$G165=5,'liste engagés'!E165,\"\")","v":""},{"$f":"IF('liste engagés'!$G165=5,'liste engagés'!K165,\"\")","v":""},{"$f":"IF('liste engagés'!$G165=5,'liste engagés'!L165,\"\")","v":""},0]
[161,{"$f":"IF('liste engagés'!$G166=5,'liste engagés'!A166,\"\")","v":""},{"$f":"IF('liste engagés'!$G166=5,'liste engagés'!B166,\"\")","v":""},{"$f":"IF('liste engagés'!$G166=5,'liste engagés'!C166,\"\")","v":""},{"$f":"IF('liste engagés'!$G166=5,'liste engagés'!D166,\"\")","v":""},{"$f":"IF('liste engagés'!$G166=5,'liste engagés'!E166,\"\")","v":""},{"$f":"IF('liste engagés'!$G166=5,'liste engagés'!K166,\"\")","v":""},{"$f":"IF('liste engagés'!$G166=5,'liste engagés'!L166,\"\")","v":""},0]
[162,{"$f":"IF('liste engagés'!$G167=5,'liste engagés'!A167,\"\")","v":""},{"$f":"IF('liste engagés'!$G167=5,'liste engagés'!B167,\"\")","v":""},{"$f":"IF('liste engagés'!$G167=5,'liste engagés'!C167,\"\")","v":""},{"$f":"IF('liste engagés'!$G167=5,'liste engagés'!D167,\"\")","v":""},{"$f":"IF('liste engagés'!$G167=5,'liste engagés'!E167,\"\")","v":""},{"$f":"IF('liste engagés'!$G167=5,'liste engagés'!K167,\"\")","v":""},{"$f":"IF('liste engagés'!$G167=5,'liste engagés'!L167,\"\")","v":""},0]
[163,{"$f":"IF('liste engagés'!$G168=5,'liste engagés'!A168,\"\")","v":""},{"$f":"IF('liste engagés'!$G168=5,'liste engagés'!B168,\"\")","v":""},{"$f":"IF('liste engagés'!$G168=5,'liste engagés'!C168,\"\")","v":""},{"$f":"IF('liste engagés'!$G168=5,'liste engagés'!D168,\"\")","v":""},{"$f":"IF('liste engagés'!$G168=5,'liste engagés'!E168,\"\")","v":""},{"$f":"IF('liste engagés'!$G168=5,'liste engagés'!K168,\"\")","v":""},{"$f":"IF('liste engagés'!$G168=5,'liste engagés'!L168,\"\")","v":""},0]
[164,{"$f":"IF('liste engagés'!$G169=5,'liste engagés'!A169,\"\")","v":""},{"$f":"IF('liste engagés'!$G169=5,'liste engagés'!B169,\"\")","v":""},{"$f":"IF('liste engagés'!$G169=5,'liste engagés'!C169,\"\")","v":""},{"$f":"IF('liste engagés'!$G169=5,'liste engagés'!D169,\"\")","v":""},{"$f":"IF('liste engagés'!$G169=5,'liste engagés'!E169,\"\")","v":""},{"$f":"IF('liste engagés'!$G169=5,'liste engagés'!K169,\"\")","v":""},{"$f":"IF('liste engagés'!$G169=5,'liste engagés'!L169,\"\")","v":""},0]
[165,{"$f":"IF('liste engagés'!$G170=5,'liste engagés'!A170,\"\")","v":""},{"$f":"IF('liste engagés'!$G170=5,'liste engagés'!B170,\"\")","v":""},{"$f":"IF('liste engagés'!$G170=5,'liste engagés'!C170,\"\")","v":""},{"$f":"IF('liste engagés'!$G170=5,'liste engagés'!D170,\"\")","v":""},{"$f":"IF('liste engagés'!$G170=5,'liste engagés'!E170,\"\")","v":""},{"$f":"IF('liste engagés'!$G170=5,'liste engagés'!K170,\"\")","v":""},{"$f":"IF('liste engagés'!$G170=5,'liste engagés'!L170,\"\")","v":""},0]
[166,{"$f":"IF('liste engagés'!$G171=5,'liste engagés'!A171,\"\")","v":""},{"$f":"IF('liste engagés'!$G171=5,'liste engagés'!B171,\"\")","v":""},{"$f":"IF('liste engagés'!$G171=5,'liste engagés'!C171,\"\")","v":""},{"$f":"IF('liste engagés'!$G171=5,'liste engagés'!D171,\"\")","v":""},{"$f":"IF('liste engagés'!$G171=5,'liste engagés'!E171,\"\")","v":""},{"$f":"IF('liste engagés'!$G171=5,'liste engagés'!K171,\"\")","v":""},{"$f":"IF('liste engagés'!$G171=5,'liste engagés'!L171,\"\")","v":""},0]
[167,{"$f":"IF('liste engagés'!$G172=5,'liste engagés'!A172,\"\")","v":""},{"$f":"IF('liste engagés'!$G172=5,'liste engagés'!B172,\"\")","v":""},{"$f":"IF('liste engagés'!$G172=5,'liste engagés'!C172,\"\")","v":""},{"$f":"IF('liste engagés'!$G172=5,'liste engagés'!D172,\"\")","v":""},{"$f":"IF('liste engagés'!$G172=5,'liste engagés'!E172,\"\")","v":""},{"$f":"IF('liste engagés'!$G172=5,'liste engagés'!K172,\"\")","v":""},{"$f":"IF('liste engagés'!$G172=5,'liste engagés'!L172,\"\")","v":""},0]
[168,{"$f":"IF('liste engagés'!$G173=5,'liste engagés'!A173,\"\")","v":""},{"$f":"IF('liste engagés'!$G173=5,'liste engagés'!B173,\"\")","v":""},{"$f":"IF('liste engagés'!$G173=5,'liste engagés'!C173,\"\")","v":""},{"$f":"IF('liste engagés'!$G173=5,'liste engagés'!D173,\"\")","v":""},{"$f":"IF('liste engagés'!$G173=5,'liste engagés'!E173,\"\")","v":""},{"$f":"IF('liste engagés'!$G173=5,'liste engagés'!K173,\"\")","v":""},{"$f":"IF('liste engagés'!$G173=5,'liste engagés'!L173,\"\")","v":""},0]
[169,{"$f":"IF('liste engagés'!$G174=5,'liste engagés'!A174,\"\")","v":""},{"$f":"IF('liste engagés'!$G174=5,'liste engagés'!B174,\"\")","v":""},{"$f":"IF('liste engagés'!$G174=5,'liste engagés'!C174,\"\")","v":""},{"$f":"IF('liste engagés'!$G174=5,'liste engagés'!D174,\"\")","v":""},{"$f":"IF('liste engagés'!$G174=5,'liste engagés'!E174,\"\")","v":""},{"$f":"IF('liste engagés'!$G174=5,'liste engagés'!K174,\"\")","v":""},{"$f":"IF('liste engagés'!$G174=5,'liste engagés'!L174,\"\")","v":""},0]
[170,{"$f":"IF('liste engagés'!$G175=5,'liste engagés'!A175,\"\")","v":""},{"$f":"IF('liste engagés'!$G175=5,'liste engagés'!B175,\"\")","v":""},{"$f":"IF('liste engagés'!$G175=5,'liste engagés'!C175,\"\")","v":""},{"$f":"IF('liste engagés'!$G175=5,'liste engagés'!D175,\"\")","v":""},{"$f":"IF('liste engagés'!$G175=5,'liste engagés'!E175,\"\")","v":""},{"$f":"IF('liste engagés'!$G175=5,'liste engagés'!K175,\"\")","v":""},{"$f":"IF('liste engagés'!$G175=5,'liste engagés'!L175,\"\")","v":""},0]
[171,{"$f":"IF('liste engagés'!$G176=5,'liste engagés'!A176,\"\")","v":""},{"$f":"IF('liste engagés'!$G176=5,'liste engagés'!B176,\"\")","v":""},{"$f":"IF('liste engagés'!$G176=5,'liste engagés'!C176,\"\")","v":""},{"$f":"IF('liste engagés'!$G176=5,'liste engagés'!D176,\"\")","v":""},{"$f":"IF('liste engagés'!$G176=5,'liste engagés'!E176,\"\")","v":""},{"$f":"IF('liste engagés'!$G176=5,'liste engagés'!K176,\"\")","v":""},{"$f":"IF('liste engagés'!$G176=5,'liste engagés'!L176,\"\")","v":""},0]
[172,{"$f":"IF('liste engagés'!$G177=5,'liste engagés'!A177,\"\")","v":""},{"$f":"IF('liste engagés'!$G177=5,'liste engagés'!B177,\"\")","v":""},{"$f":"IF('liste engagés'!$G177=5,'liste engagés'!C177,\"\")","v":""},{"$f":"IF('liste engagés'!$G177=5,'liste engagés'!D177,\"\")","v":""},{"$f":"IF('liste engagés'!$G177=5,'liste engagés'!E177,\"\")","v":""},{"$f":"IF('liste engagés'!$G177=5,'liste engagés'!K177,\"\")","v":""},{"$f":"IF('liste engagés'!$G177=5,'liste engagés'!L177,\"\")","v":""},0]
[173,{"$f":"IF('liste engagés'!$G178=5,'liste engagés'!A178,\"\")","v":""},{"$f":"IF('liste engagés'!$G178=5,'liste engagés'!B178,\"\")","v":""},{"$f":"IF('liste engagés'!$G178=5,'liste engagés'!C178,\"\")","v":""},{"$f":"IF('liste engagés'!$G178=5,'liste engagés'!D178,\"\")","v":""},{"$f":"IF('liste engagés'!$G178=5,'liste engagés'!E178,\"\")","v":""},{"$f":"IF('liste engagés'!$G178=5,'liste engagés'!K178,\"\")","v":""},{"$f":"IF('liste engagés'!$G178=5,'liste engagés'!L178,\"\")","v":""},0]
[174,{"$f":"IF('liste engagés'!$G179=5,'liste engagés'!A179,\"\")","v":""},{"$f":"IF('liste engagés'!$G179=5,'liste engagés'!B179,\"\")","v":""},{"$f":"IF('liste engagés'!$G179=5,'liste engagés'!C179,\"\")","v":""},{"$f":"IF('liste engagés'!$G179=5,'liste engagés'!D179,\"\")","v":""},{"$f":"IF('liste engagés'!$G179=5,'liste engagés'!E179,\"\")","v":""},{"$f":"IF('liste engagés'!$G179=5,'liste engagés'!K179,\"\")","v":""},{"$f":"IF('liste engagés'!$G179=5,'liste engagés'!L179,\"\")","v":""},0]
[175,{"$f":"IF('liste engagés'!$G180=5,'liste engagés'!A180,\"\")","v":""},{"$f":"IF('liste engagés'!$G180=5,'liste engagés'!B180,\"\")","v":""},{"$f":"IF('liste engagés'!$G180=5,'liste engagés'!C180,\"\")","v":""},{"$f":"IF('liste engagés'!$G180=5,'liste engagés'!D180,\"\")","v":""},{"$f":"IF('liste engagés'!$G180=5,'liste engagés'!E180,\"\")","v":""},{"$f":"IF('liste engagés'!$G180=5,'liste engagés'!K180,\"\")","v":""},{"$f":"IF('liste engagés'!$G180=5,'liste engagés'!L180,\"\")","v":""},0]
[176,{"$f":"IF('liste engagés'!$G181=5,'liste engagés'!A181,\"\")","v":""},{"$f":"IF('liste engagés'!$G181=5,'liste engagés'!B181,\"\")","v":""},{"$f":"IF('liste engagés'!$G181=5,'liste engagés'!C181,\"\")","v":""},{"$f":"IF('liste engagés'!$G181=5,'liste engagés'!D181,\"\")","v":""},{"$f":"IF('liste engagés'!$G181=5,'liste engagés'!E181,\"\")","v":""},{"$f":"IF('liste engagés'!$G181=5,'liste engagés'!K181,\"\")","v":""},{"$f":"IF('liste engagés'!$G181=5,'liste engagés'!L181,\"\")","v":""},0]
[177,{"$f":"IF('liste engagés'!$G182=5,'liste engagés'!A182,\"\")","v":""},{"$f":"IF('liste engagés'!$G182=5,'liste engagés'!B182,\"\")","v":""},{"$f":"IF('liste engagés'!$G182=5,'liste engagés'!C182,\"\")","v":""},{"$f":"IF('liste engagés'!$G182=5,'liste engagés'!D182,\"\")","v":""},{"$f":"IF('liste engagés'!$G182=5,'liste engagés'!E182,\"\")","v":""},{"$f":"IF('liste engagés'!$G182=5,'liste engagés'!K182,\"\")","v":""},{"$f":"IF('liste engagés'!$G182=5,'liste engagés'!L182,\"\")","v":""},0]
[178,{"$f":"IF('liste engagés'!$G183=5,'liste engagés'!A183,\"\")","v":""},{"$f":"IF('liste engagés'!$G183=5,'liste engagés'!B183,\"\")","v":""},{"$f":"IF('liste engagés'!$G183=5,'liste engagés'!C183,\"\")","v":""},{"$f":"IF('liste engagés'!$G183=5,'liste engagés'!D183,\"\")","v":""},{"$f":"IF('liste engagés'!$G183=5,'liste engagés'!E183,\"\")","v":""},{"$f":"IF('liste engagés'!$G183=5,'liste engagés'!K183,\"\")","v":""},{"$f":"IF('liste engagés'!$G183=5,'liste engagés'!L183,\"\")","v":""},0]
[179,{"$f":"IF('liste engagés'!$G184=5,'liste engagés'!A184,\"\")","v":""},{"$f":"IF('liste engagés'!$G184=5,'liste engagés'!B184,\"\")","v":""},{"$f":"IF('liste engagés'!$G184=5,'liste engagés'!C184,\"\")","v":""},{"$f":"IF('liste engagés'!$G184=5,'liste engagés'!D184,\"\")","v":""},{"$f":"IF('liste engagés'!$G184=5,'liste engagés'!E184,\"\")","v":""},{"$f":"IF('liste engagés'!$G184=5,'liste engagés'!K184,\"\")","v":""},{"$f":"IF('liste engagés'!$G184=5,'liste engagés'!L184,\"\")","v":""},0]
[180,{"$f":"IF('liste engagés'!$G185=5,'liste engagés'!A185,\"\")","v":""},{"$f":"IF('liste engagés'!$G185=5,'liste engagés'!B185,\"\")","v":""},{"$f":"IF('liste engagés'!$G185=5,'liste engagés'!C185,\"\")","v":""},{"$f":"IF('liste engagés'!$G185=5,'liste engagés'!D185,\"\")","v":""},{"$f":"IF('liste engagés'!$G185=5,'liste engagés'!E185,\"\")","v":""},{"$f":"IF('liste engagés'!$G185=5,'liste engagés'!K185,\"\")","v":""},{"$f":"IF('liste engagés'!$G185=5,'liste engagés'!L185,\"\")","v":""},0]
[181,{"$f":"IF('liste engagés'!$G186=5,'liste engagés'!A186,\"\")","v":""},{"$f":"IF('liste engagés'!$G186=5,'liste engagés'!B186,\"\")","v":""},{"$f":"IF('liste engagés'!$G186=5,'liste engagés'!C186,\"\")","v":""},{"$f":"IF('liste engagés'!$G186=5,'liste engagés'!D186,\"\")","v":""},{"$f":"IF('liste engagés'!$G186=5,'liste engagés'!E186,\"\")","v":""},{"$f":"IF('liste engagés'!$G186=5,'liste engagés'!K186,\"\")","v":""},{"$f":"IF('liste engagés'!$G186=5,'liste engagés'!L186,\"\")","v":""},0]
[182,{"$f":"IF('liste engagés'!$G187=5,'liste engagés'!A187,\"\")","v":""},{"$f":"IF('liste engagés'!$G187=5,'liste engagés'!B187,\"\")","v":""},{"$f":"IF('liste engagés'!$G187=5,'liste engagés'!C187,\"\")","v":""},{"$f":"IF('liste engagés'!$G187=5,'liste engagés'!D187,\"\")","v":""},{"$f":"IF('liste engagés'!$G187=5,'liste engagés'!E187,\"\")","v":""},{"$f":"IF('liste engagés'!$G187=5,'liste engagés'!K187,\"\")","v":""},{"$f":"IF('liste engagés'!$G187=5,'liste engagés'!L187,\"\")","v":""},0]
[183,{"$f":"IF('liste engagés'!$G188=5,'liste engagés'!A188,\"\")","v":""},{"$f":"IF('liste engagés'!$G188=5,'liste engagés'!B188,\"\")","v":""},{"$f":"IF('liste engagés'!$G188=5,'liste engagés'!C188,\"\")","v":""},{"$f":"IF('liste engagés'!$G188=5,'liste engagés'!D188,\"\")","v":""},{"$f":"IF('liste engagés'!$G188=5,'liste engagés'!E188,\"\")","v":""},{"$f":"IF('liste engagés'!$G188=5,'liste engagés'!K188,\"\")","v":""},{"$f":"IF('liste engagés'!$G188=5,'liste engagés'!L188,\"\")","v":""},0]
[184,{"$f":"IF('liste engagés'!$G189=5,'liste engagés'!A189,\"\")","v":""},{"$f":"IF('liste engagés'!$G189=5,'liste engagés'!B189,\"\")","v":""},{"$f":"IF('liste engagés'!$G189=5,'liste engagés'!C189,\"\")","v":""},{"$f":"IF('liste engagés'!$G189=5,'liste engagés'!D189,\"\")","v":""},{"$f":"IF('liste engagés'!$G189=5,'liste engagés'!E189,\"\")","v":""},{"$f":"IF('liste engagés'!$G189=5,'liste engagés'!K189,\"\")","v":""},{"$f":"IF('liste engagés'!$G189=5,'liste engagés'!L189,\"\")","v":""},0]
[185,{"$f":"IF('liste engagés'!$G190=5,'liste engagés'!A190,\"\")","v":""},{"$f":"IF('liste engagés'!$G190=5,'liste engagés'!B190,\"\")","v":""},{"$f":"IF('liste engagés'!$G190=5,'liste engagés'!C190,\"\")","v":""},{"$f":"IF('liste engagés'!$G190=5,'liste engagés'!D190,\"\")","v":""},{"$f":"IF('liste engagés'!$G190=5,'liste engagés'!E190,\"\")","v":""},{"$f":"IF('liste engagés'!$G190=5,'liste engagés'!K190,\"\")","v":""},{"$f":"IF('liste engagés'!$G190=5,'liste engagés'!L190,\"\")","v":""},0]
[186,{"$f":"IF('liste engagés'!$G191=5,'liste engagés'!A191,\"\")","v":""},{"$f":"IF('liste engagés'!$G191=5,'liste engagés'!B191,\"\")","v":""},{"$f":"IF('liste engagés'!$G191=5,'liste engagés'!C191,\"\")","v":""},{"$f":"IF('liste engagés'!$G191=5,'liste engagés'!D191,\"\")","v":""},{"$f":"IF('liste engagés'!$G191=5,'liste engagés'!E191,\"\")","v":""},{"$f":"IF('liste engagés'!$G191=5,'liste engagés'!K191,\"\")","v":""},{"$f":"IF('liste engagés'!$G191=5,'liste engagés'!L191,\"\")","v":""},0]
[187,{"$f":"IF('liste engagés'!$G192=5,'liste engagés'!A192,\"\")","v":""},{"$f":"IF('liste engagés'!$G192=5,'liste engagés'!B192,\"\")","v":""},{"$f":"IF('liste engagés'!$G192=5,'liste engagés'!C192,\"\")","v":""},{"$f":"IF('liste engagés'!$G192=5,'liste engagés'!D192,\"\")","v":""},{"$f":"IF('liste engagés'!$G192=5,'liste engagés'!E192,\"\")","v":""},{"$f":"IF('liste engagés'!$G192=5,'liste engagés'!K192,\"\")","v":""},{"$f":"IF('liste engagés'!$G192=5,'liste engagés'!L192,\"\")","v":""},0]
[188,{"$f":"IF('liste engagés'!$G193=5,'liste engagés'!A193,\"\")","v":""},{"$f":"IF('liste engagés'!$G193=5,'liste engagés'!B193,\"\")","v":""},{"$f":"IF('liste engagés'!$G193=5,'liste engagés'!C193,\"\")","v":""},{"$f":"IF('liste engagés'!$G193=5,'liste engagés'!D193,\"\")","v":""},{"$f":"IF('liste engagés'!$G193=5,'liste engagés'!E193,\"\")","v":""},{"$f":"IF('liste engagés'!$G193=5,'liste engagés'!K193,\"\")","v":""},{"$f":"IF('liste engagés'!$G193=5,'liste engagés'!L193,\"\")","v":""},0]
[189,{"$f":"IF('liste engagés'!$G194=5,'liste engagés'!A194,\"\")","v":""},{"$f":"IF('liste engagés'!$G194=5,'liste engagés'!B194,\"\")","v":""},{"$f":"IF('liste engagés'!$G194=5,'liste engagés'!C194,\"\")","v":""},{"$f":"IF('liste engagés'!$G194=5,'liste engagés'!D194,\"\")","v":""},{"$f":"IF('liste engagés'!$G194=5,'liste engagés'!E194,\"\")","v":""},{"$f":"IF('liste engagés'!$G194=5,'liste engagés'!K194,\"\")","v":""},{"$f":"IF('liste engagés'!$G194=5,'liste engagés'!L194,\"\")","v":""},0]
[190,{"$f":"IF('liste engagés'!$G195=5,'liste engagés'!A195,\"\")","v":""},{"$f":"IF('liste engagés'!$G195=5,'liste engagés'!B195,\"\")","v":""},{"$f":"IF('liste engagés'!$G195=5,'liste engagés'!C195,\"\")","v":""},{"$f":"IF('liste engagés'!$G195=5,'liste engagés'!D195,\"\")","v":""},{"$f":"IF('liste engagés'!$G195=5,'liste engagés'!E195,\"\")","v":""},{"$f":"IF('liste engagés'!$G195=5,'liste engagés'!K195,\"\")","v":""},{"$f":"IF('liste engagés'!$G195=5,'liste engagés'!L195,\"\")","v":""},0]
[191,{"$f":"IF('liste engagés'!$G196=5,'liste engagés'!A196,\"\")","v":""},{"$f":"IF('liste engagés'!$G196=5,'liste engagés'!B196,\"\")","v":""},{"$f":"IF('liste engagés'!$G196=5,'liste engagés'!C196,\"\")","v":""},{"$f":"IF('liste engagés'!$G196=5,'liste engagés'!D196,\"\")","v":""},{"$f":"IF('liste engagés'!$G196=5,'liste engagés'!E196,\"\")","v":""},{"$f":"IF('liste engagés'!$G196=5,'liste engagés'!K196,\"\")","v":""},{"$f":"IF('liste engagés'!$G196=5,'liste engagés'!L196,\"\")","v":""},0]
[192,{"$f":"IF('liste engagés'!$G197=5,'liste engagés'!A197,\"\")","v":""},{"$f":"IF('liste engagés'!$G197=5,'liste engagés'!B197,\"\")","v":""},{"$f":"IF('liste engagés'!$G197=5,'liste engagés'!C197,\"\")","v":""},{"$f":"IF('liste engagés'!$G197=5,'liste engagés'!D197,\"\")","v":""},{"$f":"IF('liste engagés'!$G197=5,'liste engagés'!E197,\"\")","v":""},{"$f":"IF('liste engagés'!$G197=5,'liste engagés'!K197,\"\")","v":""},{"$f":"IF('liste engagés'!$G197=5,'liste engagés'!L197,\"\")","v":""},0]
[193,{"$f":"IF('liste engagés'!$G198=5,'liste engagés'!A198,\"\")","v":""},{"$f":"IF('liste engagés'!$G198=5,'liste engagés'!B198,\"\")","v":""},{"$f":"IF('liste engagés'!$G198=5,'liste engagés'!C198,\"\")","v":""},{"$f":"IF('liste engagés'!$G198=5,'liste engagés'!D198,\"\")","v":""},{"$f":"IF('liste engagés'!$G198=5,'liste engagés'!E198,\"\")","v":""},{"$f":"IF('liste engagés'!$G198=5,'liste engagés'!K198,\"\")","v":""},{"$f":"IF('liste engagés'!$G198=5,'liste engagés'!L198,\"\")","v":""},{"$f":"+IF(C199=\"\",0,1)","v":0}]
[{"$f":"+A199+1","v":194},{"$f":"IF('liste engagés'!$G199=5,'liste engagés'!A199,\"\")","v":""},{"$f":"IF('liste engagés'!$G199=5,'liste engagés'!B199,\"\")","v":""},{"$f":"IF('liste engagés'!$G199=5,'liste engagés'!C199,\"\")","v":""},{"$f":"IF('liste engagés'!$G199=5,'liste engagés'!D199,\"\")","v":""},{"$f":"IF('liste engagés'!$G199=5,'liste engagés'!E199,\"\")","v":""},{"$f":"IF('liste engagés'!$G199=5,'liste engagés'!K199,\"\")","v":""},{"$f":"IF('liste engagés'!$G199=5,'liste engagés'!L199,\"\")","v":""},0]
[195,{"$f":"IF('liste engagés'!$G200=5,'liste engagés'!A200,\"\")","v":""},{"$f":"IF('liste engagés'!$G200=5,'liste engagés'!B200,\"\")","v":""},{"$f":"IF('liste engagés'!$G200=5,'liste engagés'!C200,\"\")","v":""},{"$f":"IF('liste engagés'!$G200=5,'liste engagés'!D200,\"\")","v":""},{"$f":"IF('liste engagés'!$G200=5,'liste engagés'!E200,\"\")","v":""},{"$f":"IF('liste engagés'!$G200=5,'liste engagés'!K200,\"\")","v":""},{"$f":"IF('liste engagés'!$G200=5,'liste engagés'!L200,\"\")","v":""},0]
[196,{"$f":"IF('liste engagés'!$G201=5,'liste engagés'!A201,\"\")","v":""},{"$f":"IF('liste engagés'!$G201=5,'liste engagés'!B201,\"\")","v":""},{"$f":"IF('liste engagés'!$G201=5,'liste engagés'!C201,\"\")","v":""},{"$f":"IF('liste engagés'!$G201=5,'liste engagés'!D201,\"\")","v":""},{"$f":"IF('liste engagés'!$G201=5,'liste engagés'!E201,\"\")","v":""},{"$f":"IF('liste engagés'!$G201=5,'liste engagés'!K201,\"\")","v":""},{"$f":"IF('liste engagés'!$G201=5,'liste engagés'!L201,\"\")","v":""},0]
[197,{"$f":"IF('liste engagés'!$G202=5,'liste engagés'!A202,\"\")","v":""},{"$f":"IF('liste engagés'!$G202=5,'liste engagés'!B202,\"\")","v":""},{"$f":"IF('liste engagés'!$G202=5,'liste engagés'!C202,\"\")","v":""},{"$f":"IF('liste engagés'!$G202=5,'liste engagés'!D202,\"\")","v":""},{"$f":"IF('liste engagés'!$G202=5,'liste engagés'!E202,\"\")","v":""},{"$f":"IF('liste engagés'!$G202=5,'liste engagés'!K202,\"\")","v":""},{"$f":"IF('liste engagés'!$G202=5,'liste engagés'!L202,\"\")","v":""},0]
[198,{"$f":"IF('liste engagés'!$G203=5,'liste engagés'!A203,\"\")","v":""},{"$f":"IF('liste engagés'!$G203=5,'liste engagés'!B203,\"\")","v":""},{"$f":"IF('liste engagés'!$G203=5,'liste engagés'!C203,\"\")","v":""},{"$f":"IF('liste engagés'!$G203=5,'liste engagés'!D203,\"\")","v":""},{"$f":"IF('liste engagés'!$G203=5,'liste engagés'!E203,\"\")","v":""},{"$f":"IF('liste engagés'!$G203=5,'liste engagés'!K203,\"\")","v":""},{"$f":"IF('liste engagés'!$G203=5,'liste engagés'!L203,\"\")","v":""},0]
[199,{"$f":"IF('liste engagés'!$G204=5,'liste engagés'!A204,\"\")","v":""},{"$f":"IF('liste engagés'!$G204=5,'liste engagés'!B204,\"\")","v":""},{"$f":"IF('liste engagés'!$G204=5,'liste engagés'!C204,\"\")","v":""},{"$f":"IF('liste engagés'!$G204=5,'liste engagés'!D204,\"\")","v":""},{"$f":"IF('liste engagés'!$G204=5,'liste engagés'!E204,\"\")","v":""},{"$f":"IF('liste engagés'!$G204=5,'liste engagés'!K204,\"\")","v":""},{"$f":"IF('liste engagés'!$G204=5,'liste engagés'!L204,\"\")","v":""},0]
[200,{"$f":"IF('liste engagés'!$G205=5,'liste engagés'!A205,\"\")","v":""},{"$f":"IF('liste engagés'!$G205=5,'liste engagés'!B205,\"\")","v":""},{"$f":"IF('liste engagés'!$G205=5,'liste engagés'!C205,\"\")","v":""},{"$f":"IF('liste engagés'!$G205=5,'liste engagés'!D205,\"\")","v":""},{"$f":"IF('liste engagés'!$G205=5,'liste engagés'!E205,\"\")","v":""},{"$f":"IF('liste engagés'!$G205=5,'liste engagés'!K205,\"\")","v":""},{"$f":"IF('liste engagés'!$G205=5,'liste engagés'!L205,\"\")","v":""},0]
[201,{"$f":"IF('liste engagés'!$G206=5,'liste engagés'!A206,\"\")","v":""},{"$f":"IF('liste engagés'!$G206=5,'liste engagés'!B206,\"\")","v":""},{"$f":"IF('liste engagés'!$G206=5,'liste engagés'!C206,\"\")","v":""},{"$f":"IF('liste engagés'!$G206=5,'liste engagés'!D206,\"\")","v":""},{"$f":"IF('liste engagés'!$G206=5,'liste engagés'!E206,\"\")","v":""},{"$f":"IF('liste engagés'!$G206=5,'liste engagés'!K206,\"\")","v":""},{"$f":"IF('liste engagés'!$G206=5,'liste engagés'!L206,\"\")","v":""},0]
[202,{"$f":"IF('liste engagés'!$G207=5,'liste engagés'!A207,\"\")","v":""},{"$f":"IF('liste engagés'!$G207=5,'liste engagés'!B207,\"\")","v":""},{"$f":"IF('liste engagés'!$G207=5,'liste engagés'!C207,\"\")","v":""},{"$f":"IF('liste engagés'!$G207=5,'liste engagés'!D207,\"\")","v":""},{"$f":"IF('liste engagés'!$G207=5,'liste engagés'!E207,\"\")","v":""},{"$f":"IF('liste engagés'!$G207=5,'liste engagés'!K207,\"\")","v":""},{"$f":"IF('liste engagés'!$G207=5,'liste engagés'!L207,\"\")","v":""},0]
[203,{"$f":"IF('liste engagés'!$G208=5,'liste engagés'!A208,\"\")","v":""},{"$f":"IF('liste engagés'!$G208=5,'liste engagés'!B208,\"\")","v":""},{"$f":"IF('liste engagés'!$G208=5,'liste engagés'!C208,\"\")","v":""},{"$f":"IF('liste engagés'!$G208=5,'liste engagés'!D208,\"\")","v":""},{"$f":"IF('liste engagés'!$G208=5,'liste engagés'!E208,\"\")","v":""},{"$f":"IF('liste engagés'!$G208=5,'liste engagés'!K208,\"\")","v":""},{"$f":"IF('liste engagés'!$G208=5,'liste engagés'!L208,\"\")","v":""},0]
[204,{"$f":"IF('liste engagés'!$G209=5,'liste engagés'!A209,\"\")","v":""},{"$f":"IF('liste engagés'!$G209=5,'liste engagés'!B209,\"\")","v":""},{"$f":"IF('liste engagés'!$G209=5,'liste engagés'!C209,\"\")","v":""},{"$f":"IF('liste engagés'!$G209=5,'liste engagés'!D209,\"\")","v":""},{"$f":"IF('liste engagés'!$G209=5,'liste engagés'!E209,\"\")","v":""},{"$f":"IF('liste engagés'!$G209=5,'liste engagés'!K209,\"\")","v":""},{"$f":"IF('liste engagés'!$G209=5,'liste engagés'!L209,\"\")","v":""},0]
[205,{"$f":"IF('liste engagés'!$G210=5,'liste engagés'!A210,\"\")","v":""},{"$f":"IF('liste engagés'!$G210=5,'liste engagés'!B210,\"\")","v":""},{"$f":"IF('liste engagés'!$G210=5,'liste engagés'!C210,\"\")","v":""},{"$f":"IF('liste engagés'!$G210=5,'liste engagés'!D210,\"\")","v":""},{"$f":"IF('liste engagés'!$G210=5,'liste engagés'!E210,\"\")","v":""},{"$f":"IF('liste engagés'!$G210=5,'liste engagés'!K210,\"\")","v":""},{"$f":"IF('liste engagés'!$G210=5,'liste engagés'!L210,\"\")","v":""},0]
[206,{"$f":"IF('liste engagés'!$G211=5,'liste engagés'!A211,\"\")","v":""},{"$f":"IF('liste engagés'!$G211=5,'liste engagés'!B211,\"\")","v":""},{"$f":"IF('liste engagés'!$G211=5,'liste engagés'!C211,\"\")","v":""},{"$f":"IF('liste engagés'!$G211=5,'liste engagés'!D211,\"\")","v":""},{"$f":"IF('liste engagés'!$G211=5,'liste engagés'!E211,\"\")","v":""},{"$f":"IF('liste engagés'!$G211=5,'liste engagés'!K211,\"\")","v":""},{"$f":"IF('liste engagés'!$G211=5,'liste engagés'!L211,\"\")","v":""},0]
[207,{"$f":"IF('liste engagés'!$G212=5,'liste engagés'!A212,\"\")","v":""},{"$f":"IF('liste engagés'!$G212=5,'liste engagés'!B212,\"\")","v":""},{"$f":"IF('liste engagés'!$G212=5,'liste engagés'!C212,\"\")","v":""},{"$f":"IF('liste engagés'!$G212=5,'liste engagés'!D212,\"\")","v":""},{"$f":"IF('liste engagés'!$G212=5,'liste engagés'!E212,\"\")","v":""},{"$f":"IF('liste engagés'!$G212=5,'liste engagés'!K212,\"\")","v":""},{"$f":"IF('liste engagés'!$G212=5,'liste engagés'!L212,\"\")","v":""},0]
[208,{"$f":"IF('liste engagés'!$G213=5,'liste engagés'!A213,\"\")","v":""},{"$f":"IF('liste engagés'!$G213=5,'liste engagés'!B213,\"\")","v":""},{"$f":"IF('liste engagés'!$G213=5,'liste engagés'!C213,\"\")","v":""},{"$f":"IF('liste engagés'!$G213=5,'liste engagés'!D213,\"\")","v":""},{"$f":"IF('liste engagés'!$G213=5,'liste engagés'!E213,\"\")","v":""},{"$f":"IF('liste engagés'!$G213=5,'liste engagés'!K213,\"\")","v":""},{"$f":"IF('liste engagés'!$G213=5,'liste engagés'!L213,\"\")","v":""},0]
[209,{"$f":"IF('liste engagés'!$G214=5,'liste engagés'!A214,\"\")","v":""},{"$f":"IF('liste engagés'!$G214=5,'liste engagés'!B214,\"\")","v":""},{"$f":"IF('liste engagés'!$G214=5,'liste engagés'!C214,\"\")","v":""},{"$f":"IF('liste engagés'!$G214=5,'liste engagés'!D214,\"\")","v":""},{"$f":"IF('liste engagés'!$G214=5,'liste engagés'!E214,\"\")","v":""},{"$f":"IF('liste engagés'!$G214=5,'liste engagés'!K214,\"\")","v":""},{"$f":"IF('liste engagés'!$G214=5,'liste engagés'!L214,\"\")","v":""},0]
[210,{"$f":"IF('liste engagés'!$G215=5,'liste engagés'!A215,\"\")","v":""},{"$f":"IF('liste engagés'!$G215=5,'liste engagés'!B215,\"\")","v":""},{"$f":"IF('liste engagés'!$G215=5,'liste engagés'!C215,\"\")","v":""},{"$f":"IF('liste engagés'!$G215=5,'liste engagés'!D215,\"\")","v":""},{"$f":"IF('liste engagés'!$G215=5,'liste engagés'!E215,\"\")","v":""},{"$f":"IF('liste engagés'!$G215=5,'liste engagés'!K215,\"\")","v":""},{"$f":"IF('liste engagés'!$G215=5,'liste engagés'!L215,\"\")","v":""},0]
[null,null,null,null,null,null,null,null,{"$f":"SUM(I7:I216)","v":2}]

{"sheet":"cat6","index":9,"n_rows":217,"n_cols":10,"rows_kept":217,"cut":false,"hidden":false,"merged":[]}
[{"$f":"+MENU!A1","v":"CHRONO DES LIMOUCHES "},null,null,null,null,null,{"$f":"+MENU!I1","v":"EDITION"},{"$f":"+MENU!J1","v":2018}]
[null,null,null,null,null,null,null,null,"code cat",6]
["CLASSEMENT :",null,{"$f":"+IF(J2=\"\",\"\",VLOOKUP($J$2,Catégories!B3:D17,3))","v":"Autres fédés / NL : 50-59 ans"}]
[]
[]
[null,"N°de DOSSARD","Nom ","Prénom","Club","Fédération","Temps","Moyenne"]
[1,{"$f":"IF('liste engagés'!$G113=6,'liste engagés'!A113,\"\")","v":108},{"$f":"IF('liste engagés'!$G113=6,'liste engagés'!B113,\"\")","v":"ANKRI"},{"$f":"IF('liste engagés'!$G113=6,'liste engagés'!C113,\"\")","v":"NORBERT"},{"$f":"IF('liste engagés'!$G113=6,'liste engagés'!D113,\"\")","v":"MARSEILLE"},{"$f":"IF('liste engagés'!$G113=6,'liste engagés'!E113,\"\")","v":"FFC"},{"$f":"IF('liste engagés'!$G113=6,'liste engagés'!K113,\"\")","v":2.3761574074068592E-2},{"$f":"IF('liste engagés'!$G113=6,'liste engagés'!L113,\"\")","v":19.990258158796625},{"$f":"+IF(C7=\"\",0,1)","v":1}]
[{"$f":"+A7+1","v":2},{"$f":"IF('liste engagés'!$G67=6,'liste engagés'!A67,\"\")","v":62},{"$f":"IF('liste engagés'!$G67=6,'liste engagés'!B67,\"\")","v":"GARCIN"},{"$f":"IF('liste engagés'!$G67=6,'liste engagés'!C67,\"\")","v":"PATRICK"},{"$f":"IF('liste engagés'!$G67=6,'liste engagés'!D67,\"\")","v":"UCMV"},{"$f":"IF('liste engagés'!$G67=6,'liste engagés'!E67,\"\")","v":"NL"},{"$f":"IF('liste engagés'!$G67=6,'liste engagés'!K67,\"\")","v":2.8576388888886028E-2},{"$f":"IF('liste engagés'!$G67=6,'liste engagés'!L67,\"\")","v":16.62211421628356},1]
[3,{"$f":"IF('liste engagés'!$G142=6,'liste engagés'!A142,\"\")","v":137},{"$f":"IF('liste engagés'!$G142=6,'liste engagés'!B142,\"\")","v":"PECOULT"},{"$f":"IF('liste engagés'!$G142=6,'liste engagés'!C142,\"\")","v":"CHRISTIAN"},{"$f":"IF('liste engagés'!$G142=6,'liste engagés'!D142,\"\")","v":"VC ISLOIS"},{"$f":"IF('liste engagés'!$G142=6,'liste engagés'!E142,\"\")","v":"UFOLEP"},{"$f":"IF('liste engagés'!$G142=6,'liste engagés'!K142,\"\")","v":2.8981481481481441E-2},{"$f":"IF('liste engagés'!$G142=6,'liste engagés'!L142,\"\")","v":16.3897763578275},1]
[4,{"$f":"IF('liste engagés'!$G106=6,'liste engagés'!A106,\"\")","v":101},{"$f":"IF('liste engagés'!$G106=6,'liste engagés'!B106,\"\")","v":"BEUGNOT"},{"$f":"IF('liste engagés'!$G106=6,'liste engagés'!C106,\"\")","v":"PASCAL"},{"$f":"IF('liste engagés'!$G106=6,'liste engagés'!D106,\"\")","v":"NL"},{"$f":"IF('liste engagés'!$G106=6,'liste engagés'!E106,\"\")","v":"NL"},{"$f":"IF('liste engagés'!$G106=6,'liste engagés'!K106,\"\")","v":2.9895833333327793E-2},{"$f":"IF('liste engagés'!$G106=6,'liste engagés'!L106,\"\")","v":15.888501742163223},1]
[5,{"$f":"IF('liste engagés'!$G97=6,'liste engagés'!A97,\"\")","v":92},{"$f":"IF('liste engagés'!$G97=6,'liste engagés'!B97,\"\")","v":"DEVICE"},{"$f":"IF('liste engagés'!$G97=6,'liste engagés'!C97,\"\")","v":"BRUNO"},{"$f":"IF('liste engagés'!$G97=6,'liste engagés'!D97,\"\")","v":"NL"},{"$f":"IF('liste engagés'!$G97=6,'liste engagés'!E97,\"\")","v":"NL"},{"$f":"IF('liste engagés'!$G97=6,'liste engagés'!K97,\"\")","v":3.0081018518514024E-2},{"$f":"IF('liste engagés'!$G97=6,'liste engagés'!L97,\"\")","v":15.790688726435603},1]
[6,{"$f":"IF('liste engagés'!$G12=6,'liste engagés'!A12,\"\")","v":7},{"$f":"IF('liste engagés'!$G12=6,'liste engagés'!B12,\"\")","v":"LAFFONT"},{"$f":"IF('liste engagés'!$G12=6,'liste engagés'!C12,\"\")","v":"FRANCIS"},{"$f":"IF('liste engagés'!$G12=6,'liste engagés'!D12,\"\")","v":"NON LICENCIE"},{"$f":"IF('liste engagés'!$G12=6,'liste engagés'!E12,\"\")","v":"NL"},{"$f":"IF('liste engagés'!$G12=6,'liste engagés'!K12,\"\")","v":3.4895833333333348E-2},{"$f":"IF('liste engagés'!$G12=6,'liste engagés'!L12,\"\")","v":13.611940298507458},1]
[7,{"$f":"IF('liste engagés'!$G93=6,'liste engagés'!A93,\"\")","v":88},{"$f":"IF('liste engagés'!$G93=6,'liste engagés'!B93,\"\")","v":"ARGAUD"},{"$f":"IF('liste engagés'!$G93=6,'liste engagés'!C93,\"\")","v":"FRANCIS"},{"$f":"IF('liste engagés'!$G93=6,'liste engagés'!D93,\"\")","v":"SC BLV"},{"$f":"IF('liste engagés'!$G93=6,'liste engagés'!E93,\"\")","v":"FFC"},{"$f":"IF('liste engagés'!$G93=6,'liste engagés'!K93,\"\")","v":3.5208333333329012E-2},{"$f":"IF('liste engagés'!$G93=6,'liste engagés'!L93,\"\")","v":13.491124260356687},1]
[8,{"$f":"IF('liste engagés'!$G6=6,'liste engagés'!A6,\"\")","v":""},{"$f":"IF('liste engagés'!$G6=6,'liste engagés'!B6,\"\")","v":""},{"$f":"IF('liste engagés'!$G6=6,'liste engagés'!C6,\"\")","v":""},{"$f":"IF('liste engagés'!$G6=6,'liste engagés'!D6,\"\")","v":""},{"$f":"IF('liste engagés'!$G6=6,'liste engagés'!E6,\"\")","v":""},{"$f":"IF('liste engagés'!$G6=6,'liste engagés'!K6,\"\")","v":""},{"$f":"IF('liste engagés'!$G6=6,'liste engagés'!L6,\"\")","v":""},0]
[9,{"$f":"IF('liste engagés'!$G7=6,'liste engagés'!A7,\"\")","v":""},{"$f":"IF('liste engagés'!$G7=6,'liste engagés'!B7,\"\")","v":""},{"$f":"IF('liste engagés'!$G7=6,'liste engagés'!C7,\"\")","v":""},{"$f":"IF('liste engagés'!$G7=6,'liste engagés'!D7,\"\")","v":""},{"$f":"IF('liste engagés'!$G7=6,'liste engagés'!E7,\"\")","v":""},{"$f":"IF('liste engagés'!$G7=6,'liste engagés'!K7,\"\")","v":""},{"$f":"IF('liste engagés'!$G7=6,'liste engagés'!L7,\"\")","v":""},0]
[10,{"$f":"IF('liste engagés'!$G8=6,'liste engagés'!A8,\"\")","v":""},{"$f":"IF('liste engagés'!$G8=6,'liste engagés'!B8,\"\")","v":""},{"$f":"IF('liste engagés'!$G8=6,'liste engagés'!C8,\"\")","v":""},{"$f":"IF('liste engagés'!$G8=6,'liste engagés'!D8,\"\")","v":""},{"$f":"IF('liste engagés'!$G8=6,'liste engagés'!E8,\"\")","v":""},{"$f":"IF('liste engagés'!$G8=6,'liste engagés'!K8,\"\")","v":""},{"$f":"IF('liste engagés'!$G8=6,'liste engagés'!L8,\"\")","v":""},0]
[11,{"$f":"IF('liste engagés'!$G9=6,'liste engagés'!A9,\"\")","v":""},{"$f":"IF('liste engagés'!$G9=6,'liste engagés'!B9,\"\")","v":""},{"$f":"IF('liste engagés'!$G9=6,'liste engagés'!C9,\"\")","v":""},{"$f":"IF('liste engagés'!$G9=6,'liste engagés'!D9,\"\")","v":""},{"$f":"IF('liste engagés'!$G9=6,'liste engagés'!E9,\"\")","v":""},{"$f":"IF('liste engagés'!$G9=6,'liste engagés'!K9,\"\")","v":""},{"$f":"IF('liste engagés'!$G9=6,'liste engagés'!L9,\"\")","v":""},0]
[12,{"$f":"IF('liste engagés'!$G10=6,'liste engagés'!A10,\"\")","v":""},{"$f":"IF('liste engagés'!$G10=6,'liste engagés'!B10,\"\")","v":""},{"$f":"IF('liste engagés'!$G10=6,'liste engagés'!C10,\"\")","v":""},{"$f":"IF('liste engagés'!$G10=6,'liste engagés'!D10,\"\")","v":""},{"$f":"IF('liste engagés'!$G10=6,'liste engagés'!E10,\"\")","v":""},{"$f":"IF('liste engagés'!$G10=6,'liste engagés'!K10,\"\")","v":""},{"$f":"IF('liste engagés'!$G10=6,'liste engagés'!L10,\"\")","v":""},0]
[13,{"$f":"IF('liste engagés'!$G11=6,'liste engagés'!A11,\"\")","v":""},{"$f":"IF('liste engagés'!$G11=6,'liste engagés'!B11,\"\")","v":""},{"$f":"IF('liste engagés'!$G11=6,'liste engagés'!C11,\"\")","v":""},{"$f":"IF('liste engagés'!$G11=6,'liste engagés'!D11,\"\")","v":""},{"$f":"IF('liste engagés'!$G11=6,'liste engagés'!E11,\"\")","v":""},{"$f":"IF('liste engagés'!$G11=6,'liste engagés'!K11,\"\")","v":""},{"$f":"IF('liste engagés'!$G11=6,'liste engagés'!L11,\"\")","v":""},0]
[14,{"$f":"IF('liste engagés'!$G13=6,'liste engagés'!A13,\"\")","v":""},{"$f":"IF('liste engagés'!$G13=6,'liste engagés'!B13,\"\")","v":""},{"$f":"IF('liste engagés'!$G13=6,'liste engagés'!C13,\"\")","v":""},{"$f":"IF('liste engagés'!$G13=6,'liste engagés'!D13,\"\")","v":""},{"$f":"IF('liste engagés'!$G13=6,'liste engagés'!E13,\"\")","v":""},{"$f":"IF('liste engagés'!$G13=6,'liste engagés'!K13,\"\")","v":""},{"$f":"IF('liste engagés'!$G13=6,'liste engagés'!L13,\"\")","v":""},0]
[15,{"$f":"IF('liste engagés'!$G14=6,'liste engagés'!A14,\"\")","v":""},{"$f":"IF('liste engagés'!$G14=6,'liste engagés'!B14,\"\")","v":""},{"$f":"IF('liste engagés'!$G14=6,'liste engagés'!C14,\"\")","v":""},{"$f":"IF('liste engagés'!$G14=6,'liste engagés'!D14,\"\")","v":""},{"$f":"IF('liste engagés'!$G14=6,'liste engagés'!E14,\"\")","v":""},{"$f":"IF('liste engagés'!$G14=6,'liste engagés'!K14,\"\")","v":""},{"$f":"IF('liste engagés'!$G14=6,'liste engagés'!L14,\"\")","v":""},0]
[16,{"$f":"IF('liste engagés'!$G15=6,'liste engagés'!A15,\"\")","v":""},{"$f":"IF('liste engagés'!$G15=6,'liste engagés'!B15,\"\")","v":""},{"$f":"IF('liste engagés'!$G15=6,'liste engagés'!C15,\"\")","v":""},{"$f":"IF('liste engagés'!$G15=6,'liste engagés'!D15,\"\")","v":""},{"$f":"IF('liste engagés'!$G15=6,'liste engagés'!E15,\"\")","v":""},{"$f":"IF('liste engagés'!$G15=6,'liste engagés'!K15,\"\")","v":""},{"$f":"IF('liste engagés'!$G15=6,'liste engagés'!L15,\"\")","v":""},0]
[17,{"$f":"IF('liste engagés'!$G16=6,'liste engagés'!A16,\"\")","v":""},{"$f":"IF('liste engagés'!$G16=6,'liste engagés'!B16,\"\")","v":""},{"$f":"IF('liste engagés'!$G16=6,'liste engagés'!C16,\"\")","v":""},{"$f":"IF('liste engagés'!$G16=6,'liste engagés'!D16,\"\")","v":""},{"$f":"IF('liste engagés'!$G16=6,'liste engagés'!E16,\"\")","v":""},{"$f":"IF('liste engagés'!$G16=6,'liste engagés'!K16,\"\")","v":""},{"$f":"IF('liste engagés'!$G16=6,'liste engagés'!L16,\"\")","v":""},0]
[18,{"$f":"IF('liste engagés'!$G17=6,'liste engagés'!A17,\"\")","v":""},{"$f":"IF('liste engagés'!$G17=6,'liste engagés'!B17,\"\")","v":""},{"$f":"IF('liste engagés'!$G17=6,'liste engagés'!C17,\"\")","v":""},{"$f":"IF('liste engagés'!$G17=6,'liste engagés'!D17,\"\")","v":""},{"$f":"IF('liste engagés'!$G17=6,'liste engagés'!E17,\"\")","v":""},{"$f":"IF('liste engagés'!$G17=6,'liste engagés'!K17,\"\")","v":""},{"$f":"IF('liste engagés'!$G17=6,'liste engagés'!L17,\"\")","v":""},0]
[19,{"$f":"IF('liste engagés'!$G18=6,'liste engagés'!A18,\"\")","v":""},{"$f":"IF('liste engagés'!$G18=6,'liste engagés'!B18,\"\")","v":""},{"$f":"IF('liste engagés'!$G18=6,'liste engagés'!C18,\"\")","v":""},{"$f":"IF('liste engagés'!$G18=6,'liste engagés'!D18,\"\")","v":""},{"$f":"IF('liste engagés'!$G18=6,'liste engagés'!E18,\"\")","v":""},{"$f":"IF('liste engagés'!$G18=6,'liste engagés'!K18,\"\")","v":""},{"$f":"IF('liste engagés'!$G18=6,'liste engagés'!L18,\"\")","v":""},0]
[20,{"$f":"IF('liste engagés'!$G19=6,'liste engagés'!A19,\"\")","v":""},{"$f":"IF('liste engagés'!$G19=6,'liste engagés'!B19,\"\")","v":""},{"$f":"IF('liste engagés'!$G19=6,'liste engagés'!C19,\"\")","v":""},{"$f":"IF('liste engagés'!$G19=6,'liste engagés'!D19,\"\")","v":""},{"$f":"IF('liste engagés'!$G19=6,'liste engagés'!E19,\"\")","v":""},{"$f":"IF('liste engagés'!$G19=6,'liste engagés'!K19,\"\")","v":""},{"$f":"IF('liste engagés'!$G19=6,'liste engagés'!L19,\"\")","v":""},0]
[21,{"$f":"IF('liste engagés'!$G20=6,'liste engagés'!A20,\"\")","v":""},{"$f":"IF('liste engagés'!$G20=6,'liste engagés'!B20,\"\")","v":""},{"$f":"IF('liste engagés'!$G20=6,'liste engagés'!C20,\"\")","v":""},{"$f":"IF('liste engagés'!$G20=6,'liste engagés'!D20,\"\")","v":""},{"$f":"IF('liste engagés'!$G20=6,'liste engagés'!E20,\"\")","v":""},{"$f":"IF('liste engagés'!$G20=6,'liste engagés'!K20,\"\")","v":""},{"$f":"IF('liste engagés'!$G20=6,'liste engagés'!L20,\"\")","v":""},0]
[22,{"$f":"IF('liste engagés'!$G21=6,'liste engagés'!A21,\"\")","v":""},{"$f":"IF('liste engagés'!$G21=6,'liste engagés'!B21,\"\")","v":""},{"$f":"IF('liste engagés'!$G21=6,'liste engagés'!C21,\"\")","v":""},{"$f":"IF('liste engagés'!$G21=6,'liste engagés'!D21,\"\")","v":""},{"$f":"IF('liste engagés'!$G21=6,'liste engagés'!E21,\"\")","v":""},{"$f":"IF('liste engagés'!$G21=6,'liste engagés'!K21,\"\")","v":""},{"$f":"IF('liste engagés'!$G21=6,'liste engagés'!L21,\"\")","v":""},0]
[23,{"$f":"IF('liste engagés'!$G22=6,'liste engagés'!A22,\"\")","v":""},{"$f":"IF('liste engagés'!$G22=6,'liste engagés'!B22,\"\")","v":""},{"$f":"IF('liste engagés'!$G22=6,'liste engagés'!C22,\"\")","v":""},{"$f":"IF('liste engagés'!$G22=6,'liste engagés'!D22,\"\")","v":""},{"$f":"IF('liste engagés'!$G22=6,'liste engagés'!E22,\"\")","v":""},{"$f":"IF('liste engagés'!$G22=6,'liste engagés'!K22,\"\")","v":""},{"$f":"IF('liste engagés'!$G22=6,'liste engagés'!L22,\"\")","v":""},0]
[24,{"$f":"IF('liste engagés'!$G23=6,'liste engagés'!A23,\"\")","v":""},{"$f":"IF('liste engagés'!$G23=6,'liste engagés'!B23,\"\")","v":""},{"$f":"IF('liste engagés'!$G23=6,'liste engagés'!C23,\"\")","v":""},{"$f":"IF('liste engagés'!$G23=6,'liste engagés'!D23,\"\")","v":""},{"$f":"IF('liste engagés'!$G23=6,'liste engagés'!E23,\"\")","v":""},{"$f":"IF('liste engagés'!$G23=6,'liste engagés'!K23,\"\")","v":""},{"$f":"IF('liste engagés'!$G23=6,'liste engagés'!L23,\"\")","v":""},0]
[25,{"$f":"IF('liste engagés'!$G24=6,'liste engagés'!A24,\"\")","v":""},{"$f":"IF('liste engagés'!$G24=6,'liste engagés'!B24,\"\")","v":""},{"$f":"IF('liste engagés'!$G24=6,'liste engagés'!C24,\"\")","v":""},{"$f":"IF('liste engagés'!$G24=6,'liste engagés'!D24,\"\")","v":""},{"$f":"IF('liste engagés'!$G24=6,'liste engagés'!E24,\"\")","v":""},{"$f":"IF('liste engagés'!$G24=6,'liste engagés'!K24,\"\")","v":""},{"$f":"IF('liste engagés'!$G24=6,'liste engagés'!L24,\"\")","v":""},0]
[26,{"$f":"IF('liste engagés'!$G25=6,'liste engagés'!A25,\"\")","v":""},{"$f":"IF('liste engagés'!$G25=6,'liste engagés'!B25,\"\")","v":""},{"$f":"IF('liste engagés'!$G25=6,'liste engagés'!C25,\"\")","v":""},{"$f":"IF('liste engagés'!$G25=6,'liste engagés'!D25,\"\")","v":""},{"$f":"IF('liste engagés'!$G25=6,'liste engagés'!E25,\"\")","v":""},{"$f":"IF('liste engagés'!$G25=6,'liste engagés'!K25,\"\")","v":""},{"$f":"IF('liste engagés'!$G25=6,'liste engagés'!L25,\"\")","v":""},0]
[27,{"$f":"IF('liste engagés'!$G26=6,'liste engagés'!A26,\"\")","v":""},{"$f":"IF('liste engagés'!$G26=6,'liste engagés'!B26,\"\")","v":""},{"$f":"IF('liste engagés'!$G26=6,'liste engagés'!C26,\"\")","v":""},{"$f":"IF('liste engagés'!$G26=6,'liste engagés'!D26,\"\")","v":""},{"$f":"IF('liste engagés'!$G26=6,'liste engagés'!E26,\"\")","v":""},{"$f":"IF('liste engagés'!$G26=6,'liste engagés'!K26,\"\")","v":""},{"$f":"IF('liste engagés'!$G26=6,'liste engagés'!L26,\"\")","v":""},0]
[28,{"$f":"IF('liste engagés'!$G27=6,'liste engagés'!A27,\"\")","v":""},{"$f":"IF('liste engagés'!$G27=6,'liste engagés'!B27,\"\")","v":""},{"$f":"IF('liste engagés'!$G27=6,'liste engagés'!C27,\"\")","v":""},{"$f":"IF('liste engagés'!$G27=6,'liste engagés'!D27,\"\")","v":""},{"$f":"IF('liste engagés'!$G27=6,'liste engagés'!E27,\"\")","v":""},{"$f":"IF('liste engagés'!$G27=6,'liste engagés'!K27,\"\")","v":""},{"$f":"IF('liste engagés'!$G27=6,'liste engagés'!L27,\"\")","v":""},0]
[29,{"$f":"IF('liste engagés'!$G28=6,'liste engagés'!A28,\"\")","v":""},{"$f":"IF('liste engagés'!$G28=6,'liste engagés'!B28,\"\")","v":""},{"$f":"IF('liste engagés'!$G28=6,'liste engagés'!C28,\"\")","v":""},{"$f":"IF('liste engagés'!$G28=6,'liste engagés'!D28,\"\")","v":""},{"$f":"IF('liste engagés'!$G28=6,'liste engagés'!E28,\"\")","v":""},{"$f":"IF('liste engagés'!$G28=6,'liste engagés'!K28,\"\")","v":""},{"$f":"IF('liste engagés'!$G28=6,'liste engagés'!L28,\"\")","v":""},0]
[30,{"$f":"IF('liste engagés'!$G29=6,'liste engagés'!A29,\"\")","v":""},{"$f":"IF('liste engagés'!$G29=6,'liste engagés'!B29,\"\")","v":""},{"$f":"IF('liste engagés'!$G29=6,'liste engagés'!C29,\"\")","v":""},{"$f":"IF('liste engagés'!$G29=6,'liste engagés'!D29,\"\")","v":""},{"$f":"IF('liste engagés'!$G29=6,'liste engagés'!E29,\"\")","v":""},{"$f":"IF('liste engagés'!$G29=6,'liste engagés'!K29,\"\")","v":""},{"$f":"IF('liste engagés'!$G29=6,'liste engagés'!L29,\"\")","v":""},0]
[31,{"$f":"IF('liste engagés'!$G30=6,'liste engagés'!A30,\"\")","v":""},{"$f":"IF('liste engagés'!$G30=6,'liste engagés'!B30,\"\")","v":""},{"$f":"IF('liste engagés'!$G30=6,'liste engagés'!C30,\"\")","v":""},{"$f":"IF('liste engagés'!$G30=6,'liste engagés'!D30,\"\")","v":""},{"$f":"IF('liste engagés'!$G30=6,'liste engagés'!E30,\"\")","v":""},{"$f":"IF('liste engagés'!$G30=6,'liste engagés'!K30,\"\")","v":""},{"$f":"IF('liste engagés'!$G30=6,'liste engagés'!L30,\"\")","v":""},0]
[32,{"$f":"IF('liste engagés'!$G31=6,'liste engagés'!A31,\"\")","v":""},{"$f":"IF('liste engagés'!$G31=6,'liste engagés'!B31,\"\")","v":""},{"$f":"IF('liste engagés'!$G31=6,'liste engagés'!C31,\"\")","v":""},{"$f":"IF('liste engagés'!$G31=6,'liste engagés'!D31,\"\")","v":""},{"$f":"IF('liste engagés'!$G31=6,'liste engagés'!E31,\"\")","v":""},{"$f":"IF('liste engagés'!$G31=6,'liste engagés'!K31,\"\")","v":""},{"$f":"IF('liste engagés'!$G31=6,'liste engagés'!L31,\"\")","v":""},0]
[33,{"$f":"IF('liste engagés'!$G32=6,'liste engagés'!A32,\"\")","v":""},{"$f":"IF('liste engagés'!$G32=6,'liste engagés'!B32,\"\")","v":""},{"$f":"IF('liste engagés'!$G32=6,'liste engagés'!C32,\"\")","v":""},{"$f":"IF('liste engagés'!$G32=6,'liste engagés'!D32,\"\")","v":""},{"$f":"IF('liste engagés'!$G32=6,'liste engagés'!E32,\"\")","v":""},{"$f":"IF('liste engagés'!$G32=6,'liste engagés'!K32,\"\")","v":""},{"$f":"IF('liste engagés'!$G32=6,'liste engagés'!L32,\"\")","v":""},0]
[34,{"$f":"IF('liste engagés'!$G33=6,'liste engagés'!A33,\"\")","v":""},{"$f":"IF('liste engagés'!$G33=6,'liste engagés'!B33,\"\")","v":""},{"$f":"IF('liste engagés'!$G33=6,'liste engagés'!C33,\"\")","v":""},{"$f":"IF('liste engagés'!$G33=6,'liste engagés'!D33,\"\")","v":""},{"$f":"IF('liste engagés'!$G33=6,'liste engagés'!E33,\"\")","v":""},{"$f":"IF('liste engagés'!$G33=6,'liste engagés'!K33,\"\")","v":""},{"$f":"IF('liste engagés'!$G33=6,'liste engagés'!L33,\"\")","v":""},0]
[35,{"$f":"IF('liste engagés'!$G34=6,'liste engagés'!A34,\"\")","v":""},{"$f":"IF('liste engagés'!$G34=6,'liste engagés'!B34,\"\")","v":""},{"$f":"IF('liste engagés'!$G34=6,'liste engagés'!C34,\"\")","v":""},{"$f":"IF('liste engagés'!$G34=6,'liste engagés'!D34,\"\")","v":""},{"$f":"IF('liste engagés'!$G34=6,'liste engagés'!E34,\"\")","v":""},{"$f":"IF('liste engagés'!$G34=6,'liste engagés'!K34,\"\")","v":""},{"$f":"IF('liste engagés'!$G34=6,'liste engagés'!L34,\"\")","v":""},0]
[36,{"$f":"IF('liste engagés'!$G35=6,'liste engagés'!A35,\"\")","v":""},{"$f":"IF('liste engagés'!$G35=6,'liste engagés'!B35,\"\")","v":""},{"$f":"IF('liste engagés'!$G35=6,'liste engagés'!C35,\"\")","v":""},{"$f":"IF('liste engagés'!$G35=6,'liste engagés'!D35,\"\")","v":""},{"$f":"IF('liste engagés'!$G35=6,'liste engagés'!E35,\"\")","v":""},{"$f":"IF('liste engagés'!$G35=6,'liste engagés'!K35,\"\")","v":""},{"$f":"IF('liste engagés'!$G35=6,'liste engagés'!L35,\"\")","v":""},0]
[37,{"$f":"IF('liste engagés'!$G36=6,'liste engagés'!A36,\"\")","v":""},{"$f":"IF('liste engagés'!$G36=6,'liste engagés'!B36,\"\")","v":""},{"$f":"IF('liste engagés'!$G36=6,'liste engagés'!C36,\"\")","v":""},{"$f":"IF('liste engagés'!$G36=6,'liste engagés'!D36,\"\")","v":""},{"$f":"IF('liste engagés'!$G36=6,'liste engagés'!E36,\"\")","v":""},{"$f":"IF('liste engagés'!$G36=6,'liste engagés'!K36,\"\")","v":""},{"$f":"IF('liste engagés'!$G36=6,'liste engagés'!L36,\"\")","v":""},0]
[38,{"$f":"IF('liste engagés'!$G37=6,'liste engagés'!A37,\"\")","v":""},{"$f":"IF('liste engagés'!$G37=6,'liste engagés'!B37,\"\")","v":""},{"$f":"IF('liste engagés'!$G37=6,'liste engagés'!C37,\"\")","v":""},{"$f":"IF('liste engagés'!$G37=6,'liste engagés'!D37,\"\")","v":""},{"$f":"IF('liste engagés'!$G37=6,'liste engagés'!E37,\"\")","v":""},{"$f":"IF('liste engagés'!$G37=6,'liste engagés'!K37,\"\")","v":""},{"$f":"IF('liste engagés'!$G37=6,'liste engagés'!L37,\"\")","v":""},0]
[39,{"$f":"IF('liste engagés'!$G38=6,'liste engagés'!A38,\"\")","v":""},{"$f":"IF('liste engagés'!$G38=6,'liste engagés'!B38,\"\")","v":""},{"$f":"IF('liste engagés'!$G38=6,'liste engagés'!C38,\"\")","v":""},{"$f":"IF('liste engagés'!$G38=6,'liste engagés'!D38,\"\")","v":""},{"$f":"IF('liste engagés'!$G38=6,'liste engagés'!E38,\"\")","v":""},{"$f":"IF('liste engagés'!$G38=6,'liste engagés'!K38,\"\")","v":""},{"$f":"IF('liste engagés'!$G38=6,'liste engagés'!L38,\"\")","v":""},0]
[40,{"$f":"IF('liste engagés'!$G39=6,'liste engagés'!A39,\"\")","v":""},{"$f":"IF('liste engagés'!$G39=6,'liste engagés'!B39,\"\")","v":""},{"$f":"IF('liste engagés'!$G39=6,'liste engagés'!C39,\"\")","v":""},{"$f":"IF('liste engagés'!$G39=6,'liste engagés'!D39,\"\")","v":""},{"$f":"IF('liste engagés'!$G39=6,'liste engagés'!E39,\"\")","v":""},{"$f":"IF('liste engagés'!$G39=6,'liste engagés'!K39,\"\")","v":""},{"$f":"IF('liste engagés'!$G39=6,'liste engagés'!L39,\"\")","v":""},0]
[41,{"$f":"IF('liste engagés'!$G40=6,'liste engagés'!A40,\"\")","v":""},{"$f":"IF('liste engagés'!$G40=6,'liste engagés'!B40,\"\")","v":""},{"$f":"IF('liste engagés'!$G40=6,'liste engagés'!C40,\"\")","v":""},{"$f":"IF('liste engagés'!$G40=6,'liste engagés'!D40,\"\")","v":""},{"$f":"IF('liste engagés'!$G40=6,'liste engagés'!E40,\"\")","v":""},{"$f":"IF('liste engagés'!$G40=6,'liste engagés'!K40,\"\")","v":""},{"$f":"IF('liste engagés'!$G40=6,'liste engagés'!L40,\"\")","v":""},0]
[42,{"$f":"IF('liste engagés'!$G41=6,'liste engagés'!A41,\"\")","v":""},{"$f":"IF('liste engagés'!$G41=6,'liste engagés'!B41,\"\")","v":""},{"$f":"IF('liste engagés'!$G41=6,'liste engagés'!C41,\"\")","v":""},{"$f":"IF('liste engagés'!$G41=6,'liste engagés'!D41,\"\")","v":""},{"$f":"IF('liste engagés'!$G41=6,'liste engagés'!E41,\"\")","v":""},{"$f":"IF('liste engagés'!$G41=6,'liste engagés'!K41,\"\")","v":""},{"$f":"IF('liste engagés'!$G41=6,'liste engagés'!L41,\"\")","v":""},0]
[43,{"$f":"IF('liste engagés'!$G42=6,'liste engagés'!A42,\"\")","v":""},{"$f":"IF('liste engagés'!$G42=6,'liste engagés'!B42,\"\")","v":""},{"$f":"IF('liste engagés'!$G42=6,'liste engagés'!C42,\"\")","v":""},{"$f":"IF('liste engagés'!$G42=6,'liste engagés'!D42,\"\")","v":""},{"$f":"IF('liste engagés'!$G42=6,'liste engagés'!E42,\"\")","v":""},{"$f":"IF('liste engagés'!$G42=6,'liste engagés'!K42,\"\")","v":""},{"$f":"IF('liste engagés'!$G42=6,'liste engagés'!L42,\"\")","v":""},0]
[44,{"$f":"IF('liste engagés'!$G43=6,'liste engagés'!A43,\"\")","v":""},{"$f":"IF('liste engagés'!$G43=6,'liste engagés'!B43,\"\")","v":""},{"$f":"IF('liste engagés'!$G43=6,'liste engagés'!C43,\"\")","v":""},{"$f":"IF('liste engagés'!$G43=6,'liste engagés'!D43,\"\")","v":""},{"$f":"IF('liste engagés'!$G43=6,'liste engagés'!E43,\"\")","v":""},{"$f":"IF('liste engagés'!$G43=6,'liste engagés'!K43,\"\")","v":""},{"$f":"IF('liste engagés'!$G43=6,'liste engagés'!L43,\"\")","v":""},0]
[45,{"$f":"IF('liste engagés'!$G44=6,'liste engagés'!A44,\"\")","v":""},{"$f":"IF('liste engagés'!$G44=6,'liste engagés'!B44,\"\")","v":""},{"$f":"IF('liste engagés'!$G44=6,'liste engagés'!C44,\"\")","v":""},{"$f":"IF('liste engagés'!$G44=6,'liste engagés'!D44,\"\")","v":""},{"$f":"IF('liste engagés'!$G44=6,'liste engagés'!E44,\"\")","v":""},{"$f":"IF('liste engagés'!$G44=6,'liste engagés'!K44,\"\")","v":""},{"$f":"IF('liste engagés'!$G44=6,'liste engagés'!L44,\"\")","v":""},0]
[46,{"$f":"IF('liste engagés'!$G45=6,'liste engagés'!A45,\"\")","v":""},{"$f":"IF('liste engagés'!$G45=6,'liste engagés'!B45,\"\")","v":""},{"$f":"IF('liste engagés'!$G45=6,'liste engagés'!C45,\"\")","v":""},{"$f":"IF('liste engagés'!$G45=6,'liste engagés'!D45,\"\")","v":""},{"$f":"IF('liste engagés'!$G45=6,'liste engagés'!E45,\"\")","v":""},{"$f":"IF('liste engagés'!$G45=6,'liste engagés'!K45,\"\")","v":""},{"$f":"IF('liste engagés'!$G45=6,'liste engagés'!L45,\"\")","v":""},0]
[47,{"$f":"IF('liste engagés'!$G46=6,'liste engagés'!A46,\"\")","v":""},{"$f":"IF('liste engagés'!$G46=6,'liste engagés'!B46,\"\")","v":""},{"$f":"IF('liste engagés'!$G46=6,'liste engagés'!C46,\"\")","v":""},{"$f":"IF('liste engagés'!$G46=6,'liste engagés'!D46,\"\")","v":""},{"$f":"IF('liste engagés'!$G46=6,'liste engagés'!E46,\"\")","v":""},{"$f":"IF('liste engagés'!$G46=6,'liste engagés'!K46,\"\")","v":""},{"$f":"IF('liste engagés'!$G46=6,'liste engagés'!L46,\"\")","v":""},0]
[48,{"$f":"IF('liste engagés'!$G47=6,'liste engagés'!A47,\"\")","v":""},{"$f":"IF('liste engagés'!$G47=6,'liste engagés'!B47,\"\")","v":""},{"$f":"IF('liste engagés'!$G47=6,'liste engagés'!C47,\"\")","v":""},{"$f":"IF('liste engagés'!$G47=6,'liste engagés'!D47,\"\")","v":""},{"$f":"IF('liste engagés'!$G47=6,'liste engagés'!E47,\"\")","v":""},{"$f":"IF('liste engagés'!$G47=6,'liste engagés'!K47,\"\")","v":""},{"$f":"IF('liste engagés'!$G47=6,'liste engagés'!L47,\"\")","v":""},0]
[49,{"$f":"IF('liste engagés'!$G48=6,'liste engagés'!A48,\"\")","v":""},{"$f":"IF('liste engagés'!$G48=6,'liste engagés'!B48,\"\")","v":""},{"$f":"IF('liste engagés'!$G48=6,'liste engagés'!C48,\"\")","v":""},{"$f":"IF('liste engagés'!$G48=6,'liste engagés'!D48,\"\")","v":""},{"$f":"IF('liste engagés'!$G48=6,'liste engagés'!E48,\"\")","v":""},{"$f":"IF('liste engagés'!$G48=6,'liste engagés'!K48,\"\")","v":""},{"$f":"IF('liste engagés'!$G48=6,'liste engagés'!L48,\"\")","v":""},0]
[50,{"$f":"IF('liste engagés'!$G49=6,'liste engagés'!A49,\"\")","v":""},{"$f":"IF('liste engagés'!$G49=6,'liste engagés'!B49,\"\")","v":""},{"$f":"IF('liste engagés'!$G49=6,'liste engagés'!C49,\"\")","v":""},{"$f":"IF('liste engagés'!$G49=6,'liste engagés'!D49,\"\")","v":""},{"$f":"IF('liste engagés'!$G49=6,'liste engagés'!E49,\"\")","v":""},{"$f":"IF('liste engagés'!$G49=6,'liste engagés'!K49,\"\")","v":""},{"$f":"IF('liste engagés'!$G49=6,'liste engagés'!L49,\"\")","v":""},0]
[51,{"$f":"IF('liste engagés'!$G50=6,'liste engagés'!A50,\"\")","v":""},{"$f":"IF('liste engagés'!$G50=6,'liste engagés'!B50,\"\")","v":""},{"$f":"IF('liste engagés'!$G50=6,'liste engagés'!C50,\"\")","v":""},{"$f":"IF('liste engagés'!$G50=6,'liste engagés'!D50,\"\")","v":""},{"$f":"IF('liste engagés'!$G50=6,'liste engagés'!E50,\"\")","v":""},{"$f":"IF('liste engagés'!$G50=6,'liste engagés'!K50,\"\")","v":""},{"$f":"IF('liste engagés'!$G50=6,'liste engagés'!L50,\"\")","v":""},0]
[52,{"$f":"IF('liste engagés'!$G51=6,'liste engagés'!A51,\"\")","v":""},{"$f":"IF('liste engagés'!$G51=6,'liste engagés'!B51,\"\")","v":""},{"$f":"IF('liste engagés'!$G51=6,'liste engagés'!C51,\"\")","v":""},{"$f":"IF('liste engagés'!$G51=6,'liste engagés'!D51,\"\")","v":""},{"$f":"IF('liste engagés'!$G51=6,'liste engagés'!E51,\"\")","v":""},{"$f":"IF('liste engagés'!$G51=6,'liste engagés'!K51,\"\")","v":""},{"$f":"IF('liste engagés'!$G51=6,'liste engagés'!L51,\"\")","v":""},0]
[53,{"$f":"IF('liste engagés'!$G52=6,'liste engagés'!A52,\"\")","v":""},{"$f":"IF('liste engagés'!$G52=6,'liste engagés'!B52,\"\")","v":""},{"$f":"IF('liste engagés'!$G52=6,'liste engagés'!C52,\"\")","v":""},{"$f":"IF('liste engagés'!$G52=6,'liste engagés'!D52,\"\")","v":""},{"$f":"IF('liste engagés'!$G52=6,'liste engagés'!E52,\"\")","v":""},{"$f":"IF('liste engagés'!$G52=6,'liste engagés'!K52,\"\")","v":""},{"$f":"IF('liste engagés'!$G52=6,'liste engagés'!L52,\"\")","v":""},0]
[54,{"$f":"IF('liste engagés'!$G53=6,'liste engagés'!A53,\"\")","v":""},{"$f":"IF('liste engagés'!$G53=6,'liste engagés'!B53,\"\")","v":""},{"$f":"IF('liste engagés'!$G53=6,'liste engagés'!C53,\"\")","v":""},{"$f":"IF('liste engagés'!$G53=6,'liste engagés'!D53,\"\")","v":""},{"$f":"IF('liste engagés'!$G53=6,'liste engagés'!E53,\"\")","v":""},{"$f":"IF('liste engagés'!$G53=6,'liste engagés'!K53,\"\")","v":""},{"$f":"IF('liste engagés'!$G53=6,'liste engagés'!L53,\"\")","v":""},0]
[55,{"$f":"IF('liste engagés'!$G54=6,'liste engagés'!A54,\"\")","v":""},{"$f":"IF('liste engagés'!$G54=6,'liste engagés'!B54,\"\")","v":""},{"$f":"IF('liste engagés'!$G54=6,'liste engagés'!C54,\"\")","v":""},{"$f":"IF('liste engagés'!$G54=6,'liste engagés'!D54,\"\")","v":""},{"$f":"IF('liste engagés'!$G54=6,'liste engagés'!E54,\"\")","v":""},{"$f":"IF('liste engagés'!$G54=6,'liste engagés'!K54,\"\")","v":""},{"$f":"IF('liste engagés'!$G54=6,'liste engagés'!L54,\"\")","v":""},0]
[56,{"$f":"IF('liste engagés'!$G55=6,'liste engagés'!A55,\"\")","v":""},{"$f":"IF('liste engagés'!$G55=6,'liste engagés'!B55,\"\")","v":""},{"$f":"IF('liste engagés'!$G55=6,'liste engagés'!C55,\"\")","v":""},{"$f":"IF('liste engagés'!$G55=6,'liste engagés'!D55,\"\")","v":""},{"$f":"IF('liste engagés'!$G55=6,'liste engagés'!E55,\"\")","v":""},{"$f":"IF('liste engagés'!$G55=6,'liste engagés'!K55,\"\")","v":""},{"$f":"IF('liste engagés'!$G55=6,'liste engagés'!L55,\"\")","v":""},0]
[57,{"$f":"IF('liste engagés'!$G56=6,'liste engagés'!A56,\"\")","v":""},{"$f":"IF('liste engagés'!$G56=6,'liste engagés'!B56,\"\")","v":""},{"$f":"IF('liste engagés'!$G56=6,'liste engagés'!C56,\"\")","v":""},{"$f":"IF('liste engagés'!$G56=6,'liste engagés'!D56,\"\")","v":""},{"$f":"IF('liste engagés'!$G56=6,'liste engagés'!E56,\"\")","v":""},{"$f":"IF('liste engagés'!$G56=6,'liste engagés'!K56,\"\")","v":""},{"$f":"IF('liste engagés'!$G56=6,'liste engagés'!L56,\"\")","v":""},0]
[58,{"$f":"IF('liste engagés'!$G57=6,'liste engagés'!A57,\"\")","v":""},{"$f":"IF('liste engagés'!$G57=6,'liste engagés'!B57,\"\")","v":""},{"$f":"IF('liste engagés'!$G57=6,'liste engagés'!C57,\"\")","v":""},{"$f":"IF('liste engagés'!$G57=6,'liste engagés'!D57,\"\")","v":""},{"$f":"IF('liste engagés'!$G57=6,'liste engagés'!E57,\"\")","v":""},{"$f":"IF('liste engagés'!$G57=6,'liste engagés'!K57,\"\")","v":""},{"$f":"IF('liste engagés'!$G57=6,'liste engagés'!L57,\"\")","v":""},0]
[59,{"$f":"IF('liste engagés'!$G58=6,'liste engagés'!A58,\"\")","v":""},{"$f":"IF('liste engagés'!$G58=6,'liste engagés'!B58,\"\")","v":""},{"$f":"IF('liste engagés'!$G58=6,'liste engagés'!C58,\"\")","v":""},{"$f":"IF('liste engagés'!$G58=6,'liste engagés'!D58,\"\")","v":""},{"$f":"IF('liste engagés'!$G58=6,'liste engagés'!E58,\"\")","v":""},{"$f":"IF('liste engagés'!$G58=6,'liste engagés'!K58,\"\")","v":""},{"$f":"IF('liste engagés'!$G58=6,'liste engagés'!L58,\"\")","v":""},0]
[60,{"$f":"IF('liste engagés'!$G59=6,'liste engagés'!A59,\"\")","v":""},{"$f":"IF('liste engagés'!$G59=6,'liste engagés'!B59,\"\")","v":""},{"$f":"IF('liste engagés'!$G59=6,'liste engagés'!C59,\"\")","v":""},{"$f":"IF('liste engagés'!$G59=6,'liste engagés'!D59,\"\")","v":""},{"$f":"IF('liste engagés'!$G59=6,'liste engagés'!E59,\"\")","v":""},{"$f":"IF('liste engagés'!$G59=6,'liste engagés'!K59,\"\")","v":""},{"$f":"IF('liste engagés'!$G59=6,'liste engagés'!L59,\"\")","v":""},0]
[61,{"$f":"IF('liste engagés'!$G60=6,'liste engagés'!A60,\"\")","v":""},{"$f":"IF('liste engagés'!$G60=6,'liste engagés'!B60,\"\")","v":""},{"$f":"IF('liste engagés'!$G60=6,'liste engagés'!C60,\"\")","v":""},{"$f":"IF('liste engagés'!$G60=6,'liste engagés'!D60,\"\")","v":""},{"$f":"IF('liste engagés'!$G60=6,'liste engagés'!E60,\"\")","v":""},{"$f":"IF('liste engagés'!$G60=6,'liste engagés'!K60,\"\")","v":""},{"$f":"IF('liste engagés'!$G60=6,'liste engagés'!L60,\"\")","v":""},0]
[62,{"$f":"IF('liste engagés'!$G61=6,'liste engagés'!A61,\"\")","v":""},{"$f":"IF('liste engagés'!$G61=6,'liste engagés'!B61,\"\")","v":""},{"$f":"IF('liste engagés'!$G61=6,'liste engagés'!C61,\"\")","v":""},{"$f":"IF('liste engagés'!$G61=6,'liste engagés'!D61,\"\")","v":""},{"$f":"IF('liste engagés'!$G61=6,'liste engagés'!E61,\"\")","v":""},{"$f":"IF('liste engagés'!$G61=6,'liste engagés'!K61,\"\")","v":""},{"$f":"IF('liste engagés'!$G61=6,'liste engagés'!L61,\"\")","v":""},0]
[63,{"$f":"IF('liste engagés'!$G62=6,'liste engagés'!A62,\"\")","v":""},{"$f":"IF('liste engagés'!$G62=6,'liste engagés'!B62,\"\")","v":""},{"$f":"IF('liste engagés'!$G62=6,'liste engagés'!C62,\"\")","v":""},{"$f":"IF('liste engagés'!$G62=6,'liste engagés'!D62,\"\")","v":""},{"$f":"IF('liste engagés'!$G62=6,'liste engagés'!E62,\"\")","v":""},{"$f":"IF('liste engagés'!$G62=6,'liste engagés'!K62,\"\")","v":""},{"$f":"IF('liste engagés'!$G62=6,'liste engagés'!L62,\"\")","v":""},0]
[64,{"$f":"IF('liste engagés'!$G63=6,'liste engagés'!A63,\"\")","v":""},{"$f":"IF('liste engagés'!$G63=6,'liste engagés'!B63,\"\")","v":""},{"$f":"IF('liste engagés'!$G63=6,'liste engagés'!C63,\"\")","v":""},{"$f":"IF('liste engagés'!$G63=6,'liste engagés'!D63,\"\")","v":""},{"$f":"IF('liste engagés'!$G63=6,'liste engagés'!E63,\"\")","v":""},{"$f":"IF('liste engagés'!$G63=6,'liste engagés'!K63,\"\")","v":""},{"$f":"IF('liste engagés'!$G63=6,'liste engagés'!L63,\"\")","v":""},0]
[65,{"$f":"IF('liste engagés'!$G64=6,'liste engagés'!A64,\"\")","v":""},{"$f":"IF('liste engagés'!$G64=6,'liste engagés'!B64,\"\")","v":""},{"$f":"IF('liste engagés'!$G64=6,'liste engagés'!C64,\"\")","v":""},{"$f":"IF('liste engagés'!$G64=6,'liste engagés'!D64,\"\")","v":""},{"$f":"IF('liste engagés'!$G64=6,'liste engagés'!E64,\"\")","v":""},{"$f":"IF('liste engagés'!$G64=6,'liste engagés'!K64,\"\")","v":""},{"$f":"IF('liste engagés'!$G64=6,'liste engagés'!L64,\"\")","v":""},{"$f":"+IF(C71=\"\",0,1)","v":0}]
[{"$f":"+A71+1","v":66},{"$f":"IF('liste engagés'!$G65=6,'liste engagés'!A65,\"\")","v":""},{"$f":"IF('liste engagés'!$G65=6,'liste engagés'!B65,\"\")","v":""},{"$f":"IF('liste engagés'!$G65=6,'liste engagés'!C65,\"\")","v":""},{"$f":"IF('liste engagés'!$G65=6,'liste engagés'!D65,\"\")","v":""},{"$f":"IF('liste engagés'!$G65=6,'liste engagés'!E65,\"\")","v":""},{"$f":"IF('liste engagés'!$G65=6,'liste engagés'!K65,\"\")","v":""},{"$f":"IF('liste engagés'!$G65=6,'liste engagés'!L65,\"\")","v":""},0]
[67,{"$f":"IF('liste engagés'!$G66=6,'liste engagés'!A66,\"\")","v":""},{"$f":"IF('liste engagés'!$G66=6,'liste engagés'!B66,\"\")","v":""},{"$f":"IF('liste engagés'!$G66=6,'liste engagés'!C66,\"\")","v":""},{"$f":"IF('liste engagés'!$G66=6,'liste engagés'!D66,\"\")","v":""},{"$f":"IF('liste engagés'!$G66=6,'liste engagés'!E66,\"\")","v":""},{"$f":"IF('liste engagés'!$G66=6,'liste engagés'!K66,\"\")","v":""},{"$f":"IF('liste engagés'!$G66=6,'liste engagés'!L66,\"\")","v":""},0]
[68,{"$f":"IF('liste engagés'!$G68=6,'liste engagés'!A68,\"\")","v":""},{"$f":"IF('liste engagés'!$G68=6,'liste engagés'!B68,\"\")","v":""},{"$f":"IF('liste engagés'!$G68=6,'liste engagés'!C68,\"\")","v":""},{"$f":"IF('liste engagés'!$G68=6,'liste engagés'!D68,\"\")","v":""},{"$f":"IF('liste engagés'!$G68=6,'liste engagés'!E68,\"\")","v":""},{"$f":"IF('liste engagés'!$G68=6,'liste engagés'!K68,\"\")","v":""},{"$f":"IF('liste engagés'!$G68=6,'liste engagés'!L68,\"\")","v":""},0]
[69,{"$f":"IF('liste engagés'!$G69=6,'liste engagés'!A69,\"\")","v":""},{"$f":"IF('liste engagés'!$G69=6,'liste engagés'!B69,\"\")","v":""},{"$f":"IF('liste engagés'!$G69=6,'liste engagés'!C69,\"\")","v":""},{"$f":"IF('liste engagés'!$G69=6,'liste engagés'!D69,\"\")","v":""},{"$f":"IF('liste engagés'!$G69=6,'liste engagés'!E69,\"\")","v":""},{"$f":"IF('liste engagés'!$G69=6,'liste engagés'!K69,\"\")","v":""},{"$f":"IF('liste engagés'!$G69=6,'liste engagés'!L69,\"\")","v":""},0]
[70,{"$f":"IF('liste engagés'!$G70=6,'liste engagés'!A70,\"\")","v":""},{"$f":"IF('liste engagés'!$G70=6,'liste engagés'!B70,\"\")","v":""},{"$f":"IF('liste engagés'!$G70=6,'liste engagés'!C70,\"\")","v":""},{"$f":"IF('liste engagés'!$G70=6,'liste engagés'!D70,\"\")","v":""},{"$f":"IF('liste engagés'!$G70=6,'liste engagés'!E70,\"\")","v":""},{"$f":"IF('liste engagés'!$G70=6,'liste engagés'!K70,\"\")","v":""},{"$f":"IF('liste engagés'!$G70=6,'liste engagés'!L70,\"\")","v":""},0]
[71,{"$f":"IF('liste engagés'!$G71=6,'liste engagés'!A71,\"\")","v":""},{"$f":"IF('liste engagés'!$G71=6,'liste engagés'!B71,\"\")","v":""},{"$f":"IF('liste engagés'!$G71=6,'liste engagés'!C71,\"\")","v":""},{"$f":"IF('liste engagés'!$G71=6,'liste engagés'!D71,\"\")","v":""},{"$f":"IF('liste engagés'!$G71=6,'liste engagés'!E71,\"\")","v":""},{"$f":"IF('liste engagés'!$G71=6,'liste engagés'!K71,\"\")","v":""},{"$f":"IF('liste engagés'!$G71=6,'liste engagés'!L71,\"\")","v":""},0]
[72,{"$f":"IF('liste engagés'!$G72=6,'liste engagés'!A72,\"\")","v":""},{"$f":"IF('liste engagés'!$G72=6,'liste engagés'!B72,\"\")","v":""},{"$f":"IF('liste engagés'!$G72=6,'liste engagés'!C72,\"\")","v":""},{"$f":"IF('liste engagés'!$G72=6,'liste engagés'!D72,\"\")","v":""},{"$f":"IF('liste engagés'!$G72=6,'liste engagés'!E72,\"\")","v":""},{"$f":"IF('liste engagés'!$G72=6,'liste engagés'!K72,\"\")","v":""},{"$f":"IF('liste engagés'!$G72=6,'liste engagés'!L72,\"\")","v":""},0]
[73,{"$f":"IF('liste engagés'!$G73=6,'liste engagés'!A73,\"\")","v":""},{"$f":"IF('liste engagés'!$G73=6,'liste engagés'!B73,\"\")","v":""},{"$f":"IF('liste engagés'!$G73=6,'liste engagés'!C73,\"\")","v":""},{"$f":"IF('liste engagés'!$G73=6,'liste engagés'!D73,\"\")","v":""},{"$f":"IF('liste engagés'!$G73=6,'liste engagés'!E73,\"\")","v":""},{"$f":"IF('liste engagés'!$G73=6,'liste engagés'!K73,\"\")","v":""},{"$f":"IF('liste engagés'!$G73=6,'liste engagés'!L73,\"\")","v":""},0]
[74,{"$f":"IF('liste engagés'!$G74=6,'liste engagés'!A74,\"\")","v":""},{"$f":"IF('liste engagés'!$G74=6,'liste engagés'!B74,\"\")","v":""},{"$f":"IF('liste engagés'!$G74=6,'liste engagés'!C74,\"\")","v":""},{"$f":"IF('liste engagés'!$G74=6,'liste engagés'!D74,\"\")","v":""},{"$f":"IF('liste engagés'!$G74=6,'liste engagés'!E74,\"\")","v":""},{"$f":"IF('liste engagés'!$G74=6,'liste engagés'!K74,\"\")","v":""},{"$f":"IF('liste engagés'!$G74=6,'liste engagés'!L74,\"\")","v":""},0]
[75,{"$f":"IF('liste engagés'!$G75=6,'liste engagés'!A75,\"\")","v":""},{"$f":"IF('liste engagés'!$G75=6,'liste engagés'!B75,\"\")","v":""},{"$f":"IF('liste engagés'!$G75=6,'liste engagés'!C75,\"\")","v":""},{"$f":"IF('liste engagés'!$G75=6,'liste engagés'!D75,\"\")","v":""},{"$f":"IF('liste engagés'!$G75=6,'liste engagés'!E75,\"\")","v":""},{"$f":"IF('liste engagés'!$G75=6,'liste engagés'!K75,\"\")","v":""},{"$f":"IF('liste engagés'!$G75=6,'liste engagés'!L75,\"\")","v":""},0]
[76,{"$f":"IF('liste engagés'!$G76=6,'liste engagés'!A76,\"\")","v":""},{"$f":"IF('liste engagés'!$G76=6,'liste engagés'!B76,\"\")","v":""},{"$f":"IF('liste engagés'!$G76=6,'liste engagés'!C76,\"\")","v":""},{"$f":"IF('liste engagés'!$G76=6,'liste engagés'!D76,\"\")","v":""},{"$f":"IF('liste engagés'!$G76=6,'liste engagés'!E76,\"\")","v":""},{"$f":"IF('liste engagés'!$G76=6,'liste engagés'!K76,\"\")","v":""},{"$f":"IF('liste engagés'!$G76=6,'liste engagés'!L76,\"\")","v":""},0]
[77,{"$f":"IF('liste engagés'!$G77=6,'liste engagés'!A77,\"\")","v":""},{"$f":"IF('liste engagés'!$G77=6,'liste engagés'!B77,\"\")","v":""},{"$f":"IF('liste engagés'!$G77=6,'liste engagés'!C77,\"\")","v":""},{"$f":"IF('liste engagés'!$G77=6,'liste engagés'!D77,\"\")","v":""},{"$f":"IF('liste engagés'!$G77=6,'liste engagés'!E77,\"\")","v":""},{"$f":"IF('liste engagés'!$G77=6,'liste engagés'!K77,\"\")","v":""},{"$f":"IF('liste engagés'!$G77=6,'liste engagés'!L77,\"\")","v":""},0]
[78,{"$f":"IF('liste engagés'!$G78=6,'liste engagés'!A78,\"\")","v":""},{"$f":"IF('liste engagés'!$G78=6,'liste engagés'!B78,\"\")","v":""},{"$f":"IF('liste engagés'!$G78=6,'liste engagés'!C78,\"\")","v":""},{"$f":"IF('liste engagés'!$G78=6,'liste engagés'!D78,\"\")","v":""},{"$f":"IF('liste engagés'!$G78=6,'liste engagés'!E78,\"\")","v":""},{"$f":"IF('liste engagés'!$G78=6,'liste engagés'!K78,\"\")","v":""},{"$f":"IF('liste engagés'!$G78=6,'liste engagés'!L78,\"\")","v":""},0]
[79,{"$f":"IF('liste engagés'!$G79=6,'liste engagés'!A79,\"\")","v":""},{"$f":"IF('liste engagés'!$G79=6,'liste engagés'!B79,\"\")","v":""},{"$f":"IF('liste engagés'!$G79=6,'liste engagés'!C79,\"\")","v":""},{"$f":"IF('liste engagés'!$G79=6,'liste engagés'!D79,\"\")","v":""},{"$f":"IF('liste engagés'!$G79=6,'liste engagés'!E79,\"\")","v":""},{"$f":"IF('liste engagés'!$G79=6,'liste engagés'!K79,\"\")","v":""},{"$f":"IF('liste engagés'!$G79=6,'liste engagés'!L79,\"\")","v":""},0]
[80,{"$f":"IF('liste engagés'!$G80=6,'liste engagés'!A80,\"\")","v":""},{"$f":"IF('liste engagés'!$G80=6,'liste engagés'!B80,\"\")","v":""},{"$f":"IF('liste engagés'!$G80=6,'liste engagés'!C80,\"\")","v":""},{"$f":"IF('liste engagés'!$G80=6,'liste engagés'!D80,\"\")","v":""},{"$f":"IF('liste engagés'!$G80=6,'liste engagés'!E80,\"\")","v":""},{"$f":"IF('liste engagés'!$G80=6,'liste engagés'!K80,\"\")","v":""},{"$f":"IF('liste engagés'!$G80=6,'liste engagés'!L80,\"\")","v":""},0]
[81,{"$f":"IF('liste engagés'!$G81=6,'liste engagés'!A81,\"\")","v":""},{"$f":"IF('liste engagés'!$G81=6,'liste engagés'!B81,\"\")","v":""},{"$f":"IF('liste engagés'!$G81=6,'liste engagés'!C81,\"\")","v":""},{"$f":"IF('liste engagés'!$G81=6,'liste engagés'!D81,\"\")","v":""},{"$f":"IF('liste engagés'!$G81=6,'liste engagés'!E81,\"\")","v":""},{"$f":"IF('liste engagés'!$G81=6,'liste engagés'!K81,\"\")","v":""},{"$f":"IF('liste engagés'!$G81=6,'liste engagés'!L81,\"\")","v":""},0]
[82,{"$f":"IF('liste engagés'!$G82=6,'liste engagés'!A82,\"\")","v":""},{"$f":"IF('liste engagés'!$G82=6,'liste engagés'!B82,\"\")","v":""},{"$f":"IF('liste engagés'!$G82=6,'liste engagés'!C82,\"\")","v":""},{"$f":"IF('liste engagés'!$G82=6,'liste engagés'!D82,\"\")","v":""},{"$f":"IF('liste engagés'!$G82=6,'liste engagés'!E82,\"\")","v":""},{"$f":"IF('liste engagés'!$G82=6,'liste engagés'!K82,\"\")","v":""},{"$f":"IF('liste engagés'!$G82=6,'liste engagés'!L82,\"\")","v":""},0]
[83,{"$f":"IF('liste engagés'!$G83=6,'liste engagés'!A83,\"\")","v":""},{"$f":"IF('liste engagés'!$G83=6,'liste engagés'!B83,\"\")","v":""},{"$f":"IF('liste engagés'!$G83=6,'liste engagés'!C83,\"\")","v":""},{"$f":"IF('liste engagés'!$G83=6,'liste engagés'!D83,\"\")","v":""},{"$f":"IF('liste engagés'!$G83=6,'liste engagés'!E83,\"\")","v":""},{"$f":"IF('liste engagés'!$G83=6,'liste engagés'!K83,\"\")","v":""},{"$f":"IF('liste engagés'!$G83=6,'liste engagés'!L83,\"\")","v":""},0]
[84,{"$f":"IF('liste engagés'!$G84=6,'liste engagés'!A84,\"\")","v":""},{"$f":"IF('liste engagés'!$G84=6,'liste engagés'!B84,\"\")","v":""},{"$f":"IF('liste engagés'!$G84=6,'liste engagés'!C84,\"\")","v":""},{"$f":"IF('liste engagés'!$G84=6,'liste engagés'!D84,\"\")","v":""},{"$f":"IF('liste engagés'!$G84=6,'liste engagés'!E84,\"\")","v":""},{"$f":"IF('liste engagés'!$G84=6,'liste engagés'!K84,\"\")","v":""},{"$f":"IF('liste engagés'!$G84=6,'liste engagés'!L84,\"\")","v":""},0]
[85,{"$f":"IF('liste engagés'!$G85=6,'liste engagés'!A85,\"\")","v":""},{"$f":"IF('liste engagés'!$G85=6,'liste engagés'!B85,\"\")","v":""},{"$f":"IF('liste engagés'!$G85=6,'liste engagés'!C85,\"\")","v":""},{"$f":"IF('liste engagés'!$G85=6,'liste engagés'!D85,\"\")","v":""},{"$f":"IF('liste engagés'!$G85=6,'liste engagés'!E85,\"\")","v":""},{"$f":"IF('liste engagés'!$G85=6,'liste engagés'!K85,\"\")","v":""},{"$f":"IF('liste engagés'!$G85=6,'liste engagés'!L85,\"\")","v":""},0]
[86,{"$f":"IF('liste engagés'!$G86=6,'liste engagés'!A86,\"\")","v":""},{"$f":"IF('liste engagés'!$G86=6,'liste engagés'!B86,\"\")","v":""},{"$f":"IF('liste engagés'!$G86=6,'liste engagés'!C86,\"\")","v":""},{"$f":"IF('liste engagés'!$G86=6,'liste engagés'!D86,\"\")","v":""},{"$f":"IF('liste engagés'!$G86=6,'liste engagés'!E86,\"\")","v":""},{"$f":"IF('liste engagés'!$G86=6,'liste engagés'!K86,\"\")","v":""},{"$f":"IF('liste engagés'!$G86=6,'liste engagés'!L86,\"\")","v":""},0]
[87,{"$f":"IF('liste engagés'!$G87=6,'liste engagés'!A87,\"\")","v":""},{"$f":"IF('liste engagés'!$G87=6,'liste engagés'!B87,\"\")","v":""},{"$f":"IF('liste engagés'!$G87=6,'liste engagés'!C87,\"\")","v":""},{"$f":"IF('liste engagés'!$G87=6,'liste engagés'!D87,\"\")","v":""},{"$f":"IF('liste engagés'!$G87=6,'liste engagés'!E87,\"\")","v":""},{"$f":"IF('liste engagés'!$G87=6,'liste engagés'!K87,\"\")","v":""},{"$f":"IF('liste engagés'!$G87=6,'liste engagés'!L87,\"\")","v":""},0]
[88,{"$f":"IF('liste engagés'!$G88=6,'liste engagés'!A88,\"\")","v":""},{"$f":"IF('liste engagés'!$G88=6,'liste engagés'!B88,\"\")","v":""},{"$f":"IF('liste engagés'!$G88=6,'liste engagés'!C88,\"\")","v":""},{"$f":"IF('liste engagés'!$G88=6,'liste engagés'!D88,\"\")","v":""},{"$f":"IF('liste engagés'!$G88=6,'liste engagés'!E88,\"\")","v":""},{"$f":"IF('liste engagés'!$G88=6,'liste engagés'!K88,\"\")","v":""},{"$f":"IF('liste engagés'!$G88=6,'liste engagés'!L88,\"\")","v":""},0]
[89,{"$f":"IF('liste engagés'!$G89=6,'liste engagés'!A89,\"\")","v":""},{"$f":"IF('liste engagés'!$G89=6,'liste engagés'!B89,\"\")","v":""},{"$f":"IF('liste engagés'!$G89=6,'liste engagés'!C89,\"\")","v":""},{"$f":"IF('liste engagés'!$G89=6,'liste engagés'!D89,\"\")","v":""},{"$f":"IF('liste engagés'!$G89=6,'liste engagés'!E89,\"\")","v":""},{"$f":"IF('liste engagés'!$G89=6,'liste engagés'!K89,\"\")","v":""},{"$f":"IF('liste engagés'!$G89=6,'liste engagés'!L89,\"\")","v":""},0]
[90,{"$f":"IF('liste engagés'!$G90=6,'liste engagés'!A90,\"\")","v":""},{"$f":"IF('liste engagés'!$G90=6,'liste engagés'!B90,\"\")","v":""},{"$f":"IF('liste engagés'!$G90=6,'liste engagés'!C90,\"\")","v":""},{"$f":"IF('liste engagés'!$G90=6,'liste engagés'!D90,\"\")","v":""},{"$f":"IF('liste engagés'!$G90=6,'liste engagés'!E90,\"\")","v":""},{"$f":"IF('liste engagés'!$G90=6,'liste engagés'!K90,\"\")","v":""},{"$f":"IF('liste engagés'!$G90=6,'liste engagés'!L90,\"\")","v":""},0]
[91,{"$f":"IF('liste engagés'!$G91=6,'liste engagés'!A91,\"\")","v":""},{"$f":"IF('liste engagés'!$G91=6,'liste engagés'!B91,\"\")","v":""},{"$f":"IF('liste engagés'!$G91=6,'liste engagés'!C91,\"\")","v":""},{"$f":"IF('liste engagés'!$G91=6,'liste engagés'!D91,\"\")","v":""},{"$f":"IF('liste engagés'!$G91=6,'liste engagés'!E91,\"\")","v":""},{"$f":"IF('liste engagés'!$G91=6,'liste engagés'!K91,\"\")","v":""},{"$f":"IF('liste engagés'!$G91=6,'liste engagés'!L91,\"\")","v":""},0]
[92,{"$f":"IF('liste engagés'!$G92=6,'liste engagés'!A92,\"\")","v":""},{"$f":"IF('liste engagés'!$G92=6,'liste engagés'!B92,\"\")","v":""},{"$f":"IF('liste engagés'!$G92=6,'liste engagés'!C92,\"\")","v":""},{"$f":"IF('liste engagés'!$G92=6,'liste engagés'!D92,\"\")","v":""},{"$f":"IF('liste engagés'!$G92=6,'liste engagés'!E92,\"\")","v":""},{"$f":"IF('liste engagés'!$G92=6,'liste engagés'!K92,\"\")","v":""},{"$f":"IF('liste engagés'!$G92=6,'liste engagés'!L92,\"\")","v":""},0]
[93,{"$f":"IF('liste engagés'!$G94=6,'liste engagés'!A94,\"\")","v":""},{"$f":"IF('liste engagés'!$G94=6,'liste engagés'!B94,\"\")","v":""},{"$f":"IF('liste engagés'!$G94=6,'liste engagés'!C94,\"\")","v":""},{"$f":"IF('liste engagés'!$G94=6,'liste engagés'!D94,\"\")","v":""},{"$f":"IF('liste engagés'!$G94=6,'liste engagés'!E94,\"\")","v":""},{"$f":"IF('liste engagés'!$G94=6,'liste engagés'!K94,\"\")","v":""},{"$f":"IF('liste engagés'!$G94=6,'liste engagés'!L94,\"\")","v":""},0]
[94,{"$f":"IF('liste engagés'!$G95=6,'liste engagés'!A95,\"\")","v":""},{"$f":"IF('liste engagés'!$G95=6,'liste engagés'!B95,\"\")","v":""},{"$f":"IF('liste engagés'!$G95=6,'liste engagés'!C95,\"\")","v":""},{"$f":"IF('liste engagés'!$G95=6,'liste engagés'!D95,\"\")","v":""},{"$f":"IF('liste engagés'!$G95=6,'liste engagés'!E95,\"\")","v":""},{"$f":"IF('liste engagés'!$G95=6,'liste engagés'!K95,\"\")","v":""},{"$f":"IF('liste engagés'!$G95=6,'liste engagés'!L95,\"\")","v":""},0]
[95,{"$f":"IF('liste engagés'!$G96=6,'liste engagés'!A96,\"\")","v":""},{"$f":"IF('liste engagés'!$G96=6,'liste engagés'!B96,\"\")","v":""},{"$f":"IF('liste engagés'!$G96=6,'liste engagés'!C96,\"\")","v":""},{"$f":"IF('liste engagés'!$G96=6,'liste engagés'!D96,\"\")","v":""},{"$f":"IF('liste engagés'!$G96=6,'liste engagés'!E96,\"\")","v":""},{"$f":"IF('liste engagés'!$G96=6,'liste engagés'!K96,\"\")","v":""},{"$f":"IF('liste engagés'!$G96=6,'liste engagés'!L96,\"\")","v":""},0]
[96,{"$f":"IF('liste engagés'!$G98=6,'liste engagés'!A98,\"\")","v":""},{"$f":"IF('liste engagés'!$G98=6,'liste engagés'!B98,\"\")","v":""},{"$f":"IF('liste engagés'!$G98=6,'liste engagés'!C98,\"\")","v":""},{"$f":"IF('liste engagés'!$G98=6,'liste engagés'!D98,\"\")","v":""},{"$f":"IF('liste engagés'!$G98=6,'liste engagés'!E98,\"\")","v":""},{"$f":"IF('liste engagés'!$G98=6,'liste engagés'!K98,\"\")","v":""},{"$f":"IF('liste engagés'!$G98=6,'liste engagés'!L98,\"\")","v":""},0]
[97,{"$f":"IF('liste engagés'!$G99=6,'liste engagés'!A99,\"\")","v":""},{"$f":"IF('liste engagés'!$G99=6,'liste engagés'!B99,\"\")","v":""},{"$f":"IF('liste engagés'!$G99=6,'liste engagés'!C99,\"\")","v":""},{"$f":"IF('liste engagés'!$G99=6,'liste engagés'!D99,\"\")","v":""},{"$f":"IF('liste engagés'!$G99=6,'liste engagés'!E99,\"\")","v":""},{"$f":"IF('liste engagés'!$G99=6,'liste engagés'!K99,\"\")","v":""},{"$f":"IF('liste engagés'!$G99=6,'liste engagés'!L99,\"\")","v":""},0]
[98,{"$f":"IF('liste engagés'!$G100=6,'liste engagés'!A100,\"\")","v":""},{"$f":"IF('liste engagés'!$G100=6,'liste engagés'!B100,\"\")","v":""},{"$f":"IF('liste engagés'!$G100=6,'liste engagés'!C100,\"\")","v":""},{"$f":"IF('liste engagés'!$G100=6,'liste engagés'!D100,\"\")","v":""},{"$f":"IF('liste engagés'!$G100=6,'liste engagés'!E100,\"\")","v":""},{"$f":"IF('liste engagés'!$G100=6,'liste engagés'!K100,\"\")","v":""},{"$f":"IF('liste engagés'!$G100=6,'liste engagés'!L100,\"\")","v":""},0]
[99,{"$f":"IF('liste engagés'!$G101=6,'liste engagés'!A101,\"\")","v":""},{"$f":"IF('liste engagés'!$G101=6,'liste engagés'!B101,\"\")","v":""},{"$f":"IF('liste engagés'!$G101=6,'liste engagés'!C101,\"\")","v":""},{"$f":"IF('liste engagés'!$G101=6,'liste engagés'!D101,\"\")","v":""},{"$f":"IF('liste engagés'!$G101=6,'liste engagés'!E101,\"\")","v":""},{"$f":"IF('liste engagés'!$G101=6,'liste engagés'!K101,\"\")","v":""},{"$f":"IF('liste engagés'!$G101=6,'liste engagés'!L101,\"\")","v":""},0]
[100,{"$f":"IF('liste engagés'!$G102=6,'liste engagés'!A102,\"\")","v":""},{"$f":"IF('liste engagés'!$G102=6,'liste engagés'!B102,\"\")","v":""},{"$f":"IF('liste engagés'!$G102=6,'liste engagés'!C102,\"\")","v":""},{"$f":"IF('liste engagés'!$G102=6,'liste engagés'!D102,\"\")","v":""},{"$f":"IF('liste engagés'!$G102=6,'liste engagés'!E102,\"\")","v":""},{"$f":"IF('liste engagés'!$G102=6,'liste engagés'!K102,\"\")","v":""},{"$f":"IF('liste engagés'!$G102=6,'liste engagés'!L102,\"\")","v":""},0]
[101,{"$f":"IF('liste engagés'!$G103=6,'liste engagés'!A103,\"\")","v":""},{"$f":"IF('liste engagés'!$G103=6,'liste engagés'!B103,\"\")","v":""},{"$f":"IF('liste engagés'!$G103=6,'liste engagés'!C103,\"\")","v":""},{"$f":"IF('liste engagés'!$G103=6,'liste engagés'!D103,\"\")","v":""},{"$f":"IF('liste engagés'!$G103=6,'liste engagés'!E103,\"\")","v":""},{"$f":"IF('liste engagés'!$G103=6,'liste engagés'!K103,\"\")","v":""},{"$f":"IF('liste engagés'!$G103=6,'liste engagés'!L103,\"\")","v":""},0]
[102,{"$f":"IF('liste engagés'!$G104=6,'liste engagés'!A104,\"\")","v":""},{"$f":"IF('liste engagés'!$G104=6,'liste engagés'!B104,\"\")","v":""},{"$f":"IF('liste engagés'!$G104=6,'liste engagés'!C104,\"\")","v":""},{"$f":"IF('liste engagés'!$G104=6,'liste engagés'!D104,\"\")","v":""},{"$f":"IF('liste engagés'!$G104=6,'liste engagés'!E104,\"\")","v":""},{"$f":"IF('liste engagés'!$G104=6,'liste engagés'!K104,\"\")","v":""},{"$f":"IF('liste engagés'!$G104=6,'liste engagés'!L104,\"\")","v":""},0]
[103,{"$f":"IF('liste engagés'!$G105=6,'liste engagés'!A105,\"\")","v":""},{"$f":"IF('liste engagés'!$G105=6,'liste engagés'!B105,\"\")","v":""},{"$f":"IF('liste engagés'!$G105=6,'liste engagés'!C105,\"\")","v":""},{"$f":"IF('liste engagés'!$G105=6,'liste engagés'!D105,\"\")","v":""},{"$f":"IF('liste engagés'!$G105=6,'liste engagés'!E105,\"\")","v":""},{"$f":"IF('liste engagés'!$G105=6,'liste engagés'!K105,\"\")","v":""},{"$f":"IF('liste engagés'!$G105=6,'liste engagés'!L105,\"\")","v":""},0]
[104,{"$f":"IF('liste engagés'!$G107=6,'liste engagés'!A107,\"\")","v":""},{"$f":"IF('liste engagés'!$G107=6,'liste engagés'!B107,\"\")","v":""},{"$f":"IF('liste engagés'!$G107=6,'liste engagés'!C107,\"\")","v":""},{"$f":"IF('liste engagés'!$G107=6,'liste engagés'!D107,\"\")","v":""},{"$f":"IF('liste engagés'!$G107=6,'liste engagés'!E107,\"\")","v":""},{"$f":"IF('liste engagés'!$G107=6,'liste engagés'!K107,\"\")","v":""},{"$f":"IF('liste engagés'!$G107=6,'liste engagés'!L107,\"\")","v":""},0]
[105,{"$f":"IF('liste engagés'!$G108=6,'liste engagés'!A108,\"\")","v":""},{"$f":"IF('liste engagés'!$G108=6,'liste engagés'!B108,\"\")","v":""},{"$f":"IF('liste engagés'!$G108=6,'liste engagés'!C108,\"\")","v":""},{"$f":"IF('liste engagés'!$G108=6,'liste engagés'!D108,\"\")","v":""},{"$f":"IF('liste engagés'!$G108=6,'liste engagés'!E108,\"\")","v":""},{"$f":"IF('liste engagés'!$G108=6,'liste engagés'!K108,\"\")","v":""},{"$f":"IF('liste engagés'!$G108=6,'liste engagés'!L108,\"\")","v":""},0]
[106,{"$f":"IF('liste engagés'!$G109=6,'liste engagés'!A109,\"\")","v":""},{"$f":"IF('liste engagés'!$G109=6,'liste engagés'!B109,\"\")","v":""},{"$f":"IF('liste engagés'!$G109=6,'liste engagés'!C109,\"\")","v":""},{"$f":"IF('liste engagés'!$G109=6,'liste engagés'!D109,\"\")","v":""},{"$f":"IF('liste engagés'!$G109=6,'liste engagés'!E109,\"\")","v":""},{"$f":"IF('liste engagés'!$G109=6,'liste engagés'!K109,\"\")","v":""},{"$f":"IF('liste engagés'!$G109=6,'liste engagés'!L109,\"\")","v":""},0]
[107,{"$f":"IF('liste engagés'!$G110=6,'liste engagés'!A110,\"\")","v":""},{"$f":"IF('liste engagés'!$G110=6,'liste engagés'!B110,\"\")","v":""},{"$f":"IF('liste engagés'!$G110=6,'liste engagés'!C110,\"\")","v":""},{"$f":"IF('liste engagés'!$G110=6,'liste engagés'!D110,\"\")","v":""},{"$f":"IF('liste engagés'!$G110=6,'liste engagés'!E110,\"\")","v":""},{"$f":"IF('liste engagés'!$G110=6,'liste engagés'!K110,\"\")","v":""},{"$f":"IF('liste engagés'!$G110=6,'liste engagés'!L110,\"\")","v":""},0]
[108,{"$f":"IF('liste engagés'!$G111=6,'liste engagés'!A111,\"\")","v":""},{"$f":"IF('liste engagés'!$G111=6,'liste engagés'!B111,\"\")","v":""},{"$f":"IF('liste engagés'!$G111=6,'liste engagés'!C111,\"\")","v":""},{"$f":"IF('liste engagés'!$G111=6,'liste engagés'!D111,\"\")","v":""},{"$f":"IF('liste engagés'!$G111=6,'liste engagés'!E111,\"\")","v":""},{"$f":"IF('liste engagés'!$G111=6,'liste engagés'!K111,\"\")","v":""},{"$f":"IF('liste engagés'!$G111=6,'liste engagés'!L111,\"\")","v":""},0]
[109,{"$f":"IF('liste engagés'!$G112=6,'liste engagés'!A112,\"\")","v":""},{"$f":"IF('liste engagés'!$G112=6,'liste engagés'!B112,\"\")","v":""},{"$f":"IF('liste engagés'!$G112=6,'liste engagés'!C112,\"\")","v":""},{"$f":"IF('liste engagés'!$G112=6,'liste engagés'!D112,\"\")","v":""},{"$f":"IF('liste engagés'!$G112=6,'liste engagés'!E112,\"\")","v":""},{"$f":"IF('liste engagés'!$G112=6,'liste engagés'!K112,\"\")","v":""},{"$f":"IF('liste engagés'!$G112=6,'liste engagés'!L112,\"\")","v":""},0]
[110,{"$f":"IF('liste engagés'!$G114=6,'liste engagés'!A114,\"\")","v":""},{"$f":"IF('liste engagés'!$G114=6,'liste engagés'!B114,\"\")","v":""},{"$f":"IF('liste engagés'!$G114=6,'liste engagés'!C114,\"\")","v":""},{"$f":"IF('liste engagés'!$G114=6,'liste engagés'!D114,\"\")","v":""},{"$f":"IF('liste engagés'!$G114=6,'liste engagés'!E114,\"\")","v":""},{"$f":"IF('liste engagés'!$G114=6,'liste engagés'!K114,\"\")","v":""},{"$f":"IF('liste engagés'!$G114=6,'liste engagés'!L114,\"\")","v":""},0]
[111,{"$f":"IF('liste engagés'!$G115=6,'liste engagés'!A115,\"\")","v":""},{"$f":"IF('liste engagés'!$G115=6,'liste engagés'!B115,\"\")","v":""},{"$f":"IF('liste engagés'!$G115=6,'liste engagés'!C115,\"\")","v":""},{"$f":"IF('liste engagés'!$G115=6,'liste engagés'!D115,\"\")","v":""},{"$f":"IF('liste engagés'!$G115=6,'liste engagés'!E115,\"\")","v":""},{"$f":"IF('liste engagés'!$G115=6,'liste engagés'!K115,\"\")","v":""},{"$f":"IF('liste engagés'!$G115=6,'liste engagés'!L115,\"\")","v":""},0]
[112,{"$f":"IF('liste engagés'!$G116=6,'liste engagés'!A116,\"\")","v":""},{"$f":"IF('liste engagés'!$G116=6,'liste engagés'!B116,\"\")","v":""},{"$f":"IF('liste engagés'!$G116=6,'liste engagés'!C116,\"\")","v":""},{"$f":"IF('liste engagés'!$G116=6,'liste engagés'!D116,\"\")","v":""},{"$f":"IF('liste engagés'!$G116=6,'liste engagés'!E116,\"\")","v":""},{"$f":"IF('liste engagés'!$G116=6,'liste engagés'!K116,\"\")","v":""},{"$f":"IF('liste engagés'!$G116=6,'liste engagés'!L116,\"\")","v":""},0]
[113,{"$f":"IF('liste engagés'!$G117=6,'liste engagés'!A117,\"\")","v":""},{"$f":"IF('liste engagés'!$G117=6,'liste engagés'!B117,\"\")","v":""},{"$f":"IF('liste engagés'!$G117=6,'liste engagés'!C117,\"\")","v":""},{"$f":"IF('liste engagés'!$G117=6,'liste engagés'!D117,\"\")","v":""},{"$f":"IF('liste engagés'!$G117=6,'liste engagés'!E117,\"\")","v":""},{"$f":"IF('liste engagés'!$G117=6,'liste engagés'!K117,\"\")","v":""},{"$f":"IF('liste engagés'!$G117=6,'liste engagés'!L117,\"\")","v":""},0]
[114,{"$f":"IF('liste engagés'!$G118=6,'liste engagés'!A118,\"\")","v":""},{"$f":"IF('liste engagés'!$G118=6,'liste engagés'!B118,\"\")","v":""},{"$f":"IF('liste engagés'!$G118=6,'liste engagés'!C118,\"\")","v":""},{"$f":"IF('liste engagés'!$G118=6,'liste engagés'!D118,\"\")","v":""},{"$f":"IF('liste engagés'!$G118=6,'liste engagés'!E118,\"\")","v":""},{"$f":"IF('liste engagés'!$G118=6,'liste engagés'!K118,\"\")","v":""},{"$f":"IF('liste engagés'!$G118=6,'liste engagés'!L118,\"\")","v":""},0]
[115,{"$f":"IF('liste engagés'!$G119=6,'liste engagés'!A119,\"\")","v":""},{"$f":"IF('liste engagés'!$G119=6,'liste engagés'!B119,\"\")","v":""},{"$f":"IF('liste engagés'!$G119=6,'liste engagés'!C119,\"\")","v":""},{"$f":"IF('liste engagés'!$G119=6,'liste engagés'!D119,\"\")","v":""},{"$f":"IF('liste engagés'!$G119=6,'liste engagés'!E119,\"\")","v":""},{"$f":"IF('liste engagés'!$G119=6,'liste engagés'!K119,\"\")","v":""},{"$f":"IF('liste engagés'!$G119=6,'liste engagés'!L119,\"\")","v":""},0]
[116,{"$f":"IF('liste engagés'!$G120=6,'liste engagés'!A120,\"\")","v":""},{"$f":"IF('liste engagés'!$G120=6,'liste engagés'!B120,\"\")","v":""},{"$f":"IF('liste engagés'!$G120=6,'liste engagés'!C120,\"\")","v":""},{"$f":"IF('liste engagés'!$G120=6,'liste engagés'!D120,\"\")","v":""},{"$f":"IF('liste engagés'!$G120=6,'liste engagés'!E120,\"\")","v":""},{"$f":"IF('liste engagés'!$G120=6,'liste engagés'!K120,\"\")","v":""},{"$f":"IF('liste engagés'!$G120=6,'liste engagés'!L120,\"\")","v":""},0]
[117,{"$f":"IF('liste engagés'!$G121=6,'liste engagés'!A121,\"\")","v":""},{"$f":"IF('liste engagés'!$G121=6,'liste engagés'!B121,\"\")","v":""},{"$f":"IF('liste engagés'!$G121=6,'liste engagés'!C121,\"\")","v":""},{"$f":"IF('liste engagés'!$G121=6,'liste engagés'!D121,\"\")","v":""},{"$f":"IF('liste engagés'!$G121=6,'liste engagés'!E121,\"\")","v":""},{"$f":"IF('liste engagés'!$G121=6,'liste engagés'!K121,\"\")","v":""},{"$f":"IF('liste engagés'!$G121=6,'liste engagés'!L121,\"\")","v":""},0]
[118,{"$f":"IF('liste engagés'!$G122=6,'liste engagés'!A122,\"\")","v":""},{"$f":"IF('liste engagés'!$G122=6,'liste engagés'!B122,\"\")","v":""},{"$f":"IF('liste engagés'!$G122=6,'liste engagés'!C122,\"\")","v":""},{"$f":"IF('liste engagés'!$G122=6,'liste engagés'!D122,\"\")","v":""},{"$f":"IF('liste engagés'!$G122=6,'liste engagés'!E122,\"\")","v":""},{"$f":"IF('liste engagés'!$G122=6,'liste engagés'!K122,\"\")","v":""},{"$f":"IF('liste engagés'!$G122=6,'liste engagés'!L122,\"\")","v":""},0]
[119,{"$f":"IF('liste engagés'!$G123=6,'liste engagés'!A123,\"\")","v":""},{"$f":"IF('liste engagés'!$G123=6,'liste engagés'!B123,\"\")","v":""},{"$f":"IF('liste engagés'!$G123=6,'liste engagés'!C123,\"\")","v":""},{"$f":"IF('liste engagés'!$G123=6,'liste engagés'!D123,\"\")","v":""},{"$f":"IF('liste engagés'!$G123=6,'liste engagés'!E123,\"\")","v":""},{"$f":"IF('liste engagés'!$G123=6,'liste engagés'!K123,\"\")","v":""},{"$f":"IF('liste engagés'!$G123=6,'liste engagés'!L123,\"\")","v":""},0]
[120,{"$f":"IF('liste engagés'!$G124=6,'liste engagés'!A124,\"\")","v":""},{"$f":"IF('liste engagés'!$G124=6,'liste engagés'!B124,\"\")","v":""},{"$f":"IF('liste engagés'!$G124=6,'liste engagés'!C124,\"\")","v":""},{"$f":"IF('liste engagés'!$G124=6,'liste engagés'!D124,\"\")","v":""},{"$f":"IF('liste engagés'!$G124=6,'liste engagés'!E124,\"\")","v":""},{"$f":"IF('liste engagés'!$G124=6,'liste engagés'!K124,\"\")","v":""},{"$f":"IF('liste engagés'!$G124=6,'liste engagés'!L124,\"\")","v":""},0]
[121,{"$f":"IF('liste engagés'!$G125=6,'liste engagés'!A125,\"\")","v":""},{"$f":"IF('liste engagés'!$G125=6,'liste engagés'!B125,\"\")","v":""},{"$f":"IF('liste engagés'!$G125=6,'liste engagés'!C125,\"\")","v":""},{"$f":"IF('liste engagés'!$G125=6,'liste engagés'!D125,\"\")","v":""},{"$f":"IF('liste engagés'!$G125=6,'liste engagés'!E125,\"\")","v":""},{"$f":"IF('liste engagés'!$G125=6,'liste engagés'!K125,\"\")","v":""},{"$f":"IF('liste engagés'!$G125=6,'liste engagés'!L125,\"\")","v":""},0]
[122,{"$f":"IF('liste engagés'!$G126=6,'liste engagés'!A126,\"\")","v":""},{"$f":"IF('liste engagés'!$G126=6,'liste engagés'!B126,\"\")","v":""},{"$f":"IF('liste engagés'!$G126=6,'liste engagés'!C126,\"\")","v":""},{"$f":"IF('liste engagés'!$G126=6,'liste engagés'!D126,\"\")","v":""},{"$f":"IF('liste engagés'!$G126=6,'liste engagés'!E126,\"\")","v":""},{"$f":"IF('liste engagés'!$G126=6,'liste engagés'!K126,\"\")","v":""},{"$f":"IF('liste engagés'!$G126=6,'liste engagés'!L126,\"\")","v":""},0]
[123,{"$f":"IF('liste engagés'!$G127=6,'liste engagés'!A127,\"\")","v":""},{"$f":"IF('liste engagés'!$G127=6,'liste engagés'!B127,\"\")","v":""},{"$f":"IF('liste engagés'!$G127=6,'liste engagés'!C127,\"\")","v":""},{"$f":"IF('liste engagés'!$G127=6,'liste engagés'!D127,\"\")","v":""},{"$f":"IF('liste engagés'!$G127=6,'liste engagés'!E127,\"\")","v":""},{"$f":"IF('liste engagés'!$G127=6,'liste engagés'!K127,\"\")","v":""},{"$f":"IF('liste engagés'!$G127=6,'liste engagés'!L127,\"\")","v":""},0]
[124,{"$f":"IF('liste engagés'!$G128=6,'liste engagés'!A128,\"\")","v":""},{"$f":"IF('liste engagés'!$G128=6,'liste engagés'!B128,\"\")","v":""},{"$f":"IF('liste engagés'!$G128=6,'liste engagés'!C128,\"\")","v":""},{"$f":"IF('liste engagés'!$G128=6,'liste engagés'!D128,\"\")","v":""},{"$f":"IF('liste engagés'!$G128=6,'liste engagés'!E128,\"\")","v":""},{"$f":"IF('liste engagés'!$G128=6,'liste engagés'!K128,\"\")","v":""},{"$f":"IF('liste engagés'!$G128=6,'liste engagés'!L128,\"\")","v":""},0]
[125,{"$f":"IF('liste engagés'!$G129=6,'liste engagés'!A129,\"\")","v":""},{"$f":"IF('liste engagés'!$G129=6,'liste engagés'!B129,\"\")","v":""},{"$f":"IF('liste engagés'!$G129=6,'liste engagés'!C129,\"\")","v":""},{"$f":"IF('liste engagés'!$G129=6,'liste engagés'!D129,\"\")","v":""},{"$f":"IF('liste engagés'!$G129=6,'liste engagés'!E129,\"\")","v":""},{"$f":"IF('liste engagés'!$G129=6,'liste engagés'!K129,\"\")","v":""},{"$f":"IF('liste engagés'!$G129=6,'liste engagés'!L129,\"\")","v":""},0]
[126,{"$f":"IF('liste engagés'!$G130=6,'liste engagés'!A130,\"\")","v":""},{"$f":"IF('liste engagés'!$G130=6,'liste engagés'!B130,\"\")","v":""},{"$f":"IF('liste engagés'!$G130=6,'liste engagés'!C130,\"\")","v":""},{"$f":"IF('liste engagés'!$G130=6,'liste engagés'!D130,\"\")","v":""},{"$f":"IF('liste engagés'!$G130=6,'liste engagés'!E130,\"\")","v":""},{"$f":"IF('liste engagés'!$G130=6,'liste engagés'!K130,\"\")","v":""},{"$f":"IF('liste engagés'!$G130=6,'liste engagés'!L130,\"\")","v":""},0]
[127,{"$f":"IF('liste engagés'!$G131=6,'liste engagés'!A131,\"\")","v":""},{"$f":"IF('liste engagés'!$G131=6,'liste engagés'!B131,\"\")","v":""},{"$f":"IF('liste engagés'!$G131=6,'liste engagés'!C131,\"\")","v":""},{"$f":"IF('liste engagés'!$G131=6,'liste engagés'!D131,\"\")","v":""},{"$f":"IF('liste engagés'!$G131=6,'liste engagés'!E131,\"\")","v":""},{"$f":"IF('liste engagés'!$G131=6,'liste engagés'!K131,\"\")","v":""},{"$f":"IF('liste engagés'!$G131=6,'liste engagés'!L131,\"\")","v":""},0]
[128,{"$f":"IF('liste engagés'!$G132=6,'liste engagés'!A132,\"\")","v":""},{"$f":"IF('liste engagés'!$G132=6,'liste engagés'!B132,\"\")","v":""},{"$f":"IF('liste engagés'!$G132=6,'liste engagés'!C132,\"\")","v":""},{"$f":"IF('liste engagés'!$G132=6,'liste engagés'!D132,\"\")","v":""},{"$f":"IF('liste engagés'!$G132=6,'liste engagés'!E132,\"\")","v":""},{"$f":"IF('liste engagés'!$G132=6,'liste engagés'!K132,\"\")","v":""},{"$f":"IF('liste engagés'!$G132=6,'liste engagés'!L132,\"\")","v":""},0]
[129,{"$f":"IF('liste engagés'!$G133=6,'liste engagés'!A133,\"\")","v":""},{"$f":"IF('liste engagés'!$G133=6,'liste engagés'!B133,\"\")","v":""},{"$f":"IF('liste engagés'!$G133=6,'liste engagés'!C133,\"\")","v":""},{"$f":"IF('liste engagés'!$G133=6,'liste engagés'!D133,\"\")","v":""},{"$f":"IF('liste engagés'!$G133=6,'liste engagés'!E133,\"\")","v":""},{"$f":"IF('liste engagés'!$G133=6,'liste engagés'!K133,\"\")","v":""},{"$f":"IF('liste engagés'!$G133=6,'liste engagés'!L133,\"\")","v":""},{"$f":"+IF(C135=\"\",0,1)","v":0}]
[{"$f":"+A135+1","v":130},{"$f":"IF('liste engagés'!$G134=6,'liste engagés'!A134,\"\")","v":""},{"$f":"IF('liste engagés'!$G134=6,'liste engagés'!B134,\"\")","v":""},{"$f":"IF('liste engagés'!$G134=6,'liste engagés'!C134,\"\")","v":""},{"$f":"IF('liste engagés'!$G134=6,'liste engagés'!D134,\"\")","v":""},{"$f":"IF('liste engagés'!$G134=6,'liste engagés'!E134,\"\")","v":""},{"$f":"IF('liste engagés'!$G134=6,'liste engagés'!K134,\"\")","v":""},{"$f":"IF('liste engagés'!$G134=6,'liste engagés'!L134,\"\")","v":""},0]
[131,{"$f":"IF('liste engagés'!$G135=6,'liste engagés'!A135,\"\")","v":""},{"$f":"IF('liste engagés'!$G135=6,'liste engagés'!B135,\"\")","v":""},{"$f":"IF('liste engagés'!$G135=6,'liste engagés'!C135,\"\")","v":""},{"$f":"IF('liste engagés'!$G135=6,'liste engagés'!D135,\"\")","v":""},{"$f":"IF('liste engagés'!$G135=6,'liste engagés'!E135,\"\")","v":""},{"$f":"IF('liste engagés'!$G135=6,'liste engagés'!K135,\"\")","v":""},{"$f":"IF('liste engagés'!$G135=6,'liste engagés'!L135,\"\")","v":""},0]
[132,{"$f":"IF('liste engagés'!$G136=6,'liste engagés'!A136,\"\")","v":""},{"$f":"IF('liste engagés'!$G136=6,'liste engagés'!B136,\"\")","v":""},{"$f":"IF('liste engagés'!$G136=6,'liste engagés'!C136,\"\")","v":""},{"$f":"IF('liste engagés'!$G136=6,'liste engagés'!D136,\"\")","v":""},{"$f":"IF('liste engagés'!$G136=6,'liste engagés'!E136,\"\")","v":""},{"$f":"IF('liste engagés'!$G136=6,'liste engagés'!K136,\"\")","v":""},{"$f":"IF('liste engagés'!$G136=6,'liste engagés'!L136,\"\")","v":""},0]
[133,{"$f":"IF('liste engagés'!$G137=6,'liste engagés'!A137,\"\")","v":""},{"$f":"IF('liste engagés'!$G137=6,'liste engagés'!B137,\"\")","v":""},{"$f":"IF('liste engagés'!$G137=6,'liste engagés'!C137,\"\")","v":""},{"$f":"IF('liste engagés'!$G137=6,'liste engagés'!D137,\"\")","v":""},{"$f":"IF('liste engagés'!$G137=6,'liste engagés'!E137,\"\")","v":""},{"$f":"IF('liste engagés'!$G137=6,'liste engagés'!K137,\"\")","v":""},{"$f":"IF('liste engagés'!$G137=6,'liste engagés'!L137,\"\")","v":""},0]
[134,{"$f":"IF('liste engagés'!$G138=6,'liste engagés'!A138,\"\")","v":""},{"$f":"IF('liste engagés'!$G138=6,'liste engagés'!B138,\"\")","v":""},{"$f":"IF('liste engagés'!$G138=6,'liste engagés'!C138,\"\")","v":""},{"$f":"IF('liste engagés'!$G138=6,'liste engagés'!D138,\"\")","v":""},{"$f":"IF('liste engagés'!$G138=6,'liste engagés'!E138,\"\")","v":""},{"$f":"IF('liste engagés'!$G138=6,'liste engagés'!K138,\"\")","v":""},{"$f":"IF('liste engagés'!$G138=6,'liste engagés'!L138,\"\")","v":""},0]
[135,{"$f":"IF('liste engagés'!$G139=6,'liste engagés'!A139,\"\")","v":""},{"$f":"IF('liste engagés'!$G139=6,'liste engagés'!B139,\"\")","v":""},{"$f":"IF('liste engagés'!$G139=6,'liste engagés'!C139,\"\")","v":""},{"$f":"IF('liste engagés'!$G139=6,'liste engagés'!D139,\"\")","v":""},{"$f":"IF('liste engagés'!$G139=6,'liste engagés'!E139,\"\")","v":""},{"$f":"IF('liste engagés'!$G139=6,'liste engagés'!K139,\"\")","v":""},{"$f":"IF('liste engagés'!$G139=6,'liste engagés'!L139,\"\")","v":""},0]
[136,{"$f":"IF('liste engagés'!$G140=6,'liste engagés'!A140,\"\")","v":""},{"$f":"IF('liste engagés'!$G140=6,'liste engagés'!B140,\"\")","v":""},{"$f":"IF('liste engagés'!$G140=6,'liste engagés'!C140,\"\")","v":""},{"$f":"IF('liste engagés'!$G140=6,'liste engagés'!D140,\"\")","v":""},{"$f":"IF('liste engagés'!$G140=6,'liste engagés'!E140,\"\")","v":""},{"$f":"IF('liste engagés'!$G140=6,'liste engagés'!K140,\"\")","v":""},{"$f":"IF('liste engagés'!$G140=6,'liste engagés'!L140,\"\")","v":""},0]
[137,{"$f":"IF('liste engagés'!$G141=6,'liste engagés'!A141,\"\")","v":""},{"$f":"IF('liste engagés'!$G141=6,'liste engagés'!B141,\"\")","v":""},{"$f":"IF('liste engagés'!$G141=6,'liste engagés'!C141,\"\")","v":""},{"$f":"IF('liste engagés'!$G141=6,'liste engagés'!D141,\"\")","v":""},{"$f":"IF('liste engagés'!$G141=6,'liste engagés'!E141,\"\")","v":""},{"$f":"IF('liste engagés'!$G141=6,'liste engagés'!K141,\"\")","v":""},{"$f":"IF('liste engagés'!$G141=6,'liste engagés'!L141,\"\")","v":""},0]
[138,{"$f":"IF('liste engagés'!$G143=6,'liste engagés'!A143,\"\")","v":""},{"$f":"IF('liste engagés'!$G143=6,'liste engagés'!B143,\"\")","v":""},{"$f":"IF('liste engagés'!$G143=6,'liste engagés'!C143,\"\")","v":""},{"$f":"IF('liste engagés'!$G143=6,'liste engagés'!D143,\"\")","v":""},{"$f":"IF('liste engagés'!$G143=6,'liste engagés'!E143,\"\")","v":""},{"$f":"IF('liste engagés'!$G143=6,'liste engagés'!K143,\"\")","v":""},{"$f":"IF('liste engagés'!$G143=6,'liste engagés'!L143,\"\")","v":""},0]
[139,{"$f":"IF('liste engagés'!$G144=6,'liste engagés'!A144,\"\")","v":""},{"$f":"IF('liste engagés'!$G144=6,'liste engagés'!B144,\"\")","v":""},{"$f":"IF('liste engagés'!$G144=6,'liste engagés'!C144,\"\")","v":""},{"$f":"IF('liste engagés'!$G144=6,'liste engagés'!D144,\"\")","v":""},{"$f":"IF('liste engagés'!$G144=6,'liste engagés'!E144,\"\")","v":""},{"$f":"IF('liste engagés'!$G144=6,'liste engagés'!K144,\"\")","v":""},{"$f":"IF('liste engagés'!$G144=6,'liste engagés'!L144,\"\")","v":""},0]
[140,{"$f":"IF('liste engagés'!$G145=6,'liste engagés'!A145,\"\")","v":""},{"$f":"IF('liste engagés'!$G145=6,'liste engagés'!B145,\"\")","v":""},{"$f":"IF('liste engagés'!$G145=6,'liste engagés'!#REF!,\"\")","v":""},{"$f":"IF('liste engagés'!$G145=6,'liste engagés'!D145,\"\")","v":""},{"$f":"IF('liste engagés'!$G145=6,'liste engagés'!E145,\"\")","v":""},{"$f":"IF('liste engagés'!$G145=6,'liste engagés'!K145,\"\")","v":""},{"$f":"IF('liste engagés'!$G145=6,'liste engagés'!L145,\"\")","v":""},0]
[141,{"$f":"IF('liste engagés'!$G146=6,'liste engagés'!A146,\"\")","v":""},{"$f":"IF('liste engagés'!$G146=6,'liste engagés'!B146,\"\")","v":""},{"$f":"IF('liste engagés'!$G146=6,'liste engagés'!C145,\"\")","v":""},{"$f":"IF('liste engagés'!$G146=6,'liste engagés'!D146,\"\")","v":""},{"$f":"IF('liste engagés'!$G146=6,'liste engagés'!E146,\"\")","v":""},{"$f":"IF('liste engagés'!$G146=6,'liste engagés'!K146,\"\")","v":""},{"$f":"IF('liste engagés'!$G146=6,'liste engagés'!L146,\"\")","v":""},0]
[142,{"$f":"IF('liste engagés'!$G147=6,'liste engagés'!A147,\"\")","v":""},{"$f":"IF('liste engagés'!$G147=6,'liste engagés'!B147,\"\")","v":""},{"$f":"IF('liste engagés'!$G147=6,'liste engagés'!C147,\"\")","v":""},{"$f":"IF('liste engagés'!$G147=6,'liste engagés'!D147,\"\")","v":""},{"$f":"IF('liste engagés'!$G147=6,'liste engagés'!E147,\"\")","v":""},{"$f":"IF('liste engagés'!$G147=6,'liste engagés'!K147,\"\")","v":""},{"$f":"IF('liste engagés'!$G147=6,'liste engagés'!L147,\"\")","v":""},0]
[143,{"$f":"IF('liste engagés'!$G148=6,'liste engagés'!A148,\"\")","v":""},{"$f":"IF('liste engagés'!$G148=6,'liste engagés'!B148,\"\")","v":""},{"$f":"IF('liste engagés'!$G148=6,'liste engagés'!C148,\"\")","v":""},{"$f":"IF('liste engagés'!$G148=6,'liste engagés'!D148,\"\")","v":""},{"$f":"IF('liste engagés'!$G148=6,'liste engagés'!E148,\"\")","v":""},{"$f":"IF('liste engagés'!$G148=6,'liste engagés'!K148,\"\")","v":""},{"$f":"IF('liste engagés'!$G148=6,'liste engagés'!L148,\"\")","v":""},0]
[144,{"$f":"IF('liste engagés'!$G149=6,'liste engagés'!A149,\"\")","v":""},{"$f":"IF('liste engagés'!$G149=6,'liste engagés'!B149,\"\")","v":""},{"$f":"IF('liste engagés'!$G149=6,'liste engagés'!C149,\"\")","v":""},{"$f":"IF('liste engagés'!$G149=6,'liste engagés'!D149,\"\")","v":""},{"$f":"IF('liste engagés'!$G149=6,'liste engagés'!E149,\"\")","v":""},{"$f":"IF('liste engagés'!$G149=6,'liste engagés'!K149,\"\")","v":""},{"$f":"IF('liste engagés'!$G149=6,'liste engagés'!L149,\"\")","v":""},0]
[145,{"$f":"IF('liste engagés'!$G150=6,'liste engagés'!A150,\"\")","v":""},{"$f":"IF('liste engagés'!$G150=6,'liste engagés'!B150,\"\")","v":""},{"$f":"IF('liste engagés'!$G150=6,'liste engagés'!C150,\"\")","v":""},{"$f":"IF('liste engagés'!$G150=6,'liste engagés'!D150,\"\")","v":""},{"$f":"IF('liste engagés'!$G150=6,'liste engagés'!E150,\"\")","v":""},{"$f":"IF('liste engagés'!$G150=6,'liste engagés'!K150,\"\")","v":""},{"$f":"IF('liste engagés'!$G150=6,'liste engagés'!L150,\"\")","v":""},0]
[146,{"$f":"IF('liste engagés'!$G151=6,'liste engagés'!A151,\"\")","v":""},{"$f":"IF('liste engagés'!$G151=6,'liste engagés'!B151,\"\")","v":""},{"$f":"IF('liste engagés'!$G151=6,'liste engagés'!C151,\"\")","v":""},{"$f":"IF('liste engagés'!$G151=6,'liste engagés'!D151,\"\")","v":""},{"$f":"IF('liste engagés'!$G151=6,'liste engagés'!E151,\"\")","v":""},{"$f":"IF('liste engagés'!$G151=6,'liste engagés'!K151,\"\")","v":""},{"$f":"IF('liste engagés'!$G151=6,'liste engagés'!L151,\"\")","v":""},0]
[147,{"$f":"IF('liste engagés'!$G152=6,'liste engagés'!A152,\"\")","v":""},{"$f":"IF('liste engagés'!$G152=6,'liste engagés'!B152,\"\")","v":""},{"$f":"IF('liste engagés'!$G152=6,'liste engagés'!C152,\"\")","v":""},{"$f":"IF('liste engagés'!$G152=6,'liste engagés'!D152,\"\")","v":""},{"$f":"IF('liste engagés'!$G152=6,'liste engagés'!E152,\"\")","v":""},{"$f":"IF('liste engagés'!$G152=6,'liste engagés'!K152,\"\")","v":""},{"$f":"IF('liste engagés'!$G152=6,'liste engagés'!L152,\"\")","v":""},0]
[148,{"$f":"IF('liste engagés'!$G153=6,'liste engagés'!A153,\"\")","v":""},{"$f":"IF('liste engagés'!$G153=6,'liste engagés'!B153,\"\")","v":""},{"$f":"IF('liste engagés'!$G153=6,'liste engagés'!C153,\"\")","v":""},{"$f":"IF('liste engagés'!$G153=6,'liste engagés'!D153,\"\")","v":""},{"$f":"IF('liste engagés'!$G153=6,'liste engagés'!E153,\"\")","v":""},{"$f":"IF('liste engagés'!$G153=6,'liste engagés'!K153,\"\")","v":""},{"$f":"IF('liste engagés'!$G153=6,'liste engagés'!L153,\"\")","v":""},0]
[149,{"$f":"IF('liste engagés'!$G154=6,'liste engagés'!A154,\"\")","v":""},{"$f":"IF('liste engagés'!$G154=6,'liste engagés'!B154,\"\")","v":""},{"$f":"IF('liste engagés'!$G154=6,'liste engagés'!C154,\"\")","v":""},{"$f":"IF('liste engagés'!$G154=6,'liste engagés'!D154,\"\")","v":""},{"$f":"IF('liste engagés'!$G154=6,'liste engagés'!E154,\"\")","v":""},{"$f":"IF('liste engagés'!$G154=6,'liste engagés'!K154,\"\")","v":""},{"$f":"IF('liste engagés'!$G154=6,'liste engagés'!L154,\"\")","v":""},0]
[150,{"$f":"IF('liste engagés'!$G155=6,'liste engagés'!A155,\"\")","v":""},{"$f":"IF('liste engagés'!$G155=6,'liste engagés'!B155,\"\")","v":""},{"$f":"IF('liste engagés'!$G155=6,'liste engagés'!C155,\"\")","v":""},{"$f":"IF('liste engagés'!$G155=6,'liste engagés'!D155,\"\")","v":""},{"$f":"IF('liste engagés'!$G155=6,'liste engagés'!E155,\"\")","v":""},{"$f":"IF('liste engagés'!$G155=6,'liste engagés'!K155,\"\")","v":""},{"$f":"IF('liste engagés'!$G155=6,'liste engagés'!L155,\"\")","v":""},0]
[151,{"$f":"IF('liste engagés'!$G156=6,'liste engagés'!A156,\"\")","v":""},{"$f":"IF('liste engagés'!$G156=6,'liste engagés'!B156,\"\")","v":""},{"$f":"IF('liste engagés'!$G156=6,'liste engagés'!C156,\"\")","v":""},{"$f":"IF('liste engagés'!$G156=6,'liste engagés'!D156,\"\")","v":""},{"$f":"IF('liste engagés'!$G156=6,'liste engagés'!E156,\"\")","v":""},{"$f":"IF('liste engagés'!$G156=6,'liste engagés'!K156,\"\")","v":""},{"$f":"IF('liste engagés'!$G156=6,'liste engagés'!L156,\"\")","v":""},0]
[152,{"$f":"IF('liste engagés'!$G157=6,'liste engagés'!A157,\"\")","v":""},{"$f":"IF('liste engagés'!$G157=6,'liste engagés'!B157,\"\")","v":""},{"$f":"IF('liste engagés'!$G157=6,'liste engagés'!C157,\"\")","v":""},{"$f":"IF('liste engagés'!$G157=6,'liste engagés'!D157,\"\")","v":""},{"$f":"IF('liste engagés'!$G157=6,'liste engagés'!E157,\"\")","v":""},{"$f":"IF('liste engagés'!$G157=6,'liste engagés'!K157,\"\")","v":""},{"$f":"IF('liste engagés'!$G157=6,'liste engagés'!L157,\"\")","v":""},0]
[153,{"$f":"IF('liste engagés'!$G158=6,'liste engagés'!A158,\"\")","v":""},{"$f":"IF('liste engagés'!$G158=6,'liste engagés'!B158,\"\")","v":""},{"$f":"IF('liste engagés'!$G158=6,'liste engagés'!C158,\"\")","v":""},{"$f":"IF('liste engagés'!$G158=6,'liste engagés'!D158,\"\")","v":""},{"$f":"IF('liste engagés'!$G158=6,'liste engagés'!E158,\"\")","v":""},{"$f":"IF('liste engagés'!$G158=6,'liste engagés'!K158,\"\")","v":""},{"$f":"IF('liste engagés'!$G158=6,'liste engagés'!L158,\"\")","v":""},0]
[154,{"$f":"IF('liste engagés'!$G159=6,'liste engagés'!A159,\"\")","v":""},{"$f":"IF('liste engagés'!$G159=6,'liste engagés'!B159,\"\")","v":""},{"$f":"IF('liste engagés'!$G159=6,'liste engagés'!C159,\"\")","v":""},{"$f":"IF('liste engagés'!$G159=6,'liste engagés'!D159,\"\")","v":""},{"$f":"IF('liste engagés'!$G159=6,'liste engagés'!E159,\"\")","v":""},{"$f":"IF('liste engagés'!$G159=6,'liste engagés'!K159,\"\")","v":""},{"$f":"IF('liste engagés'!$G159=6,'liste engagés'!L159,\"\")","v":""},0]
[155,{"$f":"IF('liste engagés'!$G160=6,'liste engagés'!A160,\"\")","v":""},{"$f":"IF('liste engagés'!$G160=6,'liste engagés'!B160,\"\")","v":""},{"$f":"IF('liste engagés'!$G160=6,'liste engagés'!C160,\"\")","v":""},{"$f":"IF('liste engagés'!$G160=6,'liste engagés'!D160,\"\")","v":""},{"$f":"IF('liste engagés'!$G160=6,'liste engagés'!E160,\"\")","v":""},{"$f":"IF('liste engagés'!$G160=6,'liste engagés'!K160,\"\")","v":""},{"$f":"IF('liste engagés'!$G160=6,'liste engagés'!L160,\"\")","v":""},0]
[156,{"$f":"IF('liste engagés'!$G161=6,'liste engagés'!A161,\"\")","v":""},{"$f":"IF('liste engagés'!$G161=6,'liste engagés'!B161,\"\")","v":""},{"$f":"IF('liste engagés'!$G161=6,'liste engagés'!C161,\"\")","v":""},{"$f":"IF('liste engagés'!$G161=6,'liste engagés'!D161,\"\")","v":""},{"$f":"IF('liste engagés'!$G161=6,'liste engagés'!E161,\"\")","v":""},{"$f":"IF('liste engagés'!$G161=6,'liste engagés'!K161,\"\")","v":""},{"$f":"IF('liste engagés'!$G161=6,'liste engagés'!L161,\"\")","v":""},0]
[157,{"$f":"IF('liste engagés'!$G162=6,'liste engagés'!A162,\"\")","v":""},{"$f":"IF('liste engagés'!$G162=6,'liste engagés'!B162,\"\")","v":""},{"$f":"IF('liste engagés'!$G162=6,'liste engagés'!C162,\"\")","v":""},{"$f":"IF('liste engagés'!$G162=6,'liste engagés'!D162,\"\")","v":""},{"$f":"IF('liste engagés'!$G162=6,'liste engagés'!E162,\"\")","v":""},{"$f":"IF('liste engagés'!$G162=6,'liste engagés'!K162,\"\")","v":""},{"$f":"IF('liste engagés'!$G162=6,'liste engagés'!L162,\"\")","v":""},0]
[158,{"$f":"IF('liste engagés'!$G163=6,'liste engagés'!A163,\"\")","v":""},{"$f":"IF('liste engagés'!$G163=6,'liste engagés'!B163,\"\")","v":""},{"$f":"IF('liste engagés'!$G163=6,'liste engagés'!C163,\"\")","v":""},{"$f":"IF('liste engagés'!$G163=6,'liste engagés'!D163,\"\")","v":""},{"$f":"IF('liste engagés'!$G163=6,'liste engagés'!E163,\"\")","v":""},{"$f":"IF('liste engagés'!$G163=6,'liste engagés'!K163,\"\")","v":""},{"$f":"IF('liste engagés'!$G163=6,'liste engagés'!L163,\"\")","v":""},0]
[159,{"$f":"IF('liste engagés'!$G164=6,'liste engagés'!A164,\"\")","v":""},{"$f":"IF('liste engagés'!$G164=6,'liste engagés'!B164,\"\")","v":""},{"$f":"IF('liste engagés'!$G164=6,'liste engagés'!C164,\"\")","v":""},{"$f":"IF('liste engagés'!$G164=6,'liste engagés'!D164,\"\")","v":""},{"$f":"IF('liste engagés'!$G164=6,'liste engagés'!E164,\"\")","v":""},{"$f":"IF('liste engagés'!$G164=6,'liste engagés'!K164,\"\")","v":""},{"$f":"IF('liste engagés'!$G164=6,'liste engagés'!L164,\"\")","v":""},0]
[160,{"$f":"IF('liste engagés'!$G165=6,'liste engagés'!A165,\"\")","v":""},{"$f":"IF('liste engagés'!$G165=6,'liste engagés'!B165,\"\")","v":""},{"$f":"IF('liste engagés'!$G165=6,'liste engagés'!C165,\"\")","v":""},{"$f":"IF('liste engagés'!$G165=6,'liste engagés'!D165,\"\")","v":""},{"$f":"IF('liste engagés'!$G165=6,'liste engagés'!E165,\"\")","v":""},{"$f":"IF('liste engagés'!$G165=6,'liste engagés'!K165,\"\")","v":""},{"$f":"IF('liste engagés'!$G165=6,'liste engagés'!L165,\"\")","v":""},0]
[161,{"$f":"IF('liste engagés'!$G166=6,'liste engagés'!A166,\"\")","v":""},{"$f":"IF('liste engagés'!$G166=6,'liste engagés'!B166,\"\")","v":""},{"$f":"IF('liste engagés'!$G166=6,'liste engagés'!C166,\"\")","v":""},{"$f":"IF('liste engagés'!$G166=6,'liste engagés'!D166,\"\")","v":""},{"$f":"IF('liste engagés'!$G166=6,'liste engagés'!E166,\"\")","v":""},{"$f":"IF('liste engagés'!$G166=6,'liste engagés'!K166,\"\")","v":""},{"$f":"IF('liste engagés'!$G166=6,'liste engagés'!L166,\"\")","v":""},0]
[162,{"$f":"IF('liste engagés'!$G167=6,'liste engagés'!A167,\"\")","v":""},{"$f":"IF('liste engagés'!$G167=6,'liste engagés'!B167,\"\")","v":""},{"$f":"IF('liste engagés'!$G167=6,'liste engagés'!C167,\"\")","v":""},{"$f":"IF('liste engagés'!$G167=6,'liste engagés'!D167,\"\")","v":""},{"$f":"IF('liste engagés'!$G167=6,'liste engagés'!E167,\"\")","v":""},{"$f":"IF('liste engagés'!$G167=6,'liste engagés'!K167,\"\")","v":""},{"$f":"IF('liste engagés'!$G167=6,'liste engagés'!L167,\"\")","v":""},0]
[163,{"$f":"IF('liste engagés'!$G168=6,'liste engagés'!A168,\"\")","v":""},{"$f":"IF('liste engagés'!$G168=6,'liste engagés'!B168,\"\")","v":""},{"$f":"IF('liste engagés'!$G168=6,'liste engagés'!C168,\"\")","v":""},{"$f":"IF('liste engagés'!$G168=6,'liste engagés'!D168,\"\")","v":""},{"$f":"IF('liste engagés'!$G168=6,'liste engagés'!E168,\"\")","v":""},{"$f":"IF('liste engagés'!$G168=6,'liste engagés'!K168,\"\")","v":""},{"$f":"IF('liste engagés'!$G168=6,'liste engagés'!L168,\"\")","v":""},0]
[164,{"$f":"IF('liste engagés'!$G169=6,'liste engagés'!A169,\"\")","v":""},{"$f":"IF('liste engagés'!$G169=6,'liste engagés'!B169,\"\")","v":""},{"$f":"IF('liste engagés'!$G169=6,'liste engagés'!C169,\"\")","v":""},{"$f":"IF('liste engagés'!$G169=6,'liste engagés'!D169,\"\")","v":""},{"$f":"IF('liste engagés'!$G169=6,'liste engagés'!E169,\"\")","v":""},{"$f":"IF('liste engagés'!$G169=6,'liste engagés'!K169,\"\")","v":""},{"$f":"IF('liste engagés'!$G169=6,'liste engagés'!L169,\"\")","v":""},0]
[165,{"$f":"IF('liste engagés'!$G170=6,'liste engagés'!A170,\"\")","v":""},{"$f":"IF('liste engagés'!$G170=6,'liste engagés'!B170,\"\")","v":""},{"$f":"IF('liste engagés'!$G170=6,'liste engagés'!C170,\"\")","v":""},{"$f":"IF('liste engagés'!$G170=6,'liste engagés'!D170,\"\")","v":""},{"$f":"IF('liste engagés'!$G170=6,'liste engagés'!E170,\"\")","v":""},{"$f":"IF('liste engagés'!$G170=6,'liste engagés'!K170,\"\")","v":""},{"$f":"IF('liste engagés'!$G170=6,'liste engagés'!L170,\"\")","v":""},0]
[166,{"$f":"IF('liste engagés'!$G171=6,'liste engagés'!A171,\"\")","v":""},{"$f":"IF('liste engagés'!$G171=6,'liste engagés'!B171,\"\")","v":""},{"$f":"IF('liste engagés'!$G171=6,'liste engagés'!C171,\"\")","v":""},{"$f":"IF('liste engagés'!$G171=6,'liste engagés'!D171,\"\")","v":""},{"$f":"IF('liste engagés'!$G171=6,'liste engagés'!E171,\"\")","v":""},{"$f":"IF('liste engagés'!$G171=6,'liste engagés'!K171,\"\")","v":""},{"$f":"IF('liste engagés'!$G171=6,'liste engagés'!L171,\"\")","v":""},0]
[167,{"$f":"IF('liste engagés'!$G172=6,'liste engagés'!A172,\"\")","v":""},{"$f":"IF('liste engagés'!$G172=6,'liste engagés'!B172,\"\")","v":""},{"$f":"IF('liste engagés'!$G172=6,'liste engagés'!C172,\"\")","v":""},{"$f":"IF('liste engagés'!$G172=6,'liste engagés'!D172,\"\")","v":""},{"$f":"IF('liste engagés'!$G172=6,'liste engagés'!E172,\"\")","v":""},{"$f":"IF('liste engagés'!$G172=6,'liste engagés'!K172,\"\")","v":""},{"$f":"IF('liste engagés'!$G172=6,'liste engagés'!L172,\"\")","v":""},0]
[168,{"$f":"IF('liste engagés'!$G173=6,'liste engagés'!A173,\"\")","v":""},{"$f":"IF('liste engagés'!$G173=6,'liste engagés'!B173,\"\")","v":""},{"$f":"IF('liste engagés'!$G173=6,'liste engagés'!C173,\"\")","v":""},{"$f":"IF('liste engagés'!$G173=6,'liste engagés'!D173,\"\")","v":""},{"$f":"IF('liste engagés'!$G173=6,'liste engagés'!E173,\"\")","v":""},{"$f":"IF('liste engagés'!$G173=6,'liste engagés'!K173,\"\")","v":""},{"$f":"IF('liste engagés'!$G173=6,'liste engagés'!L173,\"\")","v":""},0]
[169,{"$f":"IF('liste engagés'!$G174=6,'liste engagés'!A174,\"\")","v":""},{"$f":"IF('liste engagés'!$G174=6,'liste engagés'!B174,\"\")","v":""},{"$f":"IF('liste engagés'!$G174=6,'liste engagés'!C174,\"\")","v":""},{"$f":"IF('liste engagés'!$G174=6,'liste engagés'!D174,\"\")","v":""},{"$f":"IF('liste engagés'!$G174=6,'liste engagés'!E174,\"\")","v":""},{"$f":"IF('liste engagés'!$G174=6,'liste engagés'!K174,\"\")","v":""},{"$f":"IF('liste engagés'!$G174=6,'liste engagés'!L174,\"\")","v":""},0]
[170,{"$f":"IF('liste engagés'!$G175=6,'liste engagés'!A175,\"\")","v":""},{"$f":"IF('liste engagés'!$G175=6,'liste engagés'!B175,\"\")","v":""},{"$f":"IF('liste engagés'!$G175=6,'liste engagés'!C175,\"\")","v":""},{"$f":"IF('liste engagés'!$G175=6,'liste engagés'!D175,\"\")","v":""},{"$f":"IF('liste engagés'!$G175=6,'liste engagés'!E175,\"\")","v":""},{"$f":"IF('liste engagés'!$G175=6,'liste engagés'!K175,\"\")","v":""},{"$f":"IF('liste engagés'!$G175=6,'liste engagés'!L175,\"\")","v":""},0]
[171,{"$f":"IF('liste engagés'!$G176=6,'liste engagés'!A176,\"\")","v":""},{"$f":"IF('liste engagés'!$G176=6,'liste engagés'!B176,\"\")","v":""},{"$f":"IF('liste engagés'!$G176=6,'liste engagés'!C176,\"\")","v":""},{"$f":"IF('liste engagés'!$G176=6,'liste engagés'!D176,\"\")","v":""},{"$f":"IF('liste engagés'!$G176=6,'liste engagés'!E176,\"\")","v":""},{"$f":"IF('liste engagés'!$G176=6,'liste engagés'!K176,\"\")","v":""},{"$f":"IF('liste engagés'!$G176=6,'liste engagés'!L176,\"\")","v":""},0]
[172,{"$f":"IF('liste engagés'!$G177=6,'liste engagés'!A177,\"\")","v":""},{"$f":"IF('liste engagés'!$G177=6,'liste engagés'!B177,\"\")","v":""},{"$f":"IF('liste engagés'!$G177=6,'liste engagés'!C177,\"\")","v":""},{"$f":"IF('liste engagés'!$G177=6,'liste engagés'!D177,\"\")","v":""},{"$f":"IF('liste engagés'!$G177=6,'liste engagés'!E177,\"\")","v":""},{"$f":"IF('liste engagés'!$G177=6,'liste engagés'!K177,\"\")","v":""},{"$f":"IF('liste engagés'!$G177=6,'liste engagés'!L177,\"\")","v":""},0]
[173,{"$f":"IF('liste engagés'!$G178=6,'liste engagés'!A178,\"\")","v":""},{"$f":"IF('liste engagés'!$G178=6,'liste engagés'!B178,\"\")","v":""},{"$f":"IF('liste engagés'!$G178=6,'liste engagés'!C178,\"\")","v":""},{"$f":"IF('liste engagés'!$G178=6,'liste engagés'!D178,\"\")","v":""},{"$f":"IF('liste engagés'!$G178=6,'liste engagés'!E178,\"\")","v":""},{"$f":"IF('liste engagés'!$G178=6,'liste engagés'!K178,\"\")","v":""},{"$f":"IF('liste engagés'!$G178=6,'liste engagés'!L178,\"\")","v":""},0]
[174,{"$f":"IF('liste engagés'!$G179=6,'liste engagés'!A179,\"\")","v":""},{"$f":"IF('liste engagés'!$G179=6,'liste engagés'!B179,\"\")","v":""},{"$f":"IF('liste engagés'!$G179=6,'liste engagés'!C179,\"\")","v":""},{"$f":"IF('liste engagés'!$G179=6,'liste engagés'!D179,\"\")","v":""},{"$f":"IF('liste engagés'!$G179=6,'liste engagés'!E179,\"\")","v":""},{"$f":"IF('liste engagés'!$G179=6,'liste engagés'!K179,\"\")","v":""},{"$f":"IF('liste engagés'!$G179=6,'liste engagés'!L179,\"\")","v":""},0]
[175,{"$f":"IF('liste engagés'!$G180=6,'liste engagés'!A180,\"\")","v":""},{"$f":"IF('liste engagés'!$G180=6,'liste engagés'!B180,\"\")","v":""},{"$f":"IF('liste engagés'!$G180=6,'liste engagés'!C180,\"\")","v":""},{"$f":"IF('liste engagés'!$G180=6,'liste engagés'!D180,\"\")","v":""},{"$f":"IF('liste engagés'!$G180=6,'liste engagés'!E180,\"\")","v":""},{"$f":"IF('liste engagés'!$G180=6,'liste engagés'!K180,\"\")","v":""},{"$f":"IF('liste engagés'!$G180=6,'liste engagés'!L180,\"\")","v":""},0]
[176,{"$f":"IF('liste engagés'!$G181=6,'liste engagés'!A181,\"\")","v":""},{"$f":"IF('liste engagés'!$G181=6,'liste engagés'!B181,\"\")","v":""},{"$f":"IF('liste engagés'!$G181=6,'liste engagés'!C181,\"\")","v":""},{"$f":"IF('liste engagés'!$G181=6,'liste engagés'!D181,\"\")","v":""},{"$f":"IF('liste engagés'!$G181=6,'liste engagés'!E181,\"\")","v":""},{"$f":"IF('liste engagés'!$G181=6,'liste engagés'!K181,\"\")","v":""},{"$f":"IF('liste engagés'!$G181=6,'liste engagés'!L181,\"\")","v":""},0]
[177,{"$f":"IF('liste engagés'!$G182=6,'liste engagés'!A182,\"\")","v":""},{"$f":"IF('liste engagés'!$G182=6,'liste engagés'!B182,\"\")","v":""},{"$f":"IF('liste engagés'!$G182=6,'liste engagés'!C182,\"\")","v":""},{"$f":"IF('liste engagés'!$G182=6,'liste engagés'!D182,\"\")","v":""},{"$f":"IF('liste engagés'!$G182=6,'liste engagés'!E182,\"\")","v":""},{"$f":"IF('liste engagés'!$G182=6,'liste engagés'!K182,\"\")","v":""},{"$f":"IF('liste engagés'!$G182=6,'liste engagés'!L182,\"\")","v":""},0]
[178,{"$f":"IF('liste engagés'!$G183=6,'liste engagés'!A183,\"\")","v":""},{"$f":"IF('liste engagés'!$G183=6,'liste engagés'!B183,\"\")","v":""},{"$f":"IF('liste engagés'!$G183=6,'liste engagés'!C183,\"\")","v":""},{"$f":"IF('liste engagés'!$G183=6,'liste engagés'!D183,\"\")","v":""},{"$f":"IF('liste engagés'!$G183=6,'liste engagés'!E183,\"\")","v":""},{"$f":"IF('liste engagés'!$G183=6,'liste engagés'!K183,\"\")","v":""},{"$f":"IF('liste engagés'!$G183=6,'liste engagés'!L183,\"\")","v":""},0]
[179,{"$f":"IF('liste engagés'!$G184=6,'liste engagés'!A184,\"\")","v":""},{"$f":"IF('liste engagés'!$G184=6,'liste engagés'!B184,\"\")","v":""},{"$f":"IF('liste engagés'!$G184=6,'liste engagés'!C184,\"\")","v":""},{"$f":"IF('liste engagés'!$G184=6,'liste engagés'!D184,\"\")","v":""},{"$f":"IF('liste engagés'!$G184=6,'liste engagés'!E184,\"\")","v":""},{"$f":"IF('liste engagés'!$G184=6,'liste engagés'!K184,\"\")","v":""},{"$f":"IF('liste engagés'!$G184=6,'liste engagés'!L184,\"\")","v":""},0]
[180,{"$f":"IF('liste engagés'!$G185=6,'liste engagés'!A185,\"\")","v":""},{"$f":"IF('liste engagés'!$G185=6,'liste engagés'!B185,\"\")","v":""},{"$f":"IF('liste engagés'!$G185=6,'liste engagés'!C185,\"\")","v":""},{"$f":"IF('liste engagés'!$G185=6,'liste engagés'!D185,\"\")","v":""},{"$f":"IF('liste engagés'!$G185=6,'liste engagés'!E185,\"\")","v":""},{"$f":"IF('liste engagés'!$G185=6,'liste engagés'!K185,\"\")","v":""},{"$f":"IF('liste engagés'!$G185=6,'liste engagés'!L185,\"\")","v":""},0]
[181,{"$f":"IF('liste engagés'!$G186=6,'liste engagés'!A186,\"\")","v":""},{"$f":"IF('liste engagés'!$G186=6,'liste engagés'!B186,\"\")","v":""},{"$f":"IF('liste engagés'!$G186=6,'liste engagés'!C186,\"\")","v":""},{"$f":"IF('liste engagés'!$G186=6,'liste engagés'!D186,\"\")","v":""},{"$f":"IF('liste engagés'!$G186=6,'liste engagés'!E186,\"\")","v":""},{"$f":"IF('liste engagés'!$G186=6,'liste engagés'!K186,\"\")","v":""},{"$f":"IF('liste engagés'!$G186=6,'liste engagés'!L186,\"\")","v":""},0]
[182,{"$f":"IF('liste engagés'!$G187=6,'liste engagés'!A187,\"\")","v":""},{"$f":"IF('liste engagés'!$G187=6,'liste engagés'!B187,\"\")","v":""},{"$f":"IF('liste engagés'!$G187=6,'liste engagés'!C187,\"\")","v":""},{"$f":"IF('liste engagés'!$G187=6,'liste engagés'!D187,\"\")","v":""},{"$f":"IF('liste engagés'!$G187=6,'liste engagés'!E187,\"\")","v":""},{"$f":"IF('liste engagés'!$G187=6,'liste engagés'!K187,\"\")","v":""},{"$f":"IF('liste engagés'!$G187=6,'liste engagés'!L187,\"\")","v":""},0]
[183,{"$f":"IF('liste engagés'!$G188=6,'liste engagés'!A188,\"\")","v":""},{"$f":"IF('liste engagés'!$G188=6,'liste engagés'!B188,\"\")","v":""},{"$f":"IF('liste engagés'!$G188=6,'liste engagés'!C188,\"\")","v":""},{"$f":"IF('liste engagés'!$G188=6,'liste engagés'!D188,\"\")","v":""},{"$f":"IF('liste engagés'!$G188=6,'liste engagés'!E188,\"\")","v":""},{"$f":"IF('liste engagés'!$G188=6,'liste engagés'!K188,\"\")","v":""},{"$f":"IF('liste engagés'!$G188=6,'liste engagés'!L188,\"\")","v":""},0]
[184,{"$f":"IF('liste engagés'!$G189=6,'liste engagés'!A189,\"\")","v":""},{"$f":"IF('liste engagés'!$G189=6,'liste engagés'!B189,\"\")","v":""},{"$f":"IF('liste engagés'!$G189=6,'liste engagés'!C189,\"\")","v":""},{"$f":"IF('liste engagés'!$G189=6,'liste engagés'!D189,\"\")","v":""},{"$f":"IF('liste engagés'!$G189=6,'liste engagés'!E189,\"\")","v":""},{"$f":"IF('liste engagés'!$G189=6,'liste engagés'!K189,\"\")","v":""},{"$f":"IF('liste engagés'!$G189=6,'liste engagés'!L189,\"\")","v":""},0]
[185,{"$f":"IF('liste engagés'!$G190=6,'liste engagés'!A190,\"\")","v":""},{"$f":"IF('liste engagés'!$G190=6,'liste engagés'!B190,\"\")","v":""},{"$f":"IF('liste engagés'!$G190=6,'liste engagés'!C190,\"\")","v":""},{"$f":"IF('liste engagés'!$G190=6,'liste engagés'!D190,\"\")","v":""},{"$f":"IF('liste engagés'!$G190=6,'liste engagés'!E190,\"\")","v":""},{"$f":"IF('liste engagés'!$G190=6,'liste engagés'!K190,\"\")","v":""},{"$f":"IF('liste engagés'!$G190=6,'liste engagés'!L190,\"\")","v":""},0]
[186,{"$f":"IF('liste engagés'!$G191=6,'liste engagés'!A191,\"\")","v":""},{"$f":"IF('liste engagés'!$G191=6,'liste engagés'!B191,\"\")","v":""},{"$f":"IF('liste engagés'!$G191=6,'liste engagés'!C191,\"\")","v":""},{"$f":"IF('liste engagés'!$G191=6,'liste engagés'!D191,\"\")","v":""},{"$f":"IF('liste engagés'!$G191=6,'liste engagés'!E191,\"\")","v":""},{"$f":"IF('liste engagés'!$G191=6,'liste engagés'!K191,\"\")","v":""},{"$f":"IF('liste engagés'!$G191=6,'liste engagés'!L191,\"\")","v":""},0]
[187,{"$f":"IF('liste engagés'!$G192=6,'liste engagés'!A192,\"\")","v":""},{"$f":"IF('liste engagés'!$G192=6,'liste engagés'!B192,\"\")","v":""},{"$f":"IF('liste engagés'!$G192=6,'liste engagés'!C192,\"\")","v":""},{"$f":"IF('liste engagés'!$G192=6,'liste engagés'!D192,\"\")","v":""},{"$f":"IF('liste engagés'!$G192=6,'liste engagés'!E192,\"\")","v":""},{"$f":"IF('liste engagés'!$G192=6,'liste engagés'!K192,\"\")","v":""},{"$f":"IF('liste engagés'!$G192=6,'liste engagés'!L192,\"\")","v":""},0]
[188,{"$f":"IF('liste engagés'!$G193=6,'liste engagés'!A193,\"\")","v":""},{"$f":"IF('liste engagés'!$G193=6,'liste engagés'!B193,\"\")","v":""},{"$f":"IF('liste engagés'!$G193=6,'liste engagés'!C193,\"\")","v":""},{"$f":"IF('liste engagés'!$G193=6,'liste engagés'!D193,\"\")","v":""},{"$f":"IF('liste engagés'!$G193=6,'liste engagés'!E193,\"\")","v":""},{"$f":"IF('liste engagés'!$G193=6,'liste engagés'!K193,\"\")","v":""},{"$f":"IF('liste engagés'!$G193=6,'liste engagés'!L193,\"\")","v":""},0]
[189,{"$f":"IF('liste engagés'!$G194=6,'liste engagés'!A194,\"\")","v":""},{"$f":"IF('liste engagés'!$G194=6,'liste engagés'!B194,\"\")","v":""},{"$f":"IF('liste engagés'!$G194=6,'liste engagés'!C194,\"\")","v":""},{"$f":"IF('liste engagés'!$G194=6,'liste engagés'!D194,\"\")","v":""},{"$f":"IF('liste engagés'!$G194=6,'liste engagés'!E194,\"\")","v":""},{"$f":"IF('liste engagés'!$G194=6,'liste engagés'!K194,\"\")","v":""},{"$f":"IF('liste engagés'!$G194=6,'liste engagés'!L194,\"\")","v":""},0]
[190,{"$f":"IF('liste engagés'!$G195=6,'liste engagés'!A195,\"\")","v":""},{"$f":"IF('liste engagés'!$G195=6,'liste engagés'!B195,\"\")","v":""},{"$f":"IF('liste engagés'!$G195=6,'liste engagés'!C195,\"\")","v":""},{"$f":"IF('liste engagés'!$G195=6,'liste engagés'!D195,\"\")","v":""},{"$f":"IF('liste engagés'!$G195=6,'liste engagés'!E195,\"\")","v":""},{"$f":"IF('liste engagés'!$G195=6,'liste engagés'!K195,\"\")","v":""},{"$f":"IF('liste engagés'!$G195=6,'liste engagés'!L195,\"\")","v":""},0]
[191,{"$f":"IF('liste engagés'!$G196=6,'liste engagés'!A196,\"\")","v":""},{"$f":"IF('liste engagés'!$G196=6,'liste engagés'!B196,\"\")","v":""},{"$f":"IF('liste engagés'!$G196=6,'liste engagés'!C196,\"\")","v":""},{"$f":"IF('liste engagés'!$G196=6,'liste engagés'!D196,\"\")","v":""},{"$f":"IF('liste engagés'!$G196=6,'liste engagés'!E196,\"\")","v":""},{"$f":"IF('liste engagés'!$G196=6,'liste engagés'!K196,\"\")","v":""},{"$f":"IF('liste engagés'!$G196=6,'liste engagés'!L196,\"\")","v":""},0]
[192,{"$f":"IF('liste engagés'!$G197=6,'liste engagés'!A197,\"\")","v":""},{"$f":"IF('liste engagés'!$G197=6,'liste engagés'!B197,\"\")","v":""},{"$f":"IF('liste engagés'!$G197=6,'liste engagés'!C197,\"\")","v":""},{"$f":"IF('liste engagés'!$G197=6,'liste engagés'!D197,\"\")","v":""},{"$f":"IF('liste engagés'!$G197=6,'liste engagés'!E197,\"\")","v":""},{"$f":"IF('liste engagés'!$G197=6,'liste engagés'!K197,\"\")","v":""},{"$f":"IF('liste engagés'!$G197=6,'liste engagés'!L197,\"\")","v":""},0]
[193,{"$f":"IF('liste engagés'!$G198=6,'liste engagés'!A198,\"\")","v":""},{"$f":"IF('liste engagés'!$G198=6,'liste engagés'!B198,\"\")","v":""},{"$f":"IF('liste engagés'!$G198=6,'liste engagés'!C198,\"\")","v":""},{"$f":"IF('liste engagés'!$G198=6,'liste engagés'!D198,\"\")","v":""},{"$f":"IF('liste engagés'!$G198=6,'liste engagés'!E198,\"\")","v":""},{"$f":"IF('liste engagés'!$G198=6,'liste engagés'!K198,\"\")","v":""},{"$f":"IF('liste engagés'!$G198=6,'liste engagés'!L198,\"\")","v":""},{"$f":"+IF(C199=\"\",0,1)","v":0}]
[{"$f":"+A199+1","v":194},{"$f":"IF('liste engagés'!$G199=6,'liste engagés'!A199,\"\")","v":""},{"$f":"IF('liste engagés'!$G199=6,'liste engagés'!B199,\"\")","v":""},{"$f":"IF('liste engagés'!$G199=6,'liste engagés'!C199,\"\")","v":""},{"$f":"IF('liste engagés'!$G199=6,'liste engagés'!D199,\"\")","v":""},{"$f":"IF('liste engagés'!$G199=6,'liste engagés'!E199,\"\")","v":""},{"$f":"IF('liste engagés'!$G199=6,'liste engagés'!K199,\"\")","v":""},{"$f":"IF('liste engagés'!$G199=6,'liste engagés'!L199,\"\")","v":""},0]
[195,{"$f":"IF('liste engagés'!$G200=6,'liste engagés'!A200,\"\")","v":""},{"$f":"IF('liste engagés'!$G200=6,'liste engagés'!B200,\"\")","v":""},{"$f":"IF('liste engagés'!$G200=6,'liste engagés'!C200,\"\")","v":""},{"$f":"IF('liste engagés'!$G200=6,'liste engagés'!D200,\"\")","v":""},{"$f":"IF('liste engagés'!$G200=6,'liste engagés'!E200,\"\")","v":""},{"$f":"IF('liste engagés'!$G200=6,'liste engagés'!K200,\"\")","v":""},{"$f":"IF('liste engagés'!$G200=6,'liste engagés'!L200,\"\")","v":""},0]
[196,{"$f":"IF('liste engagés'!$G201=6,'liste engagés'!A201,\"\")","v":""},{"$f":"IF('liste engagés'!$G201=6,'liste engagés'!B201,\"\")","v":""},{"$f":"IF('liste engagés'!$G201=6,'liste engagés'!C201,\"\")","v":""},{"$f":"IF('liste engagés'!$G201=6,'liste engagés'!D201,\"\")","v":""},{"$f":"IF('liste engagés'!$G201=6,'liste engagés'!E201,\"\")","v":""},{"$f":"IF('liste engagés'!$G201=6,'liste engagés'!K201,\"\")","v":""},{"$f":"IF('liste engagés'!$G201=6,'liste engagés'!L201,\"\")","v":""},0]
[197,{"$f":"IF('liste engagés'!$G202=6,'liste engagés'!A202,\"\")","v":""},{"$f":"IF('liste engagés'!$G202=6,'liste engagés'!B202,\"\")","v":""},{"$f":"IF('liste engagés'!$G202=6,'liste engagés'!C202,\"\")","v":""},{"$f":"IF('liste engagés'!$G202=6,'liste engagés'!D202,\"\")","v":""},{"$f":"IF('liste engagés'!$G202=6,'liste engagés'!E202,\"\")","v":""},{"$f":"IF('liste engagés'!$G202=6,'liste engagés'!K202,\"\")","v":""},{"$f":"IF('liste engagés'!$G202=6,'liste engagés'!L202,\"\")","v":""},0]
[198,{"$f":"IF('liste engagés'!$G203=6,'liste engagés'!A203,\"\")","v":""},{"$f":"IF('liste engagés'!$G203=6,'liste engagés'!B203,\"\")","v":""},{"$f":"IF('liste engagés'!$G203=6,'liste engagés'!C203,\"\")","v":""},{"$f":"IF('liste engagés'!$G203=6,'liste engagés'!D203,\"\")","v":""},{"$f":"IF('liste engagés'!$G203=6,'liste engagés'!E203,\"\")","v":""},{"$f":"IF('liste engagés'!$G203=6,'liste engagés'!K203,\"\")","v":""},{"$f":"IF('liste engagés'!$G203=6,'liste engagés'!L203,\"\")","v":""},0]
[199,{"$f":"IF('liste engagés'!$G204=6,'liste engagés'!A204,\"\")","v":""},{"$f":"IF('liste engagés'!$G204=6,'liste engagés'!B204,\"\")","v":""},{"$f":"IF('liste engagés'!$G204=6,'liste engagés'!C204,\"\")","v":""},{"$f":"IF('liste engagés'!$G204=6,'liste engagés'!D204,\"\")","v":""},{"$f":"IF('liste engagés'!$G204=6,'liste engagés'!E204,\"\")","v":""},{"$f":"IF('liste engagés'!$G204=6,'liste engagés'!K204,\"\")","v":""},{"$f":"IF('liste engagés'!$G204=6,'liste engagés'!L204,\"\")","v":""},0]
[200,{"$f":"IF('liste engagés'!$G205=6,'liste engagés'!A205,\"\")","v":""},{"$f":"IF('liste engagés'!$G205=6,'liste engagés'!B205,\"\")","v":""},{"$f":"IF('liste engagés'!$G205=6,'liste engagés'!C205,\"\")","v":""},{"$f":"IF('liste engagés'!$G205=6,'liste engagés'!D205,\"\")","v":""},{"$f":"IF('liste engagés'!$G205=6,'liste engagés'!E205,\"\")","v":""},{"$f":"IF('liste engagés'!$G205=6,'liste engagés'!K205,\"\")","v":""},{"$f":"IF('liste engagés'!$G205=6,'liste engagés'!L205,\"\")","v":""},0]
[201,{"$f":"IF('liste engagés'!$G206=6,'liste engagés'!A206,\"\")","v":""},{"$f":"IF('liste engagés'!$G206=6,'liste engagés'!B206,\"\")","v":""},{"$f":"IF('liste engagés'!$G206=6,'liste engagés'!C206,\"\")","v":""},{"$f":"IF('liste engagés'!$G206=6,'liste engagés'!D206,\"\")","v":""},{"$f":"IF('liste engagés'!$G206=6,'liste engagés'!E206,\"\")","v":""},{"$f":"IF('liste engagés'!$G206=6,'liste engagés'!K206,\"\")","v":""},{"$f":"IF('liste engagés'!$G206=6,'liste engagés'!L206,\"\")","v":""},0]
[202,{"$f":"IF('liste engagés'!$G207=6,'liste engagés'!A207,\"\")","v":""},{"$f":"IF('liste engagés'!$G207=6,'liste engagés'!B207,\"\")","v":""},{"$f":"IF('liste engagés'!$G207=6,'liste engagés'!C207,\"\")","v":""},{"$f":"IF('liste engagés'!$G207=6,'liste engagés'!D207,\"\")","v":""},{"$f":"IF('liste engagés'!$G207=6,'liste engagés'!E207,\"\")","v":""},{"$f":"IF('liste engagés'!$G207=6,'liste engagés'!K207,\"\")","v":""},{"$f":"IF('liste engagés'!$G207=6,'liste engagés'!L207,\"\")","v":""},0]
[203,{"$f":"IF('liste engagés'!$G208=6,'liste engagés'!A208,\"\")","v":""},{"$f":"IF('liste engagés'!$G208=6,'liste engagés'!B208,\"\")","v":""},{"$f":"IF('liste engagés'!$G208=6,'liste engagés'!C208,\"\")","v":""},{"$f":"IF('liste engagés'!$G208=6,'liste engagés'!D208,\"\")","v":""},{"$f":"IF('liste engagés'!$G208=6,'liste engagés'!E208,\"\")","v":""},{"$f":"IF('liste engagés'!$G208=6,'liste engagés'!K208,\"\")","v":""},{"$f":"IF('liste engagés'!$G208=6,'liste engagés'!L208,\"\")","v":""},0]
[204,{"$f":"IF('liste engagés'!$G209=6,'liste engagés'!A209,\"\")","v":""},{"$f":"IF('liste engagés'!$G209=6,'liste engagés'!B209,\"\")","v":""},{"$f":"IF('liste engagés'!$G209=6,'liste engagés'!C209,\"\")","v":""},{"$f":"IF('liste engagés'!$G209=6,'liste engagés'!D209,\"\")","v":""},{"$f":"IF('liste engagés'!$G209=6,'liste engagés'!E209,\"\")","v":""},{"$f":"IF('liste engagés'!$G209=6,'liste engagés'!K209,\"\")","v":""},{"$f":"IF('liste engagés'!$G209=6,'liste engagés'!L209,\"\")","v":""},0]
[205,{"$f":"IF('liste engagés'!$G210=6,'liste engagés'!A210,\"\")","v":""},{"$f":"IF('liste engagés'!$G210=6,'liste engagés'!B210,\"\")","v":""},{"$f":"IF('liste engagés'!$G210=6,'liste engagés'!C210,\"\")","v":""},{"$f":"IF('liste engagés'!$G210=6,'liste engagés'!D210,\"\")","v":""},{"$f":"IF('liste engagés'!$G210=6,'liste engagés'!E210,\"\")","v":""},{"$f":"IF('liste engagés'!$G210=6,'liste engagés'!K210,\"\")","v":""},{"$f":"IF('liste engagés'!$G210=6,'liste engagés'!L210,\"\")","v":""},0]
[206,{"$f":"IF('liste engagés'!$G211=6,'liste engagés'!A211,\"\")","v":""},{"$f":"IF('liste engagés'!$G211=6,'liste engagés'!B211,\"\")","v":""},{"$f":"IF('liste engagés'!$G211=6,'liste engagés'!C211,\"\")","v":""},{"$f":"IF('liste engagés'!$G211=6,'liste engagés'!D211,\"\")","v":""},{"$f":"IF('liste engagés'!$G211=6,'liste engagés'!E211,\"\")","v":""},{"$f":"IF('liste engagés'!$G211=6,'liste engagés'!K211,\"\")","v":""},{"$f":"IF('liste engagés'!$G211=6,'liste engagés'!L211,\"\")","v":""},0]
[207,{"$f":"IF('liste engagés'!$G212=6,'liste engagés'!A212,\"\")","v":""},{"$f":"IF('liste engagés'!$G212=6,'liste engagés'!B212,\"\")","v":""},{"$f":"IF('liste engagés'!$G212=6,'liste engagés'!C212,\"\")","v":""},{"$f":"IF('liste engagés'!$G212=6,'liste engagés'!D212,\"\")","v":""},{"$f":"IF('liste engagés'!$G212=6,'liste engagés'!E212,\"\")","v":""},{"$f":"IF('liste engagés'!$G212=6,'liste engagés'!K212,\"\")","v":""},{"$f":"IF('liste engagés'!$G212=6,'liste engagés'!L212,\"\")","v":""},0]
[208,{"$f":"IF('liste engagés'!$G213=6,'liste engagés'!A213,\"\")","v":""},{"$f":"IF('liste engagés'!$G213=6,'liste engagés'!B213,\"\")","v":""},{"$f":"IF('liste engagés'!$G213=6,'liste engagés'!C213,\"\")","v":""},{"$f":"IF('liste engagés'!$G213=6,'liste engagés'!D213,\"\")","v":""},{"$f":"IF('liste engagés'!$G213=6,'liste engagés'!E213,\"\")","v":""},{"$f":"IF('liste engagés'!$G213=6,'liste engagés'!K213,\"\")","v":""},{"$f":"IF('liste engagés'!$G213=6,'liste engagés'!L213,\"\")","v":""},0]
[209,{"$f":"IF('liste engagés'!$G214=6,'liste engagés'!A214,\"\")","v":""},{"$f":"IF('liste engagés'!$G214=6,'liste engagés'!B214,\"\")","v":""},{"$f":"IF('liste engagés'!$G214=6,'liste engagés'!C214,\"\")","v":""},{"$f":"IF('liste engagés'!$G214=6,'liste engagés'!D214,\"\")","v":""},{"$f":"IF('liste engagés'!$G214=6,'liste engagés'!E214,\"\")","v":""},{"$f":"IF('liste engagés'!$G214=6,'liste engagés'!K214,\"\")","v":""},{"$f":"IF('liste engagés'!$G214=6,'liste engagés'!L214,\"\")","v":""},0]
[210,{"$f":"IF('liste engagés'!$G215=6,'liste engagés'!A215,\"\")","v":""},{"$f":"IF('liste engagés'!$G215=6,'liste engagés'!B215,\"\")","v":""},{"$f":"IF('liste engagés'!$G215=6,'liste engagés'!C215,\"\")","v":""},{"$f":"IF('liste engagés'!$G215=6,'liste engagés'!D215,\"\")","v":""},{"$f":"IF('liste engagés'!$G215=6,'liste engagés'!E215,\"\")","v":""},{"$f":"IF('liste engagés'!$G215=6,'liste engagés'!K215,\"\")","v":""},{"$f":"IF('liste engagés'!$G215=6,'liste engagés'!L215,\"\")","v":""},0]
[null,null,null,null,null,null,null,null,{"$f":"SUM(I7:I216)","v":7}]

{"sheet":"cat7","index":10,"n_rows":217,"n_cols":10,"rows_kept":217,"cut":false,"hidden":false,"merged":[]}
[{"$f":"+MENU!A1","v":"CHRONO DES LIMOUCHES "},null,null,null,null,null,{"$f":"+MENU!I1","v":"EDITION"},{"$f":"+MENU!J1","v":2018}]
[null,null,null,null,null,null,null,null,"code cat",7]
["CLASSEMENT :",null,{"$f":"+IF(J2=\"\",\"\",VLOOKUP($J$2,Catégories!B3:D17,3))","v":"Autres fédés / NL : 40-49 ans"}]
[]
[]
[null,"N°de DOSSARD","Nom ","Prénom","Club","Fédération","Temps","Moyenne"]
[1,{"$f":"IF('liste engagés'!$G115=7,'liste engagés'!A115,\"\")","v":110},{"$f":"IF('liste engagés'!$G115=7,'liste engagés'!B115,\"\")","v":"CHEYTION"},{"$f":"IF('liste engagés'!$G115=7,'liste engagés'!C115,\"\")","v":"ANTHONY"},{"$f":"IF('liste engagés'!$G115=7,'liste engagés'!D115,\"\")","v":"UC ALBENNASSIENNE"},{"$f":"IF('liste engagés'!$G115=7,'liste engagés'!E115,\"\")","v":"FFC"},{"$f":"IF('liste engagés'!$G115=7,'liste engagés'!K115,\"\")","v":2.0902777777772219E-2},{"$f":"IF('liste engagés'!$G115=7,'liste engagés'!L115,\"\")","v":22.724252491700398},{"$f":"+IF(C7=\"\",0,1)","v":1}]
[{"$f":"+A7+1","v":2},{"$f":"IF('liste engagés'!$G130=7,'liste engagés'!A130,\"\")","v":125},{"$f":"IF('liste engagés'!$G130=7,'liste engagés'!B130,\"\")","v":"ARLAUD"},{"$f":"IF('liste engagés'!$G130=7,'liste engagés'!C130,\"\")","v":"JEROME"},{"$f":"IF('liste engagés'!$G130=7,'liste engagés'!D130,\"\")","v":"C PRO"},{"$f":"IF('liste engagés'!$G130=7,'liste engagés'!E130,\"\")","v":"FFC"},{"$f":"IF('liste engagés'!$G130=7,'liste engagés'!K130,\"\")","v":2.2048611111104177E-2},{"$f":"IF('liste engagés'!$G130=7,'liste engagés'!L130,\"\")","v":21.543307086620949},1]
[3,{"$f":"IF('liste engagés'!$G144=7,'liste engagés'!A144,\"\")","v":139},{"$f":"IF('liste engagés'!$G144=7,'liste engagés'!B144,\"\")","v":"COSTECHAREYRE"},{"$f":"IF('liste engagés'!$G144=7,'liste engagés'!C144,\"\")","v":"CLAUDE"},{"$f":"IF('liste engagés'!$G144=7,'liste engagés'!D144,\"\")","v":"VC VALRHONA"},{"$f":"IF('liste engagés'!$G144=7,'liste engagés'!E144,\"\")","v":"FFC"},{"$f":"IF('liste engagés'!$G144=7,'liste engagés'!K144,\"\")","v":2.2106481481473816E-2},{"$f":"IF('liste engagés'!$G144=7,'liste engagés'!L144,\"\")","v":21.486910994771847},1]
[4,{"$f":"IF('liste engagés'!$G154=7,'liste engagés'!A154,\"\")","v":149},{"$f":"IF('liste engagés'!$G154=7,'liste engagés'!B154,\"\")","v":"LOPEZ"},{"$f":"IF('liste engagés'!$G154=7,'liste engagés'!C154,\"\")","v":"BRICE"},{"$f":"IF('liste engagés'!$G154=7,'liste engagés'!D154,\"\")","v":"NL"},{"$f":"IF('liste engagés'!$G154=7,'liste engagés'!E154,\"\")","v":"NL"},{"$f":"IF('liste engagés'!$G154=7,'liste engagés'!K154,\"\")","v":2.2858796296288064E-2},{"$f":"IF('liste engagés'!$G154=7,'liste engagés'!L154,\"\")","v":20.779746835450521},1]
[5,{"$f":"IF('liste engagés'!$G85=7,'liste engagés'!A85,\"\")","v":80},{"$f":"IF('liste engagés'!$G85=7,'liste engagés'!B85,\"\")","v":"HEYRAUD"},{"$f":"IF('liste engagés'!$G85=7,'liste engagés'!C85,\"\")","v":"FABIEN"},{"$f":"IF('liste engagés'!$G85=7,'liste engagés'!D85,\"\")","v":"C PRO"},{"$f":"IF('liste engagés'!$G85=7,'liste engagés'!E85,\"\")","v":"FFC"},{"$f":"IF('liste engagés'!$G85=7,'liste engagés'!K85,\"\")","v":2.3773148148144241E-2},{"$f":"IF('liste engagés'!$G85=7,'liste engagés'!L85,\"\")","v":19.980525803313899},1]
[6,{"$f":"IF('liste engagés'!$G146=7,'liste engagés'!A146,\"\")","v":141},{"$f":"IF('liste engagés'!$G146=7,'liste engagés'!B146,\"\")","v":"BARRIER"},{"$f":"IF('liste engagés'!$G146=7,'liste engagés'!C145,\"\")","v":"RAPHAEL"},{"$f":"IF('liste engagés'!$G146=7,'liste engagés'!D146,\"\")","v":"UCMV"},{"$f":"IF('liste engagés'!$G146=7,'liste engagés'!E146,\"\")","v":"FFC"},{"$f":"IF('liste engagés'!$G146=7,'liste engagés'!K146,\"\")","v":2.4756944444436713E-2},{"$f":"IF('liste engagés'!$G146=7,'liste engagés'!L146,\"\")","v":19.186535764381869},1]
[7,{"$f":"IF('liste engagés'!$G110=7,'liste engagés'!A110,\"\")","v":105},{"$f":"IF('liste engagés'!$G110=7,'liste engagés'!B110,\"\")","v":"SAADIA"},{"$f":"IF('liste engagés'!$G110=7,'liste engagés'!C110,\"\")","v":"OLIVIER"},{"$f":"IF('liste engagés'!$G110=7,'liste engagés'!D110,\"\")","v":"NL"},{"$f":"IF('liste engagés'!$G110=7,'liste engagés'!E110,\"\")","v":"NL"},{"$f":"IF('liste engagés'!$G110=7,'liste engagés'!K110,\"\")","v":2.7777777777772017E-2},{"$f":"IF('liste engagés'!$G110=7,'liste engagés'!L110,\"\")","v":17.100000000003547},1]
[8,{"$f":"IF('liste engagés'!$G23=7,'liste engagés'!A23,\"\")","v":18},{"$f":"IF('liste engagés'!$G23=7,'liste engagés'!B23,\"\")","v":"BOYER"},{"$f":"IF('liste engagés'!$G23=7,'liste engagés'!C23,\"\")","v":"FRANCK"},{"$f":"IF('liste engagés'!$G23=7,'liste engagés'!D23,\"\")","v":"UCMV"},{"$f":"IF('liste engagés'!$G23=7,'liste engagés'!E23,\"\")","v":"FFC"},{"$f":"IF('liste engagés'!$G23=7,'liste engagés'!K23,\"\")","v":3.0081018518517078E-2},{"$f":"IF('liste engagés'!$G23=7,'liste engagés'!L23,\"\")","v":15.790688726434},1]
[9,{"$f":"IF('liste engagés'!$G6=7,'liste engagés'!A6,\"\")","v":""},{"$f":"IF('liste engagés'!$G6=7,'liste engagés'!B6,\"\")","v":""},{"$f":"IF('liste engagés'!$G6=7,'liste engagés'!C6,\"\")","v":""},{"$f":"IF('liste engagés'!$G6=7,'liste engagés'!D6,\"\")","v":""},{"$f":"IF('liste engagés'!$G6=7,'liste engagés'!E6,\"\")","v":""},{"$f":"IF('liste engagés'!$G6=7,'liste engagés'!K6,\"\")","v":""},{"$f":"IF('liste engagés'!$G6=7,'liste engagés'!L6,\"\")","v":""},0]
[10,{"$f":"IF('liste engagés'!$G7=7,'liste engagés'!A7,\"\")","v":""},{"$f":"IF('liste engagés'!$G7=7,'liste engagés'!B7,\"\")","v":""},{"$f":"IF('liste engagés'!$G7=7,'liste engagés'!C7,\"\")","v":""},{"$f":"IF('liste engagés'!$G7=7,'liste engagés'!D7,\"\")","v":""},{"$f":"IF('liste engagés'!$G7=7,'liste engagés'!E7,\"\")","v":""},{"$f":"IF('liste engagés'!$G7=7,'liste engagés'!K7,\"\")","v":""},{"$f":"IF('liste engagés'!$G7=7,'liste engagés'!L7,\"\")","v":""},0]
[11,{"$f":"IF('liste engagés'!$G8=7,'liste engagés'!A8,\"\")","v":""},{"$f":"IF('liste engagés'!$G8=7,'liste engagés'!B8,\"\")","v":""},{"$f":"IF('liste engagés'!$G8=7,'liste engagés'!C8,\"\")","v":""},{"$f":"IF('liste engagés'!$G8=7,'liste engagés'!D8,\"\")","v":""},{"$f":"IF('liste engagés'!$G8=7,'liste engagés'!E8,\"\")","v":""},{"$f":"IF('liste engagés'!$G8=7,'liste engagés'!K8,\"\")","v":""},{"$f":"IF('liste engagés'!$G8=7,'liste engagés'!L8,\"\")","v":""},0]
[12,{"$f":"IF('liste engagés'!$G9=7,'liste engagés'!A9,\"\")","v":""},{"$f":"IF('liste engagés'!$G9=7,'liste engagés'!B9,\"\")","v":""},{"$f":"IF('liste engagés'!$G9=7,'liste engagés'!C9,\"\")","v":""},{"$f":"IF('liste engagés'!$G9=7,'liste engagés'!D9,\"\")","v":""},{"$f":"IF('liste engagés'!$G9=7,'liste engagés'!E9,\"\")","v":""},{"$f":"IF('liste engagés'!$G9=7,'liste engagés'!K9,\"\")","v":""},{"$f":"IF('liste engagés'!$G9=7,'liste engagés'!L9,\"\")","v":""},0]
[13,{"$f":"IF('liste engagés'!$G10=7,'liste engagés'!A10,\"\")","v":""},{"$f":"IF('liste engagés'!$G10=7,'liste engagés'!B10,\"\")","v":""},{"$f":"IF('liste engagés'!$G10=7,'liste engagés'!C10,\"\")","v":""},{"$f":"IF('liste engagés'!$G10=7,'liste engagés'!D10,\"\")","v":""},{"$f":"IF('liste engagés'!$G10=7,'liste engagés'!E10,\"\")","v":""},{"$f":"IF('liste engagés'!$G10=7,'liste engagés'!K10,\"\")","v":""},{"$f":"IF('liste engagés'!$G10=7,'liste engagés'!L10,\"\")","v":""},0]
[14,{"$f":"IF('liste engagés'!$G11=7,'liste engagés'!A11,\"\")","v":""},{"$f":"IF('liste engagés'!$G11=7,'liste engagés'!B11,\"\")","v":""},{"$f":"IF('liste engagés'!$G11=7,'liste engagés'!C11,\"\")","v":""},{"$f":"IF('liste engagés'!$G11=7,'liste engagés'!D11,\"\")","v":""},{"$f":"IF('liste engagés'!$G11=7,'liste engagés'!E11,\"\")","v":""},{"$f":"IF('liste engagés'!$G11=7,'liste engagés'!K11,\"\")","v":""},{"$f":"IF('liste engagés'!$G11=7,'liste engagés'!L11,\"\")","v":""},0]
[15,{"$f":"IF('liste engagés'!$G12=7,'liste engagés'!A12,\"\")","v":""},{"$f":"IF('liste engagés'!$G12=7,'liste engagés'!B12,\"\")","v":""},{"$f":"IF('liste engagés'!$G12=7,'liste engagés'!C12,\"\")","v":""},{"$f":"IF('liste engagés'!$G12=7,'liste engagés'!D12,\"\")","v":""},{"$f":"IF('liste engagés'!$G12=7,'liste engagés'!E12,\"\")","v":""},{"$f":"IF('liste engagés'!$G12=7,'liste engagés'!K12,\"\")","v":""},{"$f":"IF('liste engagés'!$G12=7,'liste engagés'!L12,\"\")","v":""},0]
[16,{"$f":"IF('liste engagés'!$G13=7,'liste engagés'!A13,\"\")","v":""},{"$f":"IF('liste engagés'!$G13=7,'liste engagés'!B13,\"\")","v":""},{"$f":"IF('liste engagés'!$G13=7,'liste engagés'!C13,\"\")","v":""},{"$f":"IF('liste engagés'!$G13=7,'liste engagés'!D13,\"\")","v":""},{"$f":"IF('liste engagés'!$G13=7,'liste engagés'!E13,\"\")","v":""},{"$f":"IF('liste engagés'!$G13=7,'liste engagés'!K13,\"\")","v":""},{"$f":"IF('liste engagés'!$G13=7,'liste engagés'!L13,\"\")","v":""},0]
[17,{"$f":"IF('liste engagés'!$G14=7,'liste engagés'!A14,\"\")","v":""},{"$f":"IF('liste engagés'!$G14=7,'liste engagés'!B14,\"\")","v":""},{"$f":"IF('liste engagés'!$G14=7,'liste engagés'!C14,\"\")","v":""},{"$f":"IF('liste engagés'!$G14=7,'liste engagés'!D14,\"\")","v":""},{"$f":"IF('liste engagés'!$G14=7,'liste engagés'!E14,\"\")","v":""},{"$f":"IF('liste engagés'!$G14=7,'liste engagés'!K14,\"\")","v":""},{"$f":"IF('liste engagés'!$G14=7,'liste engagés'!L14,\"\")","v":""},0]
[18,{"$f":"IF('liste engagés'!$G15=7,'liste engagés'!A15,\"\")","v":""},{"$f":"IF('liste engagés'!$G15=7,'liste engagés'!B15,\"\")","v":""},{"$f":"IF('liste engagés'!$G15=7,'liste engagés'!C15,\"\")","v":""},{"$f":"IF('liste engagés'!$G15=7,'liste engagés'!D15,\"\")","v":""},{"$f":"IF('liste engagés'!$G15=7,'liste engagés'!E15,\"\")","v":""},{"$f":"IF('liste engagés'!$G15=7,'liste engagés'!K15,\"\")","v":""},{"$f":"IF('liste engagés'!$G15=7,'liste engagés'!L15,\"\")","v":""},0]
[19,{"$f":"IF('liste engagés'!$G16=7,'liste engagés'!A16,\"\")","v":""},{"$f":"IF('liste engagés'!$G16=7,'liste engagés'!B16,\"\")","v":""},{"$f":"IF('liste engagés'!$G16=7,'liste engagés'!C16,\"\")","v":""},{"$f":"IF('liste engagés'!$G16=7,'liste engagés'!D16,\"\")","v":""},{"$f":"IF('liste engagés'!$G16=7,'liste engagés'!E16,\"\")","v":""},{"$f":"IF('liste engagés'!$G16=7,'liste engagés'!K16,\"\")","v":""},{"$f":"IF('liste engagés'!$G16=7,'liste engagés'!L16,\"\")","v":""},0]
[20,{"$f":"IF('liste engagés'!$G17=7,'liste engagés'!A17,\"\")","v":""},{"$f":"IF('liste engagés'!$G17=7,'liste engagés'!B17,\"\")","v":""},{"$f":"IF('liste engagés'!$G17=7,'liste engagés'!C17,\"\")","v":""},{"$f":"IF('liste engagés'!$G17=7,'liste engagés'!D17,\"\")","v":""},{"$f":"IF('liste engagés'!$G17=7,'liste engagés'!E17,\"\")","v":""},{"$f":"IF('liste engagés'!$G17=7,'liste engagés'!K17,\"\")","v":""},{"$f":"IF('liste engagés'!$G17=7,'liste engagés'!L17,\"\")","v":""},0]
[21,{"$f":"IF('liste engagés'!$G18=7,'liste engagés'!A18,\"\")","v":""},{"$f":"IF('liste engagés'!$G18=7,'liste engagés'!B18,\"\")","v":""},{"$f":"IF('liste engagés'!$G18=7,'liste engagés'!C18,\"\")","v":""},{"$f":"IF('liste engagés'!$G18=7,'liste engagés'!D18,\"\")","v":""},{"$f":"IF('liste engagés'!$G18=7,'liste engagés'!E18,\"\")","v":""},{"$f":"IF('liste engagés'!$G18=7,'liste engagés'!K18,\"\")","v":""},{"$f":"IF('liste engagés'!$G18=7,'liste engagés'!L18,\"\")","v":""},0]
[22,{"$f":"IF('liste engagés'!$G19=7,'liste engagés'!A19,\"\")","v":""},{"$f":"IF('liste engagés'!$G19=7,'liste engagés'!B19,\"\")","v":""},{"$f":"IF('liste engagés'!$G19=7,'liste engagés'!C19,\"\")","v":""},{"$f":"IF('liste engagés'!$G19=7,'liste engagés'!D19,\"\")","v":""},{"$f":"IF('liste engagés'!$G19=7,'liste engagés'!E19,\"\")","v":""},{"$f":"IF('liste engagés'!$G19=7,'liste engagés'!K19,\"\")","v":""},{"$f":"IF('liste engagés'!$G19=7,'liste engagés'!L19,\"\")","v":""},0]
[23,{"$f":"IF('liste engagés'!$G20=7,'liste engagés'!A20,\"\")","v":""},{"$f":"IF('liste engagés'!$G20=7,'liste engagés'!B20,\"\")","v":""},{"$f":"IF('liste engagés'!$G20=7,'liste engagés'!C20,\"\")","v":""},{"$f":"IF('liste engagés'!$G20=7,'liste engagés'!D20,\"\")","v":""},{"$f":"IF('liste engagés'!$G20=7,'liste engagés'!E20,\"\")","v":""},{"$f":"IF('liste engagés'!$G20=7,'liste engagés'!K20,\"\")","v":""},{"$f":"IF('liste engagés'!$G20=7,'liste engagés'!L20,\"\")","v":""},0]
[24,{"$f":"IF('liste engagés'!$G21=7,'liste engagés'!A21,\"\")","v":""},{"$f":"IF('liste engagés'!$G21=7,'liste engagés'!B21,\"\")","v":""},{"$f":"IF('liste engagés'!$G21=7,'liste engagés'!C21,\"\")","v":""},{"$f":"IF('liste engagés'!$G21=7,'liste engagés'!D21,\"\")","v":""},{"$f":"IF('liste engagés'!$G21=7,'liste engagés'!E21,\"\")","v":""},{"$f":"IF('liste engagés'!$G21=7,'liste engagés'!K21,\"\")","v":""},{"$f":"IF('liste engagés'!$G21=7,'liste engagés'!L21,\"\")","v":""},0]
[25,{"$f":"IF('liste engagés'!$G22=7,'liste engagés'!A22,\"\")","v":""},{"$f":"IF('liste engagés'!$G22=7,'liste engagés'!B22,\"\")","v":""},{"$f":"IF('liste engagés'!$G22=7,'liste engagés'!C22,\"\")","v":""},{"$f":"IF('liste engagés'!$G22=7,'liste engagés'!D22,\"\")","v":""},{"$f":"IF('liste engagés'!$G22=7,'liste engagés'!E22,\"\")","v":""},{"$f":"IF('liste engagés'!$G22=7,'liste engagés'!K22,\"\")","v":""},{"$f":"IF('liste engagés'!$G22=7,'liste engagés'!L22,\"\")","v":""},0]
[26,{"$f":"IF('liste engagés'!$G24=7,'liste engagés'!A24,\"\")","v":""},{"$f":"IF('liste engagés'!$G24=7,'liste engagés'!B24,\"\")","v":""},{"$f":"IF('liste engagés'!$G24=7,'liste engagés'!C24,\"\")","v":""},{"$f":"IF('liste engagés'!$G24=7,'liste engagés'!D24,\"\")","v":""},{"$f":"IF('liste engagés'!$G24=7,'liste engagés'!E24,\"\")","v":""},{"$f":"IF('liste engagés'!$G24=7,'liste engagés'!K24,\"\")","v":""},{"$f":"IF('liste engagés'!$G24=7,'liste engagés'!L24,\"\")","v":""},0]
[27,{"$f":"IF('liste engagés'!$G25=7,'liste engagés'!A25,\"\")","v":""},{"$f":"IF('liste engagés'!$G25=7,'liste engagés'!B25,\"\")","v":""},{"$f":"IF('liste engagés'!$G25=7,'liste engagés'!C25,\"\")","v":""},{"$f":"IF('liste engagés'!$G25=7,'liste engagés'!D25,\"\")","v":""},{"$f":"IF('liste engagés'!$G25=7,'liste engagés'!E25,\"\")","v":""},{"$f":"IF('liste engagés'!$G25=7,'liste engagés'!K25,\"\")","v":""},{"$f":"IF('liste engagés'!$G25=7,'liste engagés'!L25,\"\")","v":""},0]
[28,{"$f":"IF('liste engagés'!$G26=7,'liste engagés'!A26,\"\")","v":""},{"$f":"IF('liste engagés'!$G26=7,'liste engagés'!B26,\"\")","v":""},{"$f":"IF('liste engagés'!$G26=7,'liste engagés'!C26,\"\")","v":""},{"$f":"IF('liste engagés'!$G26=7,'liste engagés'!D26,\"\")","v":""},{"$f":"IF('liste engagés'!$G26=7,'liste engagés'!E26,\"\")","v":""},{"$f":"IF('liste engagés'!$G26=7,'liste engagés'!K26,\"\")","v":""},{"$f":"IF('liste engagés'!$G26=7,'liste engagés'!L26,\"\")","v":""},0]
[29,{"$f":"IF('liste engagés'!$G27=7,'liste engagés'!A27,\"\")","v":""},{"$f":"IF('liste engagés'!$G27=7,'liste engagés'!B27,\"\")","v":""},{"$f":"IF('liste engagés'!$G27=7,'liste engagés'!C27,\"\")","v":""},{"$f":"IF('liste engagés'!$G27=7,'liste engagés'!D27,\"\")","v":""},{"$f":"IF('liste engagés'!$G27=7,'liste engagés'!E27,\"\")","v":""},{"$f":"IF('liste engagés'!$G27=7,'liste engagés'!K27,\"\")","v":""},{"$f":"IF('liste engagés'!$G27=7,'liste engagés'!L27,\"\")","v":""},0]
[30,{"$f":"IF('liste engagés'!$G28=7,'liste engagés'!A28,\"\")","v":""},{"$f":"IF('liste engagés'!$G28=7,'liste engagés'!B28,\"\")","v":""},{"$f":"IF('liste engagés'!$G28=7,'liste engagés'!C28,\"\")","v":""},{"$f":"IF('liste engagés'!$G28=7,'liste engagés'!D28,\"\")","v":""},{"$f":"IF('liste engagés'!$G28=7,'liste engagés'!E28,\"\")","v":""},{"$f":"IF('liste engagés'!$G28=7,'liste engagés'!K28,\"\")","v":""},{"$f":"IF('liste engagés'!$G28=7,'liste engagés'!L28,\"\")","v":""},0]
[31,{"$f":"IF('liste engagés'!$G29=7,'liste engagés'!A29,\"\")","v":""},{"$f":"IF('liste engagés'!$G29=7,'liste engagés'!B29,\"\")","v":""},{"$f":"IF('liste engagés'!$G29=7,'liste engagés'!C29,\"\")","v":""},{"$f":"IF('liste engagés'!$G29=7,'liste engagés'!D29,\"\")","v":""},{"$f":"IF('liste engagés'!$G29=7,'liste engagés'!E29,\"\")","v":""},{"$f":"IF('liste engagés'!$G29=7,'liste engagés'!K29,\"\")","v":""},{"$f":"IF('liste engagés'!$G29=7,'liste engagés'!L29,\"\")","v":""},0]
[32,{"$f":"IF('liste engagés'!$G30=7,'liste engagés'!A30,\"\")","v":""},{"$f":"IF('liste engagés'!$G30=7,'liste engagés'!B30,\"\")","v":""},{"$f":"IF('liste engagés'!$G30=7,'liste engagés'!C30,\"\")","v":""},{"$f":"IF('liste engagés'!$G30=7,'liste engagés'!D30,\"\")","v":""},{"$f":"IF('liste engagés'!$G30=7,'liste engagés'!E30,\"\")","v":""},{"$f":"IF('liste engagés'!$G30=7,'liste engagés'!K30,\"\")","v":""},{"$f":"IF('liste engagés'!$G30=7,'liste engagés'!L30,\"\")","v":""},0]
[33,{"$f":"IF('liste engagés'!$G31=7,'liste engagés'!A31,\"\")","v":""},{"$f":"IF('liste engagés'!$G31=7,'liste engagés'!B31,\"\")","v":""},{"$f":"IF('liste engagés'!$G31=7,'liste engagés'!C31,\"\")","v":""},{"$f":"IF('liste engagés'!$G31=7,'liste engagés'!D31,\"\")","v":""},{"$f":"IF('liste engagés'!$G31=7,'liste engagés'!E31,\"\")","v":""},{"$f":"IF('liste engagés'!$G31=7,'liste engagés'!K31,\"\")","v":""},{"$f":"IF('liste engagés'!$G31=7,'liste engagés'!L31,\"\")","v":""},0]
[34,{"$f":"IF('liste engagés'!$G32=7,'liste engagés'!A32,\"\")","v":""},{"$f":"IF('liste engagés'!$G32=7,'liste engagés'!B32,\"\")","v":""},{"$f":"IF('liste engagés'!$G32=7,'liste engagés'!C32,\"\")","v":""},{"$f":"IF('liste engagés'!$G32=7,'liste engagés'!D32,\"\")","v":""},{"$f":"IF('liste engagés'!$G32=7,'liste engagés'!E32,\"\")","v":""},{"$f":"IF('liste engagés'!$G32=7,'liste engagés'!K32,\"\")","v":""},{"$f":"IF('liste engagés'!$G32=7,'liste engagés'!L32,\"\")","v":""},0]
[35,{"$f":"IF('liste engagés'!$G33=7,'liste engagés'!A33,\"\")","v":""},{"$f":"IF('liste engagés'!$G33=7,'liste engagés'!B33,\"\")","v":""},{"$f":"IF('liste engagés'!$G33=7,'liste engagés'!C33,\"\")","v":""},{"$f":"IF('liste engagés'!$G33=7,'liste engagés'!D33,\"\")","v":""},{"$f":"IF('liste engagés'!$G33=7,'liste engagés'!E33,\"\")","v":""},{"$f":"IF('liste engagés'!$G33=7,'liste engagés'!K33,\"\")","v":""},{"$f":"IF('liste engagés'!$G33=7,'liste engagés'!L33,\"\")","v":""},0]
[36,{"$f":"IF('liste engagés'!$G34=7,'liste engagés'!A34,\"\")","v":""},{"$f":"IF('liste engagés'!$G34=7,'liste engagés'!B34,\"\")","v":""},{"$f":"IF('liste engagés'!$G34=7,'liste engagés'!C34,\"\")","v":""},{"$f":"IF('liste engagés'!$G34=7,'liste engagés'!D34,\"\")","v":""},{"$f":"IF('liste engagés'!$G34=7,'liste engagés'!E34,\"\")","v":""},{"$f":"IF('liste engagés'!$G34=7,'liste engagés'!K34,\"\")","v":""},{"$f":"IF('liste engagés'!$G34=7,'liste engagés'!L34,\"\")","v":""},0]
[37,{"$f":"IF('liste engagés'!$G35=7,'liste engagés'!A35,\"\")","v":""},{"$f":"IF('liste engagés'!$G35=7,'liste engagés'!B35,\"\")","v":""},{"$f":"IF('liste engagés'!$G35=7,'liste engagés'!C35,\"\")","v":""},{"$f":"IF('liste engagés'!$G35=7,'liste engagés'!D35,\"\")","v":""},{"$f":"IF('liste engagés'!$G35=7,'liste engagés'!E35,\"\")","v":""},{"$f":"IF('liste engagés'!$G35=7,'liste engagés'!K35,\"\")","v":""},{"$f":"IF('liste engagés'!$G35=7,'liste engagés'!L35,\"\")","v":""},0]
[38,{"$f":"IF('liste engagés'!$G36=7,'liste engagés'!A36,\"\")","v":""},{"$f":"IF('liste engagés'!$G36=7,'liste engagés'!B36,\"\")","v":""},{"$f":"IF('liste engagés'!$G36=7,'liste engagés'!C36,\"\")","v":""},{"$f":"IF('liste engagés'!$G36=7,'liste engagés'!D36,\"\")","v":""},{"$f":"IF('liste engagés'!$G36=7,'liste engagés'!E36,\"\")","v":""},{"$f":"IF('liste engagés'!$G36=7,'liste engagés'!K36,\"\")","v":""},{"$f":"IF('liste engagés'!$G36=7,'liste engagés'!L36,\"\")","v":""},0]
[39,{"$f":"IF('liste engagés'!$G37=7,'liste engagés'!A37,\"\")","v":""},{"$f":"IF('liste engagés'!$G37=7,'liste engagés'!B37,\"\")","v":""},{"$f":"IF('liste engagés'!$G37=7,'liste engagés'!C37,\"\")","v":""},{"$f":"IF('liste engagés'!$G37=7,'liste engagés'!D37,\"\")","v":""},{"$f":"IF('liste engagés'!$G37=7,'liste engagés'!E37,\"\")","v":""},{"$f":"IF('liste engagés'!$G37=7,'liste engagés'!K37,\"\")","v":""},{"$f":"IF('liste engagés'!$G37=7,'liste engagés'!L37,\"\")","v":""},0]
[40,{"$f":"IF('liste engagés'!$G38=7,'liste engagés'!A38,\"\")","v":""},{"$f":"IF('liste engagés'!$G38=7,'liste engagés'!B38,\"\")","v":""},{"$f":"IF('liste engagés'!$G38=7,'liste engagés'!C38,\"\")","v":""},{"$f":"IF('liste engagés'!$G38=7,'liste engagés'!D38,\"\")","v":""},{"$f":"IF('liste engagés'!$G38=7,'liste engagés'!E38,\"\")","v":""},{"$f":"IF('liste engagés'!$G38=7,'liste engagés'!K38,\"\")","v":""},{"$f":"IF('liste engagés'!$G38=7,'liste engagés'!L38,\"\")","v":""},0]
[41,{"$f":"IF('liste engagés'!$G39=7,'liste engagés'!A39,\"\")","v":""},{"$f":"IF('liste engagés'!$G39=7,'liste engagés'!B39,\"\")","v":""},{"$f":"IF('liste engagés'!$G39=7,'liste engagés'!C39,\"\")","v":""},{"$f":"IF('liste engagés'!$G39=7,'liste engagés'!D39,\"\")","v":""},{"$f":"IF('liste engagés'!$G39=7,'liste engagés'!E39,\"\")","v":""},{"$f":"IF('liste engagés'!$G39=7,'liste engagés'!K39,\"\")","v":""},{"$f":"IF('liste engagés'!$G39=7,'liste engagés'!L39,\"\")","v":""},0]
[42,{"$f":"IF('liste engagés'!$G40=7,'liste engagés'!A40,\"\")","v":""},{"$f":"IF('liste engagés'!$G40=7,'liste engagés'!B40,\"\")","v":""},{"$f":"IF('liste engagés'!$G40=7,'liste engagés'!C40,\"\")","v":""},{"$f":"IF('liste engagés'!$G40=7,'liste engagés'!D40,\"\")","v":""},{"$f":"IF('liste engagés'!$G40=7,'liste engagés'!E40,\"\")","v":""},{"$f":"IF('liste engagés'!$G40=7,'liste engagés'!K40,\"\")","v":""},{"$f":"IF('liste engagés'!$G40=7,'liste engagés'!L40,\"\")","v":""},0]
[43,{"$f":"IF('liste engagés'!$G41=7,'liste engagés'!A41,\"\")","v":""},{"$f":"IF('liste engagés'!$G41=7,'liste engagés'!B41,\"\")","v":""},{"$f":"IF('liste engagés'!$G41=7,'liste engagés'!C41,\"\")","v":""},{"$f":"IF('liste engagés'!$G41=7,'liste engagés'!D41,\"\")","v":""},{"$f":"IF('liste engagés'!$G41=7,'liste engagés'!E41,\"\")","v":""},{"$f":"IF('liste engagés'!$G41=7,'liste engagés'!K41,\"\")","v":""},{"$f":"IF('liste engagés'!$G41=7,'liste engagés'!L41,\"\")","v":""},0]
[44,{"$f":"IF('liste engagés'!$G42=7,'liste engagés'!A42,\"\")","v":""},{"$f":"IF('liste engagés'!$G42=7,'liste engagés'!B42,\"\")","v":""},{"$f":"IF('liste engagés'!$G42=7,'liste engagés'!C42,\"\")","v":""},{"$f":"IF('liste engagés'!$G42=7,'liste engagés'!D42,\"\")","v":""},{"$f":"IF('liste engagés'!$G42=7,'liste engagés'!E42,\"\")","v":""},{"$f":"IF('liste engagés'!$G42=7,'liste engagés'!K42,\"\")","v":""},{"$f":"IF('liste engagés'!$G42=7,'liste engagés'!L42,\"\")","v":""},0]
[45,{"$f":"IF('liste engagés'!$G43=7,'liste engagés'!A43,\"\")","v":""},{"$f":"IF('liste engagés'!$G43=7,'liste engagés'!B43,\"\")","v":""},{"$f":"IF('liste engagés'!$G43=7,'liste engagés'!C43,\"\")","v":""},{"$f":"IF('liste engagés'!$G43=7,'liste engagés'!D43,\"\")","v":""},{"$f":"IF('liste engagés'!$G43=7,'liste engagés'!E43,\"\")","v":""},{"$f":"IF('liste engagés'!$G43=7,'liste engagés'!K43,\"\")","v":""},{"$f":"IF('liste engagés'!$G43=7,'liste engagés'!L43,\"\")","v":""},0]
[46,{"$f":"IF('liste engagés'!$G44=7,'liste engagés'!A44,\"\")","v":""},{"$f":"IF('liste engagés'!$G44=7,'liste engagés'!B44,\"\")","v":""},{"$f":"IF('liste engagés'!$G44=7,'liste engagés'!C44,\"\")","v":""},{"$f":"IF('liste engagés'!$G44=7,'liste engagés'!D44,\"\")","v":""},{"$f":"IF('liste engagés'!$G44=7,'liste engagés'!E44,\"\")","v":""},{"$f":"IF('liste engagés'!$G44=7,'liste engagés'!K44,\"\")","v":""},{"$f":"IF('liste engagés'!$G44=7,'liste engagés'!L44,\"\")","v":""},0]
[47,{"$f":"IF('liste engagés'!$G45=7,'liste engagés'!A45,\"\")","v":""},{"$f":"IF('liste engagés'!$G45=7,'liste engagés'!B45,\"\")","v":""},{"$f":"IF('liste engagés'!$G45=7,'liste engagés'!C45,\"\")","v":""},{"$f":"IF('liste engagés'!$G45=7,'liste engagés'!D45,\"\")","v":""},{"$f":"IF('liste engagés'!$G45=7,'liste engagés'!E45,\"\")","v":""},{"$f":"IF('liste engagés'!$G45=7,'liste engagés'!K45,\"\")","v":""},{"$f":"IF('liste engagés'!$G45=7,'liste engagés'!L45,\"\")","v":""},0]
[48,{"$f":"IF('liste engagés'!$G46=7,'liste engagés'!A46,\"\")","v":""},{"$f":"IF('liste engagés'!$G46=7,'liste engagés'!B46,\"\")","v":""},{"$f":"IF('liste engagés'!$G46=7,'liste engagés'!C46,\"\")","v":""},{"$f":"IF('liste engagés'!$G46=7,'liste engagés'!D46,\"\")","v":""},{"$f":"IF('liste engagés'!$G46=7,'liste engagés'!E46,\"\")","v":""},{"$f":"IF('liste engagés'!$G46=7,'liste engagés'!K46,\"\")","v":""},{"$f":"IF('liste engagés'!$G46=7,'liste engagés'!L46,\"\")","v":""},0]
[49,{"$f":"IF('liste engagés'!$G47=7,'liste engagés'!A47,\"\")","v":""},{"$f":"IF('liste engagés'!$G47=7,'liste engagés'!B47,\"\")","v":""},{"$f":"IF('liste engagés'!$G47=7,'liste engagés'!C47,\"\")","v":""},{"$f":"IF('liste engagés'!$G47=7,'liste engagés'!D47,\"\")","v":""},{"$f":"IF('liste engagés'!$G47=7,'liste engagés'!E47,\"\")","v":""},{"$f":"IF('liste engagés'!$G47=7,'liste engagés'!K47,\"\")","v":""},{"$f":"IF('liste engagés'!$G47=7,'liste engagés'!L47,\"\")","v":""},0]
[50,{"$f":"IF('liste engagés'!$G48=7,'liste engagés'!A48,\"\")","v":""},{"$f":"IF('liste engagés'!$G48=7,'liste engagés'!B48,\"\")","v":""},{"$f":"IF('liste engagés'!$G48=7,'liste engagés'!C48,\"\")","v":""},{"$f":"IF('liste engagés'!$G48=7,'liste engagés'!D48,\"\")","v":""},{"$f":"IF('liste engagés'!$G48=7,'liste engagés'!E48,\"\")","v":""},{"$f":"IF('liste engagés'!$G48=7,'liste engagés'!K48,\"\")","v":""},{"$f":"IF('liste engagés'!$G48=7,'liste engagés'!L48,\"\")","v":""},0]
[51,{"$f":"IF('liste engagés'!$G49=7,'liste engagés'!A49,\"\")","v":""},{"$f":"IF('liste engagés'!$G49=7,'liste engagés'!B49,\"\")","v":""},{"$f":"IF('liste engagés'!$G49=7,'liste engagés'!C49,\"\")","v":""},{"$f":"IF('liste engagés'!$G49=7,'liste engagés'!D49,\"\")","v":""},{"$f":"IF('liste engagés'!$G49=7,'liste engagés'!E49,\"\")","v":""},{"$f":"IF('liste engagés'!$G49=7,'liste engagés'!K49,\"\")","v":""},{"$f":"IF('liste engagés'!$G49=7,'liste engagés'!L49,\"\")","v":""},0]
[52,{"$f":"IF('liste engagés'!$G50=7,'liste engagés'!A50,\"\")","v":""},{"$f":"IF('liste engagés'!$G50=7,'liste engagés'!B50,\"\")","v":""},{"$f":"IF('liste engagés'!$G50=7,'liste engagés'!C50,\"\")","v":""},{"$f":"IF('liste engagés'!$G50=7,'liste engagés'!D50,\"\")","v":""},{"$f":"IF('liste engagés'!$G50=7,'liste engagés'!E50,\"\")","v":""},{"$f":"IF('liste engagés'!$G50=7,'liste engagés'!K50,\"\")","v":""},{"$f":"IF('liste engagés'!$G50=7,'liste engagés'!L50,\"\")","v":""},0]
[53,{"$f":"IF('liste engagés'!$G51=7,'liste engagés'!A51,\"\")","v":""},{"$f":"IF('liste engagés'!$G51=7,'liste engagés'!B51,\"\")","v":""},{"$f":"IF('liste engagés'!$G51=7,'liste engagés'!C51,\"\")","v":""},{"$f":"IF('liste engagés'!$G51=7,'liste engagés'!D51,\"\")","v":""},{"$f":"IF('liste engagés'!$G51=7,'liste engagés'!E51,\"\")","v":""},{"$f":"IF('liste engagés'!$G51=7,'liste engagés'!K51,\"\")","v":""},{"$f":"IF('liste engagés'!$G51=7,'liste engagés'!L51,\"\")","v":""},0]
[54,{"$f":"IF('liste engagés'!$G52=7,'liste engagés'!A52,\"\")","v":""},{"$f":"IF('liste engagés'!$G52=7,'liste engagés'!B52,\"\")","v":""},{"$f":"IF('liste engagés'!$G52=7,'liste engagés'!C52,\"\")","v":""},{"$f":"IF('liste engagés'!$G52=7,'liste engagés'!D52,\"\")","v":""},{"$f":"IF('liste engagés'!$G52=7,'liste engagés'!E52,\"\")","v":""},{"$f":"IF('liste engagés'!$G52=7,'liste engagés'!K52,\"\")","v":""},{"$f":"IF('liste engagés'!$G52=7,'liste engagés'!L52,\"\")","v":""},0]
[55,{"$f":"IF('liste engagés'!$G53=7,'liste engagés'!A53,\"\")","v":""},{"$f":"IF('liste engagés'!$G53=7,'liste engagés'!B53,\"\")","v":""},{"$f":"IF('liste engagés'!$G53=7,'liste engagés'!C53,\"\")","v":""},{"$f":"IF('liste engagés'!$G53=7,'liste engagés'!D53,\"\")","v":""},{"$f":"IF('liste engagés'!$G53=7,'liste engagés'!E53,\"\")","v":""},{"$f":"IF('liste engagés'!$G53=7,'liste engagés'!K53,\"\")","v":""},{"$f":"IF('liste engagés'!$G53=7,'liste engagés'!L53,\"\")","v":""},0]
[56,{"$f":"IF('liste engagés'!$G54=7,'liste engagés'!A54,\"\")","v":""},{"$f":"IF('liste engagés'!$G54=7,'liste engagés'!B54,\"\")","v":""},{"$f":"IF('liste engagés'!$G54=7,'liste engagés'!C54,\"\")","v":""},{"$f":"IF('liste engagés'!$G54=7,'liste engagés'!D54,\"\")","v":""},{"$f":"IF('liste engagés'!$G54=7,'liste engagés'!E54,\"\")","v":""},{"$f":"IF('liste engagés'!$G54=7,'liste engagés'!K54,\"\")","v":""},{"$f":"IF('liste engagés'!$G54=7,'liste engagés'!L54,\"\")","v":""},0]
[57,{"$f":"IF('liste engagés'!$G55=7,'liste engagés'!A55,\"\")","v":""},{"$f":"IF('liste engagés'!$G55=7,'liste engagés'!B55,\"\")","v":""},{"$f":"IF('liste engagés'!$G55=7,'liste engagés'!C55,\"\")","v":""},{"$f":"IF('liste engagés'!$G55=7,'liste engagés'!D55,\"\")","v":""},{"$f":"IF('liste engagés'!$G55=7,'liste engagés'!E55,\"\")","v":""},{"$f":"IF('liste engagés'!$G55=7,'liste engagés'!K55,\"\")","v":""},{"$f":"IF('liste engagés'!$G55=7,'liste engagés'!L55,\"\")","v":""},0]
[58,{"$f":"IF('liste engagés'!$G56=7,'liste engagés'!A56,\"\")","v":""},{"$f":"IF('liste engagés'!$G56=7,'liste engagés'!B56,\"\")","v":""},{"$f":"IF('liste engagés'!$G56=7,'liste engagés'!C56,\"\")","v":""},{"$f":"IF('liste engagés'!$G56=7,'liste engagés'!D56,\"\")","v":""},{"$f":"IF('liste engagés'!$G56=7,'liste engagés'!E56,\"\")","v":""},{"$f":"IF('liste engagés'!$G56=7,'liste engagés'!K56,\"\")","v":""},{"$f":"IF('liste engagés'!$G56=7,'liste engagés'!L56,\"\")","v":""},0]
[59,{"$f":"IF('liste engagés'!$G57=7,'liste engagés'!A57,\"\")","v":""},{"$f":"IF('liste engagés'!$G57=7,'liste engagés'!B57,\"\")","v":""},{"$f":"IF('liste engagés'!$G57=7,'liste engagés'!C57,\"\")","v":""},{"$f":"IF('liste engagés'!$G57=7,'liste engagés'!D57,\"\")","v":""},{"$f":"IF('liste engagés'!$G57=7,'liste engagés'!E57,\"\")","v":""},{"$f":"IF('liste engagés'!$G57=7,'liste engagés'!K57,\"\")","v":""},{"$f":"IF('liste engagés'!$G57=7,'liste engagés'!L57,\"\")","v":""},0]
[60,{"$f":"IF('liste engagés'!$G58=7,'liste engagés'!A58,\"\")","v":""},{"$f":"IF('liste engagés'!$G58=7,'liste engagés'!B58,\"\")","v":""},{"$f":"IF('liste engagés'!$G58=7,'liste engagés'!C58,\"\")","v":""},{"$f":"IF('liste engagés'!$G58=7,'liste engagés'!D58,\"\")","v":""},{"$f":"IF('liste engagés'!$G58=7,'liste engagés'!E58,\"\")","v":""},{"$f":"IF('liste engagés'!$G58=7,'liste engagés'!K58,\"\")","v":""},{"$f":"IF('liste engagés'!$G58=7,'liste engagés'!L58,\"\")","v":""},0]
[61,{"$f":"IF('liste engagés'!$G59=7,'liste engagés'!A59,\"\")","v":""},{"$f":"IF('liste engagés'!$G59=7,'liste engagés'!B59,\"\")","v":""},{"$f":"IF('liste engagés'!$G59=7,'liste engagés'!C59,\"\")","v":""},{"$f":"IF('liste engagés'!$G59=7,'liste engagés'!D59,\"\")","v":""},{"$f":"IF('liste engagés'!$G59=7,'liste engagés'!E59,\"\")","v":""},{"$f":"IF('liste engagés'!$G59=7,'liste engagés'!K59,\"\")","v":""},{"$f":"IF('liste engagés'!$G59=7,'liste engagés'!L59,\"\")","v":""},0]
[62,{"$f":"IF('liste engagés'!$G60=7,'liste engagés'!A60,\"\")","v":""},{"$f":"IF('liste engagés'!$G60=7,'liste engagés'!B60,\"\")","v":""},{"$f":"IF('liste engagés'!$G60=7,'liste engagés'!C60,\"\")","v":""},{"$f":"IF('liste engagés'!$G60=7,'liste engagés'!D60,\"\")","v":""},{"$f":"IF('liste engagés'!$G60=7,'liste engagés'!E60,\"\")","v":""},{"$f":"IF('liste engagés'!$G60=7,'liste engagés'!K60,\"\")","v":""},{"$f":"IF('liste engagés'!$G60=7,'liste engagés'!L60,\"\")","v":""},0]
[63,{"$f":"IF('liste engagés'!$G61=7,'liste engagés'!A61,\"\")","v":""},{"$f":"IF('liste engagés'!$G61=7,'liste engagés'!B61,\"\")","v":""},{"$f":"IF('liste engagés'!$G61=7,'liste engagés'!C61,\"\")","v":""},{"$f":"IF('liste engagés'!$G61=7,'liste engagés'!D61,\"\")","v":""},{"$f":"IF('liste engagés'!$G61=7,'liste engagés'!E61,\"\")","v":""},{"$f":"IF('liste engagés'!$G61=7,'liste engagés'!K61,\"\")","v":""},{"$f":"IF('liste engagés'!$G61=7,'liste engagés'!L61,\"\")","v":""},0]
[64,{"$f":"IF('liste engagés'!$G62=7,'liste engagés'!A62,\"\")","v":""},{"$f":"IF('liste engagés'!$G62=7,'liste engagés'!B62,\"\")","v":""},{"$f":"IF('liste engagés'!$G62=7,'liste engagés'!C62,\"\")","v":""},{"$f":"IF('liste engagés'!$G62=7,'liste engagés'!D62,\"\")","v":""},{"$f":"IF('liste engagés'!$G62=7,'liste engagés'!E62,\"\")","v":""},{"$f":"IF('liste engagés'!$G62=7,'liste engagés'!K62,\"\")","v":""},{"$f":"IF('liste engagés'!$G62=7,'liste engagés'!L62,\"\")","v":""},0]
[65,{"$f":"IF('liste engagés'!$G63=7,'liste engagés'!A63,\"\")","v":""},{"$f":"IF('liste engagés'!$G63=7,'liste engagés'!B63,\"\")","v":""},{"$f":"IF('liste engagés'!$G63=7,'liste engagés'!C63,\"\")","v":""},{"$f":"IF('liste engagés'!$G63=7,'liste engagés'!D63,\"\")","v":""},{"$f":"IF('liste engagés'!$G63=7,'liste engagés'!E63,\"\")","v":""},{"$f":"IF('liste engagés'!$G63=7,'liste engagés'!K63,\"\")","v":""},{"$f":"IF('liste engagés'!$G63=7,'liste engagés'!L63,\"\")","v":""},{"$f":"+IF(C71=\"\",0,1)","v":0}]
[{"$f":"+A71+1","v":66},{"$f":"IF('liste engagés'!$G64=7,'liste engagés'!A64,\"\")","v":""},{"$f":"IF('liste engagés'!$G64=7,'liste engagés'!B64,\"\")","v":""},{"$f":"IF('liste engagés'!$G64=7,'liste engagés'!C64,\"\")","v":""},{"$f":"IF('liste engagés'!$G64=7,'liste engagés'!D64,\"\")","v":""},{"$f":"IF('liste engagés'!$G64=7,'liste engagés'!E64,\"\")","v":""},{"$f":"IF('liste engagés'!$G64=7,'liste engagés'!K64,\"\")","v":""},{"$f":"IF('liste engagés'!$G64=7,'liste engagés'!L64,\"\")","v":""},0]
[67,{"$f":"IF('liste engagés'!$G65=7,'liste engagés'!A65,\"\")","v":""},{"$f":"IF('liste engagés'!$G65=7,'liste engagés'!B65,\"\")","v":""},{"$f":"IF('liste engagés'!$G65=7,'liste engagés'!C65,\"\")","v":""},{"$f":"IF('liste engagés'!$G65=7,'liste engagés'!D65,\"\")","v":""},{"$f":"IF('liste engagés'!$G65=7,'liste engagés'!E65,\"\")","v":""},{"$f":"IF('liste engagés'!$G65=7,'liste engagés'!K65,\"\")","v":""},{"$f":"IF('liste engagés'!$G65=7,'liste engagés'!L65,\"\")","v":""},0]
[68,{"$f":"IF('liste engagés'!$G66=7,'liste engagés'!A66,\"\")","v":""},{"$f":"IF('liste engagés'!$G66=7,'liste engagés'!B66,\"\")","v":""},{"$f":"IF('liste engagés'!$G66=7,'liste engagés'!C66,\"\")","v":""},{"$f":"IF('liste engagés'!$G66=7,'liste engagés'!D66,\"\")","v":""},{"$f":"IF('liste engagés'!$G66=7,'liste engagés'!E66,\"\")","v":""},{"$f":"IF('liste engagés'!$G66=7,'liste engagés'!K66,\"\")","v":""},{"$f":"IF('liste engagés'!$G66=7,'liste engagés'!L66,\"\")","v":""},0]
[69,{"$f":"IF('liste engagés'!$G67=7,'liste engagés'!A67,\"\")","v":""},{"$f":"IF('liste engagés'!$G67=7,'liste engagés'!B67,\"\")","v":""},{"$f":"IF('liste engagés'!$G67=7,'liste engagés'!C67,\"\")","v":""},{"$f":"IF('liste engagés'!$G67=7,'liste engagés'!D67,\"\")","v":""},{"$f":"IF('liste engagés'!$G67=7,'liste engagés'!E67,\"\")","v":""},{"$f":"IF('liste engagés'!$G67=7,'liste engagés'!K67,\"\")","v":""},{"$f":"IF('liste engagés'!$G67=7,'liste engagés'!L67,\"\")","v":""},0]
[70,{"$f":"IF('liste engagés'!$G68=7,'liste engagés'!A68,\"\")","v":""},{"$f":"IF('liste engagés'!$G68=7,'liste engagés'!B68,\"\")","v":""},{"$f":"IF('liste engagés'!$G68=7,'liste engagés'!C68,\"\")","v":""},{"$f":"IF('liste engagés'!$G68=7,'liste engagés'!D68,\"\")","v":""},{"$f":"IF('liste engagés'!$G68=7,'liste engagés'!E68,\"\")","v":""},{"$f":"IF('liste engagés'!$G68=7,'liste engagés'!K68,\"\")","v":""},{"$f":"IF('liste engagés'!$G68=7,'liste engagés'!L68,\"\")","v":""},0]
[71,{"$f":"IF('liste engagés'!$G69=7,'liste engagés'!A69,\"\")","v":""},{"$f":"IF('liste engagés'!$G69=7,'liste engagés'!B69,\"\")","v":""},{"$f":"IF('liste engagés'!$G69=7,'liste engagés'!C69,\"\")","v":""},{"$f":"IF('liste engagés'!$G69=7,'liste engagés'!D69,\"\")","v":""},{"$f":"IF('liste engagés'!$G69=7,'liste engagés'!E69,\"\")","v":""},{"$f":"IF('liste engagés'!$G69=7,'liste engagés'!K69,\"\")","v":""},{"$f":"IF('liste engagés'!$G69=7,'liste engagés'!L69,\"\")","v":""},0]
[72,{"$f":"IF('liste engagés'!$G70=7,'liste engagés'!A70,\"\")","v":""},{"$f":"IF('liste engagés'!$G70=7,'liste engagés'!B70,\"\")","v":""},{"$f":"IF('liste engagés'!$G70=7,'liste engagés'!C70,\"\")","v":""},{"$f":"IF('liste engagés'!$G70=7,'liste engagés'!D70,\"\")","v":""},{"$f":"IF('liste engagés'!$G70=7,'liste engagés'!E70,\"\")","v":""},{"$f":"IF('liste engagés'!$G70=7,'liste engagés'!K70,\"\")","v":""},{"$f":"IF('liste engagés'!$G70=7,'liste engagés'!L70,\"\")","v":""},0]
[73,{"$f":"IF('liste engagés'!$G71=7,'liste engagés'!A71,\"\")","v":""},{"$f":"IF('liste engagés'!$G71=7,'liste engagés'!B71,\"\")","v":""},{"$f":"IF('liste engagés'!$G71=7,'liste engagés'!C71,\"\")","v":""},{"$f":"IF('liste engagés'!$G71=7,'liste engagés'!D71,\"\")","v":""},{"$f":"IF('liste engagés'!$G71=7,'liste engagés'!E71,\"\")","v":""},{"$f":"IF('liste engagés'!$G71=7,'liste engagés'!K71,\"\")","v":""},{"$f":"IF('liste engagés'!$G71=7,'liste engagés'!L71,\"\")","v":""},0]
[74,{"$f":"IF('liste engagés'!$G72=7,'liste engagés'!A72,\"\")","v":""},{"$f":"IF('liste engagés'!$G72=7,'liste engagés'!B72,\"\")","v":""},{"$f":"IF('liste engagés'!$G72=7,'liste engagés'!C72,\"\")","v":""},{"$f":"IF('liste engagés'!$G72=7,'liste engagés'!D72,\"\")","v":""},{"$f":"IF('liste engagés'!$G72=7,'liste engagés'!E72,\"\")","v":""},{"$f":"IF('liste engagés'!$G72=7,'liste engagés'!K72,\"\")","v":""},{"$f":"IF('liste engagés'!$G72=7,'liste engagés'!L72,\"\")","v":""},0]
[75,{"$f":"IF('liste engagés'!$G73=7,'liste engagés'!A73,\"\")","v":""},{"$f":"IF('liste engagés'!$G73=7,'liste engagés'!B73,\"\")","v":""},{"$f":"IF('liste engagés'!$G73=7,'liste engagés'!C73,\"\")","v":""},{"$f":"IF('liste engagés'!$G73=7,'liste engagés'!D73,\"\")","v":""},{"$f":"IF('liste engagés'!$G73=7,'liste engagés'!E73,\"\")","v":""},{"$f":"IF('liste engagés'!$G73=7,'liste engagés'!K73,\"\")","v":""},{"$f":"IF('liste engagés'!$G73=7,'liste engagés'!L73,\"\")","v":""},0]
[76,{"$f":"IF('liste engagés'!$G74=7,'liste engagés'!A74,\"\")","v":""},{"$f":"IF('liste engagés'!$G74=7,'liste engagés'!B74,\"\")","v":""},{"$f":"IF('liste engagés'!$G74=7,'liste engagés'!C74,\"\")","v":""},{"$f":"IF('liste engagés'!$G74=7,'liste engagés'!D74,\"\")","v":""},{"$f":"IF('liste engagés'!$G74=7,'liste engagés'!E74,\"\")","v":""},{"$f":"IF('liste engagés'!$G74=7,'liste engagés'!K74,\"\")","v":""},{"$f":"IF('liste engagés'!$G74=7,'liste engagés'!L74,\"\")","v":""},0]
[77,{"$f":"IF('liste engagés'!$G75=7,'liste engagés'!A75,\"\")","v":""},{"$f":"IF('liste engagés'!$G75=7,'liste engagés'!B75,\"\")","v":""},{"$f":"IF('liste engagés'!$G75=7,'liste engagés'!C75,\"\")","v":""},{"$f":"IF('liste engagés'!$G75=7,'liste engagés'!D75,\"\")","v":""},{"$f":"IF('liste engagés'!$G75=7,'liste engagés'!E75,\"\")","v":""},{"$f":"IF('liste engagés'!$G75=7,'liste engagés'!K75,\"\")","v":""},{"$f":"IF('liste engagés'!$G75=7,'liste engagés'!L75,\"\")","v":""},0]
[78,{"$f":"IF('liste engagés'!$G76=7,'liste engagés'!A76,\"\")","v":""},{"$f":"IF('liste engagés'!$G76=7,'liste engagés'!B76,\"\")","v":""},{"$f":"IF('liste engagés'!$G76=7,'liste engagés'!C76,\"\")","v":""},{"$f":"IF('liste engagés'!$G76=7,'liste engagés'!D76,\"\")","v":""},{"$f":"IF('liste engagés'!$G76=7,'liste engagés'!E76,\"\")","v":""},{"$f":"IF('liste engagés'!$G76=7,'liste engagés'!K76,\"\")","v":""},{"$f":"IF('liste engagés'!$G76=7,'liste engagés'!L76,\"\")","v":""},0]
[79,{"$f":"IF('liste engagés'!$G77=7,'liste engagés'!A77,\"\")","v":""},{"$f":"IF('liste engagés'!$G77=7,'liste engagés'!B77,\"\")","v":""},{"$f":"IF('liste engagés'!$G77=7,'liste engagés'!C77,\"\")","v":""},{"$f":"IF('liste engagés'!$G77=7,'liste engagés'!D77,\"\")","v":""},{"$f":"IF('liste engagés'!$G77=7,'liste engagés'!E77,\"\")","v":""},{"$f":"IF('liste engagés'!$G77=7,'liste engagés'!K77,\"\")","v":""},{"$f":"IF('liste engagés'!$G77=7,'liste engagés'!L77,\"\")","v":""},0]
[80,{"$f":"IF('liste engagés'!$G78=7,'liste engagés'!A78,\"\")","v":""},{"$f":"IF('liste engagés'!$G78=7,'liste engagés'!B78,\"\")","v":""},{"$f":"IF('liste engagés'!$G78=7,'liste engagés'!C78,\"\")","v":""},{"$f":"IF('liste engagés'!$G78=7,'liste engagés'!D78,\"\")","v":""},{"$f":"IF('liste engagés'!$G78=7,'liste engagés'!E78,\"\")","v":""},{"$f":"IF('liste engagés'!$G78=7,'liste engagés'!K78,\"\")","v":""},{"$f":"IF('liste engagés'!$G78=7,'liste engagés'!L78,\"\")","v":""},0]
[81,{"$f":"IF('liste engagés'!$G79=7,'liste engagés'!A79,\"\")","v":""},{"$f":"IF('liste engagés'!$G79=7,'liste engagés'!B79,\"\")","v":""},{"$f":"IF('liste engagés'!$G79=7,'liste engagés'!C79,\"\")","v":""},{"$f":"IF('liste engagés'!$G79=7,'liste engagés'!D79,\"\")","v":""},{"$f":"IF('liste engagés'!$G79=7,'liste engagés'!E79,\"\")","v":""},{"$f":"IF('liste engagés'!$G79=7,'liste engagés'!K79,\"\")","v":""},{"$f":"IF('liste engagés'!$G79=7,'liste engagés'!L79,\"\")","v":""},0]
[82,{"$f":"IF('liste engagés'!$G80=7,'liste engagés'!A80,\"\")","v":""},{"$f":"IF('liste engagés'!$G80=7,'liste engagés'!B80,\"\")","v":""},{"$f":"IF('liste engagés'!$G80=7,'liste engagés'!C80,\"\")","v":""},{"$f":"IF('liste engagés'!$G80=7,'liste engagés'!D80,\"\")","v":""},{"$f":"IF('liste engagés'!$G80=7,'liste engagés'!E80,\"\")","v":""},{"$f":"IF('liste engagés'!$G80=7,'liste engagés'!K80,\"\")","v":""},{"$f":"IF('liste engagés'!$G80=7,'liste engagés'!L80,\"\")","v":""},0]
[83,{"$f":"IF('liste engagés'!$G81=7,'liste engagés'!A81,\"\")","v":""},{"$f":"IF('liste engagés'!$G81=7,'liste engagés'!B81,\"\")","v":""},{"$f":"IF('liste engagés'!$G81=7,'liste engagés'!C81,\"\")","v":""},{"$f":"IF('liste engagés'!$G81=7,'liste engagés'!D81,\"\")","v":""},{"$f":"IF('liste engagés'!$G81=7,'liste engagés'!E81,\"\")","v":""},{"$f":"IF('liste engagés'!$G81=7,'liste engagés'!K81,\"\")","v":""},{"$f":"IF('liste engagés'!$G81=7,'liste engagés'!L81,\"\")","v":""},0]
[84,{"$f":"IF('liste engagés'!$G82=7,'liste engagés'!A82,\"\")","v":""},{"$f":"IF('liste engagés'!$G82=7,'liste engagés'!B82,\"\")","v":""},{"$f":"IF('liste engagés'!$G82=7,'liste engagés'!C82,\"\")","v":""},{"$f":"IF('liste engagés'!$G82=7,'liste engagés'!D82,\"\")","v":""},{"$f":"IF('liste engagés'!$G82=7,'liste engagés'!E82,\"\")","v":""},{"$f":"IF('liste engagés'!$G82=7,'liste engagés'!K82,\"\")","v":""},{"$f":"IF('liste engagés'!$G82=7,'liste engagés'!L82,\"\")","v":""},0]
[85,{"$f":"IF('liste engagés'!$G83=7,'liste engagés'!A83,\"\")","v":""},{"$f":"IF('liste engagés'!$G83=7,'liste engagés'!B83,\"\")","v":""},{"$f":"IF('liste engagés'!$G83=7,'liste engagés'!C83,\"\")","v":""},{"$f":"IF('liste engagés'!$G83=7,'liste engagés'!D83,\"\")","v":""},{"$f":"IF('liste engagés'!$G83=7,'liste engagés'!E83,\"\")","v":""},{"$f":"IF('liste engagés'!$G83=7,'liste engagés'!K83,\"\")","v":""},{"$f":"IF('liste engagés'!$G83=7,'liste engagés'!L83,\"\")","v":""},0]
[86,{"$f":"IF('liste engagés'!$G84=7,'liste engagés'!A84,\"\")","v":""},{"$f":"IF('liste engagés'!$G84=7,'liste engagés'!B84,\"\")","v":""},{"$f":"IF('liste engagés'!$G84=7,'liste engagés'!C84,\"\")","v":""},{"$f":"IF('liste engagés'!$G84=7,'liste engagés'!D84,\"\")","v":""},{"$f":"IF('liste engagés'!$G84=7,'liste engagés'!E84,\"\")","v":""},{"$f":"IF('liste engagés'!$G84=7,'liste engagés'!K84,\"\")","v":""},{"$f":"IF('liste engagés'!$G84=7,'liste engagés'!L84,\"\")","v":""},0]
[87,{"$f":"IF('liste engagés'!$G86=7,'liste engagés'!A86,\"\")","v":""},{"$f":"IF('liste engagés'!$G86=7,'liste engagés'!B86,\"\")","v":""},{"$f":"IF('liste engagés'!$G86=7,'liste engagés'!C86,\"\")","v":""},{"$f":"IF('liste engagés'!$G86=7,'liste engagés'!D86,\"\")","v":""},{"$f":"IF('liste engagés'!$G86=7,'liste engagés'!E86,\"\")","v":""},{"$f":"IF('liste engagés'!$G86=7,'liste engagés'!K86,\"\")","v":""},{"$f":"IF('liste engagés'!$G86=7,'liste engagés'!L86,\"\")","v":""},0]
[88,{"$f":"IF('liste engagés'!$G87=7,'liste engagés'!A87,\"\")","v":""},{"$f":"IF('liste engagés'!$G87=7,'liste engagés'!B87,\"\")","v":""},{"$f":"IF('liste engagés'!$G87=7,'liste engagés'!C87,\"\")","v":""},{"$f":"IF('liste engagés'!$G87=7,'liste engagés'!D87,\"\")","v":""},{"$f":"IF('liste engagés'!$G87=7,'liste engagés'!E87,\"\")","v":""},{"$f":"IF('liste engagés'!$G87=7,'liste engagés'!K87,\"\")","v":""},{"$f":"IF('liste engagés'!$G87=7,'liste engagés'!L87,\"\")","v":""},0]
[89,{"$f":"IF('liste engagés'!$G88=7,'liste engagés'!A88,\"\")","v":""},{"$f":"IF('liste engagés'!$G88=7,'liste engagés'!B88,\"\")","v":""},{"$f":"IF('liste engagés'!$G88=7,'liste engagés'!C88,\"\")","v":""},{"$f":"IF('liste engagés'!$G88=7,'liste engagés'!D88,\"\")","v":""},{"$f":"IF('liste engagés'!$G88=7,'liste engagés'!E88,\"\")","v":""},{"$f":"IF('liste engagés'!$G88=7,'liste engagés'!K88,\"\")","v":""},{"$f":"IF('liste engagés'!$G88=7,'liste engagés'!L88,\"\")","v":""},0]
[90,{"$f":"IF('liste engagés'!$G89=7,'liste engagés'!A89,\"\")","v":""},{"$f":"IF('liste engagés'!$G89=7,'liste engagés'!B89,\"\")","v":""},{"$f":"IF('liste engagés'!$G89=7,'liste engagés'!C89,\"\")","v":""},{"$f":"IF('liste engagés'!$G89=7,'liste engagés'!D89,\"\")","v":""},{"$f":"IF('liste engagés'!$G89=7,'liste engagés'!E89,\"\")","v":""},{"$f":"IF('liste engagés'!$G89=7,'liste engagés'!K89,\"\")","v":""},{"$f":"IF('liste engagés'!$G89=7,'liste engagés'!L89,\"\")","v":""},0]
[91,{"$f":"IF('liste engagés'!$G90=7,'liste engagés'!A90,\"\")","v":""},{"$f":"IF('liste engagés'!$G90=7,'liste engagés'!B90,\"\")","v":""},{"$f":"IF('liste engagés'!$G90=7,'liste engagés'!C90,\"\")","v":""},{"$f":"IF('liste engagés'!$G90=7,'liste engagés'!D90,\"\")","v":""},{"$f":"IF('liste engagés'!$G90=7,'liste engagés'!E90,\"\")","v":""},{"$f":"IF('liste engagés'!$G90=7,'liste engagés'!K90,\"\")","v":""},{"$f":"IF('liste engagés'!$G90=7,'liste engagés'!L90,\"\")","v":""},0]
[92,{"$f":"IF('liste engagés'!$G91=7,'liste engagés'!A91,\"\")","v":""},{"$f":"IF('liste engagés'!$G91=7,'liste engagés'!B91,\"\")","v":""},{"$f":"IF('liste engagés'!$G91=7,'liste engagés'!C91,\"\")","v":""},{"$f":"IF('liste engagés'!$G91=7,'liste engagés'!D91,\"\")","v":""},{"$f":"IF('liste engagés'!$G91=7,'liste engagés'!E91,\"\")","v":""},{"$f":"IF('liste engagés'!$G91=7,'liste engagés'!K91,\"\")","v":""},{"$f":"IF('liste engagés'!$G91=7,'liste engagés'!L91,\"\")","v":""},0]
[93,{"$f":"IF('liste engagés'!$G92=7,'liste engagés'!A92,\"\")","v":""},{"$f":"IF('liste engagés'!$G92=7,'liste engagés'!B92,\"\")","v":""},{"$f":"IF('liste engagés'!$G92=7,'liste engagés'!C92,\"\")","v":""},{"$f":"IF('liste engagés'!$G92=7,'liste engagés'!D92,\"\")","v":""},{"$f":"IF('liste engagés'!$G92=7,'liste engagés'!E92,\"\")","v":""},{"$f":"IF('liste engagés'!$G92=7,'liste engagés'!K92,\"\")","v":""},{"$f":"IF('liste engagés'!$G92=7,'liste engagés'!L92,\"\")","v":""},0]
[94,{"$f":"IF('liste engagés'!$G93=7,'liste engagés'!A93,\"\")","v":""},{"$f":"IF('liste engagés'!$G93=7,'liste engagés'!B93,\"\")","v":""},{"$f":"IF('liste engagés'!$G93=7,'liste engagés'!C93,\"\")","v":""},{"$f":"IF('liste engagés'!$G93=7,'liste engagés'!D93,\"\")","v":""},{"$f":"IF('liste engagés'!$G93=7,'liste engagés'!E93,\"\")","v":""},{"$f":"IF('liste engagés'!$G93=7,'liste engagés'!K93,\"\")","v":""},{"$f":"IF('liste engagés'!$G93=7,'liste engagés'!L93,\"\")","v":""},0]
[95,{"$f":"IF('liste engagés'!$G94=7,'liste engagés'!A94,\"\")","v":""},{"$f":"IF('liste engagés'!$G94=7,'liste engagés'!B94,\"\")","v":""},{"$f":"IF('liste engagés'!$G94=7,'liste engagés'!C94,\"\")","v":""},{"$f":"IF('liste engagés'!$G94=7,'liste engagés'!D94,\"\")","v":""},{"$f":"IF('liste engagés'!$G94=7,'liste engagés'!E94,\"\")","v":""},{"$f":"IF('liste engagés'!$G94=7,'liste engagés'!K94,\"\")","v":""},{"$f":"IF('liste engagés'!$G94=7,'liste engagés'!L94,\"\")","v":""},0]
[96,{"$f":"IF('liste engagés'!$G95=7,'liste engagés'!A95,\"\")","v":""},{"$f":"IF('liste engagés'!$G95=7,'liste engagés'!B95,\"\")","v":""},{"$f":"IF('liste engagés'!$G95=7,'liste engagés'!C95,\"\")","v":""},{"$f":"IF('liste engagés'!$G95=7,'liste engagés'!D95,\"\")","v":""},{"$f":"IF('liste engagés'!$G95=7,'liste engagés'!E95,\"\")","v":""},{"$f":"IF('liste engagés'!$G95=7,'liste engagés'!K95,\"\")","v":""},{"$f":"IF('liste engagés'!$G95=7,'liste engagés'!L95,\"\")","v":""},0]
[97,{"$f":"IF('liste engagés'!$G96=7,'liste engagés'!A96,\"\")","v":""},{"$f":"IF('liste engagés'!$G96=7,'liste engagés'!B96,\"\")","v":""},{"$f":"IF('liste engagés'!$G96=7,'liste engagés'!C96,\"\")","v":""},{"$f":"IF('liste engagés'!$G96=7,'liste engagés'!D96,\"\")","v":""},{"$f":"IF('liste engagés'!$G96=7,'liste engagés'!E96,\"\")","v":""},{"$f":"IF('liste engagés'!$G96=7,'liste engagés'!K96,\"\")","v":""},{"$f":"IF('liste engagés'!$G96=7,'liste engagés'!L96,\"\")","v":""},0]
[98,{"$f":"IF('liste engagés'!$G97=7,'liste engagés'!A97,\"\")","v":""},{"$f":"IF('liste engagés'!$G97=7,'liste engagés'!B97,\"\")","v":""},{"$f":"IF('liste engagés'!$G97=7,'liste engagés'!C97,\"\")","v":""},{"$f":"IF('liste engagés'!$G97=7,'liste engagés'!D97,\"\")","v":""},{"$f":"IF('liste engagés'!$G97=7,'liste engagés'!E97,\"\")","v":""},{"$f":"IF('liste engagés'!$G97=7,'liste engagés'!K97,\"\")","v":""},{"$f":"IF('liste engagés'!$G97=7,'liste engagés'!L97,\"\")","v":""},0]
[99,{"$f":"IF('liste engagés'!$G98=7,'liste engagés'!A98,\"\")","v":""},{"$f":"IF('liste engagés'!$G98=7,'liste engagés'!B98,\"\")","v":""},{"$f":"IF('liste engagés'!$G98=7,'liste engagés'!C98,\"\")","v":""},{"$f":"IF('liste engagés'!$G98=7,'liste engagés'!D98,\"\")","v":""},{"$f":"IF('liste engagés'!$G98=7,'liste engagés'!E98,\"\")","v":""},{"$f":"IF('liste engagés'!$G98=7,'liste engagés'!K98,\"\")","v":""},{"$f":"IF('liste engagés'!$G98=7,'liste engagés'!L98,\"\")","v":""},0]
[100,{"$f":"IF('liste engagés'!$G99=7,'liste engagés'!A99,\"\")","v":""},{"$f":"IF('liste engagés'!$G99=7,'liste engagés'!B99,\"\")","v":""},{"$f":"IF('liste engagés'!$G99=7,'liste engagés'!C99,\"\")","v":""},{"$f":"IF('liste engagés'!$G99=7,'liste engagés'!D99,\"\")","v":""},{"$f":"IF('liste engagés'!$G99=7,'liste engagés'!E99,\"\")","v":""},{"$f":"IF('liste engagés'!$G99=7,'liste engagés'!K99,\"\")","v":""},{"$f":"IF('liste engagés'!$G99=7,'liste engagés'!L99,\"\")","v":""},0]
[101,{"$f":"IF('liste engagés'!$G100=7,'liste engagés'!A100,\"\")","v":""},{"$f":"IF('liste engagés'!$G100=7,'liste engagés'!B100,\"\")","v":""},{"$f":"IF('liste engagés'!$G100=7,'liste engagés'!C100,\"\")","v":""},{"$f":"IF('liste engagés'!$G100=7,'liste engagés'!D100,\"\")","v":""},{"$f":"IF('liste engagés'!$G100=7,'liste engagés'!E100,\"\")","v":""},{"$f":"IF('liste engagés'!$G100=7,'liste engagés'!K100,\"\")","v":""},{"$f":"IF('liste engagés'!$G100=7,'liste engagés'!L100,\"\")","v":""},0]
[102,{"$f":"IF('liste engagés'!$G101=7,'liste engagés'!A101,\"\")","v":""},{"$f":"IF('liste engagés'!$G101=7,'liste engagés'!B101,\"\")","v":""},{"$f":"IF('liste engagés'!$G101=7,'liste engagés'!C101,\"\")","v":""},{"$f":"IF('liste engagés'!$G101=7,'liste engagés'!D101,\"\")","v":""},{"$f":"IF('liste engagés'!$G101=7,'liste engagés'!E101,\"\")","v":""},{"$f":"IF('liste engagés'!$G101=7,'liste engagés'!K101,\"\")","v":""},{"$f":"IF('liste engagés'!$G101=7,'liste engagés'!L101,\"\")","v":""},0]
[103,{"$f":"IF('liste engagés'!$G102=7,'liste engagés'!A102,\"\")","v":""},{"$f":"IF('liste engagés'!$G102=7,'liste engagés'!B102,\"\")","v":""},{"$f":"IF('liste engagés'!$G102=7,'liste engagés'!C102,\"\")","v":""},{"$f":"IF('liste engagés'!$G102=7,'liste engagés'!D102,\"\")","v":""},{"$f":"IF('liste engagés'!$G102=7,'liste engagés'!E102,\"\")","v":""},{"$f":"IF('liste engagés'!$G102=7,'liste engagés'!K102,\"\")","v":""},{"$f":"IF('liste engagés'!$G102=7,'liste engagés'!L102,\"\")","v":""},0]
[104,{"$f":"IF('liste engagés'!$G103=7,'liste engagés'!A103,\"\")","v":""},{"$f":"IF('liste engagés'!$G103=7,'liste engagés'!B103,\"\")","v":""},{"$f":"IF('liste engagés'!$G103=7,'liste engagés'!C103,\"\")","v":""},{"$f":"IF('liste engagés'!$G103=7,'liste engagés'!D103,\"\")","v":""},{"$f":"IF('liste engagés'!$G103=7,'liste engagés'!E103,\"\")","v":""},{"$f":"IF('liste engagés'!$G103=7,'liste engagés'!K103,\"\")","v":""},{"$f":"IF('liste engagés'!$G103=7,'liste engagés'!L103,\"\")","v":""},0]
[105,{"$f":"IF('liste engagés'!$G104=7,'liste engagés'!A104,\"\")","v":""},{"$f":"IF('liste engagés'!$G104=7,'liste engagés'!B104,\"\")","v":""},{"$f":"IF('liste engagés'!$G104=7,'liste engagés'!C104,\"\")","v":""},{"$f":"IF('liste engagés'!$G104=7,'liste engagés'!D104,\"\")","v":""},{"$f":"IF('liste engagés'!$G104=7,'liste engagés'!E104,\"\")","v":""},{"$f":"IF('liste engagés'!$G104=7,'liste engagés'!K104,\"\")","v":""},{"$f":"IF('liste engagés'!$G104=7,'liste engagés'!L104,\"\")","v":""},0]
[106,{"$f":"IF('liste engagés'!$G105=7,'liste engagés'!A105,\"\")","v":""},{"$f":"IF('liste engagés'!$G105=7,'liste engagés'!B105,\"\")","v":""},{"$f":"IF('liste engagés'!$G105=7,'liste engagés'!C105,\"\")","v":""},{"$f":"IF('liste engagés'!$G105=7,'liste engagés'!D105,\"\")","v":""},{"$f":"IF('liste engagés'!$G105=7,'liste engagés'!E105,\"\")","v":""},{"$f":"IF('liste engagés'!$G105=7,'liste engagés'!K105,\"\")","v":""},{"$f":"IF('liste engagés'!$G105=7,'liste engagés'!L105,\"\")","v":""},0]
[107,{"$f":"IF('liste engagés'!$G106=7,'liste engagés'!A106,\"\")","v":""},{"$f":"IF('liste engagés'!$G106=7,'liste engagés'!B106,\"\")","v":""},{"$f":"IF('liste engagés'!$G106=7,'liste engagés'!C106,\"\")","v":""},{"$f":"IF('liste engagés'!$G106=7,'liste engagés'!D106,\"\")","v":""},{"$f":"IF('liste engagés'!$G106=7,'liste engagés'!E106,\"\")","v":""},{"$f":"IF('liste engagés'!$G106=7,'liste engagés'!K106,\"\")","v":""},{"$f":"IF('liste engagés'!$G106=7,'liste engagés'!L106,\"\")","v":""},0]
[108,{"$f":"IF('liste engagés'!$G107=7,'liste engagés'!A107,\"\")","v":""},{"$f":"IF('liste engagés'!$G107=7,'liste engagés'!B107,\"\")","v":""},{"$f":"IF('liste engagés'!$G107=7,'liste engagés'!C107,\"\")","v":""},{"$f":"IF('liste engagés'!$G107=7,'liste engagés'!D107,\"\")","v":""},{"$f":"IF('liste engagés'!$G107=7,'liste engagés'!E107,\"\")","v":""},{"$f":"IF('liste engagés'!$G107=7,'liste engagés'!K107,\"\")","v":""},{"$f":"IF('liste engagés'!$G107=7,'liste engagés'!L107,\"\")","v":""},0]
[109,{"$f":"IF('liste engagés'!$G108=7,'liste engagés'!A108,\"\")","v":""},{"$f":"IF('liste engagés'!$G108=7,'liste engagés'!B108,\"\")","v":""},{"$f":"IF('liste engagés'!$G108=7,'liste engagés'!C108,\"\")","v":""},{"$f":"IF('liste engagés'!$G108=7,'liste engagés'!D108,\"\")","v":""},{"$f":"IF('liste engagés'!$G108=7,'liste engagés'!E108,\"\")","v":""},{"$f":"IF('liste engagés'!$G108=7,'liste engagés'!K108,\"\")","v":""},{"$f":"IF('liste engagés'!$G108=7,'liste engagés'!L108,\"\")","v":""},0]
[110,{"$f":"IF('liste engagés'!$G109=7,'liste engagés'!A109,\"\")","v":""},{"$f":"IF('liste engagés'!$G109=7,'liste engagés'!B109,\"\")","v":""},{"$f":"IF('liste engagés'!$G109=7,'liste engagés'!C109,\"\")","v":""},{"$f":"IF('liste engagés'!$G109=7,'liste engagés'!D109,\"\")","v":""},{"$f":"IF('liste engagés'!$G109=7,'liste engagés'!E109,\"\")","v":""},{"$f":"IF('liste engagés'!$G109=7,'liste engagés'!K109,\"\")","v":""},{"$f":"IF('liste engagés'!$G109=7,'liste engagés'!L109,\"\")","v":""},0]
[111,{"$f":"IF('liste engagés'!$G111=7,'liste engagés'!A111,\"\")","v":""},{"$f":"IF('liste engagés'!$G111=7,'liste engagés'!B111,\"\")","v":""},{"$f":"IF('liste engagés'!$G111=7,'liste engagés'!C111,\"\")","v":""},{"$f":"IF('liste engagés'!$G111=7,'liste engagés'!D111,\"\")","v":""},{"$f":"IF('liste engagés'!$G111=7,'liste engagés'!E111,\"\")","v":""},{"$f":"IF('liste engagés'!$G111=7,'liste engagés'!K111,\"\")","v":""},{"$f":"IF('liste engagés'!$G111=7,'liste engagés'!L111,\"\")","v":""},0]
[112,{"$f":"IF('liste engagés'!$G112=7,'liste engagés'!A112,\"\")","v":""},{"$f":"IF('liste engagés'!$G112=7,'liste engagés'!B112,\"\")","v":""},{"$f":"IF('liste engagés'!$G112=7,'liste engagés'!C112,\"\")","v":""},{"$f":"IF('liste engagés'!$G112=7,'liste engagés'!D112,\"\")","v":""},{"$f":"IF('liste engagés'!$G112=7,'liste engagés'!E112,\"\")","v":""},{"$f":"IF('liste engagés'!$G112=7,'liste engagés'!K112,\"\")","v":""},{"$f":"IF('liste engagés'!$G112=7,'liste engagés'!L112,\"\")","v":""},0]
[113,{"$f":"IF('liste engagés'!$G113=7,'liste engagés'!A113,\"\")","v":""},{"$f":"IF('liste engagés'!$G113=7,'liste engagés'!B113,\"\")","v":""},{"$f":"IF('liste engagés'!$G113=7,'liste engagés'!C113,\"\")","v":""},{"$f":"IF('liste engagés'!$G113=7,'liste engagés'!D113,\"\")","v":""},{"$f":"IF('liste engagés'!$G113=7,'liste engagés'!E113,\"\")","v":""},{"$f":"IF('liste engagés'!$G113=7,'liste engagés'!K113,\"\")","v":""},{"$f":"IF('liste engagés'!$G113=7,'liste engagés'!L113,\"\")","v":""},0]
[114,{"$f":"IF('liste engagés'!$G114=7,'liste engagés'!A114,\"\")","v":""},{"$f":"IF('liste engagés'!$G114=7,'liste engagés'!B114,\"\")","v":""},{"$f":"IF('liste engagés'!$G114=7,'liste engagés'!C114,\"\")","v":""},{"$f":"IF('liste engagés'!$G114=7,'liste engagés'!D114,\"\")","v":""},{"$f":"IF('liste engagés'!$G114=7,'liste engagés'!E114,\"\")","v":""},{"$f":"IF('liste engagés'!$G114=7,'liste engagés'!K114,\"\")","v":""},{"$f":"IF('liste engagés'!$G114=7,'liste engagés'!L114,\"\")","v":""},0]
[115,{"$f":"IF('liste engagés'!$G116=7,'liste engagés'!A116,\"\")","v":""},{"$f":"IF('liste engagés'!$G116=7,'liste engagés'!B116,\"\")","v":""},{"$f":"IF('liste engagés'!$G116=7,'liste engagés'!C116,\"\")","v":""},{"$f":"IF('liste engagés'!$G116=7,'liste engagés'!D116,\"\")","v":""},{"$f":"IF('liste engagés'!$G116=7,'liste engagés'!E116,\"\")","v":""},{"$f":"IF('liste engagés'!$G116=7,'liste engagés'!K116,\"\")","v":""},{"$f":"IF('liste engagés'!$G116=7,'liste engagés'!L116,\"\")","v":""},0]
[116,{"$f":"IF('liste engagés'!$G117=7,'liste engagés'!A117,\"\")","v":""},{"$f":"IF('liste engagés'!$G117=7,'liste engagés'!B117,\"\")","v":""},{"$f":"IF('liste engagés'!$G117=7,'liste engagés'!C117,\"\")","v":""},{"$f":"IF('liste engagés'!$G117=7,'liste engagés'!D117,\"\")","v":""},{"$f":"IF('liste engagés'!$G117=7,'liste engagés'!E117,\"\")","v":""},{"$f":"IF('liste engagés'!$G117=7,'liste engagés'!K117,\"\")","v":""},{"$f":"IF('liste engagés'!$G117=7,'liste engagés'!L117,\"\")","v":""},0]
[117,{"$f":"IF('liste engagés'!$G118=7,'liste engagés'!A118,\"\")","v":""},{"$f":"IF('liste engagés'!$G118=7,'liste engagés'!B118,\"\")","v":""},{"$f":"IF('liste engagés'!$G118=7,'liste engagés'!C118,\"\")","v":""},{"$f":"IF('liste engagés'!$G118=7,'liste engagés'!D118,\"\")","v":""},{"$f":"IF('liste engagés'!$G118=7,'liste engagés'!E118,\"\")","v":""},{"$f":"IF('liste engagés'!$G118=7,'liste engagés'!K118,\"\")","v":""},{"$f":"IF('liste engagés'!$G118=7,'liste engagés'!L118,\"\")","v":""},0]
[118,{"$f":"IF('liste engagés'!$G119=7,'liste engagés'!A119,\"\")","v":""},{"$f":"IF('liste engagés'!$G119=7,'liste engagés'!B119,\"\")","v":""},{"$f":"IF('liste engagés'!$G119=7,'liste engagés'!C119,\"\")","v":""},{"$f":"IF('liste engagés'!$G119=7,'liste engagés'!D119,\"\")","v":""},{"$f":"IF('liste engagés'!$G119=7,'liste engagés'!E119,\"\")","v":""},{"$f":"IF('liste engagés'!$G119=7,'liste engagés'!K119,\"\")","v":""},{"$f":"IF('liste engagés'!$G119=7,'liste engagés'!L119,\"\")","v":""},0]
[119,{"$f":"IF('liste engagés'!$G120=7,'liste engagés'!A120,\"\")","v":""},{"$f":"IF('liste engagés'!$G120=7,'liste engagés'!B120,\"\")","v":""},{"$f":"IF('liste engagés'!$G120=7,'liste engagés'!C120,\"\")","v":""},{"$f":"IF('liste engagés'!$G120=7,'liste engagés'!D120,\"\")","v":""},{"$f":"IF('liste engagés'!$G120=7,'liste engagés'!E120,\"\")","v":""},{"$f":"IF('liste engagés'!$G120=7,'liste engagés'!K120,\"\")","v":""},{"$f":"IF('liste engagés'!$G120=7,'liste engagés'!L120,\"\")","v":""},0]
[120,{"$f":"IF('liste engagés'!$G121=7,'liste engagés'!A121,\"\")","v":""},{"$f":"IF('liste engagés'!$G121=7,'liste engagés'!B121,\"\")","v":""},{"$f":"IF('liste engagés'!$G121=7,'liste engagés'!C121,\"\")","v":""},{"$f":"IF('liste engagés'!$G121=7,'liste engagés'!D121,\"\")","v":""},{"$f":"IF('liste engagés'!$G121=7,'liste engagés'!E121,\"\")","v":""},{"$f":"IF('liste engagés'!$G121=7,'liste engagés'!K121,\"\")","v":""},{"$f":"IF('liste engagés'!$G121=7,'liste engagés'!L121,\"\")","v":""},0]
[121,{"$f":"IF('liste engagés'!$G122=7,'liste engagés'!A122,\"\")","v":""},{"$f":"IF('liste engagés'!$G122=7,'liste engagés'!B122,\"\")","v":""},{"$f":"IF('liste engagés'!$G122=7,'liste engagés'!C122,\"\")","v":""},{"$f":"IF('liste engagés'!$G122=7,'liste engagés'!D122,\"\")","v":""},{"$f":"IF('liste engagés'!$G122=7,'liste engagés'!E122,\"\")","v":""},{"$f":"IF('liste engagés'!$G122=7,'liste engagés'!K122,\"\")","v":""},{"$f":"IF('liste engagés'!$G122=7,'liste engagés'!L122,\"\")","v":""},0]
[122,{"$f":"IF('liste engagés'!$G123=7,'liste engagés'!A123,\"\")","v":""},{"$f":"IF('liste engagés'!$G123=7,'liste engagés'!B123,\"\")","v":""},{"$f":"IF('liste engagés'!$G123=7,'liste engagés'!C123,\"\")","v":""},{"$f":"IF('liste engagés'!$G123=7,'liste engagés'!D123,\"\")","v":""},{"$f":"IF('liste engagés'!$G123=7,'liste engagés'!E123,\"\")","v":""},{"$f":"IF('liste engagés'!$G123=7,'liste engagés'!K123,\"\")","v":""},{"$f":"IF('liste engagés'!$G123=7,'liste engagés'!L123,\"\")","v":""},0]
[123,{"$f":"IF('liste engagés'!$G124=7,'liste engagés'!A124,\"\")","v":""},{"$f":"IF('liste engagés'!$G124=7,'liste engagés'!B124,\"\")","v":""},{"$f":"IF('liste engagés'!$G124=7,'liste engagés'!C124,\"\")","v":""},{"$f":"IF('liste engagés'!$G124=7,'liste engagés'!D124,\"\")","v":""},{"$f":"IF('liste engagés'!$G124=7,'liste engagés'!E124,\"\")","v":""},{"$f":"IF('liste engagés'!$G124=7,'liste engagés'!K124,\"\")","v":""},{"$f":"IF('liste engagés'!$G124=7,'liste engagés'!L124,\"\")","v":""},0]
[124,{"$f":"IF('liste engagés'!$G125=7,'liste engagés'!A125,\"\")","v":""},{"$f":"IF('liste engagés'!$G125=7,'liste engagés'!B125,\"\")","v":""},{"$f":"IF('liste engagés'!$G125=7,'liste engagés'!C125,\"\")","v":""},{"$f":"IF('liste engagés'!$G125=7,'liste engagés'!D125,\"\")","v":""},{"$f":"IF('liste engagés'!$G125=7,'liste engagés'!E125,\"\")","v":""},{"$f":"IF('liste engagés'!$G125=7,'liste engagés'!K125,\"\")","v":""},{"$f":"IF('liste engagés'!$G125=7,'liste engagés'!L125,\"\")","v":""},0]
[125,{"$f":"IF('liste engagés'!$G126=7,'liste engagés'!A126,\"\")","v":""},{"$f":"IF('liste engagés'!$G126=7,'liste engagés'!B126,\"\")","v":""},{"$f":"IF('liste engagés'!$G126=7,'liste engagés'!C126,\"\")","v":""},{"$f":"IF('liste engagés'!$G126=7,'liste engagés'!D126,\"\")","v":""},{"$f":"IF('liste engagés'!$G126=7,'liste engagés'!E126,\"\")","v":""},{"$f":"IF('liste engagés'!$G126=7,'liste engagés'!K126,\"\")","v":""},{"$f":"IF('liste engagés'!$G126=7,'liste engagés'!L126,\"\")","v":""},0]
[126,{"$f":"IF('liste engagés'!$G127=7,'liste engagés'!A127,\"\")","v":""},{"$f":"IF('liste engagés'!$G127=7,'liste engagés'!B127,\"\")","v":""},{"$f":"IF('liste engagés'!$G127=7,'liste engagés'!C127,\"\")","v":""},{"$f":"IF('liste engagés'!$G127=7,'liste engagés'!D127,\"\")","v":""},{"$f":"IF('liste engagés'!$G127=7,'liste engagés'!E127,\"\")","v":""},{"$f":"IF('liste engagés'!$G127=7,'liste engagés'!K127,\"\")","v":""},{"$f":"IF('liste engagés'!$G127=7,'liste engagés'!L127,\"\")","v":""},0]
[127,{"$f":"IF('liste engagés'!$G128=7,'liste engagés'!A128,\"\")","v":""},{"$f":"IF('liste engagés'!$G128=7,'liste engagés'!B128,\"\")","v":""},{"$f":"IF('liste engagés'!$G128=7,'liste engagés'!C128,\"\")","v":""},{"$f":"IF('liste engagés'!$G128=7,'liste engagés'!D128,\"\")","v":""},{"$f":"IF('liste engagés'!$G128=7,'liste engagés'!E128,\"\")","v":""},{"$f":"IF('liste engagés'!$G128=7,'liste engagés'!K128,\"\")","v":""},{"$f":"IF('liste engagés'!$G128=7,'liste engagés'!L128,\"\")","v":""},0]
[128,{"$f":"IF('liste engagés'!$G129=7,'liste engagés'!A129,\"\")","v":""},{"$f":"IF('liste engagés'!$G129=7,'liste engagés'!B129,\"\")","v":""},{"$f":"IF('liste engagés'!$G129=7,'liste engagés'!C129,\"\")","v":""},{"$f":"IF('liste engagés'!$G129=7,'liste engagés'!D129,\"\")","v":""},{"$f":"IF('liste engagés'!$G129=7,'liste engagés'!E129,\"\")","v":""},{"$f":"IF('liste engagés'!$G129=7,'liste engagés'!K129,\"\")","v":""},{"$f":"IF('liste engagés'!$G129=7,'liste engagés'!L129,\"\")","v":""},0]
[129,{"$f":"IF('liste engagés'!$G131=7,'liste engagés'!A131,\"\")","v":""},{"$f":"IF('liste engagés'!$G131=7,'liste engagés'!B131,\"\")","v":""},{"$f":"IF('liste engagés'!$G131=7,'liste engagés'!C131,\"\")","v":""},{"$f":"IF('liste engagés'!$G131=7,'liste engagés'!D131,\"\")","v":""},{"$f":"IF('liste engagés'!$G131=7,'liste engagés'!E131,\"\")","v":""},{"$f":"IF('liste engagés'!$G131=7,'liste engagés'!K131,\"\")","v":""},{"$f":"IF('liste engagés'!$G131=7,'liste engagés'!L131,\"\")","v":""},{"$f":"+IF(C135=\"\",0,1)","v":0}]
[{"$f":"+A135+1","v":130},{"$f":"IF('liste engagés'!$G132=7,'liste engagés'!A132,\"\")","v":""},{"$f":"IF('liste engagés'!$G132=7,'liste engagés'!B132,\"\")","v":""},{"$f":"IF('liste engagés'!$G132=7,'liste engagés'!C132,\"\")","v":""},{"$f":"IF('liste engagés'!$G132=7,'liste engagés'!D132,\"\")","v":""},{"$f":"IF('liste engagés'!$G132=7,'liste engagés'!E132,\"\")","v":""},{"$f":"IF('liste engagés'!$G132=7,'liste engagés'!K132,\"\")","v":""},{"$f":"IF('liste engagés'!$G132=7,'liste engagés'!L132,\"\")","v":""},0]
[131,{"$f":"IF('liste engagés'!$G133=7,'liste engagés'!A133,\"\")","v":""},{"$f":"IF('liste engagés'!$G133=7,'liste engagés'!B133,\"\")","v":""},{"$f":"IF('liste engagés'!$G133=7,'liste engagés'!C133,\"\")","v":""},{"$f":"IF('liste engagés'!$G133=7,'liste engagés'!D133,\"\")","v":""},{"$f":"IF('liste engagés'!$G133=7,'liste engagés'!E133,\"\")","v":""},{"$f":"IF('liste engagés'!$G133=7,'liste engagés'!K133,\"\")","v":""},{"$f":"IF('liste engagés'!$G133=7,'liste engagés'!L133,\"\")","v":""},0]
[132,{"$f":"IF('liste engagés'!$G134=7,'liste engagés'!A134,\"\")","v":""},{"$f":"IF('liste engagés'!$G134=7,'liste engagés'!B134,\"\")","v":""},{"$f":"IF('liste engagés'!$G134=7,'liste engagés'!C134,\"\")","v":""},{"$f":"IF('liste engagés'!$G134=7,'liste engagés'!D134,\"\")","v":""},{"$f":"IF('liste engagés'!$G134=7,'liste engagés'!E134,\"\")","v":""},{"$f":"IF('liste engagés'!$G134=7,'liste engagés'!K134,\"\")","v":""},{"$f":"IF('liste engagés'!$G134=7,'liste engagés'!L134,\"\")","v":""},0]
[133,{"$f":"IF('liste engagés'!$G135=7,'liste engagés'!A135,\"\")","v":""},{"$f":"IF('liste engagés'!$G135=7,'liste engagés'!B135,\"\")","v":""},{"$f":"IF('liste engagés'!$G135=7,'liste engagés'!C135,\"\")","v":""},{"$f":"IF('liste engagés'!$G135=7,'liste engagés'!D135,\"\")","v":""},{"$f":"IF('liste engagés'!$G135=7,'liste engagés'!E135,\"\")","v":""},{"$f":"IF('liste engagés'!$G135=7,'liste engagés'!K135,\"\")","v":""},{"$f":"IF('liste engagés'!$G135=7,'liste engagés'!L135,\"\")","v":""},0]
[134,{"$f":"IF('liste engagés'!$G136=7,'liste engagés'!A136,\"\")","v":""},{"$f":"IF('liste engagés'!$G136=7,'liste engagés'!B136,\"\")","v":""},{"$f":"IF('liste engagés'!$G136=7,'liste engagés'!C136,\"\")","v":""},{"$f":"IF('liste engagés'!$G136=7,'liste engagés'!D136,\"\")","v":""},{"$f":"IF('liste engagés'!$G136=7,'liste engagés'!E136,\"\")","v":""},{"$f":"IF('liste engagés'!$G136=7,'liste engagés'!K136,\"\")","v":""},{"$f":"IF('liste engagés'!$G136=7,'liste engagés'!L136,\"\")","v":""},0]
[135,{"$f":"IF('liste engagés'!$G137=7,'liste engagés'!A137,\"\")","v":""},{"$f":"IF('liste engagés'!$G137=7,'liste engagés'!B137,\"\")","v":""},{"$f":"IF('liste engagés'!$G137=7,'liste engagés'!C137,\"\")","v":""},{"$f":"IF('liste engagés'!$G137=7,'liste engagés'!D137,\"\")","v":""},{"$f":"IF('liste engagés'!$G137=7,'liste engagés'!E137,\"\")","v":""},{"$f":"IF('liste engagés'!$G137=7,'liste engagés'!K137,\"\")","v":""},{"$f":"IF('liste engagés'!$G137=7,'liste engagés'!L137,\"\")","v":""},0]
[136,{"$f":"IF('liste engagés'!$G138=7,'liste engagés'!A138,\"\")","v":""},{"$f":"IF('liste engagés'!$G138=7,'liste engagés'!B138,\"\")","v":""},{"$f":"IF('liste engagés'!$G138=7,'liste engagés'!C138,\"\")","v":""},{"$f":"IF('liste engagés'!$G138=7,'liste engagés'!D138,\"\")","v":""},{"$f":"IF('liste engagés'!$G138=7,'liste engagés'!E138,\"\")","v":""},{"$f":"IF('liste engagés'!$G138=7,'liste engagés'!K138,\"\")","v":""},{"$f":"IF('liste engagés'!$G138=7,'liste engagés'!L138,\"\")","v":""},0]
[137,{"$f":"IF('liste engagés'!$G139=7,'liste engagés'!A139,\"\")","v":""},{"$f":"IF('liste engagés'!$G139=7,'liste engagés'!B139,\"\")","v":""},{"$f":"IF('liste engagés'!$G139=7,'liste engagés'!C139,\"\")","v":""},{"$f":"IF('liste engagés'!$G139=7,'liste engagés'!D139,\"\")","v":""},{"$f":"IF('liste engagés'!$G139=7,'liste engagés'!E139,\"\")","v":""},{"$f":"IF('liste engagés'!$G139=7,'liste engagés'!K139,\"\")","v":""},{"$f":"IF('liste engagés'!$G139=7,'liste engagés'!L139,\"\")","v":""},0]
[138,{"$f":"IF('liste engagés'!$G140=7,'liste engagés'!A140,\"\")","v":""},{"$f":"IF('liste engagés'!$G140=7,'liste engagés'!B140,\"\")","v":""},{"$f":"IF('liste engagés'!$G140=7,'liste engagés'!C140,\"\")","v":""},{"$f":"IF('liste engagés'!$G140=7,'liste engagés'!D140,\"\")","v":""},{"$f":"IF('liste engagés'!$G140=7,'liste engagés'!E140,\"\")","v":""},{"$f":"IF('liste engagés'!$G140=7,'liste engagés'!K140,\"\")","v":""},{"$f":"IF('liste engagés'!$G140=7,'liste engagés'!L140,\"\")","v":""},0]
[139,{"$f":"IF('liste engagés'!$G141=7,'liste engagés'!A141,\"\")","v":""},{"$f":"IF('liste engagés'!$G141=7,'liste engagés'!B141,\"\")","v":""},{"$f":"IF('liste engagés'!$G141=7,'liste engagés'!C141,\"\")","v":""},{"$f":"IF('liste engagés'!$G141=7,'liste engagés'!D141,\"\")","v":""},{"$f":"IF('liste engagés'!$G141=7,'liste engagés'!E141,\"\")","v":""},{"$f":"IF('liste engagés'!$G141=7,'liste engagés'!K141,\"\")","v":""},{"$f":"IF('liste engagés'!$G141=7,'liste engagés'!L141,\"\")","v":""},0]
[140,{"$f":"IF('liste engagés'!$G142=7,'liste engagés'!A142,\"\")","v":""},{"$f":"IF('liste engagés'!$G142=7,'liste engagés'!B142,\"\")","v":""},{"$f":"IF('liste engagés'!$G142=7,'liste engagés'!C142,\"\")","v":""},{"$f":"IF('liste engagés'!$G142=7,'liste engagés'!D142,\"\")","v":""},{"$f":"IF('liste engagés'!$G142=7,'liste engagés'!E142,\"\")","v":""},{"$f":"IF('liste engagés'!$G142=7,'liste engagés'!K142,\"\")","v":""},{"$f":"IF('liste engagés'!$G142=7,'liste engagés'!L142,\"\")","v":""},0]
[141,{"$f":"IF('liste engagés'!$G143=7,'liste engagés'!A143,\"\")","v":""},{"$f":"IF('liste engagés'!$G143=7,'liste engagés'!B143,\"\")","v":""},{"$f":"IF('liste engagés'!$G143=7,'liste engagés'!C143,\"\")","v":""},{"$f":"IF('liste engagés'!$G143=7,'liste engagés'!D143,\"\")","v":""},{"$f":"IF('liste engagés'!$G143=7,'liste engagés'!E143,\"\")","v":""},{"$f":"IF('liste engagés'!$G143=7,'liste engagés'!K143,\"\")","v":""},{"$f":"IF('liste engagés'!$G143=7,'liste engagés'!L143,\"\")","v":""},0]
[142,{"$f":"IF('liste engagés'!$G145=7,'liste engagés'!A145,\"\")","v":""},{"$f":"IF('liste engagés'!$G145=7,'liste engagés'!B145,\"\")","v":""},{"$f":"IF('liste engagés'!$G145=7,'liste engagés'!#REF!,\"\")","v":""},{"$f":"IF('liste engagés'!$G145=7,'liste engagés'!D145,\"\")","v":""},{"$f":"IF('liste engagés'!$G145=7,'liste engagés'!E145,\"\")","v":""},{"$f":"IF('liste engagés'!$G145=7,'liste engagés'!K145,\"\")","v":""},{"$f":"IF('liste engagés'!$G145=7,'liste engagés'!L145,\"\")","v":""},0]
[143,{"$f":"IF('liste engagés'!$G147=7,'liste engagés'!A147,\"\")","v":""},{"$f":"IF('liste engagés'!$G147=7,'liste engagés'!B147,\"\")","v":""},{"$f":"IF('liste engagés'!$G147=7,'liste engagés'!C147,\"\")","v":""},{"$f":"IF('liste engagés'!$G147=7,'liste engagés'!D147,\"\")","v":""},{"$f":"IF('liste engagés'!$G147=7,'liste engagés'!E147,\"\")","v":""},{"$f":"IF('liste engagés'!$G147=7,'liste engagés'!K147,\"\")","v":""},{"$f":"IF('liste engagés'!$G147=7,'liste engagés'!L147,\"\")","v":""},0]
[144,{"$f":"IF('liste engagés'!$G148=7,'liste engagés'!A148,\"\")","v":""},{"$f":"IF('liste engagés'!$G148=7,'liste engagés'!B148,\"\")","v":""},{"$f":"IF('liste engagés'!$G148=7,'liste engagés'!C148,\"\")","v":""},{"$f":"IF('liste engagés'!$G148=7,'liste engagés'!D148,\"\")","v":""},{"$f":"IF('liste engagés'!$G148=7,'liste engagés'!E148,\"\")","v":""},{"$f":"IF('liste engagés'!$G148=7,'liste engagés'!K148,\"\")","v":""},{"$f":"IF('liste engagés'!$G148=7,'liste engagés'!L148,\"\")","v":""},0]
[145,{"$f":"IF('liste engagés'!$G149=7,'liste engagés'!A149,\"\")","v":""},{"$f":"IF('liste engagés'!$G149=7,'liste engagés'!B149,\"\")","v":""},{"$f":"IF('liste engagés'!$G149=7,'liste engagés'!C149,\"\")","v":""},{"$f":"IF('liste engagés'!$G149=7,'liste engagés'!D149,\"\")","v":""},{"$f":"IF('liste engagés'!$G149=7,'liste engagés'!E149,\"\")","v":""},{"$f":"IF('liste engagés'!$G149=7,'liste engagés'!K149,\"\")","v":""},{"$f":"IF('liste engagés'!$G149=7,'liste engagés'!L149,\"\")","v":""},0]
[146,{"$f":"IF('liste engagés'!$G150=7,'liste engagés'!A150,\"\")","v":""},{"$f":"IF('liste engagés'!$G150=7,'liste engagés'!B150,\"\")","v":""},{"$f":"IF('liste engagés'!$G150=7,'liste engagés'!C150,\"\")","v":""},{"$f":"IF('liste engagés'!$G150=7,'liste engagés'!D150,\"\")","v":""},{"$f":"IF('liste engagés'!$G150=7,'liste engagés'!E150,\"\")","v":""},{"$f":"IF('liste engagés'!$G150=7,'liste engagés'!K150,\"\")","v":""},{"$f":"IF('liste engagés'!$G150=7,'liste engagés'!L150,\"\")","v":""},0]
[147,{"$f":"IF('liste engagés'!$G151=7,'liste engagés'!A151,\"\")","v":""},{"$f":"IF('liste engagés'!$G151=7,'liste engagés'!B151,\"\")","v":""},{"$f":"IF('liste engagés'!$G151=7,'liste engagés'!C151,\"\")","v":""},{"$f":"IF('liste engagés'!$G151=7,'liste engagés'!D151,\"\")","v":""},{"$f":"IF('liste engagés'!$G151=7,'liste engagés'!E151,\"\")","v":""},{"$f":"IF('liste engagés'!$G151=7,'liste engagés'!K151,\"\")","v":""},{"$f":"IF('liste engagés'!$G151=7,'liste engagés'!L151,\"\")","v":""},0]
[148,{"$f":"IF('liste engagés'!$G152=7,'liste engagés'!A152,\"\")","v":""},{"$f":"IF('liste engagés'!$G152=7,'liste engagés'!B152,\"\")","v":""},{"$f":"IF('liste engagés'!$G152=7,'liste engagés'!C152,\"\")","v":""},{"$f":"IF('liste engagés'!$G152=7,'liste engagés'!D152,\"\")","v":""},{"$f":"IF('liste engagés'!$G152=7,'liste engagés'!E152,\"\")","v":""},{"$f":"IF('liste engagés'!$G152=7,'liste engagés'!K152,\"\")","v":""},{"$f":"IF('liste engagés'!$G152=7,'liste engagés'!L152,\"\")","v":""},0]
[149,{"$f":"IF('liste engagés'!$G153=7,'liste engagés'!A153,\"\")","v":""},{"$f":"IF('liste engagés'!$G153=7,'liste engagés'!B153,\"\")","v":""},{"$f":"IF('liste engagés'!$G153=7,'liste engagés'!C153,\"\")","v":""},{"$f":"IF('liste engagés'!$G153=7,'liste engagés'!D153,\"\")","v":""},{"$f":"IF('liste engagés'!$G153=7,'liste engagés'!E153,\"\")","v":""},{"$f":"IF('liste engagés'!$G153=7,'liste engagés'!K153,\"\")","v":""},{"$f":"IF('liste engagés'!$G153=7,'liste engagés'!L153,\"\")","v":""},0]
[150,{"$f":"IF('liste engagés'!$G155=7,'liste engagés'!A155,\"\")","v":""},{"$f":"IF('liste engagés'!$G155=7,'liste engagés'!B155,\"\")","v":""},{"$f":"IF('liste engagés'!$G155=7,'liste engagés'!C155,\"\")","v":""},{"$f":"IF('liste engagés'!$G155=7,'liste engagés'!D155,\"\")","v":""},{"$f":"IF('liste engagés'!$G155=7,'liste engagés'!E155,\"\")","v":""},{"$f":"IF('liste engagés'!$G155=7,'liste engagés'!K155,\"\")","v":""},{"$f":"IF('liste engagés'!$G155=7,'liste engagés'!L155,\"\")","v":""},0]
[151,{"$f":"IF('liste engagés'!$G156=7,'liste engagés'!A156,\"\")","v":""},{"$f":"IF('liste engagés'!$G156=7,'liste engagés'!B156,\"\")","v":""},{"$f":"IF('liste engagés'!$G156=7,'liste engagés'!C156,\"\")","v":""},{"$f":"IF('liste engagés'!$G156=7,'liste engagés'!D156,\"\")","v":""},{"$f":"IF('liste engagés'!$G156=7,'liste engagés'!E156,\"\")","v":""},{"$f":"IF('liste engagés'!$G156=7,'liste engagés'!K156,\"\")","v":""},{"$f":"IF('liste engagés'!$G156=7,'liste engagés'!L156,\"\")","v":""},0]
[152,{"$f":"IF('liste engagés'!$G157=7,'liste engagés'!A157,\"\")","v":""},{"$f":"IF('liste engagés'!$G157=7,'liste engagés'!B157,\"\")","v":""},{"$f":"IF('liste engagés'!$G157=7,'liste engagés'!C157,\"\")","v":""},{"$f":"IF('liste engagés'!$G157=7,'liste engagés'!D157,\"\")","v":""},{"$f":"IF('liste engagés'!$G157=7,'liste engagés'!E157,\"\")","v":""},{"$f":"IF('liste engagés'!$G157=7,'liste engagés'!K157,\"\")","v":""},{"$f":"IF('liste engagés'!$G157=7,'liste engagés'!L157,\"\")","v":""},0]
[153,{"$f":"IF('liste engagés'!$G158=7,'liste engagés'!A158,\"\")","v":""},{"$f":"IF('liste engagés'!$G158=7,'liste engagés'!B158,\"\")","v":""},{"$f":"IF('liste engagés'!$G158=7,'liste engagés'!C158,\"\")","v":""},{"$f":"IF('liste engagés'!$G158=7,'liste engagés'!D158,\"\")","v":""},{"$f":"IF('liste engagés'!$G158=7,'liste engagés'!E158,\"\")","v":""},{"$f":"IF('liste engagés'!$G158=7,'liste engagés'!K158,\"\")","v":""},{"$f":"IF('liste engagés'!$G158=7,'liste engagés'!L158,\"\")","v":""},0]
[154,{"$f":"IF('liste engagés'!$G159=7,'liste engagés'!A159,\"\")","v":""},{"$f":"IF('liste engagés'!$G159=7,'liste engagés'!B159,\"\")","v":""},{"$f":"IF('liste engagés'!$G159=7,'liste engagés'!C159,\"\")","v":""},{"$f":"IF('liste engagés'!$G159=7,'liste engagés'!D159,\"\")","v":""},{"$f":"IF('liste engagés'!$G159=7,'liste engagés'!E159,\"\")","v":""},{"$f":"IF('liste engagés'!$G159=7,'liste engagés'!K159,\"\")","v":""},{"$f":"IF('liste engagés'!$G159=7,'liste engagés'!L159,\"\")","v":""},0]
[155,{"$f":"IF('liste engagés'!$G160=7,'liste engagés'!A160,\"\")","v":""},{"$f":"IF('liste engagés'!$G160=7,'liste engagés'!B160,\"\")","v":""},{"$f":"IF('liste engagés'!$G160=7,'liste engagés'!C160,\"\")","v":""},{"$f":"IF('liste engagés'!$G160=7,'liste engagés'!D160,\"\")","v":""},{"$f":"IF('liste engagés'!$G160=7,'liste engagés'!E160,\"\")","v":""},{"$f":"IF('liste engagés'!$G160=7,'liste engagés'!K160,\"\")","v":""},{"$f":"IF('liste engagés'!$G160=7,'liste engagés'!L160,\"\")","v":""},0]
[156,{"$f":"IF('liste engagés'!$G161=7,'liste engagés'!A161,\"\")","v":""},{"$f":"IF('liste engagés'!$G161=7,'liste engagés'!B161,\"\")","v":""},{"$f":"IF('liste engagés'!$G161=7,'liste engagés'!C161,\"\")","v":""},{"$f":"IF('liste engagés'!$G161=7,'liste engagés'!D161,\"\")","v":""},{"$f":"IF('liste engagés'!$G161=7,'liste engagés'!E161,\"\")","v":""},{"$f":"IF('liste engagés'!$G161=7,'liste engagés'!K161,\"\")","v":""},{"$f":"IF('liste engagés'!$G161=7,'liste engagés'!L161,\"\")","v":""},0]
[157,{"$f":"IF('liste engagés'!$G162=7,'liste engagés'!A162,\"\")","v":""},{"$f":"IF('liste engagés'!$G162=7,'liste engagés'!B162,\"\")","v":""},{"$f":"IF('liste engagés'!$G162=7,'liste engagés'!C162,\"\")","v":""},{"$f":"IF('liste engagés'!$G162=7,'liste engagés'!D162,\"\")","v":""},{"$f":"IF('liste engagés'!$G162=7,'liste engagés'!E162,\"\")","v":""},{"$f":"IF('liste engagés'!$G162=7,'liste engagés'!K162,\"\")","v":""},{"$f":"IF('liste engagés'!$G162=7,'liste engagés'!L162,\"\")","v":""},0]
[158,{"$f":"IF('liste engagés'!$G163=7,'liste engagés'!A163,\"\")","v":""},{"$f":"IF('liste engagés'!$G163=7,'liste engagés'!B163,\"\")","v":""},{"$f":"IF('liste engagés'!$G163=7,'liste engagés'!C163,\"\")","v":""},{"$f":"IF('liste engagés'!$G163=7,'liste engagés'!D163,\"\")","v":""},{"$f":"IF('liste engagés'!$G163=7,'liste engagés'!E163,\"\")","v":""},{"$f":"IF('liste engagés'!$G163=7,'liste engagés'!K163,\"\")","v":""},{"$f":"IF('liste engagés'!$G163=7,'liste engagés'!L163,\"\")","v":""},0]
[159,{"$f":"IF('liste engagés'!$G164=7,'liste engagés'!A164,\"\")","v":""},{"$f":"IF('liste engagés'!$G164=7,'liste engagés'!B164,\"\")","v":""},{"$f":"IF('liste engagés'!$G164=7,'liste engagés'!C164,\"\")","v":""},{"$f":"IF('liste engagés'!$G164=7,'liste engagés'!D164,\"\")","v":""},{"$f":"IF('liste engagés'!$G164=7,'liste engagés'!E164,\"\")","v":""},{"$f":"IF('liste engagés'!$G164=7,'liste engagés'!K164,\"\")","v":""},{"$f":"IF('liste engagés'!$G164=7,'liste engagés'!L164,\"\")","v":""},0]
[160,{"$f":"IF('liste engagés'!$G165=7,'liste engagés'!A165,\"\")","v":""},{"$f":"IF('liste engagés'!$G165=7,'liste engagés'!B165,\"\")","v":""},{"$f":"IF('liste engagés'!$G165=7,'liste engagés'!C165,\"\")","v":""},{"$f":"IF('liste engagés'!$G165=7,'liste engagés'!D165,\"\")","v":""},{"$f":"IF('liste engagés'!$G165=7,'liste engagés'!E165,\"\")","v":""},{"$f":"IF('liste engagés'!$G165=7,'liste engagés'!K165,\"\")","v":""},{"$f":"IF('liste engagés'!$G165=7,'liste engagés'!L165,\"\")","v":""},0]
[161,{"$f":"IF('liste engagés'!$G166=7,'liste engagés'!A166,\"\")","v":""},{"$f":"IF('liste engagés'!$G166=7,'liste engagés'!B166,\"\")","v":""},{"$f":"IF('liste engagés'!$G166=7,'liste engagés'!C166,\"\")","v":""},{"$f":"IF('liste engagés'!$G166=7,'liste engagés'!D166,\"\")","v":""},{"$f":"IF('liste engagés'!$G166=7,'liste engagés'!E166,\"\")","v":""},{"$f":"IF('liste engagés'!$G166=7,'liste engagés'!K166,\"\")","v":""},{"$f":"IF('liste engagés'!$G166=7,'liste engagés'!L166,\"\")","v":""},0]
[162,{"$f":"IF('liste engagés'!$G167=7,'liste engagés'!A167,\"\")","v":""},{"$f":"IF('liste engagés'!$G167=7,'liste engagés'!B167,\"\")","v":""},{"$f":"IF('liste engagés'!$G167=7,'liste engagés'!C167,\"\")","v":""},{"$f":"IF('liste engagés'!$G167=7,'liste engagés'!D167,\"\")","v":""},{"$f":"IF('liste engagés'!$G167=7,'liste engagés'!E167,\"\")","v":""},{"$f":"IF('liste engagés'!$G167=7,'liste engagés'!K167,\"\")","v":""},{"$f":"IF('liste engagés'!$G167=7,'liste engagés'!L167,\"\")","v":""},0]
[163,{"$f":"IF('liste engagés'!$G168=7,'liste engagés'!A168,\"\")","v":""},{"$f":"IF('liste engagés'!$G168=7,'liste engagés'!B168,\"\")","v":""},{"$f":"IF('liste engagés'!$G168=7,'liste engagés'!C168,\"\")","v":""},{"$f":"IF('liste engagés'!$G168=7,'liste engagés'!D168,\"\")","v":""},{"$f":"IF('liste engagés'!$G168=7,'liste engagés'!E168,\"\")","v":""},{"$f":"IF('liste engagés'!$G168=7,'liste engagés'!K168,\"\")","v":""},{"$f":"IF('liste engagés'!$G168=7,'liste engagés'!L168,\"\")","v":""},0]
[164,{"$f":"IF('liste engagés'!$G169=7,'liste engagés'!A169,\"\")","v":""},{"$f":"IF('liste engagés'!$G169=7,'liste engagés'!B169,\"\")","v":""},{"$f":"IF('liste engagés'!$G169=7,'liste engagés'!C169,\"\")","v":""},{"$f":"IF('liste engagés'!$G169=7,'liste engagés'!D169,\"\")","v":""},{"$f":"IF('liste engagés'!$G169=7,'liste engagés'!E169,\"\")","v":""},{"$f":"IF('liste engagés'!$G169=7,'liste engagés'!K169,\"\")","v":""},{"$f":"IF('liste engagés'!$G169=7,'liste engagés'!L169,\"\")","v":""},0]
[165,{"$f":"IF('liste engagés'!$G170=7,'liste engagés'!A170,\"\")","v":""},{"$f":"IF('liste engagés'!$G170=7,'liste engagés'!B170,\"\")","v":""},{"$f":"IF('liste engagés'!$G170=7,'liste engagés'!C170,\"\")","v":""},{"$f":"IF('liste engagés'!$G170=7,'liste engagés'!D170,\"\")","v":""},{"$f":"IF('liste engagés'!$G170=7,'liste engagés'!E170,\"\")","v":""},{"$f":"IF('liste engagés'!$G170=7,'liste engagés'!K170,\"\")","v":""},{"$f":"IF('liste engagés'!$G170=7,'liste engagés'!L170,\"\")","v":""},0]
[166,{"$f":"IF('liste engagés'!$G171=7,'liste engagés'!A171,\"\")","v":""},{"$f":"IF('liste engagés'!$G171=7,'liste engagés'!B171,\"\")","v":""},{"$f":"IF('liste engagés'!$G171=7,'liste engagés'!C171,\"\")","v":""},{"$f":"IF('liste engagés'!$G171=7,'liste engagés'!D171,\"\")","v":""},{"$f":"IF('liste engagés'!$G171=7,'liste engagés'!E171,\"\")","v":""},{"$f":"IF('liste engagés'!$G171=7,'liste engagés'!K171,\"\")","v":""},{"$f":"IF('liste engagés'!$G171=7,'liste engagés'!L171,\"\")","v":""},0]
[167,{"$f":"IF('liste engagés'!$G172=7,'liste engagés'!A172,\"\")","v":""},{"$f":"IF('liste engagés'!$G172=7,'liste engagés'!B172,\"\")","v":""},{"$f":"IF('liste engagés'!$G172=7,'liste engagés'!C172,\"\")","v":""},{"$f":"IF('liste engagés'!$G172=7,'liste engagés'!D172,\"\")","v":""},{"$f":"IF('liste engagés'!$G172=7,'liste engagés'!E172,\"\")","v":""},{"$f":"IF('liste engagés'!$G172=7,'liste engagés'!K172,\"\")","v":""},{"$f":"IF('liste engagés'!$G172=7,'liste engagés'!L172,\"\")","v":""},0]
[168,{"$f":"IF('liste engagés'!$G173=7,'liste engagés'!A173,\"\")","v":""},{"$f":"IF('liste engagés'!$G173=7,'liste engagés'!B173,\"\")","v":""},{"$f":"IF('liste engagés'!$G173=7,'liste engagés'!C173,\"\")","v":""},{"$f":"IF('liste engagés'!$G173=7,'liste engagés'!D173,\"\")","v":""},{"$f":"IF('liste engagés'!$G173=7,'liste engagés'!E173,\"\")","v":""},{"$f":"IF('liste engagés'!$G173=7,'liste engagés'!K173,\"\")","v":""},{"$f":"IF('liste engagés'!$G173=7,'liste engagés'!L173,\"\")","v":""},0]
[169,{"$f":"IF('liste engagés'!$G174=7,'liste engagés'!A174,\"\")","v":""},{"$f":"IF('liste engagés'!$G174=7,'liste engagés'!B174,\"\")","v":""},{"$f":"IF('liste engagés'!$G174=7,'liste engagés'!C174,\"\")","v":""},{"$f":"IF('liste engagés'!$G174=7,'liste engagés'!D174,\"\")","v":""},{"$f":"IF('liste engagés'!$G174=7,'liste engagés'!E174,\"\")","v":""},{"$f":"IF('liste engagés'!$G174=7,'liste engagés'!K174,\"\")","v":""},{"$f":"IF('liste engagés'!$G174=7,'liste engagés'!L174,\"\")","v":""},0]
[170,{"$f":"IF('liste engagés'!$G175=7,'liste engagés'!A175,\"\")","v":""},{"$f":"IF('liste engagés'!$G175=7,'liste engagés'!B175,\"\")","v":""},{"$f":"IF('liste engagés'!$G175=7,'liste engagés'!C175,\"\")","v":""},{"$f":"IF('liste engagés'!$G175=7,'liste engagés'!D175,\"\")","v":""},{"$f":"IF('liste engagés'!$G175=7,'liste engagés'!E175,\"\")","v":""},{"$f":"IF('liste engagés'!$G175=7,'liste engagés'!K175,\"\")","v":""},{"$f":"IF('liste engagés'!$G175=7,'liste engagés'!L175,\"\")","v":""},0]
[171,{"$f":"IF('liste engagés'!$G176=7,'liste engagés'!A176,\"\")","v":""},{"$f":"IF('liste engagés'!$G176=7,'liste engagés'!B176,\"\")","v":""},{"$f":"IF('liste engagés'!$G176=7,'liste engagés'!C176,\"\")","v":""},{"$f":"IF('liste engagés'!$G176=7,'liste engagés'!D176,\"\")","v":""},{"$f":"IF('liste engagés'!$G176=7,'liste engagés'!E176,\"\")","v":""},{"$f":"IF('liste engagés'!$G176=7,'liste engagés'!K176,\"\")","v":""},{"$f":"IF('liste engagés'!$G176=7,'liste engagés'!L176,\"\")","v":""},0]
[172,{"$f":"IF('liste engagés'!$G177=7,'liste engagés'!A177,\"\")","v":""},{"$f":"IF('liste engagés'!$G177=7,'liste engagés'!B177,\"\")","v":""},{"$f":"IF('liste engagés'!$G177=7,'liste engagés'!C177,\"\")","v":""},{"$f":"IF('liste engagés'!$G177=7,'liste engagés'!D177,\"\")","v":""},{"$f":"IF('liste engagés'!$G177=7,'liste engagés'!E177,\"\")","v":""},{"$f":"IF('liste engagés'!$G177=7,'liste engagés'!K177,\"\")","v":""},{"$f":"IF('liste engagés'!$G177=7,'liste engagés'!L177,\"\")","v":""},0]
[173,{"$f":"IF('liste engagés'!$G178=7,'liste engagés'!A178,\"\")","v":""},{"$f":"IF('liste engagés'!$G178=7,'liste engagés'!B178,\"\")","v":""},{"$f":"IF('liste engagés'!$G178=7,'liste engagés'!C178,\"\")","v":""},{"$f":"IF('liste engagés'!$G178=7,'liste engagés'!D178,\"\")","v":""},{"$f":"IF('liste engagés'!$G178=7,'liste engagés'!E178,\"\")","v":""},{"$f":"IF('liste engagés'!$G178=7,'liste engagés'!K178,\"\")","v":""},{"$f":"IF('liste engagés'!$G178=7,'liste engagés'!L178,\"\")","v":""},0]
[174,{"$f":"IF('liste engagés'!$G179=7,'liste engagés'!A179,\"\")","v":""},{"$f":"IF('liste engagés'!$G179=7,'liste engagés'!B179,\"\")","v":""},{"$f":"IF('liste engagés'!$G179=7,'liste engagés'!C179,\"\")","v":""},{"$f":"IF('liste engagés'!$G179=7,'liste engagés'!D179,\"\")","v":""},{"$f":"IF('liste engagés'!$G179=7,'liste engagés'!E179,\"\")","v":""},{"$f":"IF('liste engagés'!$G179=7,'liste engagés'!K179,\"\")","v":""},{"$f":"IF('liste engagés'!$G179=7,'liste engagés'!L179,\"\")","v":""},0]
[175,{"$f":"IF('liste engagés'!$G180=7,'liste engagés'!A180,\"\")","v":""},{"$f":"IF('liste engagés'!$G180=7,'liste engagés'!B180,\"\")","v":""},{"$f":"IF('liste engagés'!$G180=7,'liste engagés'!C180,\"\")","v":""},{"$f":"IF('liste engagés'!$G180=7,'liste engagés'!D180,\"\")","v":""},{"$f":"IF('liste engagés'!$G180=7,'liste engagés'!E180,\"\")","v":""},{"$f":"IF('liste engagés'!$G180=7,'liste engagés'!K180,\"\")","v":""},{"$f":"IF('liste engagés'!$G180=7,'liste engagés'!L180,\"\")","v":""},0]
[176,{"$f":"IF('liste engagés'!$G181=7,'liste engagés'!A181,\"\")","v":""},{"$f":"IF('liste engagés'!$G181=7,'liste engagés'!B181,\"\")","v":""},{"$f":"IF('liste engagés'!$G181=7,'liste engagés'!C181,\"\")","v":""},{"$f":"IF('liste engagés'!$G181=7,'liste engagés'!D181,\"\")","v":""},{"$f":"IF('liste engagés'!$G181=7,'liste engagés'!E181,\"\")","v":""},{"$f":"IF('liste engagés'!$G181=7,'liste engagés'!K181,\"\")","v":""},{"$f":"IF('liste engagés'!$G181=7,'liste engagés'!L181,\"\")","v":""},0]
[177,{"$f":"IF('liste engagés'!$G182=7,'liste engagés'!A182,\"\")","v":""},{"$f":"IF('liste engagés'!$G182=7,'liste engagés'!B182,\"\")","v":""},{"$f":"IF('liste engagés'!$G182=7,'liste engagés'!C182,\"\")","v":""},{"$f":"IF('liste engagés'!$G182=7,'liste engagés'!D182,\"\")","v":""},{"$f":"IF('liste engagés'!$G182=7,'liste engagés'!E182,\"\")","v":""},{"$f":"IF('liste engagés'!$G182=7,'liste engagés'!K182,\"\")","v":""},{"$f":"IF('liste engagés'!$G182=7,'liste engagés'!L182,\"\")","v":""},0]
[178,{"$f":"IF('liste engagés'!$G183=7,'liste engagés'!A183,\"\")","v":""},{"$f":"IF('liste engagés'!$G183=7,'liste engagés'!B183,\"\")","v":""},{"$f":"IF('liste engagés'!$G183=7,'liste engagés'!C183,\"\")","v":""},{"$f":"IF('liste engagés'!$G183=7,'liste engagés'!D183,\"\")","v":""},{"$f":"IF('liste engagés'!$G183=7,'liste engagés'!E183,\"\")","v":""},{"$f":"IF('liste engagés'!$G183=7,'liste engagés'!K183,\"\")","v":""},{"$f":"IF('liste engagés'!$G183=7,'liste engagés'!L183,\"\")","v":""},0]
[179,{"$f":"IF('liste engagés'!$G184=7,'liste engagés'!A184,\"\")","v":""},{"$f":"IF('liste engagés'!$G184=7,'liste engagés'!B184,\"\")","v":""},{"$f":"IF('liste engagés'!$G184=7,'liste engagés'!C184,\"\")","v":""},{"$f":"IF('liste engagés'!$G184=7,'liste engagés'!D184,\"\")","v":""},{"$f":"IF('liste engagés'!$G184=7,'liste engagés'!E184,\"\")","v":""},{"$f":"IF('liste engagés'!$G184=7,'liste engagés'!K184,\"\")","v":""},{"$f":"IF('liste engagés'!$G184=7,'liste engagés'!L184,\"\")","v":""},0]
[180,{"$f":"IF('liste engagés'!$G185=7,'liste engagés'!A185,\"\")","v":""},{"$f":"IF('liste engagés'!$G185=7,'liste engagés'!B185,\"\")","v":""},{"$f":"IF('liste engagés'!$G185=7,'liste engagés'!C185,\"\")","v":""},{"$f":"IF('liste engagés'!$G185=7,'liste engagés'!D185,\"\")","v":""},{"$f":"IF('liste engagés'!$G185=7,'liste engagés'!E185,\"\")","v":""},{"$f":"IF('liste engagés'!$G185=7,'liste engagés'!K185,\"\")","v":""},{"$f":"IF('liste engagés'!$G185=7,'liste engagés'!L185,\"\")","v":""},0]
[181,{"$f":"IF('liste engagés'!$G186=7,'liste engagés'!A186,\"\")","v":""},{"$f":"IF('liste engagés'!$G186=7,'liste engagés'!B186,\"\")","v":""},{"$f":"IF('liste engagés'!$G186=7,'liste engagés'!C186,\"\")","v":""},{"$f":"IF('liste engagés'!$G186=7,'liste engagés'!D186,\"\")","v":""},{"$f":"IF('liste engagés'!$G186=7,'liste engagés'!E186,\"\")","v":""},{"$f":"IF('liste engagés'!$G186=7,'liste engagés'!K186,\"\")","v":""},{"$f":"IF('liste engagés'!$G186=7,'liste engagés'!L186,\"\")","v":""},0]
[182,{"$f":"IF('liste engagés'!$G187=7,'liste engagés'!A187,\"\")","v":""},{"$f":"IF('liste engagés'!$G187=7,'liste engagés'!B187,\"\")","v":""},{"$f":"IF('liste engagés'!$G187=7,'liste engagés'!C187,\"\")","v":""},{"$f":"IF('liste engagés'!$G187=7,'liste engagés'!D187,\"\")","v":""},{"$f":"IF('liste engagés'!$G187=7,'liste engagés'!E187,\"\")","v":""},{"$f":"IF('liste engagés'!$G187=7,'liste engagés'!K187,\"\")","v":""},{"$f":"IF('liste engagés'!$G187=7,'liste engagés'!L187,\"\")","v":""},0]
[183,{"$f":"IF('liste engagés'!$G188=7,'liste engagés'!A188,\"\")","v":""},{"$f":"IF('liste engagés'!$G188=7,'liste engagés'!B188,\"\")","v":""},{"$f":"IF('liste engagés'!$G188=7,'liste engagés'!C188,\"\")","v":""},{"$f":"IF('liste engagés'!$G188=7,'liste engagés'!D188,\"\")","v":""},{"$f":"IF('liste engagés'!$G188=7,'liste engagés'!E188,\"\")","v":""},{"$f":"IF('liste engagés'!$G188=7,'liste engagés'!K188,\"\")","v":""},{"$f":"IF('liste engagés'!$G188=7,'liste engagés'!L188,\"\")","v":""},0]
[184,{"$f":"IF('liste engagés'!$G189=7,'liste engagés'!A189,\"\")","v":""},{"$f":"IF('liste engagés'!$G189=7,'liste engagés'!B189,\"\")","v":""},{"$f":"IF('liste engagés'!$G189=7,'liste engagés'!C189,\"\")","v":""},{"$f":"IF('liste engagés'!$G189=7,'liste engagés'!D189,\"\")","v":""},{"$f":"IF('liste engagés'!$G189=7,'liste engagés'!E189,\"\")","v":""},{"$f":"IF('liste engagés'!$G189=7,'liste engagés'!K189,\"\")","v":""},{"$f":"IF('liste engagés'!$G189=7,'liste engagés'!L189,\"\")","v":""},0]
[185,{"$f":"IF('liste engagés'!$G190=7,'liste engagés'!A190,\"\")","v":""},{"$f":"IF('liste engagés'!$G190=7,'liste engagés'!B190,\"\")","v":""},{"$f":"IF('liste engagés'!$G190=7,'liste engagés'!C190,\"\")","v":""},{"$f":"IF('liste engagés'!$G190=7,'liste engagés'!D190,\"\")","v":""},{"$f":"IF('liste engagés'!$G190=7,'liste engagés'!E190,\"\")","v":""},{"$f":"IF('liste engagés'!$G190=7,'liste engagés'!K190,\"\")","v":""},{"$f":"IF('liste engagés'!$G190=7,'liste engagés'!L190,\"\")","v":""},0]
[186,{"$f":"IF('liste engagés'!$G191=7,'liste engagés'!A191,\"\")","v":""},{"$f":"IF('liste engagés'!$G191=7,'liste engagés'!B191,\"\")","v":""},{"$f":"IF('liste engagés'!$G191=7,'liste engagés'!C191,\"\")","v":""},{"$f":"IF('liste engagés'!$G191=7,'liste engagés'!D191,\"\")","v":""},{"$f":"IF('liste engagés'!$G191=7,'liste engagés'!E191,\"\")","v":""},{"$f":"IF('liste engagés'!$G191=7,'liste engagés'!K191,\"\")","v":""},{"$f":"IF('liste engagés'!$G191=7,'liste engagés'!L191,\"\")","v":""},0]
[187,{"$f":"IF('liste engagés'!$G192=7,'liste engagés'!A192,\"\")","v":""},{"$f":"IF('liste engagés'!$G192=7,'liste engagés'!B192,\"\")","v":""},{"$f":"IF('liste engagés'!$G192=7,'liste engagés'!C192,\"\")","v":""},{"$f":"IF('liste engagés'!$G192=7,'liste engagés'!D192,\"\")","v":""},{"$f":"IF('liste engagés'!$G192=7,'liste engagés'!E192,\"\")","v":""},{"$f":"IF('liste engagés'!$G192=7,'liste engagés'!K192,\"\")","v":""},{"$f":"IF('liste engagés'!$G192=7,'liste engagés'!L192,\"\")","v":""},0]
[188,{"$f":"IF('liste engagés'!$G193=7,'liste engagés'!A193,\"\")","v":""},{"$f":"IF('liste engagés'!$G193=7,'liste engagés'!B193,\"\")","v":""},{"$f":"IF('liste engagés'!$G193=7,'liste engagés'!C193,\"\")","v":""},{"$f":"IF('liste engagés'!$G193=7,'liste engagés'!D193,\"\")","v":""},{"$f":"IF('liste engagés'!$G193=7,'liste engagés'!E193,\"\")","v":""},{"$f":"IF('liste engagés'!$G193=7,'liste engagés'!K193,\"\")","v":""},{"$f":"IF('liste engagés'!$G193=7,'liste engagés'!L193,\"\")","v":""},0]
[189,{"$f":"IF('liste engagés'!$G194=7,'liste engagés'!A194,\"\")","v":""},{"$f":"IF('liste engagés'!$G194=7,'liste engagés'!B194,\"\")","v":""},{"$f":"IF('liste engagés'!$G194=7,'liste engagés'!C194,\"\")","v":""},{"$f":"IF('liste engagés'!$G194=7,'liste engagés'!D194,\"\")","v":""},{"$f":"IF('liste engagés'!$G194=7,'liste engagés'!E194,\"\")","v":""},{"$f":"IF('liste engagés'!$G194=7,'liste engagés'!K194,\"\")","v":""},{"$f":"IF('liste engagés'!$G194=7,'liste engagés'!L194,\"\")","v":""},0]
[190,{"$f":"IF('liste engagés'!$G195=7,'liste engagés'!A195,\"\")","v":""},{"$f":"IF('liste engagés'!$G195=7,'liste engagés'!B195,\"\")","v":""},{"$f":"IF('liste engagés'!$G195=7,'liste engagés'!C195,\"\")","v":""},{"$f":"IF('liste engagés'!$G195=7,'liste engagés'!D195,\"\")","v":""},{"$f":"IF('liste engagés'!$G195=7,'liste engagés'!E195,\"\")","v":""},{"$f":"IF('liste engagés'!$G195=7,'liste engagés'!K195,\"\")","v":""},{"$f":"IF('liste engagés'!$G195=7,'liste engagés'!L195,\"\")","v":""},0]
[191,{"$f":"IF('liste engagés'!$G196=7,'liste engagés'!A196,\"\")","v":""},{"$f":"IF('liste engagés'!$G196=7,'liste engagés'!B196,\"\")","v":""},{"$f":"IF('liste engagés'!$G196=7,'liste engagés'!C196,\"\")","v":""},{"$f":"IF('liste engagés'!$G196=7,'liste engagés'!D196,\"\")","v":""},{"$f":"IF('liste engagés'!$G196=7,'liste engagés'!E196,\"\")","v":""},{"$f":"IF('liste engagés'!$G196=7,'liste engagés'!K196,\"\")","v":""},{"$f":"IF('liste engagés'!$G196=7,'liste engagés'!L196,\"\")","v":""},0]
[192,{"$f":"IF('liste engagés'!$G197=7,'liste engagés'!A197,\"\")","v":""},{"$f":"IF('liste engagés'!$G197=7,'liste engagés'!B197,\"\")","v":""},{"$f":"IF('liste engagés'!$G197=7,'liste engagés'!C197,\"\")","v":""},{"$f":"IF('liste engagés'!$G197=7,'liste engagés'!D197,\"\")","v":""},{"$f":"IF('liste engagés'!$G197=7,'liste engagés'!E197,\"\")","v":""},{"$f":"IF('liste engagés'!$G197=7,'liste engagés'!K197,\"\")","v":""},{"$f":"IF('liste engagés'!$G197=7,'liste engagés'!L197,\"\")","v":""},0]
[193,{"$f":"IF('liste engagés'!$G198=7,'liste engagés'!A198,\"\")","v":""},{"$f":"IF('liste engagés'!$G198=7,'liste engagés'!B198,\"\")","v":""},{"$f":"IF('liste engagés'!$G198=7,'liste engagés'!C198,\"\")","v":""},{"$f":"IF('liste engagés'!$G198=7,'liste engagés'!D198,\"\")","v":""},{"$f":"IF('liste engagés'!$G198=7,'liste engagés'!E198,\"\")","v":""},{"$f":"IF('liste engagés'!$G198=7,'liste engagés'!K198,\"\")","v":""},{"$f":"IF('liste engagés'!$G198=7,'liste engagés'!L198,\"\")","v":""},{"$f":"+IF(C199=\"\",0,1)","v":0}]
[{"$f":"+A199+1","v":194},{"$f":"IF('liste engagés'!$G199=7,'liste engagés'!A199,\"\")","v":""},{"$f":"IF('liste engagés'!$G199=7,'liste engagés'!B199,\"\")","v":""},{"$f":"IF('liste engagés'!$G199=7,'liste engagés'!C199,\"\")","v":""},{"$f":"IF('liste engagés'!$G199=7,'liste engagés'!D199,\"\")","v":""},{"$f":"IF('liste engagés'!$G199=7,'liste engagés'!E199,\"\")","v":""},{"$f":"IF('liste engagés'!$G199=7,'liste engagés'!K199,\"\")","v":""},{"$f":"IF('liste engagés'!$G199=7,'liste engagés'!L199,\"\")","v":""},0]
[195,{"$f":"IF('liste engagés'!$G200=7,'liste engagés'!A200,\"\")","v":""},{"$f":"IF('liste engagés'!$G200=7,'liste engagés'!B200,\"\")","v":""},{"$f":"IF('liste engagés'!$G200=7,'liste engagés'!C200,\"\")","v":""},{"$f":"IF('liste engagés'!$G200=7,'liste engagés'!D200,\"\")","v":""},{"$f":"IF('liste engagés'!$G200=7,'liste engagés'!E200,\"\")","v":""},{"$f":"IF('liste engagés'!$G200=7,'liste engagés'!K200,\"\")","v":""},{"$f":"IF('liste engagés'!$G200=7,'liste engagés'!L200,\"\")","v":""},0]
[196,{"$f":"IF('liste engagés'!$G201=7,'liste engagés'!A201,\"\")","v":""},{"$f":"IF('liste engagés'!$G201=7,'liste engagés'!B201,\"\")","v":""},{"$f":"IF('liste engagés'!$G201=7,'liste engagés'!C201,\"\")","v":""},{"$f":"IF('liste engagés'!$G201=7,'liste engagés'!D201,\"\")","v":""},{"$f":"IF('liste engagés'!$G201=7,'liste engagés'!E201,\"\")","v":""},{"$f":"IF('liste engagés'!$G201=7,'liste engagés'!K201,\"\")","v":""},{"$f":"IF('liste engagés'!$G201=7,'liste engagés'!L201,\"\")","v":""},0]
[197,{"$f":"IF('liste engagés'!$G202=7,'liste engagés'!A202,\"\")","v":""},{"$f":"IF('liste engagés'!$G202=7,'liste engagés'!B202,\"\")","v":""},{"$f":"IF('liste engagés'!$G202=7,'liste engagés'!C202,\"\")","v":""},{"$f":"IF('liste engagés'!$G202=7,'liste engagés'!D202,\"\")","v":""},{"$f":"IF('liste engagés'!$G202=7,'liste engagés'!E202,\"\")","v":""},{"$f":"IF('liste engagés'!$G202=7,'liste engagés'!K202,\"\")","v":""},{"$f":"IF('liste engagés'!$G202=7,'liste engagés'!L202,\"\")","v":""},0]
[198,{"$f":"IF('liste engagés'!$G203=7,'liste engagés'!A203,\"\")","v":""},{"$f":"IF('liste engagés'!$G203=7,'liste engagés'!B203,\"\")","v":""},{"$f":"IF('liste engagés'!$G203=7,'liste engagés'!C203,\"\")","v":""},{"$f":"IF('liste engagés'!$G203=7,'liste engagés'!D203,\"\")","v":""},{"$f":"IF('liste engagés'!$G203=7,'liste engagés'!E203,\"\")","v":""},{"$f":"IF('liste engagés'!$G203=7,'liste engagés'!K203,\"\")","v":""},{"$f":"IF('liste engagés'!$G203=7,'liste engagés'!L203,\"\")","v":""},0]
[199,{"$f":"IF('liste engagés'!$G204=7,'liste engagés'!A204,\"\")","v":""},{"$f":"IF('liste engagés'!$G204=7,'liste engagés'!B204,\"\")","v":""},{"$f":"IF('liste engagés'!$G204=7,'liste engagés'!C204,\"\")","v":""},{"$f":"IF('liste engagés'!$G204=7,'liste engagés'!D204,\"\")","v":""},{"$f":"IF('liste engagés'!$G204=7,'liste engagés'!E204,\"\")","v":""},{"$f":"IF('liste engagés'!$G204=7,'liste engagés'!K204,\"\")","v":""},{"$f":"IF('liste engagés'!$G204=7,'liste engagés'!L204,\"\")","v":""},0]
[200,{"$f":"IF('liste engagés'!$G205=7,'liste engagés'!A205,\"\")","v":""},{"$f":"IF('liste engagés'!$G205=7,'liste engagés'!B205,\"\")","v":""},{"$f":"IF('liste engagés'!$G205=7,'liste engagés'!C205,\"\")","v":""},{"$f":"IF('liste engagés'!$G205=7,'liste engagés'!D205,\"\")","v":""},{"$f":"IF('liste engagés'!$G205=7,'liste engagés'!E205,\"\")","v":""},{"$f":"IF('liste engagés'!$G205=7,'liste engagés'!K205,\"\")","v":""},{"$f":"IF('liste engagés'!$G205=7,'liste engagés'!L205,\"\")","v":""},0]
[201,{"$f":"IF('liste engagés'!$G206=7,'liste engagés'!A206,\"\")","v":""},{"$f":"IF('liste engagés'!$G206=7,'liste engagés'!B206,\"\")","v":""},{"$f":"IF('liste engagés'!$G206=7,'liste engagés'!C206,\"\")","v":""},{"$f":"IF('liste engagés'!$G206=7,'liste engagés'!D206,\"\")","v":""},{"$f":"IF('liste engagés'!$G206=7,'liste engagés'!E206,\"\")","v":""},{"$f":"IF('liste engagés'!$G206=7,'liste engagés'!K206,\"\")","v":""},{"$f":"IF('liste engagés'!$G206=7,'liste engagés'!L206,\"\")","v":""},0]
[202,{"$f":"IF('liste engagés'!$G207=7,'liste engagés'!A207,\"\")","v":""},{"$f":"IF('liste engagés'!$G207=7,'liste engagés'!B207,\"\")","v":""},{"$f":"IF('liste engagés'!$G207=7,'liste engagés'!C207,\"\")","v":""},{"$f":"IF('liste engagés'!$G207=7,'liste engagés'!D207,\"\")","v":""},{"$f":"IF('liste engagés'!$G207=7,'liste engagés'!E207,\"\")","v":""},{"$f":"IF('liste engagés'!$G207=7,'liste engagés'!K207,\"\")","v":""},{"$f":"IF('liste engagés'!$G207=7,'liste engagés'!L207,\"\")","v":""},0]
[203,{"$f":"IF('liste engagés'!$G208=7,'liste engagés'!A208,\"\")","v":""},{"$f":"IF('liste engagés'!$G208=7,'liste engagés'!B208,\"\")","v":""},{"$f":"IF('liste engagés'!$G208=7,'liste engagés'!C208,\"\")","v":""},{"$f":"IF('liste engagés'!$G208=7,'liste engagés'!D208,\"\")","v":""},{"$f":"IF('liste engagés'!$G208=7,'liste engagés'!E208,\"\")","v":""},{"$f":"IF('liste engagés'!$G208=7,'liste engagés'!K208,\"\")","v":""},{"$f":"IF('liste engagés'!$G208=7,'liste engagés'!L208,\"\")","v":""},0]
[204,{"$f":"IF('liste engagés'!$G209=7,'liste engagés'!A209,\"\")","v":""},{"$f":"IF('liste engagés'!$G209=7,'liste engagés'!B209,\"\")","v":""},{"$f":"IF('liste engagés'!$G209=7,'liste engagés'!C209,\"\")","v":""},{"$f":"IF('liste engagés'!$G209=7,'liste engagés'!D209,\"\")","v":""},{"$f":"IF('liste engagés'!$G209=7,'liste engagés'!E209,\"\")","v":""},{"$f":"IF('liste engagés'!$G209=7,'liste engagés'!K209,\"\")","v":""},{"$f":"IF('liste engagés'!$G209=7,'liste engagés'!L209,\"\")","v":""},0]
[205,{"$f":"IF('liste engagés'!$G210=7,'liste engagés'!A210,\"\")","v":""},{"$f":"IF('liste engagés'!$G210=7,'liste engagés'!B210,\"\")","v":""},{"$f":"IF('liste engagés'!$G210=7,'liste engagés'!C210,\"\")","v":""},{"$f":"IF('liste engagés'!$G210=7,'liste engagés'!D210,\"\")","v":""},{"$f":"IF('liste engagés'!$G210=7,'liste engagés'!E210,\"\")","v":""},{"$f":"IF('liste engagés'!$G210=7,'liste engagés'!K210,\"\")","v":""},{"$f":"IF('liste engagés'!$G210=7,'liste engagés'!L210,\"\")","v":""},0]
[206,{"$f":"IF('liste engagés'!$G211=7,'liste engagés'!A211,\"\")","v":""},{"$f":"IF('liste engagés'!$G211=7,'liste engagés'!B211,\"\")","v":""},{"$f":"IF('liste engagés'!$G211=7,'liste engagés'!C211,\"\")","v":""},{"$f":"IF('liste engagés'!$G211=7,'liste engagés'!D211,\"\")","v":""},{"$f":"IF('liste engagés'!$G211=7,'liste engagés'!E211,\"\")","v":""},{"$f":"IF('liste engagés'!$G211=7,'liste engagés'!K211,\"\")","v":""},{"$f":"IF('liste engagés'!$G211=7,'liste engagés'!L211,\"\")","v":""},0]
[207,{"$f":"IF('liste engagés'!$G212=7,'liste engagés'!A212,\"\")","v":""},{"$f":"IF('liste engagés'!$G212=7,'liste engagés'!B212,\"\")","v":""},{"$f":"IF('liste engagés'!$G212=7,'liste engagés'!C212,\"\")","v":""},{"$f":"IF('liste engagés'!$G212=7,'liste engagés'!D212,\"\")","v":""},{"$f":"IF('liste engagés'!$G212=7,'liste engagés'!E212,\"\")","v":""},{"$f":"IF('liste engagés'!$G212=7,'liste engagés'!K212,\"\")","v":""},{"$f":"IF('liste engagés'!$G212=7,'liste engagés'!L212,\"\")","v":""},0]
[208,{"$f":"IF('liste engagés'!$G213=7,'liste engagés'!A213,\"\")","v":""},{"$f":"IF('liste engagés'!$G213=7,'liste engagés'!B213,\"\")","v":""},{"$f":"IF('liste engagés'!$G213=7,'liste engagés'!C213,\"\")","v":""},{"$f":"IF('liste engagés'!$G213=7,'liste engagés'!D213,\"\")","v":""},{"$f":"IF('liste engagés'!$G213=7,'liste engagés'!E213,\"\")","v":""},{"$f":"IF('liste engagés'!$G213=7,'liste engagés'!K213,\"\")","v":""},{"$f":"IF('liste engagés'!$G213=7,'liste engagés'!L213,\"\")","v":""},0]
[209,{"$f":"IF('liste engagés'!$G214=7,'liste engagés'!A214,\"\")","v":""},{"$f":"IF('liste engagés'!$G214=7,'liste engagés'!B214,\"\")","v":""},{"$f":"IF('liste engagés'!$G214=7,'liste engagés'!C214,\"\")","v":""},{"$f":"IF('liste engagés'!$G214=7,'liste engagés'!D214,\"\")","v":""},{"$f":"IF('liste engagés'!$G214=7,'liste engagés'!E214,\"\")","v":""},{"$f":"IF('liste engagés'!$G214=7,'liste engagés'!K214,\"\")","v":""},{"$f":"IF('liste engagés'!$G214=7,'liste engagés'!L214,\"\")","v":""},0]
[210,{"$f":"IF('liste engagés'!$G215=7,'liste engagés'!A215,\"\")","v":""},{"$f":"IF('liste engagés'!$G215=7,'liste engagés'!B215,\"\")","v":""},{"$f":"IF('liste engagés'!$G215=7,'liste engagés'!C215,\"\")","v":""},{"$f":"IF('liste engagés'!$G215=7,'liste engagés'!D215,\"\")","v":""},{"$f":"IF('liste engagés'!$G215=7,'liste engagés'!E215,\"\")","v":""},{"$f":"IF('liste engagés'!$G215=7,'liste engagés'!K215,\"\")","v":""},{"$f":"IF('liste engagés'!$G215=7,'liste engagés'!L215,\"\")","v":""},0]
[null,null,null,null,null,null,null,null,{"$f":"SUM(I7:I216)","v":8}]

{"sheet":"cat8","index":11,"n_rows":217,"n_cols":10,"rows_kept":217,"cut":false,"hidden":false,"merged":[]}
[{"$f":"+MENU!A1","v":"CHRONO DES LIMOUCHES "},null,null,null,null,null,{"$f":"+MENU!I1","v":"EDITION"},{"$f":"+MENU!J1","v":2018}]
[null,null,null,null,null,null,null,null,"code cat",8]
["CLASSEMENT :",null,{"$f":"+IF(J2=\"\",\"\",VLOOKUP($J$2,Catégories!B3:D17,3))","v":"Autres fédés / NL : 30-39 ans"}]
[]
[]
[null,"N°de DOSSARD","Nom ","Prénom","Club","Fédération","Temps","Moyenne"]
[1,{"$f":"IF('liste engagés'!$G111=8,'liste engagés'!A111,\"\")","v":106},{"$f":"IF('liste engagés'!$G111=8,'liste engagés'!B111,\"\")","v":"MEUNIER"},{"$f":"IF('liste engagés'!$G111=8,'liste engagés'!C111,\"\")","v":"PHILIPPE"},{"$f":"IF('liste engagés'!$G111=8,'liste engagés'!D111,\"\")","v":"FONTANIL"},{"$f":"IF('liste engagés'!$G111=8,'liste engagés'!E111,\"\")","v":"UFOLEP"},{"$f":"IF('liste engagés'!$G111=8,'liste engagés'!K111,\"\")","v":2.2002314814809465E-2},{"$f":"IF('liste engagés'!$G111=8,'liste engagés'!L111,\"\")","v":21.58863755918463},{"$f":"+IF(C7=\"\",0,1)","v":1}]
[{"$f":"+A7+1","v":2},{"$f":"IF('liste engagés'!$G99=8,'liste engagés'!A99,\"\")","v":94},{"$f":"IF('liste engagés'!$G99=8,'liste engagés'!B99,\"\")","v":"PEYRONNET"},{"$f":"IF('liste engagés'!$G99=8,'liste engagés'!C99,\"\")","v":"FABRICE"},{"$f":"IF('liste engagés'!$G99=8,'liste engagés'!D99,\"\")","v":"TEAM VERCOES"},{"$f":"IF('liste engagés'!$G99=8,'liste engagés'!E99,\"\")","v":"FFC"},{"$f":"IF('liste engagés'!$G99=8,'liste engagés'!K99,\"\")","v":2.2037037037032359E-2},{"$f":"IF('liste engagés'!$G99=8,'liste engagés'!L99,\"\")","v":21.554621848744073},1]
[3,{"$f":"IF('liste engagés'!$G6=8,'liste engagés'!A6,\"\")","v":1},{"$f":"IF('liste engagés'!$G6=8,'liste engagés'!B6,\"\")","v":"ESCHARD"},{"$f":"IF('liste engagés'!$G6=8,'liste engagés'!C6,\"\")","v":"GUILLAUME"},{"$f":"IF('liste engagés'!$G6=8,'liste engagés'!D6,\"\")","v":"UCMV"},{"$f":"IF('liste engagés'!$G6=8,'liste engagés'!E6,\"\")","v":"FFC"},{"$f":"IF('liste engagés'!$G6=8,'liste engagés'!K6,\"\")","v":2.3518518518518494E-2},{"$f":"IF('liste engagés'!$G6=8,'liste engagés'!L6,\"\")","v":20.19685039370081},1]
[4,{"$f":"IF('liste engagés'!$G86=8,'liste engagés'!A86,\"\")","v":81},{"$f":"IF('liste engagés'!$G86=8,'liste engagés'!B86,\"\")","v":"HEYRAUD"},{"$f":"IF('liste engagés'!$G86=8,'liste engagés'!C86,\"\")","v":"VINCENT"},{"$f":"IF('liste engagés'!$G86=8,'liste engagés'!D86,\"\")","v":"C PRO"},{"$f":"IF('liste engagés'!$G86=8,'liste engagés'!E86,\"\")","v":"FFC"},{"$f":"IF('liste engagés'!$G86=8,'liste engagés'!K86,\"\")","v":2.508101851851402E-2},{"$f":"IF('liste engagés'!$G86=8,'liste engagés'!L86,\"\")","v":18.938624826953099},1]
[5,{"$f":"IF('liste engagés'!$G129=8,'liste engagés'!A129,\"\")","v":124},{"$f":"IF('liste engagés'!$G129=8,'liste engagés'!B129,\"\")","v":"COURTIAL"},{"$f":"IF('liste engagés'!$G129=8,'liste engagés'!C129,\"\")","v":"JULIEN"},{"$f":"IF('liste engagés'!$G129=8,'liste engagés'!D129,\"\")","v":" C PRO"},{"$f":"IF('liste engagés'!$G129=8,'liste engagés'!E129,\"\")","v":"FFC"},{"$f":"IF('liste engagés'!$G129=8,'liste engagés'!K129,\"\")","v":2.5821759259252952E-2},{"$f":"IF('liste engagés'!$G129=8,'liste engagés'!L129,\"\")","v":18.395338413272086},1]
[6,{"$f":"IF('liste engagés'!$G82=8,'liste engagés'!A82,\"\")","v":77},{"$f":"IF('liste engagés'!$G82=8,'liste engagés'!B82,\"\")","v":"GILLES"},{"$f":"IF('liste engagés'!$G82=8,'liste engagés'!C82,\"\")","v":"CYRIL"},{"$f":"IF('liste engagés'!$G82=8,'liste engagés'!D82,\"\")","v":"SC GRETZ TOURNAN"},{"$f":"IF('liste engagés'!$G82=8,'liste engagés'!E82,\"\")","v":"UFOLEP 3"},{"$f":"IF('liste engagés'!$G82=8,'liste engagés'!K82,\"\")","v":2.7442129629625445E-2},{"$f":"IF('liste engagés'!$G82=8,'liste engagés'!L82,\"\")","v":17.309152256434526},1]
[7,{"$f":"IF('liste engagés'!$G172=8,'liste engagés'!A172,\"\")","v":167},{"$f":"IF('liste engagés'!$G172=8,'liste engagés'!B172,\"\")","v":"BAFFERT"},{"$f":"IF('liste engagés'!$G172=8,'liste engagés'!C172,\"\")","v":"ROMAIN"},{"$f":"IF('liste engagés'!$G172=8,'liste engagés'!D172,\"\")","v":"C PRO"},{"$f":"IF('liste engagés'!$G172=8,'liste engagés'!E172,\"\")","v":"FFC"},{"$f":"IF('liste engagés'!$G172=8,'liste engagés'!K172,\"\")","v":2.9236111111101859E-2},{"$f":"IF('liste engagés'!$G172=8,'liste engagés'!L172,\"\")","v":16.247030878865001},1]
[8,{"$f":"IF('liste engagés'!$G7=8,'liste engagés'!A7,\"\")","v":""},{"$f":"IF('liste engagés'!$G7=8,'liste engagés'!B7,\"\")","v":""},{"$f":"IF('liste engagés'!$G7=8,'liste engagés'!C7,\"\")","v":""},{"$f":"IF('liste engagés'!$G7=8,'liste engagés'!D7,\"\")","v":""},{"$f":"IF('liste engagés'!$G7=8,'liste engagés'!E7,\"\")","v":""},{"$f":"IF('liste engagés'!$G7=8,'liste engagés'!K7,\"\")","v":""},{"$f":"IF('liste engagés'!$G7=8,'liste engagés'!L7,\"\")","v":""},0]
[9,{"$f":"IF('liste engagés'!$G8=8,'liste engagés'!A8,\"\")","v":""},{"$f":"IF('liste engagés'!$G8=8,'liste engagés'!B8,\"\")","v":""},{"$f":"IF('liste engagés'!$G8=8,'liste engagés'!C8,\"\")","v":""},{"$f":"IF('liste engagés'!$G8=8,'liste engagés'!D8,\"\")","v":""},{"$f":"IF('liste engagés'!$G8=8,'liste engagés'!E8,\"\")","v":""},{"$f":"IF('liste engagés'!$G8=8,'liste engagés'!K8,\"\")","v":""},{"$f":"IF('liste engagés'!$G8=8,'liste engagés'!L8,\"\")","v":""},0]
[10,{"$f":"IF('liste engagés'!$G9=8,'liste engagés'!A9,\"\")","v":""},{"$f":"IF('liste engagés'!$G9=8,'liste engagés'!B9,\"\")","v":""},{"$f":"IF('liste engagés'!$G9=8,'liste engagés'!C9,\"\")","v":""},{"$f":"IF('liste engagés'!$G9=8,'liste engagés'!D9,\"\")","v":""},{"$f":"IF('liste engagés'!$G9=8,'liste engagés'!E9,\"\")","v":""},{"$f":"IF('liste engagés'!$G9=8,'liste engagés'!K9,\"\")","v":""},{"$f":"IF('liste engagés'!$G9=8,'liste engagés'!L9,\"\")","v":""},0]
[11,{"$f":"IF('liste engagés'!$G10=8,'liste engagés'!A10,\"\")","v":""},{"$f":"IF('liste engagés'!$G10=8,'liste engagés'!B10,\"\")","v":""},{"$f":"IF('liste engagés'!$G10=8,'liste engagés'!C10,\"\")","v":""},{"$f":"IF('liste engagés'!$G10=8,'liste engagés'!D10,\"\")","v":""},{"$f":"IF('liste engagés'!$G10=8,'liste engagés'!E10,\"\")","v":""},{"$f":"IF('liste engagés'!$G10=8,'liste engagés'!K10,\"\")","v":""},{"$f":"IF('liste engagés'!$G10=8,'liste engagés'!L10,\"\")","v":""},0]
[12,{"$f":"IF('liste engagés'!$G11=8,'liste engagés'!A11,\"\")","v":""},{"$f":"IF('liste engagés'!$G11=8,'liste engagés'!B11,\"\")","v":""},{"$f":"IF('liste engagés'!$G11=8,'liste engagés'!C11,\"\")","v":""},{"$f":"IF('liste engagés'!$G11=8,'liste engagés'!D11,\"\")","v":""},{"$f":"IF('liste engagés'!$G11=8,'liste engagés'!E11,\"\")","v":""},{"$f":"IF('liste engagés'!$G11=8,'liste engagés'!K11,\"\")","v":""},{"$f":"IF('liste engagés'!$G11=8,'liste engagés'!L11,\"\")","v":""},0]
[13,{"$f":"IF('liste engagés'!$G12=8,'liste engagés'!A12,\"\")","v":""},{"$f":"IF('liste engagés'!$G12=8,'liste engagés'!B12,\"\")","v":""},{"$f":"IF('liste engagés'!$G12=8,'liste engagés'!C12,\"\")","v":""},{"$f":"IF('liste engagés'!$G12=8,'liste engagés'!D12,\"\")","v":""},{"$f":"IF('liste engagés'!$G12=8,'liste engagés'!E12,\"\")","v":""},{"$f":"IF('liste engagés'!$G12=8,'liste engagés'!K12,\"\")","v":""},{"$f":"IF('liste engagés'!$G12=8,'liste engagés'!L12,\"\")","v":""},0]
[14,{"$f":"IF('liste engagés'!$G13=8,'liste engagés'!A13,\"\")","v":""},{"$f":"IF('liste engagés'!$G13=8,'liste engagés'!B13,\"\")","v":""},{"$f":"IF('liste engagés'!$G13=8,'liste engagés'!C13,\"\")","v":""},{"$f":"IF('liste engagés'!$G13=8,'liste engagés'!D13,\"\")","v":""},{"$f":"IF('liste engagés'!$G13=8,'liste engagés'!E13,\"\")","v":""},{"$f":"IF('liste engagés'!$G13=8,'liste engagés'!K13,\"\")","v":""},{"$f":"IF('liste engagés'!$G13=8,'liste engagés'!L13,\"\")","v":""},0]
[15,{"$f":"IF('liste engagés'!$G14=8,'liste engagés'!A14,\"\")","v":""},{"$f":"IF('liste engagés'!$G14=8,'liste engagés'!B14,\"\")","v":""},{"$f":"IF('liste engagés'!$G14=8,'liste engagés'!C14,\"\")","v":""},{"$f":"IF('liste engagés'!$G14=8,'liste engagés'!D14,\"\")","v":""},{"$f":"IF('liste engagés'!$G14=8,'liste engagés'!E14,\"\")","v":""},{"$f":"IF('liste engagés'!$G14=8,'liste engagés'!K14,\"\")","v":""},{"$f":"IF('liste engagés'!$G14=8,'liste engagés'!L14,\"\")","v":""},0]
[16,{"$f":"IF('liste engagés'!$G15=8,'liste engagés'!A15,\"\")","v":""},{"$f":"IF('liste engagés'!$G15=8,'liste engagés'!B15,\"\")","v":""},{"$f":"IF('liste engagés'!$G15=8,'liste engagés'!C15,\"\")","v":""},{"$f":"IF('liste engagés'!$G15=8,'liste engagés'!D15,\"\")","v":""},{"$f":"IF('liste engagés'!$G15=8,'liste engagés'!E15,\"\")","v":""},{"$f":"IF('liste engagés'!$G15=8,'liste engagés'!K15,\"\")","v":""},{"$f":"IF('liste engagés'!$G15=8,'liste engagés'!L15,\"\")","v":""},0]
[17,{"$f":"IF('liste engagés'!$G16=8,'liste engagés'!A16,\"\")","v":""},{"$f":"IF('liste engagés'!$G16=8,'liste engagés'!B16,\"\")","v":""},{"$f":"IF('liste engagés'!$G16=8,'liste engagés'!C16,\"\")","v":""},{"$f":"IF('liste engagés'!$G16=8,'liste engagés'!D16,\"\")","v":""},{"$f":"IF('liste engagés'!$G16=8,'liste engagés'!E16,\"\")","v":""},{"$f":"IF('liste engagés'!$G16=8,'liste engagés'!K16,\"\")","v":""},{"$f":"IF('liste engagés'!$G16=8,'liste engagés'!L16,\"\")","v":""},0]
[18,{"$f":"IF('liste engagés'!$G17=8,'liste engagés'!A17,\"\")","v":""},{"$f":"IF('liste engagés'!$G17=8,'liste engagés'!B17,\"\")","v":""},{"$f":"IF('liste engagés'!$G17=8,'liste engagés'!C17,\"\")","v":""},{"$f":"IF('liste engagés'!$G17=8,'liste engagés'!D17,\"\")","v":""},{"$f":"IF('liste engagés'!$G17=8,'liste engagés'!E17,\"\")","v":""},{"$f":"IF('liste engagés'!$G17=8,'liste engagés'!K17,\"\")","v":""},{"$f":"IF('liste engagés'!$G17=8,'liste engagés'!L17,\"\")","v":""},0]
[19,{"$f":"IF('liste engagés'!$G18=8,'liste engagés'!A18,\"\")","v":""},{"$f":"IF('liste engagés'!$G18=8,'liste engagés'!B18,\"\")","v":""},{"$f":"IF('liste engagés'!$G18=8,'liste engagés'!C18,\"\")","v":""},{"$f":"IF('liste engagés'!$G18=8,'liste engagés'!D18,\"\")","v":""},{"$f":"IF('liste engagés'!$G18=8,'liste engagés'!E18,\"\")","v":""},{"$f":"IF('liste engagés'!$G18=8,'liste engagés'!K18,\"\")","v":""},{"$f":"IF('liste engagés'!$G18=8,'liste engagés'!L18,\"\")","v":""},0]
[20,{"$f":"IF('liste engagés'!$G19=8,'liste engagés'!A19,\"\")","v":""},{"$f":"IF('liste engagés'!$G19=8,'liste engagés'!B19,\"\")","v":""},{"$f":"IF('liste engagés'!$G19=8,'liste engagés'!C19,\"\")","v":""},{"$f":"IF('liste engagés'!$G19=8,'liste engagés'!D19,\"\")","v":""},{"$f":"IF('liste engagés'!$G19=8,'liste engagés'!E19,\"\")","v":""},{"$f":"IF('liste engagés'!$G19=8,'liste engagés'!K19,\"\")","v":""},{"$f":"IF('liste engagés'!$G19=8,'liste engagés'!L19,\"\")","v":""},0]
[21,{"$f":"IF('liste engagés'!$G20=8,'liste engagés'!A20,\"\")","v":""},{"$f":"IF('liste engagés'!$G20=8,'liste engagés'!B20,\"\")","v":""},{"$f":"IF('liste engagés'!$G20=8,'liste engagés'!C20,\"\")","v":""},{"$f":"IF('liste engagés'!$G20=8,'liste engagés'!D20,\"\")","v":""},{"$f":"IF('liste engagés'!$G20=8,'liste engagés'!E20,\"\")","v":""},{"$f":"IF('liste engagés'!$G20=8,'liste engagés'!K20,\"\")","v":""},{"$f":"IF('liste engagés'!$G20=8,'liste engagés'!L20,\"\")","v":""},0]
[22,{"$f":"IF('liste engagés'!$G21=8,'liste engagés'!A21,\"\")","v":""},{"$f":"IF('liste engagés'!$G21=8,'liste engagés'!B21,\"\")","v":""},{"$f":"IF('liste engagés'!$G21=8,'liste engagés'!C21,\"\")","v":""},{"$f":"IF('liste engagés'!$G21=8,'liste engagés'!D21,\"\")","v":""},{"$f":"IF('liste engagés'!$G21=8,'liste engagés'!E21,\"\")","v":""},{"$f":"IF('liste engagés'!$G21=8,'liste engagés'!K21,\"\")","v":""},{"$f":"IF('liste engagés'!$G21=8,'liste engagés'!L21,\"\")","v":""},0]
[23,{"$f":"IF('liste engagés'!$G22=8,'liste engagés'!A22,\"\")","v":""},{"$f":"IF('liste engagés'!$G22=8,'liste engagés'!B22,\"\")","v":""},{"$f":"IF('liste engagés'!$G22=8,'liste engagés'!C22,\"\")","v":""},{"$f":"IF('liste engagés'!$G22=8,'liste engagés'!D22,\"\")","v":""},{"$f":"IF('liste engagés'!$G22=8,'liste engagés'!E22,\"\")","v":""},{"$f":"IF('liste engagés'!$G22=8,'liste engagés'!K22,\"\")","v":""},{"$f":"IF('liste engagés'!$G22=8,'liste engagés'!L22,\"\")","v":""},0]
[24,{"$f":"IF('liste engagés'!$G23=8,'liste engagés'!A23,\"\")","v":""},{"$f":"IF('liste engagés'!$G23=8,'liste engagés'!B23,\"\")","v":""},{"$f":"IF('liste engagés'!$G23=8,'liste engagés'!C23,\"\")","v":""},{"$f":"IF('liste engagés'!$G23=8,'liste engagés'!D23,\"\")","v":""},{"$f":"IF('liste engagés'!$G23=8,'liste engagés'!E23,\"\")","v":""},{"$f":"IF('liste engagés'!$G23=8,'liste engagés'!K23,\"\")","v":""},{"$f":"IF('liste engagés'!$G23=8,'liste engagés'!L23,\"\")","v":""},0]
[25,{"$f":"IF('liste engagés'!$G24=8,'liste engagés'!A24,\"\")","v":""},{"$f":"IF('liste engagés'!$G24=8,'liste engagés'!B24,\"\")","v":""},{"$f":"IF('liste engagés'!$G24=8,'liste engagés'!C24,\"\")","v":""},{"$f":"IF('liste engagés'!$G24=8,'liste engagés'!D24,\"\")","v":""},{"$f":"IF('liste engagés'!$G24=8,'liste engagés'!E24,\"\")","v":""},{"$f":"IF('liste engagés'!$G24=8,'liste engagés'!K24,\"\")","v":""},{"$f":"IF('liste engagés'!$G24=8,'liste engagés'!L24,\"\")","v":""},0]
[26,{"$f":"IF('liste engagés'!$G25=8,'liste engagés'!A25,\"\")","v":""},{"$f":"IF('liste engagés'!$G25=8,'liste engagés'!B25,\"\")","v":""},{"$f":"IF('liste engagés'!$G25=8,'liste engagés'!C25,\"\")","v":""},{"$f":"IF('liste engagés'!$G25=8,'liste engagés'!D25,\"\")","v":""},{"$f":"IF('liste engagés'!$G25=8,'liste engagés'!E25,\"\")","v":""},{"$f":"IF('liste engagés'!$G25=8,'liste engagés'!K25,\"\")","v":""},{"$f":"IF('liste engagés'!$G25=8,'liste engagés'!L25,\"\")","v":""},0]
[27,{"$f":"IF('liste engagés'!$G26=8,'liste engagés'!A26,\"\")","v":""},{"$f":"IF('liste engagés'!$G26=8,'liste engagés'!B26,\"\")","v":""},{"$f":"IF('liste engagés'!$G26=8,'liste engagés'!C26,\"\")","v":""},{"$f":"IF('liste engagés'!$G26=8,'liste engagés'!D26,\"\")","v":""},{"$f":"IF('liste engagés'!$G26=8,'liste engagés'!E26,\"\")","v":""},{"$f":"IF('liste engagés'!$G26=8,'liste engagés'!K26,\"\")","v":""},{"$f":"IF('liste engagés'!$G26=8,'liste engagés'!L26,\"\")","v":""},0]
[28,{"$f":"IF('liste engagés'!$G27=8,'liste engagés'!A27,\"\")","v":""},{"$f":"IF('liste engagés'!$G27=8,'liste engagés'!B27,\"\")","v":""},{"$f":"IF('liste engagés'!$G27=8,'liste engagés'!C27,\"\")","v":""},{"$f":"IF('liste engagés'!$G27=8,'liste engagés'!D27,\"\")","v":""},{"$f":"IF('liste engagés'!$G27=8,'liste engagés'!E27,\"\")","v":""},{"$f":"IF('liste engagés'!$G27=8,'liste engagés'!K27,\"\")","v":""},{"$f":"IF('liste engagés'!$G27=8,'liste engagés'!L27,\"\")","v":""},0]
[29,{"$f":"IF('liste engagés'!$G28=8,'liste engagés'!A28,\"\")","v":""},{"$f":"IF('liste engagés'!$G28=8,'liste engagés'!B28,\"\")","v":""},{"$f":"IF('liste engagés'!$G28=8,'liste engagés'!C28,\"\")","v":""},{"$f":"IF('liste engagés'!$G28=8,'liste engagés'!D28,\"\")","v":""},{"$f":"IF('liste engagés'!$G28=8,'liste engagés'!E28,\"\")","v":""},{"$f":"IF('liste engagés'!$G28=8,'liste engagés'!K28,\"\")","v":""},{"$f":"IF('liste engagés'!$G28=8,'liste engagés'!L28,\"\")","v":""},0]
[30,{"$f":"IF('liste engagés'!$G29=8,'liste engagés'!A29,\"\")","v":""},{"$f":"IF('liste engagés'!$G29=8,'liste engagés'!B29,\"\")","v":""},{"$f":"IF('liste engagés'!$G29=8,'liste engagés'!C29,\"\")","v":""},{"$f":"IF('liste engagés'!$G29=8,'liste engagés'!D29,\"\")","v":""},{"$f":"IF('liste engagés'!$G29=8,'liste engagés'!E29,\"\")","v":""},{"$f":"IF('liste engagés'!$G29=8,'liste engagés'!K29,\"\")","v":""},{"$f":"IF('liste engagés'!$G29=8,'liste engagés'!L29,\"\")","v":""},0]
[31,{"$f":"IF('liste engagés'!$G30=8,'liste engagés'!A30,\"\")","v":""},{"$f":"IF('liste engagés'!$G30=8,'liste engagés'!B30,\"\")","v":""},{"$f":"IF('liste engagés'!$G30=8,'liste engagés'!C30,\"\")","v":""},{"$f":"IF('liste engagés'!$G30=8,'liste engagés'!D30,\"\")","v":""},{"$f":"IF('liste engagés'!$G30=8,'liste engagés'!E30,\"\")","v":""},{"$f":"IF('liste engagés'!$G30=8,'liste engagés'!K30,\"\")","v":""},{"$f":"IF('liste engagés'!$G30=8,'liste engagés'!L30,\"\")","v":""},0]
[32,{"$f":"IF('liste engagés'!$G31=8,'liste engagés'!A31,\"\")","v":""},{"$f":"IF('liste engagés'!$G31=8,'liste engagés'!B31,\"\")","v":""},{"$f":"IF('liste engagés'!$G31=8,'liste engagés'!C31,\"\")","v":""},{"$f":"IF('liste engagés'!$G31=8,'liste engagés'!D31,\"\")","v":""},{"$f":"IF('liste engagés'!$G31=8,'liste engagés'!E31,\"\")","v":""},{"$f":"IF('liste engagés'!$G31=8,'liste engagés'!K31,\"\")","v":""},{"$f":"IF('liste engagés'!$G31=8,'liste engagés'!L31,\"\")","v":""},0]
[33,{"$f":"IF('liste engagés'!$G32=8,'liste engagés'!A32,\"\")","v":""},{"$f":"IF('liste engagés'!$G32=8,'liste engagés'!B32,\"\")","v":""},{"$f":"IF('liste engagés'!$G32=8,'liste engagés'!C32,\"\")","v":""},{"$f":"IF('liste engagés'!$G32=8,'liste engagés'!D32,\"\")","v":""},{"$f":"IF('liste engagés'!$G32=8,'liste engagés'!E32,\"\")","v":""},{"$f":"IF('liste engagés'!$G32=8,'liste engagés'!K32,\"\")","v":""},{"$f":"IF('liste engagés'!$G32=8,'liste engagés'!L32,\"\")","v":""},0]
[34,{"$f":"IF('liste engagés'!$G33=8,'liste engagés'!A33,\"\")","v":""},{"$f":"IF('liste engagés'!$G33=8,'liste engagés'!B33,\"\")","v":""},{"$f":"IF('liste engagés'!$G33=8,'liste engagés'!C33,\"\")","v":""},{"$f":"IF('liste engagés'!$G33=8,'liste engagés'!D33,\"\")","v":""},{"$f":"IF('liste engagés'!$G33=8,'liste engagés'!E33,\"\")","v":""},{"$f":"IF('liste engagés'!$G33=8,'liste engagés'!K33,\"\")","v":""},{"$f":"IF('liste engagés'!$G33=8,'liste engagés'!L33,\"\")","v":""},0]
[35,{"$f":"IF('liste engagés'!$G34=8,'liste engagés'!A34,\"\")","v":""},{"$f":"IF('liste engagés'!$G34=8,'liste engagés'!B34,\"\")","v":""},{"$f":"IF('liste engagés'!$G34=8,'liste engagés'!C34,\"\")","v":""},{"$f":"IF('liste engagés'!$G34=8,'liste engagés'!D34,\"\")","v":""},{"$f":"IF('liste engagés'!$G34=8,'liste engagés'!E34,\"\")","v":""},{"$f":"IF('liste engagés'!$G34=8,'liste engagés'!K34,\"\")","v":""},{"$f":"IF('liste engagés'!$G34=8,'liste engagés'!L34,\"\")","v":""},0]
[36,{"$f":"IF('liste engagés'!$G35=8,'liste engagés'!A35,\"\")","v":""},{"$f":"IF('liste engagés'!$G35=8,'liste engagés'!B35,\"\")","v":""},{"$f":"IF('liste engagés'!$G35=8,'liste engagés'!C35,\"\")","v":""},{"$f":"IF('liste engagés'!$G35=8,'liste engagés'!D35,\"\")","v":""},{"$f":"IF('liste engagés'!$G35=8,'liste engagés'!E35,\"\")","v":""},{"$f":"IF('liste engagés'!$G35=8,'liste engagés'!K35,\"\")","v":""},{"$f":"IF('liste engagés'!$G35=8,'liste engagés'!L35,\"\")","v":""},0]
[37,{"$f":"IF('liste engagés'!$G36=8,'liste engagés'!A36,\"\")","v":""},{"$f":"IF('liste engagés'!$G36=8,'liste engagés'!B36,\"\")","v":""},{"$f":"IF('liste engagés'!$G36=8,'liste engagés'!C36,\"\")","v":""},{"$f":"IF('liste engagés'!$G36=8,'liste engagés'!D36,\"\")","v":""},{"$f":"IF('liste engagés'!$G36=8,'liste engagés'!E36,\"\")","v":""},{"$f":"IF('liste engagés'!$G36=8,'liste engagés'!K36,\"\")","v":""},{"$f":"IF('liste engagés'!$G36=8,'liste engagés'!L36,\"\")","v":""},0]
[38,{"$f":"IF('liste engagés'!$G37=8,'liste engagés'!A37,\"\")","v":""},{"$f":"IF('liste engagés'!$G37=8,'liste engagés'!B37,\"\")","v":""},{"$f":"IF('liste engagés'!$G37=8,'liste engagés'!C37,\"\")","v":""},{"$f":"IF('liste engagés'!$G37=8,'liste engagés'!D37,\"\")","v":""},{"$f":"IF('liste engagés'!$G37=8,'liste engagés'!E37,\"\")","v":""},{"$f":"IF('liste engagés'!$G37=8,'liste engagés'!K37,\"\")","v":""},{"$f":"IF('liste engagés'!$G37=8,'liste engagés'!L37,\"\")","v":""},0]
[39,{"$f":"IF('liste engagés'!$G38=8,'liste engagés'!A38,\"\")","v":""},{"$f":"IF('liste engagés'!$G38=8,'liste engagés'!B38,\"\")","v":""},{"$f":"IF('liste engagés'!$G38=8,'liste engagés'!C38,\"\")","v":""},{"$f":"IF('liste engagés'!$G38=8,'liste engagés'!D38,\"\")","v":""},{"$f":"IF('liste engagés'!$G38=8,'liste engagés'!E38,\"\")","v":""},{"$f":"IF('liste engagés'!$G38=8,'liste engagés'!K38,\"\")","v":""},{"$f":"IF('liste engagés'!$G38=8,'liste engagés'!L38,\"\")","v":""},0]
[40,{"$f":"IF('liste engagés'!$G39=8,'liste engagés'!A39,\"\")","v":""},{"$f":"IF('liste engagés'!$G39=8,'liste engagés'!B39,\"\")","v":""},{"$f":"IF('liste engagés'!$G39=8,'liste engagés'!C39,\"\")","v":""},{"$f":"IF('liste engagés'!$G39=8,'liste engagés'!D39,\"\")","v":""},{"$f":"IF('liste engagés'!$G39=8,'liste engagés'!E39,\"\")","v":""},{"$f":"IF('liste engagés'!$G39=8,'liste engagés'!K39,\"\")","v":""},{"$f":"IF('liste engagés'!$G39=8,'liste engagés'!L39,\"\")","v":""},0]
[41,{"$f":"IF('liste engagés'!$G40=8,'liste engagés'!A40,\"\")","v":""},{"$f":"IF('liste engagés'!$G40=8,'liste engagés'!B40,\"\")","v":""},{"$f":"IF('liste engagés'!$G40=8,'liste engagés'!C40,\"\")","v":""},{"$f":"IF('liste engagés'!$G40=8,'liste engagés'!D40,\"\")","v":""},{"$f":"IF('liste engagés'!$G40=8,'liste engagés'!E40,\"\")","v":""},{"$f":"IF('liste engagés'!$G40=8,'liste engagés'!K40,\"\")","v":""},{"$f":"IF('liste engagés'!$G40=8,'liste engagés'!L40,\"\")","v":""},0]
[42,{"$f":"IF('liste engagés'!$G41=8,'liste engagés'!A41,\"\")","v":""},{"$f":"IF('liste engagés'!$G41=8,'liste engagés'!B41,\"\")","v":""},{"$f":"IF('liste engagés'!$G41=8,'liste engagés'!C41,\"\")","v":""},{"$f":"IF('liste engagés'!$G41=8,'liste engagés'!D41,\"\")","v":""},{"$f":"IF('liste engagés'!$G41=8,'liste engagés'!E41,\"\")","v":""},{"$f":"IF('liste engagés'!$G41=8,'liste engagés'!K41,\"\")","v":""},{"$f":"IF('liste engagés'!$G41=8,'liste engagés'!L41,\"\")","v":""},0]
[43,{"$f":"IF('liste engagés'!$G42=8,'liste engagés'!A42,\"\")","v":""},{"$f":"IF('liste engagés'!$G42=8,'liste engagés'!B42,\"\")","v":""},{"$f":"IF('liste engagés'!$G42=8,'liste engagés'!C42,\"\")","v":""},{"$f":"IF('liste engagés'!$G42=8,'liste engagés'!D42,\"\")","v":""},{"$f":"IF('liste engagés'!$G42=8,'liste engagés'!E42,\"\")","v":""},{"$f":"IF('liste engagés'!$G42=8,'liste engagés'!K42,\"\")","v":""},{"$f":"IF('liste engagés'!$G42=8,'liste engagés'!L42,\"\")","v":""},0]
[44,{"$f":"IF('liste engagés'!$G43=8,'liste engagés'!A43,\"\")","v":""},{"$f":"IF('liste engagés'!$G43=8,'liste engagés'!B43,\"\")","v":""},{"$f":"IF('liste engagés'!$G43=8,'liste engagés'!C43,\"\")","v":""},{"$f":"IF('liste engagés'!$G43=8,'liste engagés'!D43,\"\")","v":""},{"$f":"IF('liste engagés'!$G43=8,'liste engagés'!E43,\"\")","v":""},{"$f":"IF('liste engagés'!$G43=8,'liste engagés'!K43,\"\")","v":""},{"$f":"IF('liste engagés'!$G43=8,'liste engagés'!L43,\"\")","v":""},0]
[45,{"$f":"IF('liste engagés'!$G44=8,'liste engagés'!A44,\"\")","v":""},{"$f":"IF('liste engagés'!$G44=8,'liste engagés'!B44,\"\")","v":""},{"$f":"IF('liste engagés'!$G44=8,'liste engagés'!C44,\"\")","v":""},{"$f":"IF('liste engagés'!$G44=8,'liste engagés'!D44,\"\")","v":""},{"$f":"IF('liste engagés'!$G44=8,'liste engagés'!E44,\"\")","v":""},{"$f":"IF('liste engagés'!$G44=8,'liste engagés'!K44,\"\")","v":""},{"$f":"IF('liste engagés'!$G44=8,'liste engagés'!L44,\"\")","v":""},0]
[46,{"$f":"IF('liste engagés'!$G45=8,'liste engagés'!A45,\"\")","v":""},{"$f":"IF('liste engagés'!$G45=8,'liste engagés'!B45,\"\")","v":""},{"$f":"IF('liste engagés'!$G45=8,'liste engagés'!C45,\"\")","v":""},{"$f":"IF('liste engagés'!$G45=8,'liste engagés'!D45,\"\")","v":""},{"$f":"IF('liste engagés'!$G45=8,'liste engagés'!E45,\"\")","v":""},{"$f":"IF('liste engagés'!$G45=8,'liste engagés'!K45,\"\")","v":""},{"$f":"IF('liste engagés'!$G45=8,'liste engagés'!L45,\"\")","v":""},0]
[47,{"$f":"IF('liste engagés'!$G46=8,'liste engagés'!A46,\"\")","v":""},{"$f":"IF('liste engagés'!$G46=8,'liste engagés'!B46,\"\")","v":""},{"$f":"IF('liste engagés'!$G46=8,'liste engagés'!C46,\"\")","v":""},{"$f":"IF('liste engagés'!$G46=8,'liste engagés'!D46,\"\")","v":""},{"$f":"IF('liste engagés'!$G46=8,'liste engagés'!E46,\"\")","v":""},{"$f":"IF('liste engagés'!$G46=8,'liste engagés'!K46,\"\")","v":""},{"$f":"IF('liste engagés'!$G46=8,'liste engagés'!L46,\"\")","v":""},0]
[48,{"$f":"IF('liste engagés'!$G47=8,'liste engagés'!A47,\"\")","v":""},{"$f":"IF('liste engagés'!$G47=8,'liste engagés'!B47,\"\")","v":""},{"$f":"IF('liste engagés'!$G47=8,'liste engagés'!C47,\"\")","v":""},{"$f":"IF('liste engagés'!$G47=8,'liste engagés'!D47,\"\")","v":""},{"$f":"IF('liste engagés'!$G47=8,'liste engagés'!E47,\"\")","v":""},{"$f":"IF('liste engagés'!$G47=8,'liste engagés'!K47,\"\")","v":""},{"$f":"IF('liste engagés'!$G47=8,'liste engagés'!L47,\"\")","v":""},0]
[49,{"$f":"IF('liste engagés'!$G48=8,'liste engagés'!A48,\"\")","v":""},{"$f":"IF('liste engagés'!$G48=8,'liste engagés'!B48,\"\")","v":""},{"$f":"IF('liste engagés'!$G48=8,'liste engagés'!C48,\"\")","v":""},{"$f":"IF('liste engagés'!$G48=8,'liste engagés'!D48,\"\")","v":""},{"$f":"IF('liste engagés'!$G48=8,'liste engagés'!E48,\"\")","v":""},{"$f":"IF('liste engagés'!$G48=8,'liste engagés'!K48,\"\")","v":""},{"$f":"IF('liste engagés'!$G48=8,'liste engagés'!L48,\"\")","v":""},0]
[50,{"$f":"IF('liste engagés'!$G49=8,'liste engagés'!A49,\"\")","v":""},{"$f":"IF('liste engagés'!$G49=8,'liste engagés'!B49,\"\")","v":""},{"$f":"IF('liste engagés'!$G49=8,'liste engagés'!C49,\"\")","v":""},{"$f":"IF('liste engagés'!$G49=8,'liste engagés'!D49,\"\")","v":""},{"$f":"IF('liste engagés'!$G49=8,'liste engagés'!E49,\"\")","v":""},{"$f":"IF('liste engagés'!$G49=8,'liste engagés'!K49,\"\")","v":""},{"$f":"IF('liste engagés'!$G49=8,'liste engagés'!L49,\"\")","v":""},0]
[51,{"$f":"IF('liste engagés'!$G50=8,'liste engagés'!A50,\"\")","v":""},{"$f":"IF('liste engagés'!$G50=8,'liste engagés'!B50,\"\")","v":""},{"$f":"IF('liste engagés'!$G50=8,'liste engagés'!C50,\"\")","v":""},{"$f":"IF('liste engagés'!$G50=8,'liste engagés'!D50,\"\")","v":""},{"$f":"IF('liste engagés'!$G50=8,'liste engagés'!E50,\"\")","v":""},{"$f":"IF('liste engagés'!$G50=8,'liste engagés'!K50,\"\")","v":""},{"$f":"IF('liste engagés'!$G50=8,'liste engagés'!L50,\"\")","v":""},0]
[52,{"$f":"IF('liste engagés'!$G51=8,'liste engagés'!A51,\"\")","v":""},{"$f":"IF('liste engagés'!$G51=8,'liste engagés'!B51,\"\")","v":""},{"$f":"IF('liste engagés'!$G51=8,'liste engagés'!C51,\"\")","v":""},{"$f":"IF('liste engagés'!$G51=8,'liste engagés'!D51,\"\")","v":""},{"$f":"IF('liste engagés'!$G51=8,'liste engagés'!E51,\"\")","v":""},{"$f":"IF('liste engagés'!$G51=8,'liste engagés'!K51,\"\")","v":""},{"$f":"IF('liste engagés'!$G51=8,'liste engagés'!L51,\"\")","v":""},0]
[53,{"$f":"IF('liste engagés'!$G52=8,'liste engagés'!A52,\"\")","v":""},{"$f":"IF('liste engagés'!$G52=8,'liste engagés'!B52,\"\")","v":""},{"$f":"IF('liste engagés'!$G52=8,'liste engagés'!C52,\"\")","v":""},{"$f":"IF('liste engagés'!$G52=8,'liste engagés'!D52,\"\")","v":""},{"$f":"IF('liste engagés'!$G52=8,'liste engagés'!E52,\"\")","v":""},{"$f":"IF('liste engagés'!$G52=8,'liste engagés'!K52,\"\")","v":""},{"$f":"IF('liste engagés'!$G52=8,'liste engagés'!L52,\"\")","v":""},0]
[54,{"$f":"IF('liste engagés'!$G53=8,'liste engagés'!A53,\"\")","v":""},{"$f":"IF('liste engagés'!$G53=8,'liste engagés'!B53,\"\")","v":""},{"$f":"IF('liste engagés'!$G53=8,'liste engagés'!C53,\"\")","v":""},{"$f":"IF('liste engagés'!$G53=8,'liste engagés'!D53,\"\")","v":""},{"$f":"IF('liste engagés'!$G53=8,'liste engagés'!E53,\"\")","v":""},{"$f":"IF('liste engagés'!$G53=8,'liste engagés'!K53,\"\")","v":""},{"$f":"IF('liste engagés'!$G53=8,'liste engagés'!L53,\"\")","v":""},0]
[55,{"$f":"IF('liste engagés'!$G54=8,'liste engagés'!A54,\"\")","v":""},{"$f":"IF('liste engagés'!$G54=8,'liste engagés'!B54,\"\")","v":""},{"$f":"IF('liste engagés'!$G54=8,'liste engagés'!C54,\"\")","v":""},{"$f":"IF('liste engagés'!$G54=8,'liste engagés'!D54,\"\")","v":""},{"$f":"IF('liste engagés'!$G54=8,'liste engagés'!E54,\"\")","v":""},{"$f":"IF('liste engagés'!$G54=8,'liste engagés'!K54,\"\")","v":""},{"$f":"IF('liste engagés'!$G54=8,'liste engagés'!L54,\"\")","v":""},0]
[56,{"$f":"IF('liste engagés'!$G55=8,'liste engagés'!A55,\"\")","v":""},{"$f":"IF('liste engagés'!$G55=8,'liste engagés'!B55,\"\")","v":""},{"$f":"IF('liste engagés'!$G55=8,'liste engagés'!C55,\"\")","v":""},{"$f":"IF('liste engagés'!$G55=8,'liste engagés'!D55,\"\")","v":""},{"$f":"IF('liste engagés'!$G55=8,'liste engagés'!E55,\"\")","v":""},{"$f":"IF('liste engagés'!$G55=8,'liste engagés'!K55,\"\")","v":""},{"$f":"IF('liste engagés'!$G55=8,'liste engagés'!L55,\"\")","v":""},0]
[57,{"$f":"IF('liste engagés'!$G56=8,'liste engagés'!A56,\"\")","v":""},{"$f":"IF('liste engagés'!$G56=8,'liste engagés'!B56,\"\")","v":""},{"$f":"IF('liste engagés'!$G56=8,'liste engagés'!C56,\"\")","v":""},{"$f":"IF('liste engagés'!$G56=8,'liste engagés'!D56,\"\")","v":""},{"$f":"IF('liste engagés'!$G56=8,'liste engagés'!E56,\"\")","v":""},{"$f":"IF('liste engagés'!$G56=8,'liste engagés'!K56,\"\")","v":""},{"$f":"IF('liste engagés'!$G56=8,'liste engagés'!L56,\"\")","v":""},0]
[58,{"$f":"IF('liste engagés'!$G57=8,'liste engagés'!A57,\"\")","v":""},{"$f":"IF('liste engagés'!$G57=8,'liste engagés'!B57,\"\")","v":""},{"$f":"IF('liste engagés'!$G57=8,'liste engagés'!C57,\"\")","v":""},{"$f":"IF('liste engagés'!$G57=8,'liste engagés'!D57,\"\")","v":""},{"$f":"IF('liste engagés'!$G57=8,'liste engagés'!E57,\"\")","v":""},{"$f":"IF('liste engagés'!$G57=8,'liste engagés'!K57,\"\")","v":""},{"$f":"IF('liste engagés'!$G57=8,'liste engagés'!L57,\"\")","v":""},0]
[59,{"$f":"IF('liste engagés'!$G58=8,'liste engagés'!A58,\"\")","v":""},{"$f":"IF('liste engagés'!$G58=8,'liste engagés'!B58,\"\")","v":""},{"$f":"IF('liste engagés'!$G58=8,'liste engagés'!C58,\"\")","v":""},{"$f":"IF('liste engagés'!$G58=8,'liste engagés'!D58,\"\")","v":""},{"$f":"IF('liste engagés'!$G58=8,'liste engagés'!E58,\"\")","v":""},{"$f":"IF('liste engagés'!$G58=8,'liste engagés'!K58,\"\")","v":""},{"$f":"IF('liste engagés'!$G58=8,'liste engagés'!L58,\"\")","v":""},0]
[60,{"$f":"IF('liste engagés'!$G59=8,'liste engagés'!A59,\"\")","v":""},{"$f":"IF('liste engagés'!$G59=8,'liste engagés'!B59,\"\")","v":""},{"$f":"IF('liste engagés'!$G59=8,'liste engagés'!C59,\"\")","v":""},{"$f":"IF('liste engagés'!$G59=8,'liste engagés'!D59,\"\")","v":""},{"$f":"IF('liste engagés'!$G59=8,'liste engagés'!E59,\"\")","v":""},{"$f":"IF('liste engagés'!$G59=8,'liste engagés'!K59,\"\")","v":""},{"$f":"IF('liste engagés'!$G59=8,'liste engagés'!L59,\"\")","v":""},0]
[61,{"$f":"IF('liste engagés'!$G60=8,'liste engagés'!A60,\"\")","v":""},{"$f":"IF('liste engagés'!$G60=8,'liste engagés'!B60,\"\")","v":""},{"$f":"IF('liste engagés'!$G60=8,'liste engagés'!C60,\"\")","v":""},{"$f":"IF('liste engagés'!$G60=8,'liste engagés'!D60,\"\")","v":""},{"$f":"IF('liste engagés'!$G60=8,'liste engagés'!E60,\"\")","v":""},{"$f":"IF('liste engagés'!$G60=8,'liste engagés'!K60,\"\")","v":""},{"$f":"IF('liste engagés'!$G60=8,'liste engagés'!L60,\"\")","v":""},0]
[62,{"$f":"IF('liste engagés'!$G61=8,'liste engagés'!A61,\"\")","v":""},{"$f":"IF('liste engagés'!$G61=8,'liste engagés'!B61,\"\")","v":""},{"$f":"IF('liste engagés'!$G61=8,'liste engagés'!C61,\"\")","v":""},{"$f":"IF('liste engagés'!$G61=8,'liste engagés'!D61,\"\")","v":""},{"$f":"IF('liste engagés'!$G61=8,'liste engagés'!E61,\"\")","v":""},{"$f":"IF('liste engagés'!$G61=8,'liste engagés'!K61,\"\")","v":""},{"$f":"IF('liste engagés'!$G61=8,'liste engagés'!L61,\"\")","v":""},0]
[63,{"$f":"IF('liste engagés'!$G62=8,'liste engagés'!A62,\"\")","v":""},{"$f":"IF('liste engagés'!$G62=8,'liste engagés'!B62,\"\")","v":""},{"$f":"IF('liste engagés'!$G62=8,'liste engagés'!C62,\"\")","v":""},{"$f":"IF('liste engagés'!$G62=8,'liste engagés'!D62,\"\")","v":""},{"$f":"IF('liste engagés'!$G62=8,'liste engagés'!E62,\"\")","v":""},{"$f":"IF('liste engagés'!$G62=8,'liste engagés'!K62,\"\")","v":""},{"$f":"IF('liste engagés'!$G62=8,'liste engagés'!L62,\"\")","v":""},0]
[64,{"$f":"IF('liste engagés'!$G63=8,'liste engagés'!A63,\"\")","v":""},{"$f":"IF('liste engagés'!$G63=8,'liste engagés'!B63,\"\")","v":""},{"$f":"IF('liste engagés'!$G63=8,'liste engagés'!C63,\"\")","v":""},{"$f":"IF('liste engagés'!$G63=8,'liste engagés'!D63,\"\")","v":""},{"$f":"IF('liste engagés'!$G63=8,'liste engagés'!E63,\"\")","v":""},{"$f":"IF('liste engagés'!$G63=8,'liste engagés'!K63,\"\")","v":""},{"$f":"IF('liste engagés'!$G63=8,'liste engagés'!L63,\"\")","v":""},0]
[65,{"$f":"IF('liste engagés'!$G64=8,'liste engagés'!A64,\"\")","v":""},{"$f":"IF('liste engagés'!$G64=8,'liste engagés'!B64,\"\")","v":""},{"$f":"IF('liste engagés'!$G64=8,'liste engagés'!C64,\"\")","v":""},{"$f":"IF('liste engagés'!$G64=8,'liste engagés'!D64,\"\")","v":""},{"$f":"IF('liste engagés'!$G64=8,'liste engagés'!E64,\"\")","v":""},{"$f":"IF('liste engagés'!$G64=8,'liste engagés'!K64,\"\")","v":""},{"$f":"IF('liste engagés'!$G64=8,'liste engagés'!L64,\"\")","v":""},{"$f":"+IF(C71=\"\",0,1)","v":0}]
[{"$f":"+A71+1","v":66},{"$f":"IF('liste engagés'!$G65=8,'liste engagés'!A65,\"\")","v":""},{"$f":"IF('liste engagés'!$G65=8,'liste engagés'!B65,\"\")","v":""},{"$f":"IF('liste engagés'!$G65=8,'liste engagés'!C65,\"\")","v":""},{"$f":"IF('liste engagés'!$G65=8,'liste engagés'!D65,\"\")","v":""},{"$f":"IF('liste engagés'!$G65=8,'liste engagés'!E65,\"\")","v":""},{"$f":"IF('liste engagés'!$G65=8,'liste engagés'!K65,\"\")","v":""},{"$f":"IF('liste engagés'!$G65=8,'liste engagés'!L65,\"\")","v":""},0]
[67,{"$f":"IF('liste engagés'!$G66=8,'liste engagés'!A66,\"\")","v":""},{"$f":"IF('liste engagés'!$G66=8,'liste engagés'!B66,\"\")","v":""},{"$f":"IF('liste engagés'!$G66=8,'liste engagés'!C66,\"\")","v":""},{"$f":"IF('liste engagés'!$G66=8,'liste engagés'!D66,\"\")","v":""},{"$f":"IF('liste engagés'!$G66=8,'liste engagés'!E66,\"\")","v":""},{"$f":"IF('liste engagés'!$G66=8,'liste engagés'!K66,\"\")","v":""},{"$f":"IF('liste engagés'!$G66=8,'liste engagés'!L66,\"\")","v":""},0]
[68,{"$f":"IF('liste engagés'!$G67=8,'liste engagés'!A67,\"\")","v":""},{"$f":"IF('liste engagés'!$G67=8,'liste engagés'!B67,\"\")","v":""},{"$f":"IF('liste engagés'!$G67=8,'liste engagés'!C67,\"\")","v":""},{"$f":"IF('liste engagés'!$G67=8,'liste engagés'!D67,\"\")","v":""},{"$f":"IF('liste engagés'!$G67=8,'liste engagés'!E67,\"\")","v":""},{"$f":"IF('liste engagés'!$G67=8,'liste engagés'!K67,\"\")","v":""},{"$f":"IF('liste engagés'!$G67=8,'liste engagés'!L67,\"\")","v":""},0]
[69,{"$f":"IF('liste engagés'!$G68=8,'liste engagés'!A68,\"\")","v":""},{"$f":"IF('liste engagés'!$G68=8,'liste engagés'!B68,\"\")","v":""},{"$f":"IF('liste engagés'!$G68=8,'liste engagés'!C68,\"\")","v":""},{"$f":"IF('liste engagés'!$G68=8,'liste engagés'!D68,\"\")","v":""},{"$f":"IF('liste engagés'!$G68=8,'liste engagés'!E68,\"\")","v":""},{"$f":"IF('liste engagés'!$G68=8,'liste engagés'!K68,\"\")","v":""},{"$f":"IF('liste engagés'!$G68=8,'liste engagés'!L68,\"\")","v":""},0]
[70,{"$f":"IF('liste engagés'!$G69=8,'liste engagés'!A69,\"\")","v":""},{"$f":"IF('liste engagés'!$G69=8,'liste engagés'!B69,\"\")","v":""},{"$f":"IF('liste engagés'!$G69=8,'liste engagés'!C69,\"\")","v":""},{"$f":"IF('liste engagés'!$G69=8,'liste engagés'!D69,\"\")","v":""},{"$f":"IF('liste engagés'!$G69=8,'liste engagés'!E69,\"\")","v":""},{"$f":"IF('liste engagés'!$G69=8,'liste engagés'!K69,\"\")","v":""},{"$f":"IF('liste engagés'!$G69=8,'liste engagés'!L69,\"\")","v":""},0]
[71,{"$f":"IF('liste engagés'!$G70=8,'liste engagés'!A70,\"\")","v":""},{"$f":"IF('liste engagés'!$G70=8,'liste engagés'!B70,\"\")","v":""},{"$f":"IF('liste engagés'!$G70=8,'liste engagés'!C70,\"\")","v":""},{"$f":"IF('liste engagés'!$G70=8,'liste engagés'!D70,\"\")","v":""},{"$f":"IF('liste engagés'!$G70=8,'liste engagés'!E70,\"\")","v":""},{"$f":"IF('liste engagés'!$G70=8,'liste engagés'!K70,\"\")","v":""},{"$f":"IF('liste engagés'!$G70=8,'liste engagés'!L70,\"\")","v":""},0]
[72,{"$f":"IF('liste engagés'!$G71=8,'liste engagés'!A71,\"\")","v":""},{"$f":"IF('liste engagés'!$G71=8,'liste engagés'!B71,\"\")","v":""},{"$f":"IF('liste engagés'!$G71=8,'liste engagés'!C71,\"\")","v":""},{"$f":"IF('liste engagés'!$G71=8,'liste engagés'!D71,\"\")","v":""},{"$f":"IF('liste engagés'!$G71=8,'liste engagés'!E71,\"\")","v":""},{"$f":"IF('liste engagés'!$G71=8,'liste engagés'!K71,\"\")","v":""},{"$f":"IF('liste engagés'!$G71=8,'liste engagés'!L71,\"\")","v":""},0]
[73,{"$f":"IF('liste engagés'!$G72=8,'liste engagés'!A72,\"\")","v":""},{"$f":"IF('liste engagés'!$G72=8,'liste engagés'!B72,\"\")","v":""},{"$f":"IF('liste engagés'!$G72=8,'liste engagés'!C72,\"\")","v":""},{"$f":"IF('liste engagés'!$G72=8,'liste engagés'!D72,\"\")","v":""},{"$f":"IF('liste engagés'!$G72=8,'liste engagés'!E72,\"\")","v":""},{"$f":"IF('liste engagés'!$G72=8,'liste engagés'!K72,\"\")","v":""},{"$f":"IF('liste engagés'!$G72=8,'liste engagés'!L72,\"\")","v":""},0]
[74,{"$f":"IF('liste engagés'!$G73=8,'liste engagés'!A73,\"\")","v":""},{"$f":"IF('liste engagés'!$G73=8,'liste engagés'!B73,\"\")","v":""},{"$f":"IF('liste engagés'!$G73=8,'liste engagés'!C73,\"\")","v":""},{"$f":"IF('liste engagés'!$G73=8,'liste engagés'!D73,\"\")","v":""},{"$f":"IF('liste engagés'!$G73=8,'liste engagés'!E73,\"\")","v":""},{"$f":"IF('liste engagés'!$G73=8,'liste engagés'!K73,\"\")","v":""},{"$f":"IF('liste engagés'!$G73=8,'liste engagés'!L73,\"\")","v":""},0]
[75,{"$f":"IF('liste engagés'!$G74=8,'liste engagés'!A74,\"\")","v":""},{"$f":"IF('liste engagés'!$G74=8,'liste engagés'!B74,\"\")","v":""},{"$f":"IF('liste engagés'!$G74=8,'liste engagés'!C74,\"\")","v":""},{"$f":"IF('liste engagés'!$G74=8,'liste engagés'!D74,\"\")","v":""},{"$f":"IF('liste engagés'!$G74=8,'liste engagés'!E74,\"\")","v":""},{"$f":"IF('liste engagés'!$G74=8,'liste engagés'!K74,\"\")","v":""},{"$f":"IF('liste engagés'!$G74=8,'liste engagés'!L74,\"\")","v":""},0]
[76,{"$f":"IF('liste engagés'!$G75=8,'liste engagés'!A75,\"\")","v":""},{"$f":"IF('liste engagés'!$G75=8,'liste engagés'!B75,\"\")","v":""},{"$f":"IF('liste engagés'!$G75=8,'liste engagés'!C75,\"\")","v":""},{"$f":"IF('liste engagés'!$G75=8,'liste engagés'!D75,\"\")","v":""},{"$f":"IF('liste engagés'!$G75=8,'liste engagés'!E75,\"\")","v":""},{"$f":"IF('liste engagés'!$G75=8,'liste engagés'!K75,\"\")","v":""},{"$f":"IF('liste engagés'!$G75=8,'liste engagés'!L75,\"\")","v":""},0]
[77,{"$f":"IF('liste engagés'!$G76=8,'liste engagés'!A76,\"\")","v":""},{"$f":"IF('liste engagés'!$G76=8,'liste engagés'!B76,\"\")","v":""},{"$f":"IF('liste engagés'!$G76=8,'liste engagés'!C76,\"\")","v":""},{"$f":"IF('liste engagés'!$G76=8,'liste engagés'!D76,\"\")","v":""},{"$f":"IF('liste engagés'!$G76=8,'liste engagés'!E76,\"\")","v":""},{"$f":"IF('liste engagés'!$G76=8,'liste engagés'!K76,\"\")","v":""},{"$f":"IF('liste engagés'!$G76=8,'liste engagés'!L76,\"\")","v":""},0]
[78,{"$f":"IF('liste engagés'!$G77=8,'liste engagés'!A77,\"\")","v":""},{"$f":"IF('liste engagés'!$G77=8,'liste engagés'!B77,\"\")","v":""},{"$f":"IF('liste engagés'!$G77=8,'liste engagés'!C77,\"\")","v":""},{"$f":"IF('liste engagés'!$G77=8,'liste engagés'!D77,\"\")","v":""},{"$f":"IF('liste engagés'!$G77=8,'liste engagés'!E77,\"\")","v":""},{"$f":"IF('liste engagés'!$G77=8,'liste engagés'!K77,\"\")","v":""},{"$f":"IF('liste engagés'!$G77=8,'liste engagés'!L77,\"\")","v":""},0]
[79,{"$f":"IF('liste engagés'!$G78=8,'liste engagés'!A78,\"\")","v":""},{"$f":"IF('liste engagés'!$G78=8,'liste engagés'!B78,\"\")","v":""},{"$f":"IF('liste engagés'!$G78=8,'liste engagés'!C78,\"\")","v":""},{"$f":"IF('liste engagés'!$G78=8,'liste engagés'!D78,\"\")","v":""},{"$f":"IF('liste engagés'!$G78=8,'liste engagés'!E78,\"\")","v":""},{"$f":"IF('liste engagés'!$G78=8,'liste engagés'!K78,\"\")","v":""},{"$f":"IF('liste engagés'!$G78=8,'liste engagés'!L78,\"\")","v":""},0]
[80,{"$f":"IF('liste engagés'!$G79=8,'liste engagés'!A79,\"\")","v":""},{"$f":"IF('liste engagés'!$G79=8,'liste engagés'!B79,\"\")","v":""},{"$f":"IF('liste engagés'!$G79=8,'liste engagés'!C79,\"\")","v":""},{"$f":"IF('liste engagés'!$G79=8,'liste engagés'!D79,\"\")","v":""},{"$f":"IF('liste engagés'!$G79=8,'liste engagés'!E79,\"\")","v":""},{"$f":"IF('liste engagés'!$G79=8,'liste engagés'!K79,\"\")","v":""},{"$f":"IF('liste engagés'!$G79=8,'liste engagés'!L79,\"\")","v":""},0]
[81,{"$f":"IF('liste engagés'!$G80=8,'liste engagés'!A80,\"\")","v":""},{"$f":"IF('liste engagés'!$G80=8,'liste engagés'!B80,\"\")","v":""},{"$f":"IF('liste engagés'!$G80=8,'liste engagés'!C80,\"\")","v":""},{"$f":"IF('liste engagés'!$G80=8,'liste engagés'!D80,\"\")","v":""},{"$f":"IF('liste engagés'!$G80=8,'liste engagés'!E80,\"\")","v":""},{"$f":"IF('liste engagés'!$G80=8,'liste engagés'!K80,\"\")","v":""},{"$f":"IF('liste engagés'!$G80=8,'liste engagés'!L80,\"\")","v":""},0]
[82,{"$f":"IF('liste engagés'!$G81=8,'liste engagés'!A81,\"\")","v":""},{"$f":"IF('liste engagés'!$G81=8,'liste engagés'!B81,\"\")","v":""},{"$f":"IF('liste engagés'!$G81=8,'liste engagés'!C81,\"\")","v":""},{"$f":"IF('liste engagés'!$G81=8,'liste engagés'!D81,\"\")","v":""},{"$f":"IF('liste engagés'!$G81=8,'liste engagés'!E81,\"\")","v":""},{"$f":"IF('liste engagés'!$G81=8,'liste engagés'!K81,\"\")","v":""},{"$f":"IF('liste engagés'!$G81=8,'liste engagés'!L81,\"\")","v":""},0]
[83,{"$f":"IF('liste engagés'!$G83=8,'liste engagés'!A83,\"\")","v":""},{"$f":"IF('liste engagés'!$G83=8,'liste engagés'!B83,\"\")","v":""},{"$f":"IF('liste engagés'!$G83=8,'liste engagés'!C83,\"\")","v":""},{"$f":"IF('liste engagés'!$G83=8,'liste engagés'!D83,\"\")","v":""},{"$f":"IF('liste engagés'!$G83=8,'liste engagés'!E83,\"\")","v":""},{"$f":"IF('liste engagés'!$G83=8,'liste engagés'!K83,\"\")","v":""},{"$f":"IF('liste engagés'!$G83=8,'liste engagés'!L83,\"\")","v":""},0]
[84,{"$f":"IF('liste engagés'!$G84=8,'liste engagés'!A84,\"\")","v":""},{"$f":"IF('liste engagés'!$G84=8,'liste engagés'!B84,\"\")","v":""},{"$f":"IF('liste engagés'!$G84=8,'liste engagés'!C84,\"\")","v":""},{"$f":"IF('liste engagés'!$G84=8,'liste engagés'!D84,\"\")","v":""},{"$f":"IF('liste engagés'!$G84=8,'liste engagés'!E84,\"\")","v":""},{"$f":"IF('liste engagés'!$G84=8,'liste engagés'!K84,\"\")","v":""},{"$f":"IF('liste engagés'!$G84=8,'liste engagés'!L84,\"\")","v":""},0]
[85,{"$f":"IF('liste engagés'!$G85=8,'liste engagés'!A85,\"\")","v":""},{"$f":"IF('liste engagés'!$G85=8,'liste engagés'!B85,\"\")","v":""},{"$f":"IF('liste engagés'!$G85=8,'liste engagés'!C85,\"\")","v":""},{"$f":"IF('liste engagés'!$G85=8,'liste engagés'!D85,\"\")","v":""},{"$f":"IF('liste engagés'!$G85=8,'liste engagés'!E85,\"\")","v":""},{"$f":"IF('liste engagés'!$G85=8,'liste engagés'!K85,\"\")","v":""},{"$f":"IF('liste engagés'!$G85=8,'liste engagés'!L85,\"\")","v":""},0]
[86,{"$f":"IF('liste engagés'!$G87=8,'liste engagés'!A87,\"\")","v":""},{"$f":"IF('liste engagés'!$G87=8,'liste engagés'!B87,\"\")","v":""},{"$f":"IF('liste engagés'!$G87=8,'liste engagés'!C87,\"\")","v":""},{"$f":"IF('liste engagés'!$G87=8,'liste engagés'!D87,\"\")","v":""},{"$f":"IF('liste engagés'!$G87=8,'liste engagés'!E87,\"\")","v":""},{"$f":"IF('liste engagés'!$G87=8,'liste engagés'!K87,\"\")","v":""},{"$f":"IF('liste engagés'!$G87=8,'liste engagés'!L87,\"\")","v":""},0]
[87,{"$f":"IF('liste engagés'!$G88=8,'liste engagés'!A88,\"\")","v":""},{"$f":"IF('liste engagés'!$G88=8,'liste engagés'!B88,\"\")","v":""},{"$f":"IF('liste engagés'!$G88=8,'liste engagés'!C88,\"\")","v":""},{"$f":"IF('liste engagés'!$G88=8,'liste engagés'!D88,\"\")","v":""},{"$f":"IF('liste engagés'!$G88=8,'liste engagés'!E88,\"\")","v":""},{"$f":"IF('liste engagés'!$G88=8,'liste engagés'!K88,\"\")","v":""},{"$f":"IF('liste engagés'!$G88=8,'liste engagés'!L88,\"\")","v":""},0]
[88,{"$f":"IF('liste engagés'!$G89=8,'liste engagés'!A89,\"\")","v":""},{"$f":"IF('liste engagés'!$G89=8,'liste engagés'!B89,\"\")","v":""},{"$f":"IF('liste engagés'!$G89=8,'liste engagés'!C89,\"\")","v":""},{"$f":"IF('liste engagés'!$G89=8,'liste engagés'!D89,\"\")","v":""},{"$f":"IF('liste engagés'!$G89=8,'liste engagés'!E89,\"\")","v":""},{"$f":"IF('liste engagés'!$G89=8,'liste engagés'!K89,\"\")","v":""},{"$f":"IF('liste engagés'!$G89=8,'liste engagés'!L89,\"\")","v":""},0]
[89,{"$f":"IF('liste engagés'!$G90=8,'liste engagés'!A90,\"\")","v":""},{"$f":"IF('liste engagés'!$G90=8,'liste engagés'!B90,\"\")","v":""},{"$f":"IF('liste engagés'!$G90=8,'liste engagés'!C90,\"\")","v":""},{"$f":"IF('liste engagés'!$G90=8,'liste engagés'!D90,\"\")","v":""},{"$f":"IF('liste engagés'!$G90=8,'liste engagés'!E90,\"\")","v":""},{"$f":"IF('liste engagés'!$G90=8,'liste engagés'!K90,\"\")","v":""},{"$f":"IF('liste engagés'!$G90=8,'liste engagés'!L90,\"\")","v":""},0]
[90,{"$f":"IF('liste engagés'!$G91=8,'liste engagés'!A91,\"\")","v":""},{"$f":"IF('liste engagés'!$G91=8,'liste engagés'!B91,\"\")","v":""},{"$f":"IF('liste engagés'!$G91=8,'liste engagés'!C91,\"\")","v":""},{"$f":"IF('liste engagés'!$G91=8,'liste engagés'!D91,\"\")","v":""},{"$f":"IF('liste engagés'!$G91=8,'liste engagés'!E91,\"\")","v":""},{"$f":"IF('liste engagés'!$G91=8,'liste engagés'!K91,\"\")","v":""},{"$f":"IF('liste engagés'!$G91=8,'liste engagés'!L91,\"\")","v":""},0]
[91,{"$f":"IF('liste engagés'!$G92=8,'liste engagés'!A92,\"\")","v":""},{"$f":"IF('liste engagés'!$G92=8,'liste engagés'!B92,\"\")","v":""},{"$f":"IF('liste engagés'!$G92=8,'liste engagés'!C92,\"\")","v":""},{"$f":"IF('liste engagés'!$G92=8,'liste engagés'!D92,\"\")","v":""},{"$f":"IF('liste engagés'!$G92=8,'liste engagés'!E92,\"\")","v":""},{"$f":"IF('liste engagés'!$G92=8,'liste engagés'!K92,\"\")","v":""},{"$f":"IF('liste engagés'!$G92=8,'liste engagés'!L92,\"\")","v":""},0]
[92,{"$f":"IF('liste engagés'!$G93=8,'liste engagés'!A93,\"\")","v":""},{"$f":"IF('liste engagés'!$G93=8,'liste engagés'!B93,\"\")","v":""},{"$f":"IF('liste engagés'!$G93=8,'liste engagés'!C93,\"\")","v":""},{"$f":"IF('liste engagés'!$G93=8,'liste engagés'!D93,\"\")","v":""},{"$f":"IF('liste engagés'!$G93=8,'liste engagés'!E93,\"\")","v":""},{"$f":"IF('liste engagés'!$G93=8,'liste engagés'!K93,\"\")","v":""},{"$f":"IF('liste engagés'!$G93=8,'liste engagés'!L93,\"\")","v":""},0]
[93,{"$f":"IF('liste engagés'!$G94=8,'liste engagés'!A94,\"\")","v":""},{"$f":"IF('liste engagés'!$G94=8,'liste engagés'!B94,\"\")","v":""},{"$f":"IF('liste engagés'!$G94=8,'liste engagés'!C94,\"\")","v":""},{"$f":"IF('liste engagés'!$G94=8,'liste engagés'!D94,\"\")","v":""},{"$f":"IF('liste engagés'!$G94=8,'liste engagés'!E94,\"\")","v":""},{"$f":"IF('liste engagés'!$G94=8,'liste engagés'!K94,\"\")","v":""},{"$f":"IF('liste engagés'!$G94=8,'liste engagés'!L94,\"\")","v":""},0]
[94,{"$f":"IF('liste engagés'!$G95=8,'liste engagés'!A95,\"\")","v":""},{"$f":"IF('liste engagés'!$G95=8,'liste engagés'!B95,\"\")","v":""},{"$f":"IF('liste engagés'!$G95=8,'liste engagés'!C95,\"\")","v":""},{"$f":"IF('liste engagés'!$G95=8,'liste engagés'!D95,\"\")","v":""},{"$f":"IF('liste engagés'!$G95=8,'liste engagés'!E95,\"\")","v":""},{"$f":"IF('liste engagés'!$G95=8,'liste engagés'!K95,\"\")","v":""},{"$f":"IF('liste engagés'!$G95=8,'liste engagés'!L95,\"\")","v":""},0]
[95,{"$f":"IF('liste engagés'!$G96=8,'liste engagés'!A96,\"\")","v":""},{"$f":"IF('liste engagés'!$G96=8,'liste engagés'!B96,\"\")","v":""},{"$f":"IF('liste engagés'!$G96=8,'liste engagés'!C96,\"\")","v":""},{"$f":"IF('liste engagés'!$G96=8,'liste engagés'!D96,\"\")","v":""},{"$f":"IF('liste engagés'!$G96=8,'liste engagés'!E96,\"\")","v":""},{"$f":"IF('liste engagés'!$G96=8,'liste engagés'!K96,\"\")","v":""},{"$f":"IF('liste engagés'!$G96=8,'liste engagés'!L96,\"\")","v":""},0]
[96,{"$f":"IF('liste engagés'!$G97=8,'liste engagés'!A97,\"\")","v":""},{"$f":"IF('liste engagés'!$G97=8,'liste engagés'!B97,\"\")","v":""},{"$f":"IF('liste engagés'!$G97=8,'liste engagés'!C97,\"\")","v":""},{"$f":"IF('liste engagés'!$G97=8,'liste engagés'!D97,\"\")","v":""},{"$f":"IF('liste engagés'!$G97=8,'liste engagés'!E97,\"\")","v":""},{"$f":"IF('liste engagés'!$G97=8,'liste engagés'!K97,\"\")","v":""},{"$f":"IF('liste engagés'!$G97=8,'liste engagés'!L97,\"\")","v":""},0]
[97,{"$f":"IF('liste engagés'!$G98=8,'liste engagés'!A98,\"\")","v":""},{"$f":"IF('liste engagés'!$G98=8,'liste engagés'!B98,\"\")","v":""},{"$f":"IF('liste engagés'!$G98=8,'liste engagés'!C98,\"\")","v":""},{"$f":"IF('liste engagés'!$G98=8,'liste engagés'!D98,\"\")","v":""},{"$f":"IF('liste engagés'!$G98=8,'liste engagés'!E98,\"\")","v":""},{"$f":"IF('liste engagés'!$G98=8,'liste engagés'!K98,\"\")","v":""},{"$f":"IF('liste engagés'!$G98=8,'liste engagés'!L98,\"\")","v":""},0]
[98,{"$f":"IF('liste engagés'!$G100=8,'liste engagés'!A100,\"\")","v":""},{"$f":"IF('liste engagés'!$G100=8,'liste engagés'!B100,\"\")","v":""},{"$f":"IF('liste engagés'!$G100=8,'liste engagés'!C100,\"\")","v":""},{"$f":"IF('liste engagés'!$G100=8,'liste engagés'!D100,\"\")","v":""},{"$f":"IF('liste engagés'!$G100=8,'liste engagés'!E100,\"\")","v":""},{"$f":"IF('liste engagés'!$G100=8,'liste engagés'!K100,\"\")","v":""},{"$f":"IF('liste engagés'!$G100=8,'liste engagés'!L100,\"\")","v":""},0]
[99,{"$f":"IF('liste engagés'!$G101=8,'liste engagés'!A101,\"\")","v":""},{"$f":"IF('liste engagés'!$G101=8,'liste engagés'!B101,\"\")","v":""},{"$f":"IF('liste engagés'!$G101=8,'liste engagés'!C101,\"\")","v":""},{"$f":"IF('liste engagés'!$G101=8,'liste engagés'!D101,\"\")","v":""},{"$f":"IF('liste engagés'!$G101=8,'liste engagés'!E101,\"\")","v":""},{"$f":"IF('liste engagés'!$G101=8,'liste engagés'!K101,\"\")","v":""},{"$f":"IF('liste engagés'!$G101=8,'liste engagés'!L101,\"\")","v":""},0]
[100,{"$f":"IF('liste engagés'!$G102=8,'liste engagés'!A102,\"\")","v":""},{"$f":"IF('liste engagés'!$G102=8,'liste engagés'!B102,\"\")","v":""},{"$f":"IF('liste engagés'!$G102=8,'liste engagés'!C102,\"\")","v":""},{"$f":"IF('liste engagés'!$G102=8,'liste engagés'!D102,\"\")","v":""},{"$f":"IF('liste engagés'!$G102=8,'liste engagés'!E102,\"\")","v":""},{"$f":"IF('liste engagés'!$G102=8,'liste engagés'!K102,\"\")","v":""},{"$f":"IF('liste engagés'!$G102=8,'liste engagés'!L102,\"\")","v":""},0]
[101,{"$f":"IF('liste engagés'!$G103=8,'liste engagés'!A103,\"\")","v":""},{"$f":"IF('liste engagés'!$G103=8,'liste engagés'!B103,\"\")","v":""},{"$f":"IF('liste engagés'!$G103=8,'liste engagés'!C103,\"\")","v":""},{"$f":"IF('liste engagés'!$G103=8,'liste engagés'!D103,\"\")","v":""},{"$f":"IF('liste engagés'!$G103=8,'liste engagés'!E103,\"\")","v":""},{"$f":"IF('liste engagés'!$G103=8,'liste engagés'!K103,\"\")","v":""},{"$f":"IF('liste engagés'!$G103=8,'liste engagés'!L103,\"\")","v":""},0]
[102,{"$f":"IF('liste engagés'!$G104=8,'liste engagés'!A104,\"\")","v":""},{"$f":"IF('liste engagés'!$G104=8,'liste engagés'!B104,\"\")","v":""},{"$f":"IF('liste engagés'!$G104=8,'liste engagés'!C104,\"\")","v":""},{"$f":"IF('liste engagés'!$G104=8,'liste engagés'!D104,\"\")","v":""},{"$f":"IF('liste engagés'!$G104=8,'liste engagés'!E104,\"\")","v":""},{"$f":"IF('liste engagés'!$G104=8,'liste engagés'!K104,\"\")","v":""},{"$f":"IF('liste engagés'!$G104=8,'liste engagés'!L104,\"\")","v":""},0]
[103,{"$f":"IF('liste engagés'!$G105=8,'liste engagés'!A105,\"\")","v":""},{"$f":"IF('liste engagés'!$G105=8,'liste engagés'!B105,\"\")","v":""},{"$f":"IF('liste engagés'!$G105=8,'liste engagés'!C105,\"\")","v":""},{"$f":"IF('liste engagés'!$G105=8,'liste engagés'!D105,\"\")","v":""},{"$f":"IF('liste engagés'!$G105=8,'liste engagés'!E105,\"\")","v":""},{"$f":"IF('liste engagés'!$G105=8,'liste engagés'!K105,\"\")","v":""},{"$f":"IF('liste engagés'!$G105=8,'liste engagés'!L105,\"\")","v":""},0]
[104,{"$f":"IF('liste engagés'!$G106=8,'liste engagés'!A106,\"\")","v":""},{"$f":"IF('liste engagés'!$G106=8,'liste engagés'!B106,\"\")","v":""},{"$f":"IF('liste engagés'!$G106=8,'liste engagés'!C106,\"\")","v":""},{"$f":"IF('liste engagés'!$G106=8,'liste engagés'!D106,\"\")","v":""},{"$f":"IF('liste engagés'!$G106=8,'liste engagés'!E106,\"\")","v":""},{"$f":"IF('liste engagés'!$G106=8,'liste engagés'!K106,\"\")","v":""},{"$f":"IF('liste engagés'!$G106=8,'liste engagés'!L106,\"\")","v":""},0]
[105,{"$f":"IF('liste engagés'!$G107=8,'liste engagés'!A107,\"\")","v":""},{"$f":"IF('liste engagés'!$G107=8,'liste engagés'!B107,\"\")","v":""},{"$f":"IF('liste engagés'!$G107=8,'liste engagés'!C107,\"\")","v":""},{"$f":"IF('liste engagés'!$G107=8,'liste engagés'!D107,\"\")","v":""},{"$f":"IF('liste engagés'!$G107=8,'liste engagés'!E107,\"\")","v":""},{"$f":"IF('liste engagés'!$G107=8,'liste engagés'!K107,\"\")","v":""},{"$f":"IF('liste engagés'!$G107=8,'liste engagés'!L107,\"\")","v":""},0]
[106,{"$f":"IF('liste engagés'!$G108=8,'liste engagés'!A108,\"\")","v":""},{"$f":"IF('liste engagés'!$G108=8,'liste engagés'!B108,\"\")","v":""},{"$f":"IF('liste engagés'!$G108=8,'liste engagés'!C108,\"\")","v":""},{"$f":"IF('liste engagés'!$G108=8,'liste engagés'!D108,\"\")","v":""},{"$f":"IF('liste engagés'!$G108=8,'liste engagés'!E108,\"\")","v":""},{"$f":"IF('liste engagés'!$G108=8,'liste engagés'!K108,\"\")","v":""},{"$f":"IF('liste engagés'!$G108=8,'liste engagés'!L108,\"\")","v":""},0]
[107,{"$f":"IF('liste engagés'!$G109=8,'liste engagés'!A109,\"\")","v":""},{"$f":"IF('liste engagés'!$G109=8,'liste engagés'!B109,\"\")","v":""},{"$f":"IF('liste engagés'!$G109=8,'liste engagés'!C109,\"\")","v":""},{"$f":"IF('liste engagés'!$G109=8,'liste engagés'!D109,\"\")","v":""},{"$f":"IF('liste engagés'!$G109=8,'liste engagés'!E109,\"\")","v":""},{"$f":"IF('liste engagés'!$G109=8,'liste engagés'!K109,\"\")","v":""},{"$f":"IF('liste engagés'!$G109=8,'liste engagés'!L109,\"\")","v":""},0]
[108,{"$f":"IF('liste engagés'!$G110=8,'liste engagés'!A110,\"\")","v":""},{"$f":"IF('liste engagés'!$G110=8,'liste engagés'!B110,\"\")","v":""},{"$f":"IF('liste engagés'!$G110=8,'liste engagés'!C110,\"\")","v":""},{"$f":"IF('liste engagés'!$G110=8,'liste engagés'!D110,\"\")","v":""},{"$f":"IF('liste engagés'!$G110=8,'liste engagés'!E110,\"\")","v":""},{"$f":"IF('liste engagés'!$G110=8,'liste engagés'!K110,\"\")","v":""},{"$f":"IF('liste engagés'!$G110=8,'liste engagés'!L110,\"\")","v":""},0]
[109,{"$f":"IF('liste engagés'!$G112=8,'liste engagés'!A112,\"\")","v":""},{"$f":"IF('liste engagés'!$G112=8,'liste engagés'!B112,\"\")","v":""},{"$f":"IF('liste engagés'!$G112=8,'liste engagés'!C112,\"\")","v":""},{"$f":"IF('liste engagés'!$G112=8,'liste engagés'!D112,\"\")","v":""},{"$f":"IF('liste engagés'!$G112=8,'liste engagés'!E112,\"\")","v":""},{"$f":"IF('liste engagés'!$G112=8,'liste engagés'!K112,\"\")","v":""},{"$f":"IF('liste engagés'!$G112=8,'liste engagés'!L112,\"\")","v":""},0]
[110,{"$f":"IF('liste engagés'!$G113=8,'liste engagés'!A113,\"\")","v":""},{"$f":"IF('liste engagés'!$G113=8,'liste engagés'!B113,\"\")","v":""},{"$f":"IF('liste engagés'!$G113=8,'liste engagés'!C113,\"\")","v":""},{"$f":"IF('liste engagés'!$G113=8,'liste engagés'!D113,\"\")","v":""},{"$f":"IF('liste engagés'!$G113=8,'liste engagés'!E113,\"\")","v":""},{"$f":"IF('liste engagés'!$G113=8,'liste engagés'!K113,\"\")","v":""},{"$f":"IF('liste engagés'!$G113=8,'liste engagés'!L113,\"\")","v":""},0]
[111,{"$f":"IF('liste engagés'!$G114=8,'liste engagés'!A114,\"\")","v":""},{"$f":"IF('liste engagés'!$G114=8,'liste engagés'!B114,\"\")","v":""},{"$f":"IF('liste engagés'!$G114=8,'liste engagés'!C114,\"\")","v":""},{"$f":"IF('liste engagés'!$G114=8,'liste engagés'!D114,\"\")","v":""},{"$f":"IF('liste engagés'!$G114=8,'liste engagés'!E114,\"\")","v":""},{"$f":"IF('liste engagés'!$G114=8,'liste engagés'!K114,\"\")","v":""},{"$f":"IF('liste engagés'!$G114=8,'liste engagés'!L114,\"\")","v":""},0]
[112,{"$f":"IF('liste engagés'!$G115=8,'liste engagés'!A115,\"\")","v":""},{"$f":"IF('liste engagés'!$G115=8,'liste engagés'!B115,\"\")","v":""},{"$f":"IF('liste engagés'!$G115=8,'liste engagés'!C115,\"\")","v":""},{"$f":"IF('liste engagés'!$G115=8,'liste engagés'!D115,\"\")","v":""},{"$f":"IF('liste engagés'!$G115=8,'liste engagés'!E115,\"\")","v":""},{"$f":"IF('liste engagés'!$G115=8,'liste engagés'!K115,\"\")","v":""},{"$f":"IF('liste engagés'!$G115=8,'liste engagés'!L115,\"\")","v":""},0]
[113,{"$f":"IF('liste engagés'!$G116=8,'liste engagés'!A116,\"\")","v":""},{"$f":"IF('liste engagés'!$G116=8,'liste engagés'!B116,\"\")","v":""},{"$f":"IF('liste engagés'!$G116=8,'liste engagés'!C116,\"\")","v":""},{"$f":"IF('liste engagés'!$G116=8,'liste engagés'!D116,\"\")","v":""},{"$f":"IF('liste engagés'!$G116=8,'liste engagés'!E116,\"\")","v":""},{"$f":"IF('liste engagés'!$G116=8,'liste engagés'!K116,\"\")","v":""},{"$f":"IF('liste engagés'!$G116=8,'liste engagés'!L116,\"\")","v":""},0]
[114,{"$f":"IF('liste engagés'!$G117=8,'liste engagés'!A117,\"\")","v":""},{"$f":"IF('liste engagés'!$G117=8,'liste engagés'!B117,\"\")","v":""},{"$f":"IF('liste engagés'!$G117=8,'liste engagés'!C117,\"\")","v":""},{"$f":"IF('liste engagés'!$G117=8,'liste engagés'!D117,\"\")","v":""},{"$f":"IF('liste engagés'!$G117=8,'liste engagés'!E117,\"\")","v":""},{"$f":"IF('liste engagés'!$G117=8,'liste engagés'!K117,\"\")","v":""},{"$f":"IF('liste engagés'!$G117=8,'liste engagés'!L117,\"\")","v":""},0]
[115,{"$f":"IF('liste engagés'!$G118=8,'liste engagés'!A118,\"\")","v":""},{"$f":"IF('liste engagés'!$G118=8,'liste engagés'!B118,\"\")","v":""},{"$f":"IF('liste engagés'!$G118=8,'liste engagés'!C118,\"\")","v":""},{"$f":"IF('liste engagés'!$G118=8,'liste engagés'!D118,\"\")","v":""},{"$f":"IF('liste engagés'!$G118=8,'liste engagés'!E118,\"\")","v":""},{"$f":"IF('liste engagés'!$G118=8,'liste engagés'!K118,\"\")","v":""},{"$f":"IF('liste engagés'!$G118=8,'liste engagés'!L118,\"\")","v":""},0]
[116,{"$f":"IF('liste engagés'!$G119=8,'liste engagés'!A119,\"\")","v":""},{"$f":"IF('liste engagés'!$G119=8,'liste engagés'!B119,\"\")","v":""},{"$f":"IF('liste engagés'!$G119=8,'liste engagés'!C119,\"\")","v":""},{"$f":"IF('liste engagés'!$G119=8,'liste engagés'!D119,\"\")","v":""},{"$f":"IF('liste engagés'!$G119=8,'liste engagés'!E119,\"\")","v":""},{"$f":"IF('liste engagés'!$G119=8,'liste engagés'!K119,\"\")","v":""},{"$f":"IF('liste engagés'!$G119=8,'liste engagés'!L119,\"\")","v":""},0]
[117,{"$f":"IF('liste engagés'!$G120=8,'liste engagés'!A120,\"\")","v":""},{"$f":"IF('liste engagés'!$G120=8,'liste engagés'!B120,\"\")","v":""},{"$f":"IF('liste engagés'!$G120=8,'liste engagés'!C120,\"\")","v":""},{"$f":"IF('liste engagés'!$G120=8,'liste engagés'!D120,\"\")","v":""},{"$f":"IF('liste engagés'!$G120=8,'liste engagés'!E120,\"\")","v":""},{"$f":"IF('liste engagés'!$G120=8,'liste engagés'!K120,\"\")","v":""},{"$f":"IF('liste engagés'!$G120=8,'liste engagés'!L120,\"\")","v":""},0]
[118,{"$f":"IF('liste engagés'!$G121=8,'liste engagés'!A121,\"\")","v":""},{"$f":"IF('liste engagés'!$G121=8,'liste engagés'!B121,\"\")","v":""},{"$f":"IF('liste engagés'!$G121=8,'liste engagés'!C121,\"\")","v":""},{"$f":"IF('liste engagés'!$G121=8,'liste engagés'!D121,\"\")","v":""},{"$f":"IF('liste engagés'!$G121=8,'liste engagés'!E121,\"\")","v":""},{"$f":"IF('liste engagés'!$G121=8,'liste engagés'!K121,\"\")","v":""},{"$f":"IF('liste engagés'!$G121=8,'liste engagés'!L121,\"\")","v":""},0]
[119,{"$f":"IF('liste engagés'!$G122=8,'liste engagés'!A122,\"\")","v":""},{"$f":"IF('liste engagés'!$G122=8,'liste engagés'!B122,\"\")","v":""},{"$f":"IF('liste engagés'!$G122=8,'liste engagés'!C122,\"\")","v":""},{"$f":"IF('liste engagés'!$G122=8,'liste engagés'!D122,\"\")","v":""},{"$f":"IF('liste engagés'!$G122=8,'liste engagés'!E122,\"\")","v":""},{"$f":"IF('liste engagés'!$G122=8,'liste engagés'!K122,\"\")","v":""},{"$f":"IF('liste engagés'!$G122=8,'liste engagés'!L122,\"\")","v":""},0]
[120,{"$f":"IF('liste engagés'!$G123=8,'liste engagés'!A123,\"\")","v":""},{"$f":"IF('liste engagés'!$G123=8,'liste engagés'!B123,\"\")","v":""},{"$f":"IF('liste engagés'!$G123=8,'liste engagés'!C123,\"\")","v":""},{"$f":"IF('liste engagés'!$G123=8,'liste engagés'!D123,\"\")","v":""},{"$f":"IF('liste engagés'!$G123=8,'liste engagés'!E123,\"\")","v":""},{"$f":"IF('liste engagés'!$G123=8,'liste engagés'!K123,\"\")","v":""},{"$f":"IF('liste engagés'!$G123=8,'liste engagés'!L123,\"\")","v":""},0]
[121,{"$f":"IF('liste engagés'!$G124=8,'liste engagés'!A124,\"\")","v":""},{"$f":"IF('liste engagés'!$G124=8,'liste engagés'!B124,\"\")","v":""},{"$f":"IF('liste engagés'!$G124=8,'liste engagés'!C124,\"\")","v":""},{"$f":"IF('liste engagés'!$G124=8,'liste engagés'!D124,\"\")","v":""},{"$f":"IF('liste engagés'!$G124=8,'liste engagés'!E124,\"\")","v":""},{"$f":"IF('liste engagés'!$G124=8,'liste engagés'!K124,\"\")","v":""},{"$f":"IF('liste engagés'!$G124=8,'liste engagés'!L124,\"\")","v":""},0]
[122,{"$f":"IF('liste engagés'!$G125=8,'liste engagés'!A125,\"\")","v":""},{"$f":"IF('liste engagés'!$G125=8,'liste engagés'!B125,\"\")","v":""},{"$f":"IF('liste engagés'!$G125=8,'liste engagés'!C125,\"\")","v":""},{"$f":"IF('liste engagés'!$G125=8,'liste engagés'!D125,\"\")","v":""},{"$f":"IF('liste engagés'!$G125=8,'liste engagés'!E125,\"\")","v":""},{"$f":"IF('liste engagés'!$G125=8,'liste engagés'!K125,\"\")","v":""},{"$f":"IF('liste engagés'!$G125=8,'liste engagés'!L125,\"\")","v":""},0]
[123,{"$f":"IF('liste engagés'!$G126=8,'liste engagés'!A126,\"\")","v":""},{"$f":"IF('liste engagés'!$G126=8,'liste engagés'!B126,\"\")","v":""},{"$f":"IF('liste engagés'!$G126=8,'liste engagés'!C126,\"\")","v":""},{"$f":"IF('liste engagés'!$G126=8,'liste engagés'!D126,\"\")","v":""},{"$f":"IF('liste engagés'!$G126=8,'liste engagés'!E126,\"\")","v":""},{"$f":"IF('liste engagés'!$G126=8,'liste engagés'!K126,\"\")","v":""},{"$f":"IF('liste engagés'!$G126=8,'liste engagés'!L126,\"\")","v":""},0]
[124,{"$f":"IF('liste engagés'!$G127=8,'liste engagés'!A127,\"\")","v":""},{"$f":"IF('liste engagés'!$G127=8,'liste engagés'!B127,\"\")","v":""},{"$f":"IF('liste engagés'!$G127=8,'liste engagés'!C127,\"\")","v":""},{"$f":"IF('liste engagés'!$G127=8,'liste engagés'!D127,\"\")","v":""},{"$f":"IF('liste engagés'!$G127=8,'liste engagés'!E127,\"\")","v":""},{"$f":"IF('liste engagés'!$G127=8,'liste engagés'!K127,\"\")","v":""},{"$f":"IF('liste engagés'!$G127=8,'liste engagés'!L127,\"\")","v":""},0]
[125,{"$f":"IF('liste engagés'!$G128=8,'liste engagés'!A128,\"\")","v":""},{"$f":"IF('liste engagés'!$G128=8,'liste engagés'!B128,\"\")","v":""},{"$f":"IF('liste engagés'!$G128=8,'liste engagés'!C128,\"\")","v":""},{"$f":"IF('liste engagés'!$G128=8,'liste engagés'!D128,\"\")","v":""},{"$f":"IF('liste engagés'!$G128=8,'liste engagés'!E128,\"\")","v":""},{"$f":"IF('liste engagés'!$G128=8,'liste engagés'!K128,\"\")","v":""},{"$f":"IF('liste engagés'!$G128=8,'liste engagés'!L128,\"\")","v":""},0]
[126,{"$f":"IF('liste engagés'!$G130=8,'liste engagés'!A130,\"\")","v":""},{"$f":"IF('liste engagés'!$G130=8,'liste engagés'!B130,\"\")","v":""},{"$f":"IF('liste engagés'!$G130=8,'liste engagés'!C130,\"\")","v":""},{"$f":"IF('liste engagés'!$G130=8,'liste engagés'!D130,\"\")","v":""},{"$f":"IF('liste engagés'!$G130=8,'liste engagés'!E130,\"\")","v":""},{"$f":"IF('liste engagés'!$G130=8,'liste engagés'!K130,\"\")","v":""},{"$f":"IF('liste engagés'!$G130=8,'liste engagés'!L130,\"\")","v":""},0]
[127,{"$f":"IF('liste engagés'!$G131=8,'liste engagés'!A131,\"\")","v":""},{"$f":"IF('liste engagés'!$G131=8,'liste engagés'!B131,\"\")","v":""},{"$f":"IF('liste engagés'!$G131=8,'liste engagés'!C131,\"\")","v":""},{"$f":"IF('liste engagés'!$G131=8,'liste engagés'!D131,\"\")","v":""},{"$f":"IF('liste engagés'!$G131=8,'liste engagés'!E131,\"\")","v":""},{"$f":"IF('liste engagés'!$G131=8,'liste engagés'!K131,\"\")","v":""},{"$f":"IF('liste engagés'!$G131=8,'liste engagés'!L131,\"\")","v":""},0]
[128,{"$f":"IF('liste engagés'!$G132=8,'liste engagés'!A132,\"\")","v":""},{"$f":"IF('liste engagés'!$G132=8,'liste engagés'!B132,\"\")","v":""},{"$f":"IF('liste engagés'!$G132=8,'liste engagés'!C132,\"\")","v":""},{"$f":"IF('liste engagés'!$G132=8,'liste engagés'!D132,\"\")","v":""},{"$f":"IF('liste engagés'!$G132=8,'liste engagés'!E132,\"\")","v":""},{"$f":"IF('liste engagés'!$G132=8,'liste engagés'!K132,\"\")","v":""},{"$f":"IF('liste engagés'!$G132=8,'liste engagés'!L132,\"\")","v":""},0]
[129,{"$f":"IF('liste engagés'!$G133=8,'liste engagés'!A133,\"\")","v":""},{"$f":"IF('liste engagés'!$G133=8,'liste engagés'!B133,\"\")","v":""},{"$f":"IF('liste engagés'!$G133=8,'liste engagés'!C133,\"\")","v":""},{"$f":"IF('liste engagés'!$G133=8,'liste engagés'!D133,\"\")","v":""},{"$f":"IF('liste engagés'!$G133=8,'liste engagés'!E133,\"\")","v":""},{"$f":"IF('liste engagés'!$G133=8,'liste engagés'!K133,\"\")","v":""},{"$f":"IF('liste engagés'!$G133=8,'liste engagés'!L133,\"\")","v":""},{"$f":"+IF(C135=\"\",0,1)","v":0}]
[{"$f":"+A135+1","v":130},{"$f":"IF('liste engagés'!$G134=8,'liste engagés'!A134,\"\")","v":""},{"$f":"IF('liste engagés'!$G134=8,'liste engagés'!B134,\"\")","v":""},{"$f":"IF('liste engagés'!$G134=8,'liste engagés'!C134,\"\")","v":""},{"$f":"IF('liste engagés'!$G134=8,'liste engagés'!D134,\"\")","v":""},{"$f":"IF('liste engagés'!$G134=8,'liste engagés'!E134,\"\")","v":""},{"$f":"IF('liste engagés'!$G134=8,'liste engagés'!K134,\"\")","v":""},{"$f":"IF('liste engagés'!$G134=8,'liste engagés'!L134,\"\")","v":""},0]
[131,{"$f":"IF('liste engagés'!$G135=8,'liste engagés'!A135,\"\")","v":""},{"$f":"IF('liste engagés'!$G135=8,'liste engagés'!B135,\"\")","v":""},{"$f":"IF('liste engagés'!$G135=8,'liste engagés'!C135,\"\")","v":""},{"$f":"IF('liste engagés'!$G135=8,'liste engagés'!D135,\"\")","v":""},{"$f":"IF('liste engagés'!$G135=8,'liste engagés'!E135,\"\")","v":""},{"$f":"IF('liste engagés'!$G135=8,'liste engagés'!K135,\"\")","v":""},{"$f":"IF('liste engagés'!$G135=8,'liste engagés'!L135,\"\")","v":""},0]
[132,{"$f":"IF('liste engagés'!$G136=8,'liste engagés'!A136,\"\")","v":""},{"$f":"IF('liste engagés'!$G136=8,'liste engagés'!B136,\"\")","v":""},{"$f":"IF('liste engagés'!$G136=8,'liste engagés'!C136,\"\")","v":""},{"$f":"IF('liste engagés'!$G136=8,'liste engagés'!D136,\"\")","v":""},{"$f":"IF('liste engagés'!$G136=8,'liste engagés'!E136,\"\")","v":""},{"$f":"IF('liste engagés'!$G136=8,'liste engagés'!K136,\"\")","v":""},{"$f":"IF('liste engagés'!$G136=8,'liste engagés'!L136,\"\")","v":""},0]
[133,{"$f":"IF('liste engagés'!$G137=8,'liste engagés'!A137,\"\")","v":""},{"$f":"IF('liste engagés'!$G137=8,'liste engagés'!B137,\"\")","v":""},{"$f":"IF('liste engagés'!$G137=8,'liste engagés'!C137,\"\")","v":""},{"$f":"IF('liste engagés'!$G137=8,'liste engagés'!D137,\"\")","v":""},{"$f":"IF('liste engagés'!$G137=8,'liste engagés'!E137,\"\")","v":""},{"$f":"IF('liste engagés'!$G137=8,'liste engagés'!K137,\"\")","v":""},{"$f":"IF('liste engagés'!$G137=8,'liste engagés'!L137,\"\")","v":""},0]
[134,{"$f":"IF('liste engagés'!$G138=8,'liste engagés'!A138,\"\")","v":""},{"$f":"IF('liste engagés'!$G138=8,'liste engagés'!B138,\"\")","v":""},{"$f":"IF('liste engagés'!$G138=8,'liste engagés'!C138,\"\")","v":""},{"$f":"IF('liste engagés'!$G138=8,'liste engagés'!D138,\"\")","v":""},{"$f":"IF('liste engagés'!$G138=8,'liste engagés'!E138,\"\")","v":""},{"$f":"IF('liste engagés'!$G138=8,'liste engagés'!K138,\"\")","v":""},{"$f":"IF('liste engagés'!$G138=8,'liste engagés'!L138,\"\")","v":""},0]
[135,{"$f":"IF('liste engagés'!$G139=8,'liste engagés'!A139,\"\")","v":""},{"$f":"IF('liste engagés'!$G139=8,'liste engagés'!B139,\"\")","v":""},{"$f":"IF('liste engagés'!$G139=8,'liste engagés'!C139,\"\")","v":""},{"$f":"IF('liste engagés'!$G139=8,'liste engagés'!D139,\"\")","v":""},{"$f":"IF('liste engagés'!$G139=8,'liste engagés'!E139,\"\")","v":""},{"$f":"IF('liste engagés'!$G139=8,'liste engagés'!K139,\"\")","v":""},{"$f":"IF('liste engagés'!$G139=8,'liste engagés'!L139,\"\")","v":""},0]
[136,{"$f":"IF('liste engagés'!$G140=8,'liste engagés'!A140,\"\")","v":""},{"$f":"IF('liste engagés'!$G140=8,'liste engagés'!B140,\"\")","v":""},{"$f":"IF('liste engagés'!$G140=8,'liste engagés'!C140,\"\")","v":""},{"$f":"IF('liste engagés'!$G140=8,'liste engagés'!D140,\"\")","v":""},{"$f":"IF('liste engagés'!$G140=8,'liste engagés'!E140,\"\")","v":""},{"$f":"IF('liste engagés'!$G140=8,'liste engagés'!K140,\"\")","v":""},{"$f":"IF('liste engagés'!$G140=8,'liste engagés'!L140,\"\")","v":""},0]
[137,{"$f":"IF('liste engagés'!$G141=8,'liste engagés'!A141,\"\")","v":""},{"$f":"IF('liste engagés'!$G141=8,'liste engagés'!B141,\"\")","v":""},{"$f":"IF('liste engagés'!$G141=8,'liste engagés'!C141,\"\")","v":""},{"$f":"IF('liste engagés'!$G141=8,'liste engagés'!D141,\"\")","v":""},{"$f":"IF('liste engagés'!$G141=8,'liste engagés'!E141,\"\")","v":""},{"$f":"IF('liste engagés'!$G141=8,'liste engagés'!K141,\"\")","v":""},{"$f":"IF('liste engagés'!$G141=8,'liste engagés'!L141,\"\")","v":""},0]
[138,{"$f":"IF('liste engagés'!$G142=8,'liste engagés'!A142,\"\")","v":""},{"$f":"IF('liste engagés'!$G142=8,'liste engagés'!B142,\"\")","v":""},{"$f":"IF('liste engagés'!$G142=8,'liste engagés'!C142,\"\")","v":""},{"$f":"IF('liste engagés'!$G142=8,'liste engagés'!D142,\"\")","v":""},{"$f":"IF('liste engagés'!$G142=8,'liste engagés'!E142,\"\")","v":""},{"$f":"IF('liste engagés'!$G142=8,'liste engagés'!K142,\"\")","v":""},{"$f":"IF('liste engagés'!$G142=8,'liste engagés'!L142,\"\")","v":""},0]
[139,{"$f":"IF('liste engagés'!$G143=8,'liste engagés'!A143,\"\")","v":""},{"$f":"IF('liste engagés'!$G143=8,'liste engagés'!B143,\"\")","v":""},{"$f":"IF('liste engagés'!$G143=8,'liste engagés'!C143,\"\")","v":""},{"$f":"IF('liste engagés'!$G143=8,'liste engagés'!D143,\"\")","v":""},{"$f":"IF('liste engagés'!$G143=8,'liste engagés'!E143,\"\")","v":""},{"$f":"IF('liste engagés'!$G143=8,'liste engagés'!K143,\"\")","v":""},{"$f":"IF('liste engagés'!$G143=8,'liste engagés'!L143,\"\")","v":""},0]
[140,{"$f":"IF('liste engagés'!$G144=8,'liste engagés'!A144,\"\")","v":""},{"$f":"IF('liste engagés'!$G144=8,'liste engagés'!B144,\"\")","v":""},{"$f":"IF('liste engagés'!$G144=8,'liste engagés'!C144,\"\")","v":""},{"$f":"IF('liste engagés'!$G144=8,'liste engagés'!D144,\"\")","v":""},{"$f":"IF('liste engagés'!$G144=8,'liste engagés'!E144,\"\")","v":""},{"$f":"IF('liste engagés'!$G144=8,'liste engagés'!K144,\"\")","v":""},{"$f":"IF('liste engagés'!$G144=8,'liste engagés'!L144,\"\")","v":""},0]
[141,{"$f":"IF('liste engagés'!$G145=8,'liste engagés'!A145,\"\")","v":""},{"$f":"IF('liste engagés'!$G145=8,'liste engagés'!B145,\"\")","v":""},{"$f":"IF('liste engagés'!$G145=8,'liste engagés'!#REF!,\"\")","v":""},{"$f":"IF('liste engagés'!$G145=8,'liste engagés'!D145,\"\")","v":""},{"$f":"IF('liste engagés'!$G145=8,'liste engagés'!E145,\"\")","v":""},{"$f":"IF('liste engagés'!$G145=8,'liste engagés'!K145,\"\")","v":""},{"$f":"IF('liste engagés'!$G145=8,'liste engagés'!L145,\"\")","v":""},0]
[142,{"$f":"IF('liste engagés'!$G146=8,'liste engagés'!A146,\"\")","v":""},{"$f":"IF('liste engagés'!$G146=8,'liste engagés'!B146,\"\")","v":""},{"$f":"IF('liste engagés'!$G146=8,'liste engagés'!C145,\"\")","v":""},{"$f":"IF('liste engagés'!$G146=8,'liste engagés'!D146,\"\")","v":""},{"$f":"IF('liste engagés'!$G146=8,'liste engagés'!E146,\"\")","v":""},{"$f":"IF('liste engagés'!$G146=8,'liste engagés'!K146,\"\")","v":""},{"$f":"IF('liste engagés'!$G146=8,'liste engagés'!L146,\"\")","v":""},0]
[143,{"$f":"IF('liste engagés'!$G147=8,'liste engagés'!A147,\"\")","v":""},{"$f":"IF('liste engagés'!$G147=8,'liste engagés'!B147,\"\")","v":""},{"$f":"IF('liste engagés'!$G147=8,'liste engagés'!C147,\"\")","v":""},{"$f":"IF('liste engagés'!$G147=8,'liste engagés'!D147,\"\")","v":""},{"$f":"IF('liste engagés'!$G147=8,'liste engagés'!E147,\"\")","v":""},{"$f":"IF('liste engagés'!$G147=8,'liste engagés'!K147,\"\")","v":""},{"$f":"IF('liste engagés'!$G147=8,'liste engagés'!L147,\"\")","v":""},0]
[144,{"$f":"IF('liste engagés'!$G148=8,'liste engagés'!A148,\"\")","v":""},{"$f":"IF('liste engagés'!$G148=8,'liste engagés'!B148,\"\")","v":""},{"$f":"IF('liste engagés'!$G148=8,'liste engagés'!C148,\"\")","v":""},{"$f":"IF('liste engagés'!$G148=8,'liste engagés'!D148,\"\")","v":""},{"$f":"IF('liste engagés'!$G148=8,'liste engagés'!E148,\"\")","v":""},{"$f":"IF('liste engagés'!$G148=8,'liste engagés'!K148,\"\")","v":""},{"$f":"IF('liste engagés'!$G148=8,'liste engagés'!L148,\"\")","v":""},0]
[145,{"$f":"IF('liste engagés'!$G149=8,'liste engagés'!A149,\"\")","v":""},{"$f":"IF('liste engagés'!$G149=8,'liste engagés'!B149,\"\")","v":""},{"$f":"IF('liste engagés'!$G149=8,'liste engagés'!C149,\"\")","v":""},{"$f":"IF('liste engagés'!$G149=8,'liste engagés'!D149,\"\")","v":""},{"$f":"IF('liste engagés'!$G149=8,'liste engagés'!E149,\"\")","v":""},{"$f":"IF('liste engagés'!$G149=8,'liste engagés'!K149,\"\")","v":""},{"$f":"IF('liste engagés'!$G149=8,'liste engagés'!L149,\"\")","v":""},0]
[146,{"$f":"IF('liste engagés'!$G150=8,'liste engagés'!A150,\"\")","v":""},{"$f":"IF('liste engagés'!$G150=8,'liste engagés'!B150,\"\")","v":""},{"$f":"IF('liste engagés'!$G150=8,'liste engagés'!C150,\"\")","v":""},{"$f":"IF('liste engagés'!$G150=8,'liste engagés'!D150,\"\")","v":""},{"$f":"IF('liste engagés'!$G150=8,'liste engagés'!E150,\"\")","v":""},{"$f":"IF('liste engagés'!$G150=8,'liste engagés'!K150,\"\")","v":""},{"$f":"IF('liste engagés'!$G150=8,'liste engagés'!L150,\"\")","v":""},0]
[147,{"$f":"IF('liste engagés'!$G151=8,'liste engagés'!A151,\"\")","v":""},{"$f":"IF('liste engagés'!$G151=8,'liste engagés'!B151,\"\")","v":""},{"$f":"IF('liste engagés'!$G151=8,'liste engagés'!C151,\"\")","v":""},{"$f":"IF('liste engagés'!$G151=8,'liste engagés'!D151,\"\")","v":""},{"$f":"IF('liste engagés'!$G151=8,'liste engagés'!E151,\"\")","v":""},{"$f":"IF('liste engagés'!$G151=8,'liste engagés'!K151,\"\")","v":""},{"$f":"IF('liste engagés'!$G151=8,'liste engagés'!L151,\"\")","v":""},0]
[148,{"$f":"IF('liste engagés'!$G152=8,'liste engagés'!A152,\"\")","v":""},{"$f":"IF('liste engagés'!$G152=8,'liste engagés'!B152,\"\")","v":""},{"$f":"IF('liste engagés'!$G152=8,'liste engagés'!C152,\"\")","v":""},{"$f":"IF('liste engagés'!$G152=8,'liste engagés'!D152,\"\")","v":""},{"$f":"IF('liste engagés'!$G152=8,'liste engagés'!E152,\"\")","v":""},{"$f":"IF('liste engagés'!$G152=8,'liste engagés'!K152,\"\")","v":""},{"$f":"IF('liste engagés'!$G152=8,'liste engagés'!L152,\"\")","v":""},0]
[149,{"$f":"IF('liste engagés'!$G153=8,'liste engagés'!A153,\"\")","v":""},{"$f":"IF('liste engagés'!$G153=8,'liste engagés'!B153,\"\")","v":""},{"$f":"IF('liste engagés'!$G153=8,'liste engagés'!C153,\"\")","v":""},{"$f":"IF('liste engagés'!$G153=8,'liste engagés'!D153,\"\")","v":""},{"$f":"IF('liste engagés'!$G153=8,'liste engagés'!E153,\"\")","v":""},{"$f":"IF('liste engagés'!$G153=8,'liste engagés'!K153,\"\")","v":""},{"$f":"IF('liste engagés'!$G153=8,'liste engagés'!L153,\"\")","v":""},0]
[150,{"$f":"IF('liste engagés'!$G154=8,'liste engagés'!A154,\"\")","v":""},{"$f":"IF('liste engagés'!$G154=8,'liste engagés'!B154,\"\")","v":""},{"$f":"IF('liste engagés'!$G154=8,'liste engagés'!C154,\"\")","v":""},{"$f":"IF('liste engagés'!$G154=8,'liste engagés'!D154,\"\")","v":""},{"$f":"IF('liste engagés'!$G154=8,'liste engagés'!E154,\"\")","v":""},{"$f":"IF('liste engagés'!$G154=8,'liste engagés'!K154,\"\")","v":""},{"$f":"IF('liste engagés'!$G154=8,'liste engagés'!L154,\"\")","v":""},0]
[151,{"$f":"IF('liste engagés'!$G155=8,'liste engagés'!A155,\"\")","v":""},{"$f":"IF('liste engagés'!$G155=8,'liste engagés'!B155,\"\")","v":""},{"$f":"IF('liste engagés'!$G155=8,'liste engagés'!C155,\"\")","v":""},{"$f":"IF('liste engagés'!$G155=8,'liste engagés'!D155,\"\")","v":""},{"$f":"IF('liste engagés'!$G155=8,'liste engagés'!E155,\"\")","v":""},{"$f":"IF('liste engagés'!$G155=8,'liste engagés'!K155,\"\")","v":""},{"$f":"IF('liste engagés'!$G155=8,'liste engagés'!L155,\"\")","v":""},0]
[152,{"$f":"IF('liste engagés'!$G156=8,'liste engagés'!A156,\"\")","v":""},{"$f":"IF('liste engagés'!$G156=8,'liste engagés'!B156,\"\")","v":""},{"$f":"IF('liste engagés'!$G156=8,'liste engagés'!C156,\"\")","v":""},{"$f":"IF('liste engagés'!$G156=8,'liste engagés'!D156,\"\")","v":""},{"$f":"IF('liste engagés'!$G156=8,'liste engagés'!E156,\"\")","v":""},{"$f":"IF('liste engagés'!$G156=8,'liste engagés'!K156,\"\")","v":""},{"$f":"IF('liste engagés'!$G156=8,'liste engagés'!L156,\"\")","v":""},0]
[153,{"$f":"IF('liste engagés'!$G157=8,'liste engagés'!A157,\"\")","v":""},{"$f":"IF('liste engagés'!$G157=8,'liste engagés'!B157,\"\")","v":""},{"$f":"IF('liste engagés'!$G157=8,'liste engagés'!C157,\"\")","v":""},{"$f":"IF('liste engagés'!$G157=8,'liste engagés'!D157,\"\")","v":""},{"$f":"IF('liste engagés'!$G157=8,'liste engagés'!E157,\"\")","v":""},{"$f":"IF('liste engagés'!$G157=8,'liste engagés'!K157,\"\")","v":""},{"$f":"IF('liste engagés'!$G157=8,'liste engagés'!L157,\"\")","v":""},0]
[154,{"$f":"IF('liste engagés'!$G158=8,'liste engagés'!A158,\"\")","v":""},{"$f":"IF('liste engagés'!$G158=8,'liste engagés'!B158,\"\")","v":""},{"$f":"IF('liste engagés'!$G158=8,'liste engagés'!C158,\"\")","v":""},{"$f":"IF('liste engagés'!$G158=8,'liste engagés'!D158,\"\")","v":""},{"$f":"IF('liste engagés'!$G158=8,'liste engagés'!E158,\"\")","v":""},{"$f":"IF('liste engagés'!$G158=8,'liste engagés'!K158,\"\")","v":""},{"$f":"IF('liste engagés'!$G158=8,'liste engagés'!L158,\"\")","v":""},0]
[155,{"$f":"IF('liste engagés'!$G159=8,'liste engagés'!A159,\"\")","v":""},{"$f":"IF('liste engagés'!$G159=8,'liste engagés'!B159,\"\")","v":""},{"$f":"IF('liste engagés'!$G159=8,'liste engagés'!C159,\"\")","v":""},{"$f":"IF('liste engagés'!$G159=8,'liste engagés'!D159,\"\")","v":""},{"$f":"IF('liste engagés'!$G159=8,'liste engagés'!E159,\"\")","v":""},{"$f":"IF('liste engagés'!$G159=8,'liste engagés'!K159,\"\")","v":""},{"$f":"IF('liste engagés'!$G159=8,'liste engagés'!L159,\"\")","v":""},0]
[156,{"$f":"IF('liste engagés'!$G160=8,'liste engagés'!A160,\"\")","v":""},{"$f":"IF('liste engagés'!$G160=8,'liste engagés'!B160,\"\")","v":""},{"$f":"IF('liste engagés'!$G160=8,'liste engagés'!C160,\"\")","v":""},{"$f":"IF('liste engagés'!$G160=8,'liste engagés'!D160,\"\")","v":""},{"$f":"IF('liste engagés'!$G160=8,'liste engagés'!E160,\"\")","v":""},{"$f":"IF('liste engagés'!$G160=8,'liste engagés'!K160,\"\")","v":""},{"$f":"IF('liste engagés'!$G160=8,'liste engagés'!L160,\"\")","v":""},0]
[157,{"$f":"IF('liste engagés'!$G161=8,'liste engagés'!A161,\"\")","v":""},{"$f":"IF('liste engagés'!$G161=8,'liste engagés'!B161,\"\")","v":""},{"$f":"IF('liste engagés'!$G161=8,'liste engagés'!C161,\"\")","v":""},{"$f":"IF('liste engagés'!$G161=8,'liste engagés'!D161,\"\")","v":""},{"$f":"IF('liste engagés'!$G161=8,'liste engagés'!E161,\"\")","v":""},{"$f":"IF('liste engagés'!$G161=8,'liste engagés'!K161,\"\")","v":""},{"$f":"IF('liste engagés'!$G161=8,'liste engagés'!L161,\"\")","v":""},0]
[158,{"$f":"IF('liste engagés'!$G162=8,'liste engagés'!A162,\"\")","v":""},{"$f":"IF('liste engagés'!$G162=8,'liste engagés'!B162,\"\")","v":""},{"$f":"IF('liste engagés'!$G162=8,'liste engagés'!C162,\"\")","v":""},{"$f":"IF('liste engagés'!$G162=8,'liste engagés'!D162,\"\")","v":""},{"$f":"IF('liste engagés'!$G162=8,'liste engagés'!E162,\"\")","v":""},{"$f":"IF('liste engagés'!$G162=8,'liste engagés'!K162,\"\")","v":""},{"$f":"IF('liste engagés'!$G162=8,'liste engagés'!L162,\"\")","v":""},0]
[159,{"$f":"IF('liste engagés'!$G163=8,'liste engagés'!A163,\"\")","v":""},{"$f":"IF('liste engagés'!$G163=8,'liste engagés'!B163,\"\")","v":""},{"$f":"IF('liste engagés'!$G163=8,'liste engagés'!C163,\"\")","v":""},{"$f":"IF('liste engagés'!$G163=8,'liste engagés'!D163,\"\")","v":""},{"$f":"IF('liste engagés'!$G163=8,'liste engagés'!E163,\"\")","v":""},{"$f":"IF('liste engagés'!$G163=8,'liste engagés'!K163,\"\")","v":""},{"$f":"IF('liste engagés'!$G163=8,'liste engagés'!L163,\"\")","v":""},0]
[160,{"$f":"IF('liste engagés'!$G164=8,'liste engagés'!A164,\"\")","v":""},{"$f":"IF('liste engagés'!$G164=8,'liste engagés'!B164,\"\")","v":""},{"$f":"IF('liste engagés'!$G164=8,'liste engagés'!C164,\"\")","v":""},{"$f":"IF('liste engagés'!$G164=8,'liste engagés'!D164,\"\")","v":""},{"$f":"IF('liste engagés'!$G164=8,'liste engagés'!E164,\"\")","v":""},{"$f":"IF('liste engagés'!$G164=8,'liste engagés'!K164,\"\")","v":""},{"$f":"IF('liste engagés'!$G164=8,'liste engagés'!L164,\"\")","v":""},0]
[161,{"$f":"IF('liste engagés'!$G165=8,'liste engagés'!A165,\"\")","v":""},{"$f":"IF('liste engagés'!$G165=8,'liste engagés'!B165,\"\")","v":""},{"$f":"IF('liste engagés'!$G165=8,'liste engagés'!C165,\"\")","v":""},{"$f":"IF('liste engagés'!$G165=8,'liste engagés'!D165,\"\")","v":""},{"$f":"IF('liste engagés'!$G165=8,'liste engagés'!E165,\"\")","v":""},{"$f":"IF('liste engagés'!$G165=8,'liste engagés'!K165,\"\")","v":""},{"$f":"IF('liste engagés'!$G165=8,'liste engagés'!L165,\"\")","v":""},0]
[162,{"$f":"IF('liste engagés'!$G166=8,'liste engagés'!A166,\"\")","v":""},{"$f":"IF('liste engagés'!$G166=8,'liste engagés'!B166,\"\")","v":""},{"$f":"IF('liste engagés'!$G166=8,'liste engagés'!C166,\"\")","v":""},{"$f":"IF('liste engagés'!$G166=8,'liste engagés'!D166,\"\")","v":""},{"$f":"IF('liste engagés'!$G166=8,'liste engagés'!E166,\"\")","v":""},{"$f":"IF('liste engagés'!$G166=8,'liste engagés'!K166,\"\")","v":""},{"$f":"IF('liste engagés'!$G166=8,'liste engagés'!L166,\"\")","v":""},0]
[163,{"$f":"IF('liste engagés'!$G167=8,'liste engagés'!A167,\"\")","v":""},{"$f":"IF('liste engagés'!$G167=8,'liste engagés'!B167,\"\")","v":""},{"$f":"IF('liste engagés'!$G167=8,'liste engagés'!C167,\"\")","v":""},{"$f":"IF('liste engagés'!$G167=8,'liste engagés'!D167,\"\")","v":""},{"$f":"IF('liste engagés'!$G167=8,'liste engagés'!E167,\"\")","v":""},{"$f":"IF('liste engagés'!$G167=8,'liste engagés'!K167,\"\")","v":""},{"$f":"IF('liste engagés'!$G167=8,'liste engagés'!L167,\"\")","v":""},0]
[164,{"$f":"IF('liste engagés'!$G168=8,'liste engagés'!A168,\"\")","v":""},{"$f":"IF('liste engagés'!$G168=8,'liste engagés'!B168,\"\")","v":""},{"$f":"IF('liste engagés'!$G168=8,'liste engagés'!C168,\"\")","v":""},{"$f":"IF('liste engagés'!$G168=8,'liste engagés'!D168,\"\")","v":""},{"$f":"IF('liste engagés'!$G168=8,'liste engagés'!E168,\"\")","v":""},{"$f":"IF('liste engagés'!$G168=8,'liste engagés'!K168,\"\")","v":""},{"$f":"IF('liste engagés'!$G168=8,'liste engagés'!L168,\"\")","v":""},0]
[165,{"$f":"IF('liste engagés'!$G169=8,'liste engagés'!A169,\"\")","v":""},{"$f":"IF('liste engagés'!$G169=8,'liste engagés'!B169,\"\")","v":""},{"$f":"IF('liste engagés'!$G169=8,'liste engagés'!C169,\"\")","v":""},{"$f":"IF('liste engagés'!$G169=8,'liste engagés'!D169,\"\")","v":""},{"$f":"IF('liste engagés'!$G169=8,'liste engagés'!E169,\"\")","v":""},{"$f":"IF('liste engagés'!$G169=8,'liste engagés'!K169,\"\")","v":""},{"$f":"IF('liste engagés'!$G169=8,'liste engagés'!L169,\"\")","v":""},0]
[166,{"$f":"IF('liste engagés'!$G170=8,'liste engagés'!A170,\"\")","v":""},{"$f":"IF('liste engagés'!$G170=8,'liste engagés'!B170,\"\")","v":""},{"$f":"IF('liste engagés'!$G170=8,'liste engagés'!C170,\"\")","v":""},{"$f":"IF('liste engagés'!$G170=8,'liste engagés'!D170,\"\")","v":""},{"$f":"IF('liste engagés'!$G170=8,'liste engagés'!E170,\"\")","v":""},{"$f":"IF('liste engagés'!$G170=8,'liste engagés'!K170,\"\")","v":""},{"$f":"IF('liste engagés'!$G170=8,'liste engagés'!L170,\"\")","v":""},0]
[167,{"$f":"IF('liste engagés'!$G171=8,'liste engagés'!A171,\"\")","v":""},{"$f":"IF('liste engagés'!$G171=8,'liste engagés'!B171,\"\")","v":""},{"$f":"IF('liste engagés'!$G171=8,'liste engagés'!C171,\"\")","v":""},{"$f":"IF('liste engagés'!$G171=8,'liste engagés'!D171,\"\")","v":""},{"$f":"IF('liste engagés'!$G171=8,'liste engagés'!E171,\"\")","v":""},{"$f":"IF('liste engagés'!$G171=8,'liste engagés'!K171,\"\")","v":""},{"$f":"IF('liste engagés'!$G171=8,'liste engagés'!L171,\"\")","v":""},0]
[168,{"$f":"IF('liste engagés'!$G173=8,'liste engagés'!A173,\"\")","v":""},{"$f":"IF('liste engagés'!$G173=8,'liste engagés'!B173,\"\")","v":""},{"$f":"IF('liste engagés'!$G173=8,'liste engagés'!C173,\"\")","v":""},{"$f":"IF('liste engagés'!$G173=8,'liste engagés'!D173,\"\")","v":""},{"$f":"IF('liste engagés'!$G173=8,'liste engagés'!E173,\"\")","v":""},{"$f":"IF('liste engagés'!$G173=8,'liste engagés'!K173,\"\")","v":""},{"$f":"IF('liste engagés'!$G173=8,'liste engagés'!L173,\"\")","v":""},0]
[169,{"$f":"IF('liste engagés'!$G174=8,'liste engagés'!A174,\"\")","v":""},{"$f":"IF('liste engagés'!$G174=8,'liste engagés'!B174,\"\")","v":""},{"$f":"IF('liste engagés'!$G174=8,'liste engagés'!C174,\"\")","v":""},{"$f":"IF('liste engagés'!$G174=8,'liste engagés'!D174,\"\")","v":""},{"$f":"IF('liste engagés'!$G174=8,'liste engagés'!E174,\"\")","v":""},{"$f":"IF('liste engagés'!$G174=8,'liste engagés'!K174,\"\")","v":""},{"$f":"IF('liste engagés'!$G174=8,'liste engagés'!L174,\"\")","v":""},0]
[170,{"$f":"IF('liste engagés'!$G175=8,'liste engagés'!A175,\"\")","v":""},{"$f":"IF('liste engagés'!$G175=8,'liste engagés'!B175,\"\")","v":""},{"$f":"IF('liste engagés'!$G175=8,'liste engagés'!C175,\"\")","v":""},{"$f":"IF('liste engagés'!$G175=8,'liste engagés'!D175,\"\")","v":""},{"$f":"IF('liste engagés'!$G175=8,'liste engagés'!E175,\"\")","v":""},{"$f":"IF('liste engagés'!$G175=8,'liste engagés'!K175,\"\")","v":""},{"$f":"IF('liste engagés'!$G175=8,'liste engagés'!L175,\"\")","v":""},0]
[171,{"$f":"IF('liste engagés'!$G176=8,'liste engagés'!A176,\"\")","v":""},{"$f":"IF('liste engagés'!$G176=8,'liste engagés'!B176,\"\")","v":""},{"$f":"IF('liste engagés'!$G176=8,'liste engagés'!C176,\"\")","v":""},{"$f":"IF('liste engagés'!$G176=8,'liste engagés'!D176,\"\")","v":""},{"$f":"IF('liste engagés'!$G176=8,'liste engagés'!E176,\"\")","v":""},{"$f":"IF('liste engagés'!$G176=8,'liste engagés'!K176,\"\")","v":""},{"$f":"IF('liste engagés'!$G176=8,'liste engagés'!L176,\"\")","v":""},0]
[172,{"$f":"IF('liste engagés'!$G177=8,'liste engagés'!A177,\"\")","v":""},{"$f":"IF('liste engagés'!$G177=8,'liste engagés'!B177,\"\")","v":""},{"$f":"IF('liste engagés'!$G177=8,'liste engagés'!C177,\"\")","v":""},{"$f":"IF('liste engagés'!$G177=8,'liste engagés'!D177,\"\")","v":""},{"$f":"IF('liste engagés'!$G177=8,'liste engagés'!E177,\"\")","v":""},{"$f":"IF('liste engagés'!$G177=8,'liste engagés'!K177,\"\")","v":""},{"$f":"IF('liste engagés'!$G177=8,'liste engagés'!L177,\"\")","v":""},0]
[173,{"$f":"IF('liste engagés'!$G178=8,'liste engagés'!A178,\"\")","v":""},{"$f":"IF('liste engagés'!$G178=8,'liste engagés'!B178,\"\")","v":""},{"$f":"IF('liste engagés'!$G178=8,'liste engagés'!C178,\"\")","v":""},{"$f":"IF('liste engagés'!$G178=8,'liste engagés'!D178,\"\")","v":""},{"$f":"IF('liste engagés'!$G178=8,'liste engagés'!E178,\"\")","v":""},{"$f":"IF('liste engagés'!$G178=8,'liste engagés'!K178,\"\")","v":""},{"$f":"IF('liste engagés'!$G178=8,'liste engagés'!L178,\"\")","v":""},0]
[174,{"$f":"IF('liste engagés'!$G179=8,'liste engagés'!A179,\"\")","v":""},{"$f":"IF('liste engagés'!$G179=8,'liste engagés'!B179,\"\")","v":""},{"$f":"IF('liste engagés'!$G179=8,'liste engagés'!C179,\"\")","v":""},{"$f":"IF('liste engagés'!$G179=8,'liste engagés'!D179,\"\")","v":""},{"$f":"IF('liste engagés'!$G179=8,'liste engagés'!E179,\"\")","v":""},{"$f":"IF('liste engagés'!$G179=8,'liste engagés'!K179,\"\")","v":""},{"$f":"IF('liste engagés'!$G179=8,'liste engagés'!L179,\"\")","v":""},0]
[175,{"$f":"IF('liste engagés'!$G180=8,'liste engagés'!A180,\"\")","v":""},{"$f":"IF('liste engagés'!$G180=8,'liste engagés'!B180,\"\")","v":""},{"$f":"IF('liste engagés'!$G180=8,'liste engagés'!C180,\"\")","v":""},{"$f":"IF('liste engagés'!$G180=8,'liste engagés'!D180,\"\")","v":""},{"$f":"IF('liste engagés'!$G180=8,'liste engagés'!E180,\"\")","v":""},{"$f":"IF('liste engagés'!$G180=8,'liste engagés'!K180,\"\")","v":""},{"$f":"IF('liste engagés'!$G180=8,'liste engagés'!L180,\"\")","v":""},0]
[176,{"$f":"IF('liste engagés'!$G181=8,'liste engagés'!A181,\"\")","v":""},{"$f":"IF('liste engagés'!$G181=8,'liste engagés'!B181,\"\")","v":""},{"$f":"IF('liste engagés'!$G181=8,'liste engagés'!C181,\"\")","v":""},{"$f":"IF('liste engagés'!$G181=8,'liste engagés'!D181,\"\")","v":""},{"$f":"IF('liste engagés'!$G181=8,'liste engagés'!E181,\"\")","v":""},{"$f":"IF('liste engagés'!$G181=8,'liste engagés'!K181,\"\")","v":""},{"$f":"IF('liste engagés'!$G181=8,'liste engagés'!L181,\"\")","v":""},0]
[177,{"$f":"IF('liste engagés'!$G182=8,'liste engagés'!A182,\"\")","v":""},{"$f":"IF('liste engagés'!$G182=8,'liste engagés'!B182,\"\")","v":""},{"$f":"IF('liste engagés'!$G182=8,'liste engagés'!C182,\"\")","v":""},{"$f":"IF('liste engagés'!$G182=8,'liste engagés'!D182,\"\")","v":""},{"$f":"IF('liste engagés'!$G182=8,'liste engagés'!E182,\"\")","v":""},{"$f":"IF('liste engagés'!$G182=8,'liste engagés'!K182,\"\")","v":""},{"$f":"IF('liste engagés'!$G182=8,'liste engagés'!L182,\"\")","v":""},0]
[178,{"$f":"IF('liste engagés'!$G183=8,'liste engagés'!A183,\"\")","v":""},{"$f":"IF('liste engagés'!$G183=8,'liste engagés'!B183,\"\")","v":""},{"$f":"IF('liste engagés'!$G183=8,'liste engagés'!C183,\"\")","v":""},{"$f":"IF('liste engagés'!$G183=8,'liste engagés'!D183,\"\")","v":""},{"$f":"IF('liste engagés'!$G183=8,'liste engagés'!E183,\"\")","v":""},{"$f":"IF('liste engagés'!$G183=8,'liste engagés'!K183,\"\")","v":""},{"$f":"IF('liste engagés'!$G183=8,'liste engagés'!L183,\"\")","v":""},0]
[179,{"$f":"IF('liste engagés'!$G184=8,'liste engagés'!A184,\"\")","v":""},{"$f":"IF('liste engagés'!$G184=8,'liste engagés'!B184,\"\")","v":""},{"$f":"IF('liste engagés'!$G184=8,'liste engagés'!C184,\"\")","v":""},{"$f":"IF('liste engagés'!$G184=8,'liste engagés'!D184,\"\")","v":""},{"$f":"IF('liste engagés'!$G184=8,'liste engagés'!E184,\"\")","v":""},{"$f":"IF('liste engagés'!$G184=8,'liste engagés'!K184,\"\")","v":""},{"$f":"IF('liste engagés'!$G184=8,'liste engagés'!L184,\"\")","v":""},0]
[180,{"$f":"IF('liste engagés'!$G185=8,'liste engagés'!A185,\"\")","v":""},{"$f":"IF('liste engagés'!$G185=8,'liste engagés'!B185,\"\")","v":""},{"$f":"IF('liste engagés'!$G185=8,'liste engagés'!C185,\"\")","v":""},{"$f":"IF('liste engagés'!$G185=8,'liste engagés'!D185,\"\")","v":""},{"$f":"IF('liste engagés'!$G185=8,'liste engagés'!E185,\"\")","v":""},{"$f":"IF('liste engagés'!$G185=8,'liste engagés'!K185,\"\")","v":""},{"$f":"IF('liste engagés'!$G185=8,'liste engagés'!L185,\"\")","v":""},0]
[181,{"$f":"IF('liste engagés'!$G186=8,'liste engagés'!A186,\"\")","v":""},{"$f":"IF('liste engagés'!$G186=8,'liste engagés'!B186,\"\")","v":""},{"$f":"IF('liste engagés'!$G186=8,'liste engagés'!C186,\"\")","v":""},{"$f":"IF('liste engagés'!$G186=8,'liste engagés'!D186,\"\")","v":""},{"$f":"IF('liste engagés'!$G186=8,'liste engagés'!E186,\"\")","v":""},{"$f":"IF('liste engagés'!$G186=8,'liste engagés'!K186,\"\")","v":""},{"$f":"IF('liste engagés'!$G186=8,'liste engagés'!L186,\"\")","v":""},0]
[182,{"$f":"IF('liste engagés'!$G187=8,'liste engagés'!A187,\"\")","v":""},{"$f":"IF('liste engagés'!$G187=8,'liste engagés'!B187,\"\")","v":""},{"$f":"IF('liste engagés'!$G187=8,'liste engagés'!C187,\"\")","v":""},{"$f":"IF('liste engagés'!$G187=8,'liste engagés'!D187,\"\")","v":""},{"$f":"IF('liste engagés'!$G187=8,'liste engagés'!E187,\"\")","v":""},{"$f":"IF('liste engagés'!$G187=8,'liste engagés'!K187,\"\")","v":""},{"$f":"IF('liste engagés'!$G187=8,'liste engagés'!L187,\"\")","v":""},0]
[183,{"$f":"IF('liste engagés'!$G188=8,'liste engagés'!A188,\"\")","v":""},{"$f":"IF('liste engagés'!$G188=8,'liste engagés'!B188,\"\")","v":""},{"$f":"IF('liste engagés'!$G188=8,'liste engagés'!C188,\"\")","v":""},{"$f":"IF('liste engagés'!$G188=8,'liste engagés'!D188,\"\")","v":""},{"$f":"IF('liste engagés'!$G188=8,'liste engagés'!E188,\"\")","v":""},{"$f":"IF('liste engagés'!$G188=8,'liste engagés'!K188,\"\")","v":""},{"$f":"IF('liste engagés'!$G188=8,'liste engagés'!L188,\"\")","v":""},0]
[184,{"$f":"IF('liste engagés'!$G189=8,'liste engagés'!A189,\"\")","v":""},{"$f":"IF('liste engagés'!$G189=8,'liste engagés'!B189,\"\")","v":""},{"$f":"IF('liste engagés'!$G189=8,'liste engagés'!C189,\"\")","v":""},{"$f":"IF('liste engagés'!$G189=8,'liste engagés'!D189,\"\")","v":""},{"$f":"IF('liste engagés'!$G189=8,'liste engagés'!E189,\"\")","v":""},{"$f":"IF('liste engagés'!$G189=8,'liste engagés'!K189,\"\")","v":""},{"$f":"IF('liste engagés'!$G189=8,'liste engagés'!L189,\"\")","v":""},0]
[185,{"$f":"IF('liste engagés'!$G190=8,'liste engagés'!A190,\"\")","v":""},{"$f":"IF('liste engagés'!$G190=8,'liste engagés'!B190,\"\")","v":""},{"$f":"IF('liste engagés'!$G190=8,'liste engagés'!C190,\"\")","v":""},{"$f":"IF('liste engagés'!$G190=8,'liste engagés'!D190,\"\")","v":""},{"$f":"IF('liste engagés'!$G190=8,'liste engagés'!E190,\"\")","v":""},{"$f":"IF('liste engagés'!$G190=8,'liste engagés'!K190,\"\")","v":""},{"$f":"IF('liste engagés'!$G190=8,'liste engagés'!L190,\"\")","v":""},0]
[186,{"$f":"IF('liste engagés'!$G191=8,'liste engagés'!A191,\"\")","v":""},{"$f":"IF('liste engagés'!$G191=8,'liste engagés'!B191,\"\")","v":""},{"$f":"IF('liste engagés'!$G191=8,'liste engagés'!C191,\"\")","v":""},{"$f":"IF('liste engagés'!$G191=8,'liste engagés'!D191,\"\")","v":""},{"$f":"IF('liste engagés'!$G191=8,'liste engagés'!E191,\"\")","v":""},{"$f":"IF('liste engagés'!$G191=8,'liste engagés'!K191,\"\")","v":""},{"$f":"IF('liste engagés'!$G191=8,'liste engagés'!L191,\"\")","v":""},0]
[187,{"$f":"IF('liste engagés'!$G192=8,'liste engagés'!A192,\"\")","v":""},{"$f":"IF('liste engagés'!$G192=8,'liste engagés'!B192,\"\")","v":""},{"$f":"IF('liste engagés'!$G192=8,'liste engagés'!C192,\"\")","v":""},{"$f":"IF('liste engagés'!$G192=8,'liste engagés'!D192,\"\")","v":""},{"$f":"IF('liste engagés'!$G192=8,'liste engagés'!E192,\"\")","v":""},{"$f":"IF('liste engagés'!$G192=8,'liste engagés'!K192,\"\")","v":""},{"$f":"IF('liste engagés'!$G192=8,'liste engagés'!L192,\"\")","v":""},0]
[188,{"$f":"IF('liste engagés'!$G193=8,'liste engagés'!A193,\"\")","v":""},{"$f":"IF('liste engagés'!$G193=8,'liste engagés'!B193,\"\")","v":""},{"$f":"IF('liste engagés'!$G193=8,'liste engagés'!C193,\"\")","v":""},{"$f":"IF('liste engagés'!$G193=8,'liste engagés'!D193,\"\")","v":""},{"$f":"IF('liste engagés'!$G193=8,'liste engagés'!E193,\"\")","v":""},{"$f":"IF('liste engagés'!$G193=8,'liste engagés'!K193,\"\")","v":""},{"$f":"IF('liste engagés'!$G193=8,'liste engagés'!L193,\"\")","v":""},0]
[189,{"$f":"IF('liste engagés'!$G194=8,'liste engagés'!A194,\"\")","v":""},{"$f":"IF('liste engagés'!$G194=8,'liste engagés'!B194,\"\")","v":""},{"$f":"IF('liste engagés'!$G194=8,'liste engagés'!C194,\"\")","v":""},{"$f":"IF('liste engagés'!$G194=8,'liste engagés'!D194,\"\")","v":""},{"$f":"IF('liste engagés'!$G194=8,'liste engagés'!E194,\"\")","v":""},{"$f":"IF('liste engagés'!$G194=8,'liste engagés'!K194,\"\")","v":""},{"$f":"IF('liste engagés'!$G194=8,'liste engagés'!L194,\"\")","v":""},0]
[190,{"$f":"IF('liste engagés'!$G195=8,'liste engagés'!A195,\"\")","v":""},{"$f":"IF('liste engagés'!$G195=8,'liste engagés'!B195,\"\")","v":""},{"$f":"IF('liste engagés'!$G195=8,'liste engagés'!C195,\"\")","v":""},{"$f":"IF('liste engagés'!$G195=8,'liste engagés'!D195,\"\")","v":""},{"$f":"IF('liste engagés'!$G195=8,'liste engagés'!E195,\"\")","v":""},{"$f":"IF('liste engagés'!$G195=8,'liste engagés'!K195,\"\")","v":""},{"$f":"IF('liste engagés'!$G195=8,'liste engagés'!L195,\"\")","v":""},0]
[191,{"$f":"IF('liste engagés'!$G196=8,'liste engagés'!A196,\"\")","v":""},{"$f":"IF('liste engagés'!$G196=8,'liste engagés'!B196,\"\")","v":""},{"$f":"IF('liste engagés'!$G196=8,'liste engagés'!C196,\"\")","v":""},{"$f":"IF('liste engagés'!$G196=8,'liste engagés'!D196,\"\")","v":""},{"$f":"IF('liste engagés'!$G196=8,'liste engagés'!E196,\"\")","v":""},{"$f":"IF('liste engagés'!$G196=8,'liste engagés'!K196,\"\")","v":""},{"$f":"IF('liste engagés'!$G196=8,'liste engagés'!L196,\"\")","v":""},0]
[192,{"$f":"IF('liste engagés'!$G197=8,'liste engagés'!A197,\"\")","v":""},{"$f":"IF('liste engagés'!$G197=8,'liste engagés'!B197,\"\")","v":""},{"$f":"IF('liste engagés'!$G197=8,'liste engagés'!C197,\"\")","v":""},{"$f":"IF('liste engagés'!$G197=8,'liste engagés'!D197,\"\")","v":""},{"$f":"IF('liste engagés'!$G197=8,'liste engagés'!E197,\"\")","v":""},{"$f":"IF('liste engagés'!$G197=8,'liste engagés'!K197,\"\")","v":""},{"$f":"IF('liste engagés'!$G197=8,'liste engagés'!L197,\"\")","v":""},0]
[193,{"$f":"IF('liste engagés'!$G198=8,'liste engagés'!A198,\"\")","v":""},{"$f":"IF('liste engagés'!$G198=8,'liste engagés'!B198,\"\")","v":""},{"$f":"IF('liste engagés'!$G198=8,'liste engagés'!C198,\"\")","v":""},{"$f":"IF('liste engagés'!$G198=8,'liste engagés'!D198,\"\")","v":""},{"$f":"IF('liste engagés'!$G198=8,'liste engagés'!E198,\"\")","v":""},{"$f":"IF('liste engagés'!$G198=8,'liste engagés'!K198,\"\")","v":""},{"$f":"IF('liste engagés'!$G198=8,'liste engagés'!L198,\"\")","v":""},{"$f":"+IF(C199=\"\",0,1)","v":0}]
[{"$f":"+A199+1","v":194},{"$f":"IF('liste engagés'!$G199=8,'liste engagés'!A199,\"\")","v":""},{"$f":"IF('liste engagés'!$G199=8,'liste engagés'!B199,\"\")","v":""},{"$f":"IF('liste engagés'!$G199=8,'liste engagés'!C199,\"\")","v":""},{"$f":"IF('liste engagés'!$G199=8,'liste engagés'!D199,\"\")","v":""},{"$f":"IF('liste engagés'!$G199=8,'liste engagés'!E199,\"\")","v":""},{"$f":"IF('liste engagés'!$G199=8,'liste engagés'!K199,\"\")","v":""},{"$f":"IF('liste engagés'!$G199=8,'liste engagés'!L199,\"\")","v":""},0]
[195,{"$f":"IF('liste engagés'!$G200=8,'liste engagés'!A200,\"\")","v":""},{"$f":"IF('liste engagés'!$G200=8,'liste engagés'!B200,\"\")","v":""},{"$f":"IF('liste engagés'!$G200=8,'liste engagés'!C200,\"\")","v":""},{"$f":"IF('liste engagés'!$G200=8,'liste engagés'!D200,\"\")","v":""},{"$f":"IF('liste engagés'!$G200=8,'liste engagés'!E200,\"\")","v":""},{"$f":"IF('liste engagés'!$G200=8,'liste engagés'!K200,\"\")","v":""},{"$f":"IF('liste engagés'!$G200=8,'liste engagés'!L200,\"\")","v":""},0]
[196,{"$f":"IF('liste engagés'!$G201=8,'liste engagés'!A201,\"\")","v":""},{"$f":"IF('liste engagés'!$G201=8,'liste engagés'!B201,\"\")","v":""},{"$f":"IF('liste engagés'!$G201=8,'liste engagés'!C201,\"\")","v":""},{"$f":"IF('liste engagés'!$G201=8,'liste engagés'!D201,\"\")","v":""},{"$f":"IF('liste engagés'!$G201=8,'liste engagés'!E201,\"\")","v":""},{"$f":"IF('liste engagés'!$G201=8,'liste engagés'!K201,\"\")","v":""},{"$f":"IF('liste engagés'!$G201=8,'liste engagés'!L201,\"\")","v":""},0]
[197,{"$f":"IF('liste engagés'!$G202=8,'liste engagés'!A202,\"\")","v":""},{"$f":"IF('liste engagés'!$G202=8,'liste engagés'!B202,\"\")","v":""},{"$f":"IF('liste engagés'!$G202=8,'liste engagés'!C202,\"\")","v":""},{"$f":"IF('liste engagés'!$G202=8,'liste engagés'!D202,\"\")","v":""},{"$f":"IF('liste engagés'!$G202=8,'liste engagés'!E202,\"\")","v":""},{"$f":"IF('liste engagés'!$G202=8,'liste engagés'!K202,\"\")","v":""},{"$f":"IF('liste engagés'!$G202=8,'liste engagés'!L202,\"\")","v":""},0]
[198,{"$f":"IF('liste engagés'!$G203=8,'liste engagés'!A203,\"\")","v":""},{"$f":"IF('liste engagés'!$G203=8,'liste engagés'!B203,\"\")","v":""},{"$f":"IF('liste engagés'!$G203=8,'liste engagés'!C203,\"\")","v":""},{"$f":"IF('liste engagés'!$G203=8,'liste engagés'!D203,\"\")","v":""},{"$f":"IF('liste engagés'!$G203=8,'liste engagés'!E203,\"\")","v":""},{"$f":"IF('liste engagés'!$G203=8,'liste engagés'!K203,\"\")","v":""},{"$f":"IF('liste engagés'!$G203=8,'liste engagés'!L203,\"\")","v":""},0]
[199,{"$f":"IF('liste engagés'!$G204=8,'liste engagés'!A204,\"\")","v":""},{"$f":"IF('liste engagés'!$G204=8,'liste engagés'!B204,\"\")","v":""},{"$f":"IF('liste engagés'!$G204=8,'liste engagés'!C204,\"\")","v":""},{"$f":"IF('liste engagés'!$G204=8,'liste engagés'!D204,\"\")","v":""},{"$f":"IF('liste engagés'!$G204=8,'liste engagés'!E204,\"\")","v":""},{"$f":"IF('liste engagés'!$G204=8,'liste engagés'!K204,\"\")","v":""},{"$f":"IF('liste engagés'!$G204=8,'liste engagés'!L204,\"\")","v":""},0]
[200,{"$f":"IF('liste engagés'!$G205=8,'liste engagés'!A205,\"\")","v":""},{"$f":"IF('liste engagés'!$G205=8,'liste engagés'!B205,\"\")","v":""},{"$f":"IF('liste engagés'!$G205=8,'liste engagés'!C205,\"\")","v":""},{"$f":"IF('liste engagés'!$G205=8,'liste engagés'!D205,\"\")","v":""},{"$f":"IF('liste engagés'!$G205=8,'liste engagés'!E205,\"\")","v":""},{"$f":"IF('liste engagés'!$G205=8,'liste engagés'!K205,\"\")","v":""},{"$f":"IF('liste engagés'!$G205=8,'liste engagés'!L205,\"\")","v":""},0]
[201,{"$f":"IF('liste engagés'!$G206=8,'liste engagés'!A206,\"\")","v":""},{"$f":"IF('liste engagés'!$G206=8,'liste engagés'!B206,\"\")","v":""},{"$f":"IF('liste engagés'!$G206=8,'liste engagés'!C206,\"\")","v":""},{"$f":"IF('liste engagés'!$G206=8,'liste engagés'!D206,\"\")","v":""},{"$f":"IF('liste engagés'!$G206=8,'liste engagés'!E206,\"\")","v":""},{"$f":"IF('liste engagés'!$G206=8,'liste engagés'!K206,\"\")","v":""},{"$f":"IF('liste engagés'!$G206=8,'liste engagés'!L206,\"\")","v":""},0]
[202,{"$f":"IF('liste engagés'!$G207=8,'liste engagés'!A207,\"\")","v":""},{"$f":"IF('liste engagés'!$G207=8,'liste engagés'!B207,\"\")","v":""},{"$f":"IF('liste engagés'!$G207=8,'liste engagés'!C207,\"\")","v":""},{"$f":"IF('liste engagés'!$G207=8,'liste engagés'!D207,\"\")","v":""},{"$f":"IF('liste engagés'!$G207=8,'liste engagés'!E207,\"\")","v":""},{"$f":"IF('liste engagés'!$G207=8,'liste engagés'!K207,\"\")","v":""},{"$f":"IF('liste engagés'!$G207=8,'liste engagés'!L207,\"\")","v":""},0]
[203,{"$f":"IF('liste engagés'!$G208=8,'liste engagés'!A208,\"\")","v":""},{"$f":"IF('liste engagés'!$G208=8,'liste engagés'!B208,\"\")","v":""},{"$f":"IF('liste engagés'!$G208=8,'liste engagés'!C208,\"\")","v":""},{"$f":"IF('liste engagés'!$G208=8,'liste engagés'!D208,\"\")","v":""},{"$f":"IF('liste engagés'!$G208=8,'liste engagés'!E208,\"\")","v":""},{"$f":"IF('liste engagés'!$G208=8,'liste engagés'!K208,\"\")","v":""},{"$f":"IF('liste engagés'!$G208=8,'liste engagés'!L208,\"\")","v":""},0]
[204,{"$f":"IF('liste engagés'!$G209=8,'liste engagés'!A209,\"\")","v":""},{"$f":"IF('liste engagés'!$G209=8,'liste engagés'!B209,\"\")","v":""},{"$f":"IF('liste engagés'!$G209=8,'liste engagés'!C209,\"\")","v":""},{"$f":"IF('liste engagés'!$G209=8,'liste engagés'!D209,\"\")","v":""},{"$f":"IF('liste engagés'!$G209=8,'liste engagés'!E209,\"\")","v":""},{"$f":"IF('liste engagés'!$G209=8,'liste engagés'!K209,\"\")","v":""},{"$f":"IF('liste engagés'!$G209=8,'liste engagés'!L209,\"\")","v":""},0]
[205,{"$f":"IF('liste engagés'!$G210=8,'liste engagés'!A210,\"\")","v":""},{"$f":"IF('liste engagés'!$G210=8,'liste engagés'!B210,\"\")","v":""},{"$f":"IF('liste engagés'!$G210=8,'liste engagés'!C210,\"\")","v":""},{"$f":"IF('liste engagés'!$G210=8,'liste engagés'!D210,\"\")","v":""},{"$f":"IF('liste engagés'!$G210=8,'liste engagés'!E210,\"\")","v":""},{"$f":"IF('liste engagés'!$G210=8,'liste engagés'!K210,\"\")","v":""},{"$f":"IF('liste engagés'!$G210=8,'liste engagés'!L210,\"\")","v":""},0]
[206,{"$f":"IF('liste engagés'!$G211=8,'liste engagés'!A211,\"\")","v":""},{"$f":"IF('liste engagés'!$G211=8,'liste engagés'!B211,\"\")","v":""},{"$f":"IF('liste engagés'!$G211=8,'liste engagés'!C211,\"\")","v":""},{"$f":"IF('liste engagés'!$G211=8,'liste engagés'!D211,\"\")","v":""},{"$f":"IF('liste engagés'!$G211=8,'liste engagés'!E211,\"\")","v":""},{"$f":"IF('liste engagés'!$G211=8,'liste engagés'!K211,\"\")","v":""},{"$f":"IF('liste engagés'!$G211=8,'liste engagés'!L211,\"\")","v":""},0]
[207,{"$f":"IF('liste engagés'!$G212=8,'liste engagés'!A212,\"\")","v":""},{"$f":"IF('liste engagés'!$G212=8,'liste engagés'!B212,\"\")","v":""},{"$f":"IF('liste engagés'!$G212=8,'liste engagés'!C212,\"\")","v":""},{"$f":"IF('liste engagés'!$G212=8,'liste engagés'!D212,\"\")","v":""},{"$f":"IF('liste engagés'!$G212=8,'liste engagés'!E212,\"\")","v":""},{"$f":"IF('liste engagés'!$G212=8,'liste engagés'!K212,\"\")","v":""},{"$f":"IF('liste engagés'!$G212=8,'liste engagés'!L212,\"\")","v":""},0]
[208,{"$f":"IF('liste engagés'!$G213=8,'liste engagés'!A213,\"\")","v":""},{"$f":"IF('liste engagés'!$G213=8,'liste engagés'!B213,\"\")","v":""},{"$f":"IF('liste engagés'!$G213=8,'liste engagés'!C213,\"\")","v":""},{"$f":"IF('liste engagés'!$G213=8,'liste engagés'!D213,\"\")","v":""},{"$f":"IF('liste engagés'!$G213=8,'liste engagés'!E213,\"\")","v":""},{"$f":"IF('liste engagés'!$G213=8,'liste engagés'!K213,\"\")","v":""},{"$f":"IF('liste engagés'!$G213=8,'liste engagés'!L213,\"\")","v":""},0]
[209,{"$f":"IF('liste engagés'!$G214=8,'liste engagés'!A214,\"\")","v":""},{"$f":"IF('liste engagés'!$G214=8,'liste engagés'!B214,\"\")","v":""},{"$f":"IF('liste engagés'!$G214=8,'liste engagés'!C214,\"\")","v":""},{"$f":"IF('liste engagés'!$G214=8,'liste engagés'!D214,\"\")","v":""},{"$f":"IF('liste engagés'!$G214=8,'liste engagés'!E214,\"\")","v":""},{"$f":"IF('liste engagés'!$G214=8,'liste engagés'!K214,\"\")","v":""},{"$f":"IF('liste engagés'!$G214=8,'liste engagés'!L214,\"\")","v":""},0]
[210,{"$f":"IF('liste engagés'!$G215=8,'liste engagés'!A215,\"\")","v":""},{"$f":"IF('liste engagés'!$G215=8,'liste engagés'!B215,\"\")","v":""},{"$f":"IF('liste engagés'!$G215=8,'liste engagés'!C215,\"\")","v":""},{"$f":"IF('liste engagés'!$G215=8,'liste engagés'!D215,\"\")","v":""},{"$f":"IF('liste engagés'!$G215=8,'liste engagés'!E215,\"\")","v":""},{"$f":"IF('liste engagés'!$G215=8,'liste engagés'!K215,\"\")","v":""},{"$f":"IF('liste engagés'!$G215=8,'liste engagés'!L215,\"\")","v":""},0]
[null,null,null,null,null,null,null,null,{"$f":"SUM(I7:I216)","v":7}]

{"sheet":"cat9","index":12,"n_rows":217,"n_cols":10,"rows_kept":217,"cut":false,"hidden":false,"merged":[]}
[{"$f":"+MENU!A1","v":"CHRONO DES LIMOUCHES "},null,null,null,null,null,{"$f":"+MENU!I1","v":"EDITION"},{"$f":"+MENU!J1","v":2018}]
[null,null,null,null,null,null,null,null,"code cat",9]
["CLASSEMENT :",null,{"$f":"+IF(J2=\"\",\"\",VLOOKUP($J$2,Catégories!B3:D17,3))","v":"Autres fédés / NL : 17-29 ans"}]
[]
[]
[null,"N°de DOSSARD","Nom ","Prénom","Club","Fédération","Temps","Moyenne"]
[1,{"$f":"IF('liste engagés'!$G143=9,'liste engagés'!A143,\"\")","v":138},{"$f":"IF('liste engagés'!$G143=9,'liste engagés'!B143,\"\")","v":"FARAVELON"},{"$f":"IF('liste engagés'!$G143=9,'liste engagés'!C143,\"\")","v":"BORIS"},{"$f":"IF('liste engagés'!$G143=9,'liste engagés'!D143,\"\")","v":"VSRP"},{"$f":"IF('liste engagés'!$G143=9,'liste engagés'!E143,\"\")","v":"FFC"},{"$f":"IF('liste engagés'!$G143=9,'liste engagés'!K143,\"\")","v":2.1886574074066967E-2},{"$f":"IF('liste engagés'!$G143=9,'liste engagés'!L143,\"\")","v":21.702802749874841},{"$f":"+IF(C7=\"\",0,1)","v":1}]
[{"$f":"+A7+1","v":2},{"$f":"IF('liste engagés'!$G98=9,'liste engagés'!A98,\"\")","v":93},{"$f":"IF('liste engagés'!$G98=9,'liste engagés'!B98,\"\")","v":"COTTE MARINON"},{"$f":"IF('liste engagés'!$G98=9,'liste engagés'!C98,\"\")","v":"PIERRE LOUIS"},{"$f":"IF('liste engagés'!$G98=9,'liste engagés'!D98,\"\")","v":"C PRO"},{"$f":"IF('liste engagés'!$G98=9,'liste engagés'!E98,\"\")","v":"FFC"},{"$f":"IF('liste engagés'!$G98=9,'liste engagés'!K98,\"\")","v":2.3090277777772672E-2},{"$f":"IF('liste engagés'!$G98=9,'liste engagés'!L98,\"\")","v":20.57142857143312},1]
[3,{"$f":"IF('liste engagés'!$G179=9,'liste engagés'!A179,\"\")","v":174},{"$f":"IF('liste engagés'!$G179=9,'liste engagés'!B179,\"\")","v":"VASNIER"},{"$f":"IF('liste engagés'!$G179=9,'liste engagés'!C179,\"\")","v":"DYLAN"},{"$f":"IF('liste engagés'!$G179=9,'liste engagés'!D179,\"\")","v":"UCMV"},{"$f":"IF('liste engagés'!$G179=9,'liste engagés'!E179,\"\")","v":"FFC"},{"$f":"IF('liste engagés'!$G179=9,'liste engagés'!K179,\"\")","v":2.3136574074064942E-2},{"$f":"IF('liste engagés'!$G179=9,'liste engagés'!L179,\"\")","v":20.530265132574389},1]
[4,{"$f":"IF('liste engagés'!$G124=9,'liste engagés'!A124,\"\")","v":119},{"$f":"IF('liste engagés'!$G124=9,'liste engagés'!B124,\"\")","v":"DOYON"},{"$f":"IF('liste engagés'!$G124=9,'liste engagés'!C124,\"\")","v":"NICOLAS"},{"$f":"IF('liste engagés'!$G124=9,'liste engagés'!D124,\"\")","v":"VSRP"},{"$f":"IF('liste engagés'!$G124=9,'liste engagés'!E124,\"\")","v":"FFC"},{"$f":"IF('liste engagés'!$G124=9,'liste engagés'!K124,\"\")","v":2.3842592592586087E-2},{"$f":"IF('liste engagés'!$G124=9,'liste engagés'!L124,\"\")","v":19.922330097092814},1]
[5,{"$f":"IF('liste engagés'!$G102=9,'liste engagés'!A102,\"\")","v":97},{"$f":"IF('liste engagés'!$G102=9,'liste engagés'!B102,\"\")","v":"DUROUX"},{"$f":"IF('liste engagés'!$G102=9,'liste engagés'!C102,\"\")","v":"JORIS"},{"$f":"IF('liste engagés'!$G102=9,'liste engagés'!D102,\"\")","v":"NL"},{"$f":"IF('liste engagés'!$G102=9,'liste engagés'!E102,\"\")","v":"NL"},{"$f":"IF('liste engagés'!$G102=9,'liste engagés'!K102,\"\")","v":2.4618055555550244E-2},{"$f":"IF('liste engagés'!$G102=9,'liste engagés'!L102,\"\")","v":19.294781382232653},1]
[6,{"$f":"IF('liste engagés'!$G125=9,'liste engagés'!A125,\"\")","v":120},{"$f":"IF('liste engagés'!$G125=9,'liste engagés'!B125,\"\")","v":"BLACHE "},{"$f":"IF('liste engagés'!$G125=9,'liste engagés'!C125,\"\")","v":"SYLVAIN"},{"$f":"IF('liste engagés'!$G125=9,'liste engagés'!D125,\"\")","v":"UCMV"},{"$f":"IF('liste engagés'!$G125=9,'liste engagés'!E125,\"\")","v":"FFC"},{"$f":"IF('liste engagés'!$G125=9,'liste engagés'!K125,\"\")","v":2.5381944444438309E-2},{"$f":"IF('liste engagés'!$G125=9,'liste engagés'!L125,\"\")","v":18.714090287282225},1]
[7,{"$f":"IF('liste engagés'!$G91=9,'liste engagés'!A91,\"\")","v":86},{"$f":"IF('liste engagés'!$G91=9,'liste engagés'!B91,\"\")","v":"POLIGNE"},{"$f":"IF('liste engagés'!$G91=9,'liste engagés'!C91,\"\")","v":"ALEXANDRE"},{"$f":"IF('liste engagés'!$G91=9,'liste engagés'!D91,\"\")","v":"NL"},{"$f":"IF('liste engagés'!$G91=9,'liste engagés'!E91,\"\")","v":"NL"},{"$f":"IF('liste engagés'!$G91=9,'liste engagés'!K91,\"\")","v":2.5381944444440196E-2},{"$f":"IF('liste engagés'!$G91=9,'liste engagés'!L91,\"\")","v":18.714090287280836},1]
[8,{"$f":"IF('liste engagés'!$G136=9,'liste engagés'!A136,\"\")","v":131},{"$f":"IF('liste engagés'!$G136=9,'liste engagés'!B136,\"\")","v":"LEMAIRE"},{"$f":"IF('liste engagés'!$G136=9,'liste engagés'!C136,\"\")","v":"YANNIS"},{"$f":"IF('liste engagés'!$G136=9,'liste engagés'!D136,\"\")","v":"UCMV"},{"$f":"IF('liste engagés'!$G136=9,'liste engagés'!E136,\"\")","v":"FFC"},{"$f":"IF('liste engagés'!$G136=9,'liste engagés'!K136,\"\")","v":2.5416666666659482E-2},{"$f":"IF('liste engagés'!$G136=9,'liste engagés'!L136,\"\")","v":18.688524590169219},1]
[9,{"$f":"IF('liste engagés'!$G117=9,'liste engagés'!A117,\"\")","v":112},{"$f":"IF('liste engagés'!$G117=9,'liste engagés'!B117,\"\")","v":"BELCHI"},{"$f":"IF('liste engagés'!$G117=9,'liste engagés'!C117,\"\")","v":"LEO"},{"$f":"IF('liste engagés'!$G117=9,'liste engagés'!D117,\"\")","v":"UCMV"},{"$f":"IF('liste engagés'!$G117=9,'liste engagés'!E117,\"\")","v":"FFC"},{"$f":"IF('liste engagés'!$G117=9,'liste engagés'!K117,\"\")","v":2.5682870370364652E-2},{"$f":"IF('liste engagés'!$G117=9,'liste engagés'!L117,\"\")","v":18.494817485357881},1]
[10,{"$f":"IF('liste engagés'!$G84=9,'liste engagés'!A84,\"\")","v":79},{"$f":"IF('liste engagés'!$G84=9,'liste engagés'!B84,\"\")","v":"GRESSE"},{"$f":"IF('liste engagés'!$G84=9,'liste engagés'!C84,\"\")","v":"GUI GUI"},{"$f":"IF('liste engagés'!$G84=9,'liste engagés'!D84,\"\")","v":"UCMV"},{"$f":"IF('liste engagés'!$G84=9,'liste engagés'!E84,\"\")","v":"FFC"},{"$f":"IF('liste engagés'!$G84=9,'liste engagés'!K84,\"\")","v":2.641203703703271E-2},{"$f":"IF('liste engagés'!$G84=9,'liste engagés'!L84,\"\")","v":17.984224364595409},1]
[11,{"$f":"IF('liste engagés'!$G31=9,'liste engagés'!A31,\"\")","v":26},{"$f":"IF('liste engagés'!$G31=9,'liste engagés'!B31,\"\")","v":"BOYER"},{"$f":"IF('liste engagés'!$G31=9,'liste engagés'!C31,\"\")","v":"AXEL"},{"$f":"IF('liste engagés'!$G31=9,'liste engagés'!D31,\"\")","v":"UCMV"},{"$f":"IF('liste engagés'!$G31=9,'liste engagés'!E31,\"\")","v":"FFC"},{"$f":"IF('liste engagés'!$G31=9,'liste engagés'!K31,\"\")","v":2.708333333333246E-2},{"$f":"IF('liste engagés'!$G31=9,'liste engagés'!L31,\"\")","v":17.538461538462105},1]
[12,{"$f":"IF('liste engagés'!$G134=9,'liste engagés'!A134,\"\")","v":129},{"$f":"IF('liste engagés'!$G134=9,'liste engagés'!B134,\"\")","v":"ESTORGES"},{"$f":"IF('liste engagés'!$G134=9,'liste engagés'!C134,\"\")","v":"LUCAS"},{"$f":"IF('liste engagés'!$G134=9,'liste engagés'!D134,\"\")","v":"UCMV"},{"$f":"IF('liste engagés'!$G134=9,'liste engagés'!E134,\"\")","v":"FFC"},{"$f":"IF('liste engagés'!$G134=9,'liste engagés'!K134,\"\")","v":3.3333333333326221E-2},{"$f":"IF('liste engagés'!$G134=9,'liste engagés'!L134,\"\")","v":14.250000000003041},1]
[13,{"$f":"IF('liste engagés'!$G8=9,'liste engagés'!A8,\"\")","v":3},{"$f":"IF('liste engagés'!$G8=9,'liste engagés'!B8,\"\")","v":"HERBAUT"},{"$f":"IF('liste engagés'!$G8=9,'liste engagés'!C8,\"\")","v":"BAPTISTE"},{"$f":"IF('liste engagés'!$G8=9,'liste engagés'!D8,\"\")","v":"UCMV"},{"$f":"IF('liste engagés'!$G8=9,'liste engagés'!E8,\"\")","v":"FFC"},{"$f":"IF('liste engagés'!$G8=9,'liste engagés'!K8,\"\")","v":3.4722222222222265E-2},{"$f":"IF('liste engagés'!$G8=9,'liste engagés'!L8,\"\")","v":13.679999999999984},1]
[14,{"$f":"IF('liste engagés'!$G58=9,'liste engagés'!A58,\"\")","v":53},{"$f":"IF('liste engagés'!$G58=9,'liste engagés'!B58,\"\")","v":"LECOMTE"},{"$f":"IF('liste engagés'!$G58=9,'liste engagés'!C58,\"\")","v":"CLEMENT"},{"$f":"IF('liste engagés'!$G58=9,'liste engagés'!D58,\"\")","v":"NON LICENCIE"},{"$f":"IF('liste engagés'!$G58=9,'liste engagés'!E58,\"\")","v":"NL"},{"$f":"IF('liste engagés'!$G58=9,'liste engagés'!K58,\"\")","v":3.7534722222219374E-2},{"$f":"IF('liste engagés'!$G58=9,'liste engagés'!L58,\"\")","v":12.65494912118505},1]
[15,{"$f":"IF('liste engagés'!$G6=9,'liste engagés'!A6,\"\")","v":""},{"$f":"IF('liste engagés'!$G6=9,'liste engagés'!B6,\"\")","v":""},{"$f":"IF('liste engagés'!$G6=9,'liste engagés'!C6,\"\")","v":""},{"$f":"IF('liste engagés'!$G6=9,'liste engagés'!D6,\"\")","v":""},{"$f":"IF('liste engagés'!$G6=9,'liste engagés'!E6,\"\")","v":""},{"$f":"IF('liste engagés'!$G6=9,'liste engagés'!K6,\"\")","v":""},{"$f":"IF('liste engagés'!$G6=9,'liste engagés'!L6,\"\")","v":""},0]
[16,{"$f":"IF('liste engagés'!$G7=9,'liste engagés'!A7,\"\")","v":""},{"$f":"IF('liste engagés'!$G7=9,'liste engagés'!B7,\"\")","v":""},{"$f":"IF('liste engagés'!$G7=9,'liste engagés'!C7,\"\")","v":""},{"$f":"IF('liste engagés'!$G7=9,'liste engagés'!D7,\"\")","v":""},{"$f":"IF('liste engagés'!$G7=9,'liste engagés'!E7,\"\")","v":""},{"$f":"IF('liste engagés'!$G7=9,'liste engagés'!K7,\"\")","v":""},{"$f":"IF('liste engagés'!$G7=9,'liste engagés'!L7,\"\")","v":""},0]
[17,{"$f":"IF('liste engagés'!$G9=9,'liste engagés'!A9,\"\")","v":""},{"$f":"IF('liste engagés'!$G9=9,'liste engagés'!B9,\"\")","v":""},{"$f":"IF('liste engagés'!$G9=9,'liste engagés'!C9,\"\")","v":""},{"$f":"IF('liste engagés'!$G9=9,'liste engagés'!D9,\"\")","v":""},{"$f":"IF('liste engagés'!$G9=9,'liste engagés'!E9,\"\")","v":""},{"$f":"IF('liste engagés'!$G9=9,'liste engagés'!K9,\"\")","v":""},{"$f":"IF('liste engagés'!$G9=9,'liste engagés'!L9,\"\")","v":""},0]
[18,{"$f":"IF('liste engagés'!$G10=9,'liste engagés'!A10,\"\")","v":""},{"$f":"IF('liste engagés'!$G10=9,'liste engagés'!B10,\"\")","v":""},{"$f":"IF('liste engagés'!$G10=9,'liste engagés'!C10,\"\")","v":""},{"$f":"IF('liste engagés'!$G10=9,'liste engagés'!D10,\"\")","v":""},{"$f":"IF('liste engagés'!$G10=9,'liste engagés'!E10,\"\")","v":""},{"$f":"IF('liste engagés'!$G10=9,'liste engagés'!K10,\"\")","v":""},{"$f":"IF('liste engagés'!$G10=9,'liste engagés'!L10,\"\")","v":""},0]
[19,{"$f":"IF('liste engagés'!$G11=9,'liste engagés'!A11,\"\")","v":""},{"$f":"IF('liste engagés'!$G11=9,'liste engagés'!B11,\"\")","v":""},{"$f":"IF('liste engagés'!$G11=9,'liste engagés'!C11,\"\")","v":""},{"$f":"IF('liste engagés'!$G11=9,'liste engagés'!D11,\"\")","v":""},{"$f":"IF('liste engagés'!$G11=9,'liste engagés'!E11,\"\")","v":""},{"$f":"IF('liste engagés'!$G11=9,'liste engagés'!K11,\"\")","v":""},{"$f":"IF('liste engagés'!$G11=9,'liste engagés'!L11,\"\")","v":""},0]
[20,{"$f":"IF('liste engagés'!$G12=9,'liste engagés'!A12,\"\")","v":""},{"$f":"IF('liste engagés'!$G12=9,'liste engagés'!B12,\"\")","v":""},{"$f":"IF('liste engagés'!$G12=9,'liste engagés'!C12,\"\")","v":""},{"$f":"IF('liste engagés'!$G12=9,'liste engagés'!D12,\"\")","v":""},{"$f":"IF('liste engagés'!$G12=9,'liste engagés'!E12,\"\")","v":""},{"$f":"IF('liste engagés'!$G12=9,'liste engagés'!K12,\"\")","v":""},{"$f":"IF('liste engagés'!$G12=9,'liste engagés'!L12,\"\")","v":""},0]
[21,{"$f":"IF('liste engagés'!$G13=9,'liste engagés'!A13,\"\")","v":""},{"$f":"IF('liste engagés'!$G13=9,'liste engagés'!B13,\"\")","v":""},{"$f":"IF('liste engagés'!$G13=9,'liste engagés'!C13,\"\")","v":""},{"$f":"IF('liste engagés'!$G13=9,'liste engagés'!D13,\"\")","v":""},{"$f":"IF('liste engagés'!$G13=9,'liste engagés'!E13,\"\")","v":""},{"$f":"IF('liste engagés'!$G13=9,'liste engagés'!K13,\"\")","v":""},{"$f":"IF('liste engagés'!$G13=9,'liste engagés'!L13,\"\")","v":""},0]
[22,{"$f":"IF('liste engagés'!$G14=9,'liste engagés'!A14,\"\")","v":""},{"$f":"IF('liste engagés'!$G14=9,'liste engagés'!B14,\"\")","v":""},{"$f":"IF('liste engagés'!$G14=9,'liste engagés'!C14,\"\")","v":""},{"$f":"IF('liste engagés'!$G14=9,'liste engagés'!D14,\"\")","v":""},{"$f":"IF('liste engagés'!$G14=9,'liste engagés'!E14,\"\")","v":""},{"$f":"IF('liste engagés'!$G14=9,'liste engagés'!K14,\"\")","v":""},{"$f":"IF('liste engagés'!$G14=9,'liste engagés'!L14,\"\")","v":""},0]
[23,{"$f":"IF('liste engagés'!$G15=9,'liste engagés'!A15,\"\")","v":""},{"$f":"IF('liste engagés'!$G15=9,'liste engagés'!B15,\"\")","v":""},{"$f":"IF('liste engagés'!$G15=9,'liste engagés'!C15,\"\")","v":""},{"$f":"IF('liste engagés'!$G15=9,'liste engagés'!D15,\"\")","v":""},{"$f":"IF('liste engagés'!$G15=9,'liste engagés'!E15,\"\")","v":""},{"$f":"IF('liste engagés'!$G15=9,'liste engagés'!K15,\"\")","v":""},{"$f":"IF('liste engagés'!$G15=9,'liste engagés'!L15,\"\")","v":""},0]
[24,{"$f":"IF('liste engagés'!$G16=9,'liste engagés'!A16,\"\")","v":""},{"$f":"IF('liste engagés'!$G16=9,'liste engagés'!B16,\"\")","v":""},{"$f":"IF('liste engagés'!$G16=9,'liste engagés'!C16,\"\")","v":""},{"$f":"IF('liste engagés'!$G16=9,'liste engagés'!D16,\"\")","v":""},{"$f":"IF('liste engagés'!$G16=9,'liste engagés'!E16,\"\")","v":""},{"$f":"IF('liste engagés'!$G16=9,'liste engagés'!K16,\"\")","v":""},{"$f":"IF('liste engagés'!$G16=9,'liste engagés'!L16,\"\")","v":""},0]
[25,{"$f":"IF('liste engagés'!$G17=9,'liste engagés'!A17,\"\")","v":""},{"$f":"IF('liste engagés'!$G17=9,'liste engagés'!B17,\"\")","v":""},{"$f":"IF('liste engagés'!$G17=9,'liste engagés'!C17,\"\")","v":""},{"$f":"IF('liste engagés'!$G17=9,'liste engagés'!D17,\"\")","v":""},{"$f":"IF('liste engagés'!$G17=9,'liste engagés'!E17,\"\")","v":""},{"$f":"IF('liste engagés'!$G17=9,'liste engagés'!K17,\"\")","v":""},{"$f":"IF('liste engagés'!$G17=9,'liste engagés'!L17,\"\")","v":""},0]
[26,{"$f":"IF('liste engagés'!$G18=9,'liste engagés'!A18,\"\")","v":""},{"$f":"IF('liste engagés'!$G18=9,'liste engagés'!B18,\"\")","v":""},{"$f":"IF('liste engagés'!$G18=9,'liste engagés'!C18,\"\")","v":""},{"$f":"IF('liste engagés'!$G18=9,'liste engagés'!D18,\"\")","v":""},{"$f":"IF('liste engagés'!$G18=9,'liste engagés'!E18,\"\")","v":""},{"$f":"IF('liste engagés'!$G18=9,'liste engagés'!K18,\"\")","v":""},{"$f":"IF('liste engagés'!$G18=9,'liste engagés'!L18,\"\")","v":""},0]
[27,{"$f":"IF('liste engagés'!$G19=9,'liste engagés'!A19,\"\")","v":""},{"$f":"IF('liste engagés'!$G19=9,'liste engagés'!B19,\"\")","v":""},{"$f":"IF('liste engagés'!$G19=9,'liste engagés'!C19,\"\")","v":""},{"$f":"IF('liste engagés'!$G19=9,'liste engagés'!D19,\"\")","v":""},{"$f":"IF('liste engagés'!$G19=9,'liste engagés'!E19,\"\")","v":""},{"$f":"IF('liste engagés'!$G19=9,'liste engagés'!K19,\"\")","v":""},{"$f":"IF('liste engagés'!$G19=9,'liste engagés'!L19,\"\")","v":""},0]
[28,{"$f":"IF('liste engagés'!$G20=9,'liste engagés'!A20,\"\")","v":""},{"$f":"IF('liste engagés'!$G20=9,'liste engagés'!B20,\"\")","v":""},{"$f":"IF('liste engagés'!$G20=9,'liste engagés'!C20,\"\")","v":""},{"$f":"IF('liste engagés'!$G20=9,'liste engagés'!D20,\"\")","v":""},{"$f":"IF('liste engagés'!$G20=9,'liste engagés'!E20,\"\")","v":""},{"$f":"IF('liste engagés'!$G20=9,'liste engagés'!K20,\"\")","v":""},{"$f":"IF('liste engagés'!$G20=9,'liste engagés'!L20,\"\")","v":""},0]
[29,{"$f":"IF('liste engagés'!$G21=9,'liste engagés'!A21,\"\")","v":""},{"$f":"IF('liste engagés'!$G21=9,'liste engagés'!B21,\"\")","v":""},{"$f":"IF('liste engagés'!$G21=9,'liste engagés'!C21,\"\")","v":""},{"$f":"IF('liste engagés'!$G21=9,'liste engagés'!D21,\"\")","v":""},{"$f":"IF('liste engagés'!$G21=9,'liste engagés'!E21,\"\")","v":""},{"$f":"IF('liste engagés'!$G21=9,'liste engagés'!K21,\"\")","v":""},{"$f":"IF('liste engagés'!$G21=9,'liste engagés'!L21,\"\")","v":""},0]
[30,{"$f":"IF('liste engagés'!$G22=9,'liste engagés'!A22,\"\")","v":""},{"$f":"IF('liste engagés'!$G22=9,'liste engagés'!B22,\"\")","v":""},{"$f":"IF('liste engagés'!$G22=9,'liste engagés'!C22,\"\")","v":""},{"$f":"IF('liste engagés'!$G22=9,'liste engagés'!D22,\"\")","v":""},{"$f":"IF('liste engagés'!$G22=9,'liste engagés'!E22,\"\")","v":""},{"$f":"IF('liste engagés'!$G22=9,'liste engagés'!K22,\"\")","v":""},{"$f":"IF('liste engagés'!$G22=9,'liste engagés'!L22,\"\")","v":""},0]
[31,{"$f":"IF('liste engagés'!$G23=9,'liste engagés'!A23,\"\")","v":""},{"$f":"IF('liste engagés'!$G23=9,'liste engagés'!B23,\"\")","v":""},{"$f":"IF('liste engagés'!$G23=9,'liste engagés'!C23,\"\")","v":""},{"$f":"IF('liste engagés'!$G23=9,'liste engagés'!D23,\"\")","v":""},{"$f":"IF('liste engagés'!$G23=9,'liste engagés'!E23,\"\")","v":""},{"$f":"IF('liste engagés'!$G23=9,'liste engagés'!K23,\"\")","v":""},{"$f":"IF('liste engagés'!$G23=9,'liste engagés'!L23,\"\")","v":""},0]
[32,{"$f":"IF('liste engagés'!$G24=9,'liste engagés'!A24,\"\")","v":""},{"$f":"IF('liste engagés'!$G24=9,'liste engagés'!B24,\"\")","v":""},{"$f":"IF('liste engagés'!$G24=9,'liste engagés'!C24,\"\")","v":""},{"$f":"IF('liste engagés'!$G24=9,'liste engagés'!D24,\"\")","v":""},{"$f":"IF('liste engagés'!$G24=9,'liste engagés'!E24,\"\")","v":""},{"$f":"IF('liste engagés'!$G24=9,'liste engagés'!K24,\"\")","v":""},{"$f":"IF('liste engagés'!$G24=9,'liste engagés'!L24,\"\")","v":""},0]
[33,{"$f":"IF('liste engagés'!$G25=9,'liste engagés'!A25,\"\")","v":""},{"$f":"IF('liste engagés'!$G25=9,'liste engagés'!B25,\"\")","v":""},{"$f":"IF('liste engagés'!$G25=9,'liste engagés'!C25,\"\")","v":""},{"$f":"IF('liste engagés'!$G25=9,'liste engagés'!D25,\"\")","v":""},{"$f":"IF('liste engagés'!$G25=9,'liste engagés'!E25,\"\")","v":""},{"$f":"IF('liste engagés'!$G25=9,'liste engagés'!K25,\"\")","v":""},{"$f":"IF('liste engagés'!$G25=9,'liste engagés'!L25,\"\")","v":""},0]
[34,{"$f":"IF('liste engagés'!$G26=9,'liste engagés'!A26,\"\")","v":""},{"$f":"IF('liste engagés'!$G26=9,'liste engagés'!B26,\"\")","v":""},{"$f":"IF('liste engagés'!$G26=9,'liste engagés'!C26,\"\")","v":""},{"$f":"IF('liste engagés'!$G26=9,'liste engagés'!D26,\"\")","v":""},{"$f":"IF('liste engagés'!$G26=9,'liste engagés'!E26,\"\")","v":""},{"$f":"IF('liste engagés'!$G26=9,'liste engagés'!K26,\"\")","v":""},{"$f":"IF('liste engagés'!$G26=9,'liste engagés'!L26,\"\")","v":""},0]
[35,{"$f":"IF('liste engagés'!$G27=9,'liste engagés'!A27,\"\")","v":""},{"$f":"IF('liste engagés'!$G27=9,'liste engagés'!B27,\"\")","v":""},{"$f":"IF('liste engagés'!$G27=9,'liste engagés'!C27,\"\")","v":""},{"$f":"IF('liste engagés'!$G27=9,'liste engagés'!D27,\"\")","v":""},{"$f":"IF('liste engagés'!$G27=9,'liste engagés'!E27,\"\")","v":""},{"$f":"IF('liste engagés'!$G27=9,'liste engagés'!K27,\"\")","v":""},{"$f":"IF('liste engagés'!$G27=9,'liste engagés'!L27,\"\")","v":""},0]
[36,{"$f":"IF('liste engagés'!$G28=9,'liste engagés'!A28,\"\")","v":""},{"$f":"IF('liste engagés'!$G28=9,'liste engagés'!B28,\"\")","v":""},{"$f":"IF('liste engagés'!$G28=9,'liste engagés'!C28,\"\")","v":""},{"$f":"IF('liste engagés'!$G28=9,'liste engagés'!D28,\"\")","v":""},{"$f":"IF('liste engagés'!$G28=9,'liste engagés'!E28,\"\")","v":""},{"$f":"IF('liste engagés'!$G28=9,'liste engagés'!K28,\"\")","v":""},{"$f":"IF('liste engagés'!$G28=9,'liste engagés'!L28,\"\")","v":""},0]
[37,{"$f":"IF('liste engagés'!$G29=9,'liste engagés'!A29,\"\")","v":""},{"$f":"IF('liste engagés'!$G29=9,'liste engagés'!B29,\"\")","v":""},{"$f":"IF('liste engagés'!$G29=9,'liste engagés'!C29,\"\")","v":""},{"$f":"IF('liste engagés'!$G29=9,'liste engagés'!D29,\"\")","v":""},{"$f":"IF('liste engagés'!$G29=9,'liste engagés'!E29,\"\")","v":""},{"$f":"IF('liste engagés'!$G29=9,'liste engagés'!K29,\"\")","v":""},{"$f":"IF('liste engagés'!$G29=9,'liste engagés'!L29,\"\")","v":""},0]
[38,{"$f":"IF('liste engagés'!$G30=9,'liste engagés'!A30,\"\")","v":""},{"$f":"IF('liste engagés'!$G30=9,'liste engagés'!B30,\"\")","v":""},{"$f":"IF('liste engagés'!$G30=9,'liste engagés'!C30,\"\")","v":""},{"$f":"IF('liste engagés'!$G30=9,'liste engagés'!D30,\"\")","v":""},{"$f":"IF('liste engagés'!$G30=9,'liste engagés'!E30,\"\")","v":""},{"$f":"IF('liste engagés'!$G30=9,'liste engagés'!K30,\"\")","v":""},{"$f":"IF('liste engagés'!$G30=9,'liste engagés'!L30,\"\")","v":""},0]
[39,{"$f":"IF('liste engagés'!$G32=9,'liste engagés'!A32,\"\")","v":""},{"$f":"IF('liste engagés'!$G32=9,'liste engagés'!B32,\"\")","v":""},{"$f":"IF('liste engagés'!$G32=9,'liste engagés'!C32,\"\")","v":""},{"$f":"IF('liste engagés'!$G32=9,'liste engagés'!D32,\"\")","v":""},{"$f":"IF('liste engagés'!$G32=9,'liste engagés'!E32,\"\")","v":""},{"$f":"IF('liste engagés'!$G32=9,'liste engagés'!K32,\"\")","v":""},{"$f":"IF('liste engagés'!$G32=9,'liste engagés'!L32,\"\")","v":""},0]
[40,{"$f":"IF('liste engagés'!$G33=9,'liste engagés'!A33,\"\")","v":""},{"$f":"IF('liste engagés'!$G33=9,'liste engagés'!B33,\"\")","v":""},{"$f":"IF('liste engagés'!$G33=9,'liste engagés'!C33,\"\")","v":""},{"$f":"IF('liste engagés'!$G33=9,'liste engagés'!D33,\"\")","v":""},{"$f":"IF('liste engagés'!$G33=9,'liste engagés'!E33,\"\")","v":""},{"$f":"IF('liste engagés'!$G33=9,'liste engagés'!K33,\"\")","v":""},{"$f":"IF('liste engagés'!$G33=9,'liste engagés'!L33,\"\")","v":""},0]
[41,{"$f":"IF('liste engagés'!$G34=9,'liste engagés'!A34,\"\")","v":""},{"$f":"IF('liste engagés'!$G34=9,'liste engagés'!B34,\"\")","v":""},{"$f":"IF('liste engagés'!$G34=9,'liste engagés'!C34,\"\")","v":""},{"$f":"IF('liste engagés'!$G34=9,'liste engagés'!D34,\"\")","v":""},{"$f":"IF('liste engagés'!$G34=9,'liste engagés'!E34,\"\")","v":""},{"$f":"IF('liste engagés'!$G34=9,'liste engagés'!K34,\"\")","v":""},{"$f":"IF('liste engagés'!$G34=9,'liste engagés'!L34,\"\")","v":""},0]
[42,{"$f":"IF('liste engagés'!$G35=9,'liste engagés'!A35,\"\")","v":""},{"$f":"IF('liste engagés'!$G35=9,'liste engagés'!B35,\"\")","v":""},{"$f":"IF('liste engagés'!$G35=9,'liste engagés'!C35,\"\")","v":""},{"$f":"IF('liste engagés'!$G35=9,'liste engagés'!D35,\"\")","v":""},{"$f":"IF('liste engagés'!$G35=9,'liste engagés'!E35,\"\")","v":""},{"$f":"IF('liste engagés'!$G35=9,'liste engagés'!K35,\"\")","v":""},{"$f":"IF('liste engagés'!$G35=9,'liste engagés'!L35,\"\")","v":""},0]
[43,{"$f":"IF('liste engagés'!$G36=9,'liste engagés'!A36,\"\")","v":""},{"$f":"IF('liste engagés'!$G36=9,'liste engagés'!B36,\"\")","v":""},{"$f":"IF('liste engagés'!$G36=9,'liste engagés'!C36,\"\")","v":""},{"$f":"IF('liste engagés'!$G36=9,'liste engagés'!D36,\"\")","v":""},{"$f":"IF('liste engagés'!$G36=9,'liste engagés'!E36,\"\")","v":""},{"$f":"IF('liste engagés'!$G36=9,'liste engagés'!K36,\"\")","v":""},{"$f":"IF('liste engagés'!$G36=9,'liste engagés'!L36,\"\")","v":""},0]
[44,{"$f":"IF('liste engagés'!$G37=9,'liste engagés'!A37,\"\")","v":""},{"$f":"IF('liste engagés'!$G37=9,'liste engagés'!B37,\"\")","v":""},{"$f":"IF('liste engagés'!$G37=9,'liste engagés'!C37,\"\")","v":""},{"$f":"IF('liste engagés'!$G37=9,'liste engagés'!D37,\"\")","v":""},{"$f":"IF('liste engagés'!$G37=9,'liste engagés'!E37,\"\")","v":""},{"$f":"IF('liste engagés'!$G37=9,'liste engagés'!K37,\"\")","v":""},{"$f":"IF('liste engagés'!$G37=9,'liste engagés'!L37,\"\")","v":""},0]
[45,{"$f":"IF('liste engagés'!$G38=9,'liste engagés'!A38,\"\")","v":""},{"$f":"IF('liste engagés'!$G38=9,'liste engagés'!B38,\"\")","v":""},{"$f":"IF('liste engagés'!$G38=9,'liste engagés'!C38,\"\")","v":""},{"$f":"IF('liste engagés'!$G38=9,'liste engagés'!D38,\"\")","v":""},{"$f":"IF('liste engagés'!$G38=9,'liste engagés'!E38,\"\")","v":""},{"$f":"IF('liste engagés'!$G38=9,'liste engagés'!K38,\"\")","v":""},{"$f":"IF('liste engagés'!$G38=9,'liste engagés'!L38,\"\")","v":""},0]
[46,{"$f":"IF('liste engagés'!$G39=9,'liste engagés'!A39,\"\")","v":""},{"$f":"IF('liste engagés'!$G39=9,'liste engagés'!B39,\"\")","v":""},{"$f":"IF('liste engagés'!$G39=9,'liste engagés'!C39,\"\")","v":""},{"$f":"IF('liste engagés'!$G39=9,'liste engagés'!D39,\"\")","v":""},{"$f":"IF('liste engagés'!$G39=9,'liste engagés'!E39,\"\")","v":""},{"$f":"IF('liste engagés'!$G39=9,'liste engagés'!K39,\"\")","v":""},{"$f":"IF('liste engagés'!$G39=9,'liste engagés'!L39,\"\")","v":""},0]
[47,{"$f":"IF('liste engagés'!$G40=9,'liste engagés'!A40,\"\")","v":""},{"$f":"IF('liste engagés'!$G40=9,'liste engagés'!B40,\"\")","v":""},{"$f":"IF('liste engagés'!$G40=9,'liste engagés'!C40,\"\")","v":""},{"$f":"IF('liste engagés'!$G40=9,'liste engagés'!D40,\"\")","v":""},{"$f":"IF('liste engagés'!$G40=9,'liste engagés'!E40,\"\")","v":""},{"$f":"IF('liste engagés'!$G40=9,'liste engagés'!K40,\"\")","v":""},{"$f":"IF('liste engagés'!$G40=9,'liste engagés'!L40,\"\")","v":""},0]
[48,{"$f":"IF('liste engagés'!$G41=9,'liste engagés'!A41,\"\")","v":""},{"$f":"IF('liste engagés'!$G41=9,'liste engagés'!B41,\"\")","v":""},{"$f":"IF('liste engagés'!$G41=9,'liste engagés'!C41,\"\")","v":""},{"$f":"IF('liste engagés'!$G41=9,'liste engagés'!D41,\"\")","v":""},{"$f":"IF('liste engagés'!$G41=9,'liste engagés'!E41,\"\")","v":""},{"$f":"IF('liste engagés'!$G41=9,'liste engagés'!K41,\"\")","v":""},{"$f":"IF('liste engagés'!$G41=9,'liste engagés'!L41,\"\")","v":""},0]
[49,{"$f":"IF('liste engagés'!$G42=9,'liste engagés'!A42,\"\")","v":""},{"$f":"IF('liste engagés'!$G42=9,'liste engagés'!B42,\"\")","v":""},{"$f":"IF('liste engagés'!$G42=9,'liste engagés'!C42,\"\")","v":""},{"$f":"IF('liste engagés'!$G42=9,'liste engagés'!D42,\"\")","v":""},{"$f":"IF('liste engagés'!$G42=9,'liste engagés'!E42,\"\")","v":""},{"$f":"IF('liste engagés'!$G42=9,'liste engagés'!K42,\"\")","v":""},{"$f":"IF('liste engagés'!$G42=9,'liste engagés'!L42,\"\")","v":""},0]
[50,{"$f":"IF('liste engagés'!$G43=9,'liste engagés'!A43,\"\")","v":""},{"$f":"IF('liste engagés'!$G43=9,'liste engagés'!B43,\"\")","v":""},{"$f":"IF('liste engagés'!$G43=9,'liste engagés'!C43,\"\")","v":""},{"$f":"IF('liste engagés'!$G43=9,'liste engagés'!D43,\"\")","v":""},{"$f":"IF('liste engagés'!$G43=9,'liste engagés'!E43,\"\")","v":""},{"$f":"IF('liste engagés'!$G43=9,'liste engagés'!K43,\"\")","v":""},{"$f":"IF('liste engagés'!$G43=9,'liste engagés'!L43,\"\")","v":""},0]
[51,{"$f":"IF('liste engagés'!$G44=9,'liste engagés'!A44,\"\")","v":""},{"$f":"IF('liste engagés'!$G44=9,'liste engagés'!B44,\"\")","v":""},{"$f":"IF('liste engagés'!$G44=9,'liste engagés'!C44,\"\")","v":""},{"$f":"IF('liste engagés'!$G44=9,'liste engagés'!D44,\"\")","v":""},{"$f":"IF('liste engagés'!$G44=9,'liste engagés'!E44,\"\")","v":""},{"$f":"IF('liste engagés'!$G44=9,'liste engagés'!K44,\"\")","v":""},{"$f":"IF('liste engagés'!$G44=9,'liste engagés'!L44,\"\")","v":""},0]
[52,{"$f":"IF('liste engagés'!$G45=9,'liste engagés'!A45,\"\")","v":""},{"$f":"IF('liste engagés'!$G45=9,'liste engagés'!B45,\"\")","v":""},{"$f":"IF('liste engagés'!$G45=9,'liste engagés'!C45,\"\")","v":""},{"$f":"IF('liste engagés'!$G45=9,'liste engagés'!D45,\"\")","v":""},{"$f":"IF('liste engagés'!$G45=9,'liste engagés'!E45,\"\")","v":""},{"$f":"IF('liste engagés'!$G45=9,'liste engagés'!K45,\"\")","v":""},{"$f":"IF('liste engagés'!$G45=9,'liste engagés'!L45,\"\")","v":""},0]
[53,{"$f":"IF('liste engagés'!$G46=9,'liste engagés'!A46,\"\")","v":""},{"$f":"IF('liste engagés'!$G46=9,'liste engagés'!B46,\"\")","v":""},{"$f":"IF('liste engagés'!$G46=9,'liste engagés'!C46,\"\")","v":""},{"$f":"IF('liste engagés'!$G46=9,'liste engagés'!D46,\"\")","v":""},{"$f":"IF('liste engagés'!$G46=9,'liste engagés'!E46,\"\")","v":""},{"$f":"IF('liste engagés'!$G46=9,'liste engagés'!K46,\"\")","v":""},{"$f":"IF('liste engagés'!$G46=9,'liste engagés'!L46,\"\")","v":""},0]
[54,{"$f":"IF('liste engagés'!$G47=9,'liste engagés'!A47,\"\")","v":""},{"$f":"IF('liste engagés'!$G47=9,'liste engagés'!B47,\"\")","v":""},{"$f":"IF('liste engagés'!$G47=9,'liste engagés'!C47,\"\")","v":""},{"$f":"IF('liste engagés'!$G47=9,'liste engagés'!D47,\"\")","v":""},{"$f":"IF('liste engagés'!$G47=9,'liste engagés'!E47,\"\")","v":""},{"$f":"IF('liste engagés'!$G47=9,'liste engagés'!K47,\"\")","v":""},{"$f":"IF('liste engagés'!$G47=9,'liste engagés'!L47,\"\")","v":""},0]
[55,{"$f":"IF('liste engagés'!$G48=9,'liste engagés'!A48,\"\")","v":""},{"$f":"IF('liste engagés'!$G48=9,'liste engagés'!B48,\"\")","v":""},{"$f":"IF('liste engagés'!$G48=9,'liste engagés'!C48,\"\")","v":""},{"$f":"IF('liste engagés'!$G48=9,'liste engagés'!D48,\"\")","v":""},{"$f":"IF('liste engagés'!$G48=9,'liste engagés'!E48,\"\")","v":""},{"$f":"IF('liste engagés'!$G48=9,'liste engagés'!K48,\"\")","v":""},{"$f":"IF('liste engagés'!$G48=9,'liste engagés'!L48,\"\")","v":""},0]
[56,{"$f":"IF('liste engagés'!$G49=9,'liste engagés'!A49,\"\")","v":""},{"$f":"IF('liste engagés'!$G49=9,'liste engagés'!B49,\"\")","v":""},{"$f":"IF('liste engagés'!$G49=9,'liste engagés'!C49,\"\")","v":""},{"$f":"IF('liste engagés'!$G49=9,'liste engagés'!D49,\"\")","v":""},{"$f":"IF('liste engagés'!$G49=9,'liste engagés'!E49,\"\")","v":""},{"$f":"IF('liste engagés'!$G49=9,'liste engagés'!K49,\"\")","v":""},{"$f":"IF('liste engagés'!$G49=9,'liste engagés'!L49,\"\")","v":""},0]
[57,{"$f":"IF('liste engagés'!$G50=9,'liste engagés'!A50,\"\")","v":""},{"$f":"IF('liste engagés'!$G50=9,'liste engagés'!B50,\"\")","v":""},{"$f":"IF('liste engagés'!$G50=9,'liste engagés'!C50,\"\")","v":""},{"$f":"IF('liste engagés'!$G50=9,'liste engagés'!D50,\"\")","v":""},{"$f":"IF('liste engagés'!$G50=9,'liste engagés'!E50,\"\")","v":""},{"$f":"IF('liste engagés'!$G50=9,'liste engagés'!K50,\"\")","v":""},{"$f":"IF('liste engagés'!$G50=9,'liste engagés'!L50,\"\")","v":""},0]
[58,{"$f":"IF('liste engagés'!$G51=9,'liste engagés'!A51,\"\")","v":""},{"$f":"IF('liste engagés'!$G51=9,'liste engagés'!B51,\"\")","v":""},{"$f":"IF('liste engagés'!$G51=9,'liste engagés'!C51,\"\")","v":""},{"$f":"IF('liste engagés'!$G51=9,'liste engagés'!D51,\"\")","v":""},{"$f":"IF('liste engagés'!$G51=9,'liste engagés'!E51,\"\")","v":""},{"$f":"IF('liste engagés'!$G51=9,'liste engagés'!K51,\"\")","v":""},{"$f":"IF('liste engagés'!$G51=9,'liste engagés'!L51,\"\")","v":""},0]
[59,{"$f":"IF('liste engagés'!$G52=9,'liste engagés'!A52,\"\")","v":""},{"$f":"IF('liste engagés'!$G52=9,'liste engagés'!B52,\"\")","v":""},{"$f":"IF('liste engagés'!$G52=9,'liste engagés'!C52,\"\")","v":""},{"$f":"IF('liste engagés'!$G52=9,'liste engagés'!D52,\"\")","v":""},{"$f":"IF('liste engagés'!$G52=9,'liste engagés'!E52,\"\")","v":""},{"$f":"IF('liste engagés'!$G52=9,'liste engagés'!K52,\"\")","v":""},{"$f":"IF('liste engagés'!$G52=9,'liste engagés'!L52,\"\")","v":""},0]
[60,{"$f":"IF('liste engagés'!$G53=9,'liste engagés'!A53,\"\")","v":""},{"$f":"IF('liste engagés'!$G53=9,'liste engagés'!B53,\"\")","v":""},{"$f":"IF('liste engagés'!$G53=9,'liste engagés'!C53,\"\")","v":""},{"$f":"IF('liste engagés'!$G53=9,'liste engagés'!D53,\"\")","v":""},{"$f":"IF('liste engagés'!$G53=9,'liste engagés'!E53,\"\")","v":""},{"$f":"IF('liste engagés'!$G53=9,'liste engagés'!K53,\"\")","v":""},{"$f":"IF('liste engagés'!$G53=9,'liste engagés'!L53,\"\")","v":""},0]
[61,{"$f":"IF('liste engagés'!$G54=9,'liste engagés'!A54,\"\")","v":""},{"$f":"IF('liste engagés'!$G54=9,'liste engagés'!B54,\"\")","v":""},{"$f":"IF('liste engagés'!$G54=9,'liste engagés'!C54,\"\")","v":""},{"$f":"IF('liste engagés'!$G54=9,'liste engagés'!D54,\"\")","v":""},{"$f":"IF('liste engagés'!$G54=9,'liste engagés'!E54,\"\")","v":""},{"$f":"IF('liste engagés'!$G54=9,'liste engagés'!K54,\"\")","v":""},{"$f":"IF('liste engagés'!$G54=9,'liste engagés'!L54,\"\")","v":""},0]
[62,{"$f":"IF('liste engagés'!$G55=9,'liste engagés'!A55,\"\")","v":""},{"$f":"IF('liste engagés'!$G55=9,'liste engagés'!B55,\"\")","v":""},{"$f":"IF('liste engagés'!$G55=9,'liste engagés'!C55,\"\")","v":""},{"$f":"IF('liste engagés'!$G55=9,'liste engagés'!D55,\"\")","v":""},{"$f":"IF('liste engagés'!$G55=9,'liste engagés'!E55,\"\")","v":""},{"$f":"IF('liste engagés'!$G55=9,'liste engagés'!K55,\"\")","v":""},{"$f":"IF('liste engagés'!$G55=9,'liste engagés'!L55,\"\")","v":""},0]
[63,{"$f":"IF('liste engagés'!$G56=9,'liste engagés'!A56,\"\")","v":""},{"$f":"IF('liste engagés'!$G56=9,'liste engagés'!B56,\"\")","v":""},{"$f":"IF('liste engagés'!$G56=9,'liste engagés'!C56,\"\")","v":""},{"$f":"IF('liste engagés'!$G56=9,'liste engagés'!D56,\"\")","v":""},{"$f":"IF('liste engagés'!$G56=9,'liste engagés'!E56,\"\")","v":""},{"$f":"IF('liste engagés'!$G56=9,'liste engagés'!K56,\"\")","v":""},{"$f":"IF('liste engagés'!$G56=9,'liste engagés'!L56,\"\")","v":""},0]
[64,{"$f":"IF('liste engagés'!$G57=9,'liste engagés'!A57,\"\")","v":""},{"$f":"IF('liste engagés'!$G57=9,'liste engagés'!B57,\"\")","v":""},{"$f":"IF('liste engagés'!$G57=9,'liste engagés'!C57,\"\")","v":""},{"$f":"IF('liste engagés'!$G57=9,'liste engagés'!D57,\"\")","v":""},{"$f":"IF('liste engagés'!$G57=9,'liste engagés'!E57,\"\")","v":""},{"$f":"IF('liste engagés'!$G57=9,'liste engagés'!K57,\"\")","v":""},{"$f":"IF('liste engagés'!$G57=9,'liste engagés'!L57,\"\")","v":""},0]
[65,{"$f":"IF('liste engagés'!$G59=9,'liste engagés'!A59,\"\")","v":""},{"$f":"IF('liste engagés'!$G59=9,'liste engagés'!B59,\"\")","v":""},{"$f":"IF('liste engagés'!$G59=9,'liste engagés'!C59,\"\")","v":""},{"$f":"IF('liste engagés'!$G59=9,'liste engagés'!D59,\"\")","v":""},{"$f":"IF('liste engagés'!$G59=9,'liste engagés'!E59,\"\")","v":""},{"$f":"IF('liste engagés'!$G59=9,'liste engagés'!K59,\"\")","v":""},{"$f":"IF('liste engagés'!$G59=9,'liste engagés'!L59,\"\")","v":""},{"$f":"+IF(C71=\"\",0,1)","v":0}]
[{"$f":"+A71+1","v":66},{"$f":"IF('liste engagés'!$G60=9,'liste engagés'!A60,\"\")","v":""},{"$f":"IF('liste engagés'!$G60=9,'liste engagés'!B60,\"\")","v":""},{"$f":"IF('liste engagés'!$G60=9,'liste engagés'!C60,\"\")","v":""},{"$f":"IF('liste engagés'!$G60=9,'liste engagés'!D60,\"\")","v":""},{"$f":"IF('liste engagés'!$G60=9,'liste engagés'!E60,\"\")","v":""},{"$f":"IF('liste engagés'!$G60=9,'liste engagés'!K60,\"\")","v":""},{"$f":"IF('liste engagés'!$G60=9,'liste engagés'!L60,\"\")","v":""},0]
[67,{"$f":"IF('liste engagés'!$G61=9,'liste engagés'!A61,\"\")","v":""},{"$f":"IF('liste engagés'!$G61=9,'liste engagés'!B61,\"\")","v":""},{"$f":"IF('liste engagés'!$G61=9,'liste engagés'!C61,\"\")","v":""},{"$f":"IF('liste engagés'!$G61=9,'liste engagés'!D61,\"\")","v":""},{"$f":"IF('liste engagés'!$G61=9,'liste engagés'!E61,\"\")","v":""},{"$f":"IF('liste engagés'!$G61=9,'liste engagés'!K61,\"\")","v":""},{"$f":"IF('liste engagés'!$G61=9,'liste engagés'!L61,\"\")","v":""},0]
[68,{"$f":"IF('liste engagés'!$G62=9,'liste engagés'!A62,\"\")","v":""},{"$f":"IF('liste engagés'!$G62=9,'liste engagés'!B62,\"\")","v":""},{"$f":"IF('liste engagés'!$G62=9,'liste engagés'!C62,\"\")","v":""},{"$f":"IF('liste engagés'!$G62=9,'liste engagés'!D62,\"\")","v":""},{"$f":"IF('liste engagés'!$G62=9,'liste engagés'!E62,\"\")","v":""},{"$f":"IF('liste engagés'!$G62=9,'liste engagés'!K62,\"\")","v":""},{"$f":"IF('liste engagés'!$G62=9,'liste engagés'!L62,\"\")","v":""},0]
[69,{"$f":"IF('liste engagés'!$G63=9,'liste engagés'!A63,\"\")","v":""},{"$f":"IF('liste engagés'!$G63=9,'liste engagés'!B63,\"\")","v":""},{"$f":"IF('liste engagés'!$G63=9,'liste engagés'!C63,\"\")","v":""},{"$f":"IF('liste engagés'!$G63=9,'liste engagés'!D63,\"\")","v":""},{"$f":"IF('liste engagés'!$G63=9,'liste engagés'!E63,\"\")","v":""},{"$f":"IF('liste engagés'!$G63=9,'liste engagés'!K63,\"\")","v":""},{"$f":"IF('liste engagés'!$G63=9,'liste engagés'!L63,\"\")","v":""},0]
[70,{"$f":"IF('liste engagés'!$G64=9,'liste engagés'!A64,\"\")","v":""},{"$f":"IF('liste engagés'!$G64=9,'liste engagés'!B64,\"\")","v":""},{"$f":"IF('liste engagés'!$G64=9,'liste engagés'!C64,\"\")","v":""},{"$f":"IF('liste engagés'!$G64=9,'liste engagés'!D64,\"\")","v":""},{"$f":"IF('liste engagés'!$G64=9,'liste engagés'!E64,\"\")","v":""},{"$f":"IF('liste engagés'!$G64=9,'liste engagés'!K64,\"\")","v":""},{"$f":"IF('liste engagés'!$G64=9,'liste engagés'!L64,\"\")","v":""},0]
[71,{"$f":"IF('liste engagés'!$G65=9,'liste engagés'!A65,\"\")","v":""},{"$f":"IF('liste engagés'!$G65=9,'liste engagés'!B65,\"\")","v":""},{"$f":"IF('liste engagés'!$G65=9,'liste engagés'!C65,\"\")","v":""},{"$f":"IF('liste engagés'!$G65=9,'liste engagés'!D65,\"\")","v":""},{"$f":"IF('liste engagés'!$G65=9,'liste engagés'!E65,\"\")","v":""},{"$f":"IF('liste engagés'!$G65=9,'liste engagés'!K65,\"\")","v":""},{"$f":"IF('liste engagés'!$G65=9,'liste engagés'!L65,\"\")","v":""},0]
[72,{"$f":"IF('liste engagés'!$G66=9,'liste engagés'!A66,\"\")","v":""},{"$f":"IF('liste engagés'!$G66=9,'liste engagés'!B66,\"\")","v":""},{"$f":"IF('liste engagés'!$G66=9,'liste engagés'!C66,\"\")","v":""},{"$f":"IF('liste engagés'!$G66=9,'liste engagés'!D66,\"\")","v":""},{"$f":"IF('liste engagés'!$G66=9,'liste engagés'!E66,\"\")","v":""},{"$f":"IF('liste engagés'!$G66=9,'liste engagés'!K66,\"\")","v":""},{"$f":"IF('liste engagés'!$G66=9,'liste engagés'!L66,\"\")","v":""},0]
[73,{"$f":"IF('liste engagés'!$G67=9,'liste engagés'!A67,\"\")","v":""},{"$f":"IF('liste engagés'!$G67=9,'liste engagés'!B67,\"\")","v":""},{"$f":"IF('liste engagés'!$G67=9,'liste engagés'!C67,\"\")","v":""},{"$f":"IF('liste engagés'!$G67=9,'liste engagés'!D67,\"\")","v":""},{"$f":"IF('liste engagés'!$G67=9,'liste engagés'!E67,\"\")","v":""},{"$f":"IF('liste engagés'!$G67=9,'liste engagés'!K67,\"\")","v":""},{"$f":"IF('liste engagés'!$G67=9,'liste engagés'!L67,\"\")","v":""},0]
[74,{"$f":"IF('liste engagés'!$G68=9,'liste engagés'!A68,\"\")","v":""},{"$f":"IF('liste engagés'!$G68=9,'liste engagés'!B68,\"\")","v":""},{"$f":"IF('liste engagés'!$G68=9,'liste engagés'!C68,\"\")","v":""},{"$f":"IF('liste engagés'!$G68=9,'liste engagés'!D68,\"\")","v":""},{"$f":"IF('liste engagés'!$G68=9,'liste engagés'!E68,\"\")","v":""},{"$f":"IF('liste engagés'!$G68=9,'liste engagés'!K68,\"\")","v":""},{"$f":"IF('liste engagés'!$G68=9,'liste engagés'!L68,\"\")","v":""},0]
[75,{"$f":"IF('liste engagés'!$G69=9,'liste engagés'!A69,\"\")","v":""},{"$f":"IF('liste engagés'!$G69=9,'liste engagés'!B69,\"\")","v":""},{"$f":"IF('liste engagés'!$G69=9,'liste engagés'!C69,\"\")","v":""},{"$f":"IF('liste engagés'!$G69=9,'liste engagés'!D69,\"\")","v":""},{"$f":"IF('liste engagés'!$G69=9,'liste engagés'!E69,\"\")","v":""},{"$f":"IF('liste engagés'!$G69=9,'liste engagés'!K69,\"\")","v":""},{"$f":"IF('liste engagés'!$G69=9,'liste engagés'!L69,\"\")","v":""},0]
[76,{"$f":"IF('liste engagés'!$G70=9,'liste engagés'!A70,\"\")","v":""},{"$f":"IF('liste engagés'!$G70=9,'liste engagés'!B70,\"\")","v":""},{"$f":"IF('liste engagés'!$G70=9,'liste engagés'!C70,\"\")","v":""},{"$f":"IF('liste engagés'!$G70=9,'liste engagés'!D70,\"\")","v":""},{"$f":"IF('liste engagés'!$G70=9,'liste engagés'!E70,\"\")","v":""},{"$f":"IF('liste engagés'!$G70=9,'liste engagés'!K70,\"\")","v":""},{"$f":"IF('liste engagés'!$G70=9,'liste engagés'!L70,\"\")","v":""},0]
[77,{"$f":"IF('liste engagés'!$G71=9,'liste engagés'!A71,\"\")","v":""},{"$f":"IF('liste engagés'!$G71=9,'liste engagés'!B71,\"\")","v":""},{"$f":"IF('liste engagés'!$G71=9,'liste engagés'!C71,\"\")","v":""},{"$f":"IF('liste engagés'!$G71=9,'liste engagés'!D71,\"\")","v":""},{"$f":"IF('liste engagés'!$G71=9,'liste engagés'!E71,\"\")","v":""},{"$f":"IF('liste engagés'!$G71=9,'liste engagés'!K71,\"\")","v":""},{"$f":"IF('liste engagés'!$G71=9,'liste engagés'!L71,\"\")","v":""},0]
[78,{"$f":"IF('liste engagés'!$G72=9,'liste engagés'!A72,\"\")","v":""},{"$f":"IF('liste engagés'!$G72=9,'liste engagés'!B72,\"\")","v":""},{"$f":"IF('liste engagés'!$G72=9,'liste engagés'!C72,\"\")","v":""},{"$f":"IF('liste engagés'!$G72=9,'liste engagés'!D72,\"\")","v":""},{"$f":"IF('liste engagés'!$G72=9,'liste engagés'!E72,\"\")","v":""},{"$f":"IF('liste engagés'!$G72=9,'liste engagés'!K72,\"\")","v":""},{"$f":"IF('liste engagés'!$G72=9,'liste engagés'!L72,\"\")","v":""},0]
[79,{"$f":"IF('liste engagés'!$G73=9,'liste engagés'!A73,\"\")","v":""},{"$f":"IF('liste engagés'!$G73=9,'liste engagés'!B73,\"\")","v":""},{"$f":"IF('liste engagés'!$G73=9,'liste engagés'!C73,\"\")","v":""},{"$f":"IF('liste engagés'!$G73=9,'liste engagés'!D73,\"\")","v":""},{"$f":"IF('liste engagés'!$G73=9,'liste engagés'!E73,\"\")","v":""},{"$f":"IF('liste engagés'!$G73=9,'liste engagés'!K73,\"\")","v":""},{"$f":"IF('liste engagés'!$G73=9,'liste engagés'!L73,\"\")","v":""},0]
[80,{"$f":"IF('liste engagés'!$G74=9,'liste engagés'!A74,\"\")","v":""},{"$f":"IF('liste engagés'!$G74=9,'liste engagés'!B74,\"\")","v":""},{"$f":"IF('liste engagés'!$G74=9,'liste engagés'!C74,\"\")","v":""},{"$f":"IF('liste engagés'!$G74=9,'liste engagés'!D74,\"\")","v":""},{"$f":"IF('liste engagés'!$G74=9,'liste engagés'!E74,\"\")","v":""},{"$f":"IF('liste engagés'!$G74=9,'liste engagés'!K74,\"\")","v":""},{"$f":"IF('liste engagés'!$G74=9,'liste engagés'!L74,\"\")","v":""},0]
[81,{"$f":"IF('liste engagés'!$G75=9,'liste engagés'!A75,\"\")","v":""},{"$f":"IF('liste engagés'!$G75=9,'liste engagés'!B75,\"\")","v":""},{"$f":"IF('liste engagés'!$G75=9,'liste engagés'!C75,\"\")","v":""},{"$f":"IF('liste engagés'!$G75=9,'liste engagés'!D75,\"\")","v":""},{"$f":"IF('liste engagés'!$G75=9,'liste engagés'!E75,\"\")","v":""},{"$f":"IF('liste engagés'!$G75=9,'liste engagés'!K75,\"\")","v":""},{"$f":"IF('liste engagés'!$G75=9,'liste engagés'!L75,\"\")","v":""},0]
[82,{"$f":"IF('liste engagés'!$G76=9,'liste engagés'!A76,\"\")","v":""},{"$f":"IF('liste engagés'!$G76=9,'liste engagés'!B76,\"\")","v":""},{"$f":"IF('liste engagés'!$G76=9,'liste engagés'!C76,\"\")","v":""},{"$f":"IF('liste engagés'!$G76=9,'liste engagés'!D76,\"\")","v":""},{"$f":"IF('liste engagés'!$G76=9,'liste engagés'!E76,\"\")","v":""},{"$f":"IF('liste engagés'!$G76=9,'liste engagés'!K76,\"\")","v":""},{"$f":"IF('liste engagés'!$G76=9,'liste engagés'!L76,\"\")","v":""},0]
[83,{"$f":"IF('liste engagés'!$G77=9,'liste engagés'!A77,\"\")","v":""},{"$f":"IF('liste engagés'!$G77=9,'liste engagés'!B77,\"\")","v":""},{"$f":"IF('liste engagés'!$G77=9,'liste engagés'!C77,\"\")","v":""},{"$f":"IF('liste engagés'!$G77=9,'liste engagés'!D77,\"\")","v":""},{"$f":"IF('liste engagés'!$G77=9,'liste engagés'!E77,\"\")","v":""},{"$f":"IF('liste engagés'!$G77=9,'liste engagés'!K77,\"\")","v":""},{"$f":"IF('liste engagés'!$G77=9,'liste engagés'!L77,\"\")","v":""},0]
[84,{"$f":"IF('liste engagés'!$G78=9,'liste engagés'!A78,\"\")","v":""},{"$f":"IF('liste engagés'!$G78=9,'liste engagés'!B78,\"\")","v":""},{"$f":"IF('liste engagés'!$G78=9,'liste engagés'!C78,\"\")","v":""},{"$f":"IF('liste engagés'!$G78=9,'liste engagés'!D78,\"\")","v":""},{"$f":"IF('liste engagés'!$G78=9,'liste engagés'!E78,\"\")","v":""},{"$f":"IF('liste engagés'!$G78=9,'liste engagés'!K78,\"\")","v":""},{"$f":"IF('liste engagés'!$G78=9,'liste engagés'!L78,\"\")","v":""},0]
[85,{"$f":"IF('liste engagés'!$G79=9,'liste engagés'!A79,\"\")","v":""},{"$f":"IF('liste engagés'!$G79=9,'liste engagés'!B79,\"\")","v":""},{"$f":"IF('liste engagés'!$G79=9,'liste engagés'!C79,\"\")","v":""},{"$f":"IF('liste engagés'!$G79=9,'liste engagés'!D79,\"\")","v":""},{"$f":"IF('liste engagés'!$G79=9,'liste engagés'!E79,\"\")","v":""},{"$f":"IF('liste engagés'!$G79=9,'liste engagés'!K79,\"\")","v":""},{"$f":"IF('liste engagés'!$G79=9,'liste engagés'!L79,\"\")","v":""},0]
[86,{"$f":"IF('liste engagés'!$G80=9,'liste engagés'!A80,\"\")","v":""},{"$f":"IF('liste engagés'!$G80=9,'liste engagés'!B80,\"\")","v":""},{"$f":"IF('liste engagés'!$G80=9,'liste engagés'!C80,\"\")","v":""},{"$f":"IF('liste engagés'!$G80=9,'liste engagés'!D80,\"\")","v":""},{"$f":"IF('liste engagés'!$G80=9,'liste engagés'!E80,\"\")","v":""},{"$f":"IF('liste engagés'!$G80=9,'liste engagés'!K80,\"\")","v":""},{"$f":"IF('liste engagés'!$G80=9,'liste engagés'!L80,\"\")","v":""},0]
[87,{"$f":"IF('liste engagés'!$G81=9,'liste engagés'!A81,\"\")","v":""},{"$f":"IF('liste engagés'!$G81=9,'liste engagés'!B81,\"\")","v":""},{"$f":"IF('liste engagés'!$G81=9,'liste engagés'!C81,\"\")","v":""},{"$f":"IF('liste engagés'!$G81=9,'liste engagés'!D81,\"\")","v":""},{"$f":"IF('liste engagés'!$G81=9,'liste engagés'!E81,\"\")","v":""},{"$f":"IF('liste engagés'!$G81=9,'liste engagés'!K81,\"\")","v":""},{"$f":"IF('liste engagés'!$G81=9,'liste engagés'!L81,\"\")","v":""},0]
[88,{"$f":"IF('liste engagés'!$G82=9,'liste engagés'!A82,\"\")","v":""},{"$f":"IF('liste engagés'!$G82=9,'liste engagés'!B82,\"\")","v":""},{"$f":"IF('liste engagés'!$G82=9,'liste engagés'!C82,\"\")","v":""},{"$f":"IF('liste engagés'!$G82=9,'liste engagés'!D82,\"\")","v":""},{"$f":"IF('liste engagés'!$G82=9,'liste engagés'!E82,\"\")","v":""},{"$f":"IF('liste engagés'!$G82=9,'liste engagés'!K82,\"\")","v":""},{"$f":"IF('liste engagés'!$G82=9,'liste engagés'!L82,\"\")","v":""},0]
[89,{"$f":"IF('liste engagés'!$G83=9,'liste engagés'!A83,\"\")","v":""},{"$f":"IF('liste engagés'!$G83=9,'liste engagés'!B83,\"\")","v":""},{"$f":"IF('liste engagés'!$G83=9,'liste engagés'!C83,\"\")","v":""},{"$f":"IF('liste engagés'!$G83=9,'liste engagés'!D83,\"\")","v":""},{"$f":"IF('liste engagés'!$G83=9,'liste engagés'!E83,\"\")","v":""},{"$f":"IF('liste engagés'!$G83=9,'liste engagés'!K83,\"\")","v":""},{"$f":"IF('liste engagés'!$G83=9,'liste engagés'!L83,\"\")","v":""},0]
[90,{"$f":"IF('liste engagés'!$G85=9,'liste engagés'!A85,\"\")","v":""},{"$f":"IF('liste engagés'!$G85=9,'liste engagés'!B85,\"\")","v":""},{"$f":"IF('liste engagés'!$G85=9,'liste engagés'!C85,\"\")","v":""},{"$f":"IF('liste engagés'!$G85=9,'liste engagés'!D85,\"\")","v":""},{"$f":"IF('liste engagés'!$G85=9,'liste engagés'!E85,\"\")","v":""},{"$f":"IF('liste engagés'!$G85=9,'liste engagés'!K85,\"\")","v":""},{"$f":"IF('liste engagés'!$G85=9,'liste engagés'!L85,\"\")","v":""},0]
[91,{"$f":"IF('liste engagés'!$G86=9,'liste engagés'!A86,\"\")","v":""},{"$f":"IF('liste engagés'!$G86=9,'liste engagés'!B86,\"\")","v":""},{"$f":"IF('liste engagés'!$G86=9,'liste engagés'!C86,\"\")","v":""},{"$f":"IF('liste engagés'!$G86=9,'liste engagés'!D86,\"\")","v":""},{"$f":"IF('liste engagés'!$G86=9,'liste engagés'!E86,\"\")","v":""},{"$f":"IF('liste engagés'!$G86=9,'liste engagés'!K86,\"\")","v":""},{"$f":"IF('liste engagés'!$G86=9,'liste engagés'!L86,\"\")","v":""},0]
[92,{"$f":"IF('liste engagés'!$G87=9,'liste engagés'!A87,\"\")","v":""},{"$f":"IF('liste engagés'!$G87=9,'liste engagés'!B87,\"\")","v":""},{"$f":"IF('liste engagés'!$G87=9,'liste engagés'!C87,\"\")","v":""},{"$f":"IF('liste engagés'!$G87=9,'liste engagés'!D87,\"\")","v":""},{"$f":"IF('liste engagés'!$G87=9,'liste engagés'!E87,\"\")","v":""},{"$f":"IF('liste engagés'!$G87=9,'liste engagés'!K87,\"\")","v":""},{"$f":"IF('liste engagés'!$G87=9,'liste engagés'!L87,\"\")","v":""},0]
[93,{"$f":"IF('liste engagés'!$G88=9,'liste engagés'!A88,\"\")","v":""},{"$f":"IF('liste engagés'!$G88=9,'liste engagés'!B88,\"\")","v":""},{"$f":"IF('liste engagés'!$G88=9,'liste engagés'!C88,\"\")","v":""},{"$f":"IF('liste engagés'!$G88=9,'liste engagés'!D88,\"\")","v":""},{"$f":"IF('liste engagés'!$G88=9,'liste engagés'!E88,\"\")","v":""},{"$f":"IF('liste engagés'!$G88=9,'liste engagés'!K88,\"\")","v":""},{"$f":"IF('liste engagés'!$G88=9,'liste engagés'!L88,\"\")","v":""},0]
[94,{"$f":"IF('liste engagés'!$G89=9,'liste engagés'!A89,\"\")","v":""},{"$f":"IF('liste engagés'!$G89=9,'liste engagés'!B89,\"\")","v":""},{"$f":"IF('liste engagés'!$G89=9,'liste engagés'!C89,\"\")","v":""},{"$f":"IF('liste engagés'!$G89=9,'liste engagés'!D89,\"\")","v":""},{"$f":"IF('liste engagés'!$G89=9,'liste engagés'!E89,\"\")","v":""},{"$f":"IF('liste engagés'!$G89=9,'liste engagés'!K89,\"\")","v":""},{"$f":"IF('liste engagés'!$G89=9,'liste engagés'!L89,\"\")","v":""},0]
[95,{"$f":"IF('liste engagés'!$G90=9,'liste engagés'!A90,\"\")","v":""},{"$f":"IF('liste engagés'!$G90=9,'liste engagés'!B90,\"\")","v":""},{"$f":"IF('liste engagés'!$G90=9,'liste engagés'!C90,\"\")","v":""},{"$f":"IF('liste engagés'!$G90=9,'liste engagés'!D90,\"\")","v":""},{"$f":"IF('liste engagés'!$G90=9,'liste engagés'!E90,\"\")","v":""},{"$f":"IF('liste engagés'!$G90=9,'liste engagés'!K90,\"\")","v":""},{"$f":"IF('liste engagés'!$G90=9,'liste engagés'!L90,\"\")","v":""},0]
[96,{"$f":"IF('liste engagés'!$G92=9,'liste engagés'!A92,\"\")","v":""},{"$f":"IF('liste engagés'!$G92=9,'liste engagés'!B92,\"\")","v":""},{"$f":"IF('liste engagés'!$G92=9,'liste engagés'!C92,\"\")","v":""},{"$f":"IF('liste engagés'!$G92=9,'liste engagés'!D92,\"\")","v":""},{"$f":"IF('liste engagés'!$G92=9,'liste engagés'!E92,\"\")","v":""},{"$f":"IF('liste engagés'!$G92=9,'liste engagés'!K92,\"\")","v":""},{"$f":"IF('liste engagés'!$G92=9,'liste engagés'!L92,\"\")","v":""},0]
[97,{"$f":"IF('liste engagés'!$G93=9,'liste engagés'!A93,\"\")","v":""},{"$f":"IF('liste engagés'!$G93=9,'liste engagés'!B93,\"\")","v":""},{"$f":"IF('liste engagés'!$G93=9,'liste engagés'!C93,\"\")","v":""},{"$f":"IF('liste engagés'!$G93=9,'liste engagés'!D93,\"\")","v":""},{"$f":"IF('liste engagés'!$G93=9,'liste engagés'!E93,\"\")","v":""},{"$f":"IF('liste engagés'!$G93=9,'liste engagés'!K93,\"\")","v":""},{"$f":"IF('liste engagés'!$G93=9,'liste engagés'!L93,\"\")","v":""},0]
[98,{"$f":"IF('liste engagés'!$G94=9,'liste engagés'!A94,\"\")","v":""},{"$f":"IF('liste engagés'!$G94=9,'liste engagés'!B94,\"\")","v":""},{"$f":"IF('liste engagés'!$G94=9,'liste engagés'!C94,\"\")","v":""},{"$f":"IF('liste engagés'!$G94=9,'liste engagés'!D94,\"\")","v":""},{"$f":"IF('liste engagés'!$G94=9,'liste engagés'!E94,\"\")","v":""},{"$f":"IF('liste engagés'!$G94=9,'liste engagés'!K94,\"\")","v":""},{"$f":"IF('liste engagés'!$G94=9,'liste engagés'!L94,\"\")","v":""},0]
[99,{"$f":"IF('liste engagés'!$G95=9,'liste engagés'!A95,\"\")","v":""},{"$f":"IF('liste engagés'!$G95=9,'liste engagés'!B95,\"\")","v":""},{"$f":"IF('liste engagés'!$G95=9,'liste engagés'!C95,\"\")","v":""},{"$f":"IF('liste engagés'!$G95=9,'liste engagés'!D95,\"\")","v":""},{"$f":"IF('liste engagés'!$G95=9,'liste engagés'!E95,\"\")","v":""},{"$f":"IF('liste engagés'!$G95=9,'liste engagés'!K95,\"\")","v":""},{"$f":"IF('liste engagés'!$G95=9,'liste engagés'!L95,\"\")","v":""},0]
[100,{"$f":"IF('liste engagés'!$G96=9,'liste engagés'!A96,\"\")","v":""},{"$f":"IF('liste engagés'!$G96=9,'liste engagés'!B96,\"\")","v":""},{"$f":"IF('liste engagés'!$G96=9,'liste engagés'!C96,\"\")","v":""},{"$f":"IF('liste engagés'!$G96=9,'liste engagés'!D96,\"\")","v":""},{"$f":"IF('liste engagés'!$G96=9,'liste engagés'!E96,\"\")","v":""},{"$f":"IF('liste engagés'!$G96=9,'liste engagés'!K96,\"\")","v":""},{"$f":"IF('liste engagés'!$G96=9,'liste engagés'!L96,\"\")","v":""},0]
[101,{"$f":"IF('liste engagés'!$G97=9,'liste engagés'!A97,\"\")","v":""},{"$f":"IF('liste engagés'!$G97=9,'liste engagés'!B97,\"\")","v":""},{"$f":"IF('liste engagés'!$G97=9,'liste engagés'!C97,\"\")","v":""},{"$f":"IF('liste engagés'!$G97=9,'liste engagés'!D97,\"\")","v":""},{"$f":"IF('liste engagés'!$G97=9,'liste engagés'!E97,\"\")","v":""},{"$f":"IF('liste engagés'!$G97=9,'liste engagés'!K97,\"\")","v":""},{"$f":"IF('liste engagés'!$G97=9,'liste engagés'!L97,\"\")","v":""},0]
[102,{"$f":"IF('liste engagés'!$G99=9,'liste engagés'!A99,\"\")","v":""},{"$f":"IF('liste engagés'!$G99=9,'liste engagés'!B99,\"\")","v":""},{"$f":"IF('liste engagés'!$G99=9,'liste engagés'!C99,\"\")","v":""},{"$f":"IF('liste engagés'!$G99=9,'liste engagés'!D99,\"\")","v":""},{"$f":"IF('liste engagés'!$G99=9,'liste engagés'!E99,\"\")","v":""},{"$f":"IF('liste engagés'!$G99=9,'liste engagés'!K99,\"\")","v":""},{"$f":"IF('liste engagés'!$G99=9,'liste engagés'!L99,\"\")","v":""},0]
[103,{"$f":"IF('liste engagés'!$G100=9,'liste engagés'!A100,\"\")","v":""},{"$f":"IF('liste engagés'!$G100=9,'liste engagés'!B100,\"\")","v":""},{"$f":"IF('liste engagés'!$G100=9,'liste engagés'!C100,\"\")","v":""},{"$f":"IF('liste engagés'!$G100=9,'liste engagés'!D100,\"\")","v":""},{"$f":"IF('liste engagés'!$G100=9,'liste engagés'!E100,\"\")","v":""},{"$f":"IF('liste engagés'!$G100=9,'liste engagés'!K100,\"\")","v":""},{"$f":"IF('liste engagés'!$G100=9,'liste engagés'!L100,\"\")","v":""},0]
[104,{"$f":"IF('liste engagés'!$G101=9,'liste engagés'!A101,\"\")","v":""},{"$f":"IF('liste engagés'!$G101=9,'liste engagés'!B101,\"\")","v":""},{"$f":"IF('liste engagés'!$G101=9,'liste engagés'!C101,\"\")","v":""},{"$f":"IF('liste engagés'!$G101=9,'liste engagés'!D101,\"\")","v":""},{"$f":"IF('liste engagés'!$G101=9,'liste engagés'!E101,\"\")","v":""},{"$f":"IF('liste engagés'!$G101=9,'liste engagés'!K101,\"\")","v":""},{"$f":"IF('liste engagés'!$G101=9,'liste engagés'!L101,\"\")","v":""},0]
[105,{"$f":"IF('liste engagés'!$G103=9,'liste engagés'!A103,\"\")","v":""},{"$f":"IF('liste engagés'!$G103=9,'liste engagés'!B103,\"\")","v":""},{"$f":"IF('liste engagés'!$G103=9,'liste engagés'!C103,\"\")","v":""},{"$f":"IF('liste engagés'!$G103=9,'liste engagés'!D103,\"\")","v":""},{"$f":"IF('liste engagés'!$G103=9,'liste engagés'!E103,\"\")","v":""},{"$f":"IF('liste engagés'!$G103=9,'liste engagés'!K103,\"\")","v":""},{"$f":"IF('liste engagés'!$G103=9,'liste engagés'!L103,\"\")","v":""},0]
[106,{"$f":"IF('liste engagés'!$G104=9,'liste engagés'!A104,\"\")","v":""},{"$f":"IF('liste engagés'!$G104=9,'liste engagés'!B104,\"\")","v":""},{"$f":"IF('liste engagés'!$G104=9,'liste engagés'!C104,\"\")","v":""},{"$f":"IF('liste engagés'!$G104=9,'liste engagés'!D104,\"\")","v":""},{"$f":"IF('liste engagés'!$G104=9,'liste engagés'!E104,\"\")","v":""},{"$f":"IF('liste engagés'!$G104=9,'liste engagés'!K104,\"\")","v":""},{"$f":"IF('liste engagés'!$G104=9,'liste engagés'!L104,\"\")","v":""},0]
[107,{"$f":"IF('liste engagés'!$G105=9,'liste engagés'!A105,\"\")","v":""},{"$f":"IF('liste engagés'!$G105=9,'liste engagés'!B105,\"\")","v":""},{"$f":"IF('liste engagés'!$G105=9,'liste engagés'!C105,\"\")","v":""},{"$f":"IF('liste engagés'!$G105=9,'liste engagés'!D105,\"\")","v":""},{"$f":"IF('liste engagés'!$G105=9,'liste engagés'!E105,\"\")","v":""},{"$f":"IF('liste engagés'!$G105=9,'liste engagés'!K105,\"\")","v":""},{"$f":"IF('liste engagés'!$G105=9,'liste engagés'!L105,\"\")","v":""},0]
[108,{"$f":"IF('liste engagés'!$G106=9,'liste engagés'!A106,\"\")","v":""},{"$f":"IF('liste engagés'!$G106=9,'liste engagés'!B106,\"\")","v":""},{"$f":"IF('liste engagés'!$G106=9,'liste engagés'!C106,\"\")","v":""},{"$f":"IF('liste engagés'!$G106=9,'liste engagés'!D106,\"\")","v":""},{"$f":"IF('liste engagés'!$G106=9,'liste engagés'!E106,\"\")","v":""},{"$f":"IF('liste engagés'!$G106=9,'liste engagés'!K106,\"\")","v":""},{"$f":"IF('liste engagés'!$G106=9,'liste engagés'!L106,\"\")","v":""},0]
[109,{"$f":"IF('liste engagés'!$G107=9,'liste engagés'!A107,\"\")","v":""},{"$f":"IF('liste engagés'!$G107=9,'liste engagés'!B107,\"\")","v":""},{"$f":"IF('liste engagés'!$G107=9,'liste engagés'!C107,\"\")","v":""},{"$f":"IF('liste engagés'!$G107=9,'liste engagés'!D107,\"\")","v":""},{"$f":"IF('liste engagés'!$G107=9,'liste engagés'!E107,\"\")","v":""},{"$f":"IF('liste engagés'!$G107=9,'liste engagés'!K107,\"\")","v":""},{"$f":"IF('liste engagés'!$G107=9,'liste engagés'!L107,\"\")","v":""},0]
[110,{"$f":"IF('liste engagés'!$G108=9,'liste engagés'!A108,\"\")","v":""},{"$f":"IF('liste engagés'!$G108=9,'liste engagés'!B108,\"\")","v":""},{"$f":"IF('liste engagés'!$G108=9,'liste engagés'!C108,\"\")","v":""},{"$f":"IF('liste engagés'!$G108=9,'liste engagés'!D108,\"\")","v":""},{"$f":"IF('liste engagés'!$G108=9,'liste engagés'!E108,\"\")","v":""},{"$f":"IF('liste engagés'!$G108=9,'liste engagés'!K108,\"\")","v":""},{"$f":"IF('liste engagés'!$G108=9,'liste engagés'!L108,\"\")","v":""},0]
[111,{"$f":"IF('liste engagés'!$G109=9,'liste engagés'!A109,\"\")","v":""},{"$f":"IF('liste engagés'!$G109=9,'liste engagés'!B109,\"\")","v":""},{"$f":"IF('liste engagés'!$G109=9,'liste engagés'!C109,\"\")","v":""},{"$f":"IF('liste engagés'!$G109=9,'liste engagés'!D109,\"\")","v":""},{"$f":"IF('liste engagés'!$G109=9,'liste engagés'!E109,\"\")","v":""},{"$f":"IF('liste engagés'!$G109=9,'liste engagés'!K109,\"\")","v":""},{"$f":"IF('liste engagés'!$G109=9,'liste engagés'!L109,\"\")","v":""},0]
[112,{"$f":"IF('liste engagés'!$G110=9,'liste engagés'!A110,\"\")","v":""},{"$f":"IF('liste engagés'!$G110=9,'liste engagés'!B110,\"\")","v":""},{"$f":"IF('liste engagés'!$G110=9,'liste engagés'!C110,\"\")","v":""},{"$f":"IF('liste engagés'!$G110=9,'liste engagés'!D110,\"\")","v":""},{"$f":"IF('liste engagés'!$G110=9,'liste engagés'!E110,\"\")","v":""},{"$f":"IF('liste engagés'!$G110=9,'liste engagés'!K110,\"\")","v":""},{"$f":"IF('liste engagés'!$G110=9,'liste engagés'!L110,\"\")","v":""},0]
[113,{"$f":"IF('liste engagés'!$G111=9,'liste engagés'!A111,\"\")","v":""},{"$f":"IF('liste engagés'!$G111=9,'liste engagés'!B111,\"\")","v":""},{"$f":"IF('liste engagés'!$G111=9,'liste engagés'!C111,\"\")","v":""},{"$f":"IF('liste engagés'!$G111=9,'liste engagés'!D111,\"\")","v":""},{"$f":"IF('liste engagés'!$G111=9,'liste engagés'!E111,\"\")","v":""},{"$f":"IF('liste engagés'!$G111=9,'liste engagés'!K111,\"\")","v":""},{"$f":"IF('liste engagés'!$G111=9,'liste engagés'!L111,\"\")","v":""},0]
[114,{"$f":"IF('liste engagés'!$G112=9,'liste engagés'!A112,\"\")","v":""},{"$f":"IF('liste engagés'!$G112=9,'liste engagés'!B112,\"\")","v":""},{"$f":"IF('liste engagés'!$G112=9,'liste engagés'!C112,\"\")","v":""},{"$f":"IF('liste engagés'!$G112=9,'liste engagés'!D112,\"\")","v":""},{"$f":"IF('liste engagés'!$G112=9,'liste engagés'!E112,\"\")","v":""},{"$f":"IF('liste engagés'!$G112=9,'liste engagés'!K112,\"\")","v":""},{"$f":"IF('liste engagés'!$G112=9,'liste engagés'!L112,\"\")","v":""},0]
[115,{"$f":"IF('liste engagés'!$G113=9,'liste engagés'!A113,\"\")","v":""},{"$f":"IF('liste engagés'!$G113=9,'liste engagés'!B113,\"\")","v":""},{"$f":"IF('liste engagés'!$G113=9,'liste engagés'!C113,\"\")","v":""},{"$f":"IF('liste engagés'!$G113=9,'liste engagés'!D113,\"\")","v":""},{"$f":"IF('liste engagés'!$G113=9,'liste engagés'!E113,\"\")","v":""},{"$f":"IF('liste engagés'!$G113=9,'liste engagés'!K113,\"\")","v":""},{"$f":"IF('liste engagés'!$G113=9,'liste engagés'!L113,\"\")","v":""},0]
[116,{"$f":"IF('liste engagés'!$G114=9,'liste engagés'!A114,\"\")","v":""},{"$f":"IF('liste engagés'!$G114=9,'liste engagés'!B114,\"\")","v":""},{"$f":"IF('liste engagés'!$G114=9,'liste engagés'!C114,\"\")","v":""},{"$f":"IF('liste engagés'!$G114=9,'liste engagés'!D114,\"\")","v":""},{"$f":"IF('liste engagés'!$G114=9,'liste engagés'!E114,\"\")","v":""},{"$f":"IF('liste engagés'!$G114=9,'liste engagés'!K114,\"\")","v":""},{"$f":"IF('liste engagés'!$G114=9,'liste engagés'!L114,\"\")","v":""},0]
[117,{"$f":"IF('liste engagés'!$G115=9,'liste engagés'!A115,\"\")","v":""},{"$f":"IF('liste engagés'!$G115=9,'liste engagés'!B115,\"\")","v":""},{"$f":"IF('liste engagés'!$G115=9,'liste engagés'!C115,\"\")","v":""},{"$f":"IF('liste engagés'!$G115=9,'liste engagés'!D115,\"\")","v":""},{"$f":"IF('liste engagés'!$G115=9,'liste engagés'!E115,\"\")","v":""},{"$f":"IF('liste engagés'!$G115=9,'liste engagés'!K115,\"\")","v":""},{"$f":"IF('liste engagés'!$G115=9,'liste engagés'!L115,\"\")","v":""},0]
[118,{"$f":"IF('liste engagés'!$G116=9,'liste engagés'!A116,\"\")","v":""},{"$f":"IF('liste engagés'!$G116=9,'liste engagés'!B116,\"\")","v":""},{"$f":"IF('liste engagés'!$G116=9,'liste engagés'!C116,\"\")","v":""},{"$f":"IF('liste engagés'!$G116=9,'liste engagés'!D116,\"\")","v":""},{"$f":"IF('liste engagés'!$G116=9,'liste engagés'!E116,\"\")","v":""},{"$f":"IF('liste engagés'!$G116=9,'liste engagés'!K116,\"\")","v":""},{"$f":"IF('liste engagés'!$G116=9,'liste engagés'!L116,\"\")","v":""},0]
[119,{"$f":"IF('liste engagés'!$G118=9,'liste engagés'!A118,\"\")","v":""},{"$f":"IF('liste engagés'!$G118=9,'liste engagés'!B118,\"\")","v":""},{"$f":"IF('liste engagés'!$G118=9,'liste engagés'!C118,\"\")","v":""},{"$f":"IF('liste engagés'!$G118=9,'liste engagés'!D118,\"\")","v":""},{"$f":"IF('liste engagés'!$G118=9,'liste engagés'!E118,\"\")","v":""},{"$f":"IF('liste engagés'!$G118=9,'liste engagés'!K118,\"\")","v":""},{"$f":"IF('liste engagés'!$G118=9,'liste engagés'!L118,\"\")","v":""},0]
[120,{"$f":"IF('liste engagés'!$G119=9,'liste engagés'!A119,\"\")","v":""},{"$f":"IF('liste engagés'!$G119=9,'liste engagés'!B119,\"\")","v":""},{"$f":"IF('liste engagés'!$G119=9,'liste engagés'!C119,\"\")","v":""},{"$f":"IF('liste engagés'!$G119=9,'liste engagés'!D119,\"\")","v":""},{"$f":"IF('liste engagés'!$G119=9,'liste engagés'!E119,\"\")","v":""},{"$f":"IF('liste engagés'!$G119=9,'liste engagés'!K119,\"\")","v":""},{"$f":"IF('liste engagés'!$G119=9,'liste engagés'!L119,\"\")","v":""},0]
[121,{"$f":"IF('liste engagés'!$G120=9,'liste engagés'!A120,\"\")","v":""},{"$f":"IF('liste engagés'!$G120=9,'liste engagés'!B120,\"\")","v":""},{"$f":"IF('liste engagés'!$G120=9,'liste engagés'!C120,\"\")","v":""},{"$f":"IF('liste engagés'!$G120=9,'liste engagés'!D120,\"\")","v":""},{"$f":"IF('liste engagés'!$G120=9,'liste engagés'!E120,\"\")","v":""},{"$f":"IF('liste engagés'!$G120=9,'liste engagés'!K120,\"\")","v":""},{"$f":"IF('liste engagés'!$G120=9,'liste engagés'!L120,\"\")","v":""},0]
[122,{"$f":"IF('liste engagés'!$G121=9,'liste engagés'!A121,\"\")","v":""},{"$f":"IF('liste engagés'!$G121=9,'liste engagés'!B121,\"\")","v":""},{"$f":"IF('liste engagés'!$G121=9,'liste engagés'!C121,\"\")","v":""},{"$f":"IF('liste engagés'!$G121=9,'liste engagés'!D121,\"\")","v":""},{"$f":"IF('liste engagés'!$G121=9,'liste engagés'!E121,\"\")","v":""},{"$f":"IF('liste engagés'!$G121=9,'liste engagés'!K121,\"\")","v":""},{"$f":"IF('liste engagés'!$G121=9,'liste engagés'!L121,\"\")","v":""},0]
[123,{"$f":"IF('liste engagés'!$G122=9,'liste engagés'!A122,\"\")","v":""},{"$f":"IF('liste engagés'!$G122=9,'liste engagés'!B122,\"\")","v":""},{"$f":"IF('liste engagés'!$G122=9,'liste engagés'!C122,\"\")","v":""},{"$f":"IF('liste engagés'!$G122=9,'liste engagés'!D122,\"\")","v":""},{"$f":"IF('liste engagés'!$G122=9,'liste engagés'!E122,\"\")","v":""},{"$f":"IF('liste engagés'!$G122=9,'liste engagés'!K122,\"\")","v":""},{"$f":"IF('liste engagés'!$G122=9,'liste engagés'!L122,\"\")","v":""},0]
[124,{"$f":"IF('liste engagés'!$G123=9,'liste engagés'!A123,\"\")","v":""},{"$f":"IF('liste engagés'!$G123=9,'liste engagés'!B123,\"\")","v":""},{"$f":"IF('liste engagés'!$G123=9,'liste engagés'!C123,\"\")","v":""},{"$f":"IF('liste engagés'!$G123=9,'liste engagés'!D123,\"\")","v":""},{"$f":"IF('liste engagés'!$G123=9,'liste engagés'!E123,\"\")","v":""},{"$f":"IF('liste engagés'!$G123=9,'liste engagés'!K123,\"\")","v":""},{"$f":"IF('liste engagés'!$G123=9,'liste engagés'!L123,\"\")","v":""},0]
[125,{"$f":"IF('liste engagés'!$G126=9,'liste engagés'!A126,\"\")","v":""},{"$f":"IF('liste engagés'!$G126=9,'liste engagés'!B126,\"\")","v":""},{"$f":"IF('liste engagés'!$G126=9,'liste engagés'!C126,\"\")","v":""},{"$f":"IF('liste engagés'!$G126=9,'liste engagés'!D126,\"\")","v":""},{"$f":"IF('liste engagés'!$G126=9,'liste engagés'!E126,\"\")","v":""},{"$f":"IF('liste engagés'!$G126=9,'liste engagés'!K126,\"\")","v":""},{"$f":"IF('liste engagés'!$G126=9,'liste engagés'!L126,\"\")","v":""},0]
[126,{"$f":"IF('liste engagés'!$G127=9,'liste engagés'!A127,\"\")","v":""},{"$f":"IF('liste engagés'!$G127=9,'liste engagés'!B127,\"\")","v":""},{"$f":"IF('liste engagés'!$G127=9,'liste engagés'!C127,\"\")","v":""},{"$f":"IF('liste engagés'!$G127=9,'liste engagés'!D127,\"\")","v":""},{"$f":"IF('liste engagés'!$G127=9,'liste engagés'!E127,\"\")","v":""},{"$f":"IF('liste engagés'!$G127=9,'liste engagés'!K127,\"\")","v":""},{"$f":"IF('liste engagés'!$G127=9,'liste engagés'!L127,\"\")","v":""},0]
[127,{"$f":"IF('liste engagés'!$G128=9,'liste engagés'!A128,\"\")","v":""},{"$f":"IF('liste engagés'!$G128=9,'liste engagés'!B128,\"\")","v":""},{"$f":"IF('liste engagés'!$G128=9,'liste engagés'!C128,\"\")","v":""},{"$f":"IF('liste engagés'!$G128=9,'liste engagés'!D128,\"\")","v":""},{"$f":"IF('liste engagés'!$G128=9,'liste engagés'!E128,\"\")","v":""},{"$f":"IF('liste engagés'!$G128=9,'liste engagés'!K128,\"\")","v":""},{"$f":"IF('liste engagés'!$G128=9,'liste engagés'!L128,\"\")","v":""},0]
[128,{"$f":"IF('liste engagés'!$G129=9,'liste engagés'!A129,\"\")","v":""},{"$f":"IF('liste engagés'!$G129=9,'liste engagés'!B129,\"\")","v":""},{"$f":"IF('liste engagés'!$G129=9,'liste engagés'!C129,\"\")","v":""},{"$f":"IF('liste engagés'!$G129=9,'liste engagés'!D129,\"\")","v":""},{"$f":"IF('liste engagés'!$G129=9,'liste engagés'!E129,\"\")","v":""},{"$f":"IF('liste engagés'!$G129=9,'liste engagés'!K129,\"\")","v":""},{"$f":"IF('liste engagés'!$G129=9,'liste engagés'!L129,\"\")","v":""},0]
[129,{"$f":"IF('liste engagés'!$G130=9,'liste engagés'!A130,\"\")","v":""},{"$f":"IF('liste engagés'!$G130=9,'liste engagés'!B130,\"\")","v":""},{"$f":"IF('liste engagés'!$G130=9,'liste engagés'!C130,\"\")","v":""},{"$f":"IF('liste engagés'!$G130=9,'liste engagés'!D130,\"\")","v":""},{"$f":"IF('liste engagés'!$G130=9,'liste engagés'!E130,\"\")","v":""},{"$f":"IF('liste engagés'!$G130=9,'liste engagés'!K130,\"\")","v":""},{"$f":"IF('liste engagés'!$G130=9,'liste engagés'!L130,\"\")","v":""},{"$f":"+IF(C135=\"\",0,1)","v":0}]
[{"$f":"+A135+1","v":130},{"$f":"IF('liste engagés'!$G131=9,'liste engagés'!A131,\"\")","v":""},{"$f":"IF('liste engagés'!$G131=9,'liste engagés'!B131,\"\")","v":""},{"$f":"IF('liste engagés'!$G131=9,'liste engagés'!C131,\"\")","v":""},{"$f":"IF('liste engagés'!$G131=9,'liste engagés'!D131,\"\")","v":""},{"$f":"IF('liste engagés'!$G131=9,'liste engagés'!E131,\"\")","v":""},{"$f":"IF('liste engagés'!$G131=9,'liste engagés'!K131,\"\")","v":""},{"$f":"IF('liste engagés'!$G131=9,'liste engagés'!L131,\"\")","v":""},0]
[131,{"$f":"IF('liste engagés'!$G132=9,'liste engagés'!A132,\"\")","v":""},{"$f":"IF('liste engagés'!$G132=9,'liste engagés'!B132,\"\")","v":""},{"$f":"IF('liste engagés'!$G132=9,'liste engagés'!C132,\"\")","v":""},{"$f":"IF('liste engagés'!$G132=9,'liste engagés'!D132,\"\")","v":""},{"$f":"IF('liste engagés'!$G132=9,'liste engagés'!E132,\"\")","v":""},{"$f":"IF('liste engagés'!$G132=9,'liste engagés'!K132,\"\")","v":""},{"$f":"IF('liste engagés'!$G132=9,'liste engagés'!L132,\"\")","v":""},0]
[132,{"$f":"IF('liste engagés'!$G133=9,'liste engagés'!A133,\"\")","v":""},{"$f":"IF('liste engagés'!$G133=9,'liste engagés'!B133,\"\")","v":""},{"$f":"IF('liste engagés'!$G133=9,'liste engagés'!C133,\"\")","v":""},{"$f":"IF('liste engagés'!$G133=9,'liste engagés'!D133,\"\")","v":""},{"$f":"IF('liste engagés'!$G133=9,'liste engagés'!E133,\"\")","v":""},{"$f":"IF('liste engagés'!$G133=9,'liste engagés'!K133,\"\")","v":""},{"$f":"IF('liste engagés'!$G133=9,'liste engagés'!L133,\"\")","v":""},0]
[133,{"$f":"IF('liste engagés'!$G135=9,'liste engagés'!A135,\"\")","v":""},{"$f":"IF('liste engagés'!$G135=9,'liste engagés'!B135,\"\")","v":""},{"$f":"IF('liste engagés'!$G135=9,'liste engagés'!C135,\"\")","v":""},{"$f":"IF('liste engagés'!$G135=9,'liste engagés'!D135,\"\")","v":""},{"$f":"IF('liste engagés'!$G135=9,'liste engagés'!E135,\"\")","v":""},{"$f":"IF('liste engagés'!$G135=9,'liste engagés'!K135,\"\")","v":""},{"$f":"IF('liste engagés'!$G135=9,'liste engagés'!L135,\"\")","v":""},0]
[134,{"$f":"IF('liste engagés'!$G137=9,'liste engagés'!A137,\"\")","v":""},{"$f":"IF('liste engagés'!$G137=9,'liste engagés'!B137,\"\")","v":""},{"$f":"IF('liste engagés'!$G137=9,'liste engagés'!C137,\"\")","v":""},{"$f":"IF('liste engagés'!$G137=9,'liste engagés'!D137,\"\")","v":""},{"$f":"IF('liste engagés'!$G137=9,'liste engagés'!E137,\"\")","v":""},{"$f":"IF('liste engagés'!$G137=9,'liste engagés'!K137,\"\")","v":""},{"$f":"IF('liste engagés'!$G137=9,'liste engagés'!L137,\"\")","v":""},0]
[135,{"$f":"IF('liste engagés'!$G138=9,'liste engagés'!A138,\"\")","v":""},{"$f":"IF('liste engagés'!$G138=9,'liste engagés'!B138,\"\")","v":""},{"$f":"IF('liste engagés'!$G138=9,'liste engagés'!C138,\"\")","v":""},{"$f":"IF('liste engagés'!$G138=9,'liste engagés'!D138,\"\")","v":""},{"$f":"IF('liste engagés'!$G138=9,'liste engagés'!E138,\"\")","v":""},{"$f":"IF('liste engagés'!$G138=9,'liste engagés'!K138,\"\")","v":""},{"$f":"IF('liste engagés'!$G138=9,'liste engagés'!L138,\"\")","v":""},0]
[136,{"$f":"IF('liste engagés'!$G139=9,'liste engagés'!A139,\"\")","v":""},{"$f":"IF('liste engagés'!$G139=9,'liste engagés'!B139,\"\")","v":""},{"$f":"IF('liste engagés'!$G139=9,'liste engagés'!C139,\"\")","v":""},{"$f":"IF('liste engagés'!$G139=9,'liste engagés'!D139,\"\")","v":""},{"$f":"IF('liste engagés'!$G139=9,'liste engagés'!E139,\"\")","v":""},{"$f":"IF('liste engagés'!$G139=9,'liste engagés'!K139,\"\")","v":""},{"$f":"IF('liste engagés'!$G139=9,'liste engagés'!L139,\"\")","v":""},0]
[137,{"$f":"IF('liste engagés'!$G140=9,'liste engagés'!A140,\"\")","v":""},{"$f":"IF('liste engagés'!$G140=9,'liste engagés'!B140,\"\")","v":""},{"$f":"IF('liste engagés'!$G140=9,'liste engagés'!C140,\"\")","v":""},{"$f":"IF('liste engagés'!$G140=9,'liste engagés'!D140,\"\")","v":""},{"$f":"IF('liste engagés'!$G140=9,'liste engagés'!E140,\"\")","v":""},{"$f":"IF('liste engagés'!$G140=9,'liste engagés'!K140,\"\")","v":""},{"$f":"IF('liste engagés'!$G140=9,'liste engagés'!L140,\"\")","v":""},0]
[138,{"$f":"IF('liste engagés'!$G141=9,'liste engagés'!A141,\"\")","v":""},{"$f":"IF('liste engagés'!$G141=9,'liste engagés'!B141,\"\")","v":""},{"$f":"IF('liste engagés'!$G141=9,'liste engagés'!C141,\"\")","v":""},{"$f":"IF('liste engagés'!$G141=9,'liste engagés'!D141,\"\")","v":""},{"$f":"IF('liste engagés'!$G141=9,'liste engagés'!E141,\"\")","v":""},{"$f":"IF('liste engagés'!$G141=9,'liste engagés'!K141,\"\")","v":""},{"$f":"IF('liste engagés'!$G141=9,'liste engagés'!L141,\"\")","v":""},0]
[139,{"$f":"IF('liste engagés'!$G142=9,'liste engagés'!A142,\"\")","v":""},{"$f":"IF('liste engagés'!$G142=9,'liste engagés'!B142,\"\")","v":""},{"$f":"IF('liste engagés'!$G142=9,'liste engagés'!C142,\"\")","v":""},{"$f":"IF('liste engagés'!$G142=9,'liste engagés'!D142,\"\")","v":""},{"$f":"IF('liste engagés'!$G142=9,'liste engagés'!E142,\"\")","v":""},{"$f":"IF('liste engagés'!$G142=9,'liste engagés'!K142,\"\")","v":""},{"$f":"IF('liste engagés'!$G142=9,'liste engagés'!L142,\"\")","v":""},0]
[140,{"$f":"IF('liste engagés'!$G144=9,'liste engagés'!A144,\"\")","v":""},{"$f":"IF('liste engagés'!$G144=9,'liste engagés'!B144,\"\")","v":""},{"$f":"IF('liste engagés'!$G144=9,'liste engagés'!C144,\"\")","v":""},{"$f":"IF('liste engagés'!$G144=9,'liste engagés'!D144,\"\")","v":""},{"$f":"IF('liste engagés'!$G144=9,'liste engagés'!E144,\"\")","v":""},{"$f":"IF('liste engagés'!$G144=9,'liste engagés'!K144,\"\")","v":""},{"$f":"IF('liste engagés'!$G144=9,'liste engagés'!L144,\"\")","v":""},0]
[141,{"$f":"IF('liste engagés'!$G145=9,'liste engagés'!A145,\"\")","v":""},{"$f":"IF('liste engagés'!$G145=9,'liste engagés'!B145,\"\")","v":""},{"$f":"IF('liste engagés'!$G145=9,'liste engagés'!#REF!,\"\")","v":""},{"$f":"IF('liste engagés'!$G145=9,'liste engagés'!D145,\"\")","v":""},{"$f":"IF('liste engagés'!$G145=9,'liste engagés'!E145,\"\")","v":""},{"$f":"IF('liste engagés'!$G145=9,'liste engagés'!K145,\"\")","v":""},{"$f":"IF('liste engagés'!$G145=9,'liste engagés'!L145,\"\")","v":""},0]
[142,{"$f":"IF('liste engagés'!$G146=9,'liste engagés'!A146,\"\")","v":""},{"$f":"IF('liste engagés'!$G146=9,'liste engagés'!B146,\"\")","v":""},{"$f":"IF('liste engagés'!$G146=9,'liste engagés'!C145,\"\")","v":""},{"$f":"IF('liste engagés'!$G146=9,'liste engagés'!D146,\"\")","v":""},{"$f":"IF('liste engagés'!$G146=9,'liste engagés'!E146,\"\")","v":""},{"$f":"IF('liste engagés'!$G146=9,'liste engagés'!K146,\"\")","v":""},{"$f":"IF('liste engagés'!$G146=9,'liste engagés'!L146,\"\")","v":""},0]
[143,{"$f":"IF('liste engagés'!$G147=9,'liste engagés'!A147,\"\")","v":""},{"$f":"IF('liste engagés'!$G147=9,'liste engagés'!B147,\"\")","v":""},{"$f":"IF('liste engagés'!$G147=9,'liste engagés'!C147,\"\")","v":""},{"$f":"IF('liste engagés'!$G147=9,'liste engagés'!D147,\"\")","v":""},{"$f":"IF('liste engagés'!$G147=9,'liste engagés'!E147,\"\")","v":""},{"$f":"IF('liste engagés'!$G147=9,'liste engagés'!K147,\"\")","v":""},{"$f":"IF('liste engagés'!$G147=9,'liste engagés'!L147,\"\")","v":""},0]
[144,{"$f":"IF('liste engagés'!$G148=9,'liste engagés'!A148,\"\")","v":""},{"$f":"IF('liste engagés'!$G148=9,'liste engagés'!B148,\"\")","v":""},{"$f":"IF('liste engagés'!$G148=9,'liste engagés'!C148,\"\")","v":""},{"$f":"IF('liste engagés'!$G148=9,'liste engagés'!D148,\"\")","v":""},{"$f":"IF('liste engagés'!$G148=9,'liste engagés'!E148,\"\")","v":""},{"$f":"IF('liste engagés'!$G148=9,'liste engagés'!K148,\"\")","v":""},{"$f":"IF('liste engagés'!$G148=9,'liste engagés'!L148,\"\")","v":""},0]
[145,{"$f":"IF('liste engagés'!$G149=9,'liste engagés'!A149,\"\")","v":""},{"$f":"IF('liste engagés'!$G149=9,'liste engagés'!B149,\"\")","v":""},{"$f":"IF('liste engagés'!$G149=9,'liste engagés'!C149,\"\")","v":""},{"$f":"IF('liste engagés'!$G149=9,'liste engagés'!D149,\"\")","v":""},{"$f":"IF('liste engagés'!$G149=9,'liste engagés'!E149,\"\")","v":""},{"$f":"IF('liste engagés'!$G149=9,'liste engagés'!K149,\"\")","v":""},{"$f":"IF('liste engagés'!$G149=9,'liste engagés'!L149,\"\")","v":""},0]
[146,{"$f":"IF('liste engagés'!$G150=9,'liste engagés'!A150,\"\")","v":""},{"$f":"IF('liste engagés'!$G150=9,'liste engagés'!B150,\"\")","v":""},{"$f":"IF('liste engagés'!$G150=9,'liste engagés'!C150,\"\")","v":""},{"$f":"IF('liste engagés'!$G150=9,'liste engagés'!D150,\"\")","v":""},{"$f":"IF('liste engagés'!$G150=9,'liste engagés'!E150,\"\")","v":""},{"$f":"IF('liste engagés'!$G150=9,'liste engagés'!K150,\"\")","v":""},{"$f":"IF('liste engagés'!$G150=9,'liste engagés'!L150,\"\")","v":""},0]
[147,{"$f":"IF('liste engagés'!$G151=9,'liste engagés'!A151,\"\")","v":""},{"$f":"IF('liste engagés'!$G151=9,'liste engagés'!B151,\"\")","v":""},{"$f":"IF('liste engagés'!$G151=9,'liste engagés'!C151,\"\")","v":""},{"$f":"IF('liste engagés'!$G151=9,'liste engagés'!D151,\"\")","v":""},{"$f":"IF('liste engagés'!$G151=9,'liste engagés'!E151,\"\")","v":""},{"$f":"IF('liste engagés'!$G151=9,'liste engagés'!K151,\"\")","v":""},{"$f":"IF('liste engagés'!$G151=9,'liste engagés'!L151,\"\")","v":""},0]
[148,{"$f":"IF('liste engagés'!$G152=9,'liste engagés'!A152,\"\")","v":""},{"$f":"IF('liste engagés'!$G152=9,'liste engagés'!B152,\"\")","v":""},{"$f":"IF('liste engagés'!$G152=9,'liste engagés'!C152,\"\")","v":""},{"$f":"IF('liste engagés'!$G152=9,'liste engagés'!D152,\"\")","v":""},{"$f":"IF('liste engagés'!$G152=9,'liste engagés'!E152,\"\")","v":""},{"$f":"IF('liste engagés'!$G152=9,'liste engagés'!K152,\"\")","v":""},{"$f":"IF('liste engagés'!$G152=9,'liste engagés'!L152,\"\")","v":""},0]
[149,{"$f":"IF('liste engagés'!$G153=9,'liste engagés'!A153,\"\")","v":""},{"$f":"IF('liste engagés'!$G153=9,'liste engagés'!B153,\"\")","v":""},{"$f":"IF('liste engagés'!$G153=9,'liste engagés'!C153,\"\")","v":""},{"$f":"IF('liste engagés'!$G153=9,'liste engagés'!D153,\"\")","v":""},{"$f":"IF('liste engagés'!$G153=9,'liste engagés'!E153,\"\")","v":""},{"$f":"IF('liste engagés'!$G153=9,'liste engagés'!K153,\"\")","v":""},{"$f":"IF('liste engagés'!$G153=9,'liste engagés'!L153,\"\")","v":""},0]
[150,{"$f":"IF('liste engagés'!$G154=9,'liste engagés'!A154,\"\")","v":""},{"$f":"IF('liste engagés'!$G154=9,'liste engagés'!B154,\"\")","v":""},{"$f":"IF('liste engagés'!$G154=9,'liste engagés'!C154,\"\")","v":""},{"$f":"IF('liste engagés'!$G154=9,'liste engagés'!D154,\"\")","v":""},{"$f":"IF('liste engagés'!$G154=9,'liste engagés'!E154,\"\")","v":""},{"$f":"IF('liste engagés'!$G154=9,'liste engagés'!K154,\"\")","v":""},{"$f":"IF('liste engagés'!$G154=9,'liste engagés'!L154,\"\")","v":""},0]
[151,{"$f":"IF('liste engagés'!$G155=9,'liste engagés'!A155,\"\")","v":""},{"$f":"IF('liste engagés'!$G155=9,'liste engagés'!B155,\"\")","v":""},{"$f":"IF('liste engagés'!$G155=9,'liste engagés'!C155,\"\")","v":""},{"$f":"IF('liste engagés'!$G155=9,'liste engagés'!D155,\"\")","v":""},{"$f":"IF('liste engagés'!$G155=9,'liste engagés'!E155,\"\")","v":""},{"$f":"IF('liste engagés'!$G155=9,'liste engagés'!K155,\"\")","v":""},{"$f":"IF('liste engagés'!$G155=9,'liste engagés'!L155,\"\")","v":""},0]
[152,{"$f":"IF('liste engagés'!$G156=9,'liste engagés'!A156,\"\")","v":""},{"$f":"IF('liste engagés'!$G156=9,'liste engagés'!B156,\"\")","v":""},{"$f":"IF('liste engagés'!$G156=9,'liste engagés'!C156,\"\")","v":""},{"$f":"IF('liste engagés'!$G156=9,'liste engagés'!D156,\"\")","v":""},{"$f":"IF('liste engagés'!$G156=9,'liste engagés'!E156,\"\")","v":""},{"$f":"IF('liste engagés'!$G156=9,'liste engagés'!K156,\"\")","v":""},{"$f":"IF('liste engagés'!$G156=9,'liste engagés'!L156,\"\")","v":""},0]
[153,{"$f":"IF('liste engagés'!$G157=9,'liste engagés'!A157,\"\")","v":""},{"$f":"IF('liste engagés'!$G157=9,'liste engagés'!B157,\"\")","v":""},{"$f":"IF('liste engagés'!$G157=9,'liste engagés'!C157,\"\")","v":""},{"$f":"IF('liste engagés'!$G157=9,'liste engagés'!D157,\"\")","v":""},{"$f":"IF('liste engagés'!$G157=9,'liste engagés'!E157,\"\")","v":""},{"$f":"IF('liste engagés'!$G157=9,'liste engagés'!K157,\"\")","v":""},{"$f":"IF('liste engagés'!$G157=9,'liste engagés'!L157,\"\")","v":""},0]
[154,{"$f":"IF('liste engagés'!$G158=9,'liste engagés'!A158,\"\")","v":""},{"$f":"IF('liste engagés'!$G158=9,'liste engagés'!B158,\"\")","v":""},{"$f":"IF('liste engagés'!$G158=9,'liste engagés'!C158,\"\")","v":""},{"$f":"IF('liste engagés'!$G158=9,'liste engagés'!D158,\"\")","v":""},{"$f":"IF('liste engagés'!$G158=9,'liste engagés'!E158,\"\")","v":""},{"$f":"IF('liste engagés'!$G158=9,'liste engagés'!K158,\"\")","v":""},{"$f":"IF('liste engagés'!$G158=9,'liste engagés'!L158,\"\")","v":""},0]
[155,{"$f":"IF('liste engagés'!$G159=9,'liste engagés'!A159,\"\")","v":""},{"$f":"IF('liste engagés'!$G159=9,'liste engagés'!B159,\"\")","v":""},{"$f":"IF('liste engagés'!$G159=9,'liste engagés'!C159,\"\")","v":""},{"$f":"IF('liste engagés'!$G159=9,'liste engagés'!D159,\"\")","v":""},{"$f":"IF('liste engagés'!$G159=9,'liste engagés'!E159,\"\")","v":""},{"$f":"IF('liste engagés'!$G159=9,'liste engagés'!K159,\"\")","v":""},{"$f":"IF('liste engagés'!$G159=9,'liste engagés'!L159,\"\")","v":""},0]
[156,{"$f":"IF('liste engagés'!$G160=9,'liste engagés'!A160,\"\")","v":""},{"$f":"IF('liste engagés'!$G160=9,'liste engagés'!B160,\"\")","v":""},{"$f":"IF('liste engagés'!$G160=9,'liste engagés'!C160,\"\")","v":""},{"$f":"IF('liste engagés'!$G160=9,'liste engagés'!D160,\"\")","v":""},{"$f":"IF('liste engagés'!$G160=9,'liste engagés'!E160,\"\")","v":""},{"$f":"IF('liste engagés'!$G160=9,'liste engagés'!K160,\"\")","v":""},{"$f":"IF('liste engagés'!$G160=9,'liste engagés'!L160,\"\")","v":""},0]
[157,{"$f":"IF('liste engagés'!$G161=9,'liste engagés'!A161,\"\")","v":""},{"$f":"IF('liste engagés'!$G161=9,'liste engagés'!B161,\"\")","v":""},{"$f":"IF('liste engagés'!$G161=9,'liste engagés'!C161,\"\")","v":""},{"$f":"IF('liste engagés'!$G161=9,'liste engagés'!D161,\"\")","v":""},{"$f":"IF('liste engagés'!$G161=9,'liste engagés'!E161,\"\")","v":""},{"$f":"IF('liste engagés'!$G161=9,'liste engagés'!K161,\"\")","v":""},{"$f":"IF('liste engagés'!$G161=9,'liste engagés'!L161,\"\")","v":""},0]
[158,{"$f":"IF('liste engagés'!$G162=9,'liste engagés'!A162,\"\")","v":""},{"$f":"IF('liste engagés'!$G162=9,'liste engagés'!B162,\"\")","v":""},{"$f":"IF('liste engagés'!$G162=9,'liste engagés'!C162,\"\")","v":""},{"$f":"IF('liste engagés'!$G162=9,'liste engagés'!D162,\"\")","v":""},{"$f":"IF('liste engagés'!$G162=9,'liste engagés'!E162,\"\")","v":""},{"$f":"IF('liste engagés'!$G162=9,'liste engagés'!K162,\"\")","v":""},{"$f":"IF('liste engagés'!$G162=9,'liste engagés'!L162,\"\")","v":""},0]
[159,{"$f":"IF('liste engagés'!$G163=9,'liste engagés'!A163,\"\")","v":""},{"$f":"IF('liste engagés'!$G163=9,'liste engagés'!B163,\"\")","v":""},{"$f":"IF('liste engagés'!$G163=9,'liste engagés'!C163,\"\")","v":""},{"$f":"IF('liste engagés'!$G163=9,'liste engagés'!D163,\"\")","v":""},{"$f":"IF('liste engagés'!$G163=9,'liste engagés'!E163,\"\")","v":""},{"$f":"IF('liste engagés'!$G163=9,'liste engagés'!K163,\"\")","v":""},{"$f":"IF('liste engagés'!$G163=9,'liste engagés'!L163,\"\")","v":""},0]
[160,{"$f":"IF('liste engagés'!$G164=9,'liste engagés'!A164,\"\")","v":""},{"$f":"IF('liste engagés'!$G164=9,'liste engagés'!B164,\"\")","v":""},{"$f":"IF('liste engagés'!$G164=9,'liste engagés'!C164,\"\")","v":""},{"$f":"IF('liste engagés'!$G164=9,'liste engagés'!D164,\"\")","v":""},{"$f":"IF('liste engagés'!$G164=9,'liste engagés'!E164,\"\")","v":""},{"$f":"IF('liste engagés'!$G164=9,'liste engagés'!K164,\"\")","v":""},{"$f":"IF('liste engagés'!$G164=9,'liste engagés'!L164,\"\")","v":""},0]
[161,{"$f":"IF('liste engagés'!$G165=9,'liste engagés'!A165,\"\")","v":""},{"$f":"IF('liste engagés'!$G165=9,'liste engagés'!B165,\"\")","v":""},{"$f":"IF('liste engagés'!$G165=9,'liste engagés'!C165,\"\")","v":""},{"$f":"IF('liste engagés'!$G165=9,'liste engagés'!D165,\"\")","v":""},{"$f":"IF('liste engagés'!$G165=9,'liste engagés'!E165,\"\")","v":""},{"$f":"IF('liste engagés'!$G165=9,'liste engagés'!K165,\"\")","v":""},{"$f":"IF('liste engagés'!$G165=9,'liste engagés'!L165,\"\")","v":""},0]
[162,{"$f":"IF('liste engagés'!$G166=9,'liste engagés'!A166,\"\")","v":""},{"$f":"IF('liste engagés'!$G166=9,'liste engagés'!B166,\"\")","v":""},{"$f":"IF('liste engagés'!$G166=9,'liste engagés'!C166,\"\")","v":""},{"$f":"IF('liste engagés'!$G166=9,'liste engagés'!D166,\"\")","v":""},{"$f":"IF('liste engagés'!$G166=9,'liste engagés'!E166,\"\")","v":""},{"$f":"IF('liste engagés'!$G166=9,'liste engagés'!K166,\"\")","v":""},{"$f":"IF('liste engagés'!$G166=9,'liste engagés'!L166,\"\")","v":""},0]
[163,{"$f":"IF('liste engagés'!$G167=9,'liste engagés'!A167,\"\")","v":""},{"$f":"IF('liste engagés'!$G167=9,'liste engagés'!B167,\"\")","v":""},{"$f":"IF('liste engagés'!$G167=9,'liste engagés'!C167,\"\")","v":""},{"$f":"IF('liste engagés'!$G167=9,'liste engagés'!D167,\"\")","v":""},{"$f":"IF('liste engagés'!$G167=9,'liste engagés'!E167,\"\")","v":""},{"$f":"IF('liste engagés'!$G167=9,'liste engagés'!K167,\"\")","v":""},{"$f":"IF('liste engagés'!$G167=9,'liste engagés'!L167,\"\")","v":""},0]
[164,{"$f":"IF('liste engagés'!$G168=9,'liste engagés'!A168,\"\")","v":""},{"$f":"IF('liste engagés'!$G168=9,'liste engagés'!B168,\"\")","v":""},{"$f":"IF('liste engagés'!$G168=9,'liste engagés'!C168,\"\")","v":""},{"$f":"IF('liste engagés'!$G168=9,'liste engagés'!D168,\"\")","v":""},{"$f":"IF('liste engagés'!$G168=9,'liste engagés'!E168,\"\")","v":""},{"$f":"IF('liste engagés'!$G168=9,'liste engagés'!K168,\"\")","v":""},{"$f":"IF('liste engagés'!$G168=9,'liste engagés'!L168,\"\")","v":""},0]
[165,{"$f":"IF('liste engagés'!$G169=9,'liste engagés'!A169,\"\")","v":""},{"$f":"IF('liste engagés'!$G169=9,'liste engagés'!B169,\"\")","v":""},{"$f":"IF('liste engagés'!$G169=9,'liste engagés'!C169,\"\")","v":""},{"$f":"IF('liste engagés'!$G169=9,'liste engagés'!D169,\"\")","v":""},{"$f":"IF('liste engagés'!$G169=9,'liste engagés'!E169,\"\")","v":""},{"$f":"IF('liste engagés'!$G169=9,'liste engagés'!K169,\"\")","v":""},{"$f":"IF('liste engagés'!$G169=9,'liste engagés'!L169,\"\")","v":""},0]
[166,{"$f":"IF('liste engagés'!$G170=9,'liste engagés'!A170,\"\")","v":""},{"$f":"IF('liste engagés'!$G170=9,'liste engagés'!B170,\"\")","v":""},{"$f":"IF('liste engagés'!$G170=9,'liste engagés'!C170,\"\")","v":""},{"$f":"IF('liste engagés'!$G170=9,'liste engagés'!D170,\"\")","v":""},{"$f":"IF('liste engagés'!$G170=9,'liste engagés'!E170,\"\")","v":""},{"$f":"IF('liste engagés'!$G170=9,'liste engagés'!K170,\"\")","v":""},{"$f":"IF('liste engagés'!$G170=9,'liste engagés'!L170,\"\")","v":""},0]
[167,{"$f":"IF('liste engagés'!$G171=9,'liste engagés'!A171,\"\")","v":""},{"$f":"IF('liste engagés'!$G171=9,'liste engagés'!B171,\"\")","v":""},{"$f":"IF('liste engagés'!$G171=9,'liste engagés'!C171,\"\")","v":""},{"$f":"IF('liste engagés'!$G171=9,'liste engagés'!D171,\"\")","v":""},{"$f":"IF('liste engagés'!$G171=9,'liste engagés'!E171,\"\")","v":""},{"$f":"IF('liste engagés'!$G171=9,'liste engagés'!K171,\"\")","v":""},{"$f":"IF('liste engagés'!$G171=9,'liste engagés'!L171,\"\")","v":""},0]
[168,{"$f":"IF('liste engagés'!$G172=9,'liste engagés'!A172,\"\")","v":""},{"$f":"IF('liste engagés'!$G172=9,'liste engagés'!B172,\"\")","v":""},{"$f":"IF('liste engagés'!$G172=9,'liste engagés'!C172,\"\")","v":""},{"$f":"IF('liste engagés'!$G172=9,'liste engagés'!D172,\"\")","v":""},{"$f":"IF('liste engagés'!$G172=9,'liste engagés'!E172,\"\")","v":""},{"$f":"IF('liste engagés'!$G172=9,'liste engagés'!K172,\"\")","v":""},{"$f":"IF('liste engagés'!$G172=9,'liste engagés'!L172,\"\")","v":""},0]
[169,{"$f":"IF('liste engagés'!$G173=9,'liste engagés'!A173,\"\")","v":""},{"$f":"IF('liste engagés'!$G173=9,'liste engagés'!B173,\"\")","v":""},{"$f":"IF('liste engagés'!$G173=9,'liste engagés'!C173,\"\")","v":""},{"$f":"IF('liste engagés'!$G173=9,'liste engagés'!D173,\"\")","v":""},{"$f":"IF('liste engagés'!$G173=9,'liste engagés'!E173,\"\")","v":""},{"$f":"IF('liste engagés'!$G173=9,'liste engagés'!K173,\"\")","v":""},{"$f":"IF('liste engagés'!$G173=9,'liste engagés'!L173,\"\")","v":""},0]
[170,{"$f":"IF('liste engagés'!$G174=9,'liste engagés'!A174,\"\")","v":""},{"$f":"IF('liste engagés'!$G174=9,'liste engagés'!B174,\"\")","v":""},{"$f":"IF('liste engagés'!$G174=9,'liste engagés'!C174,\"\")","v":""},{"$f":"IF('liste engagés'!$G174=9,'liste engagés'!D174,\"\")","v":""},{"$f":"IF('liste engagés'!$G174=9,'liste engagés'!E174,\"\")","v":""},{"$f":"IF('liste engagés'!$G174=9,'liste engagés'!K174,\"\")","v":""},{"$f":"IF('liste engagés'!$G174=9,'liste engagés'!L174,\"\")","v":""},0]
[171,{"$f":"IF('liste engagés'!$G175=9,'liste engagés'!A175,\"\")","v":""},{"$f":"IF('liste engagés'!$G175=9,'liste engagés'!B175,\"\")","v":""},{"$f":"IF('liste engagés'!$G175=9,'liste engagés'!C175,\"\")","v":""},{"$f":"IF('liste engagés'!$G175=9,'liste engagés'!D175,\"\")","v":""},{"$f":"IF('liste engagés'!$G175=9,'liste engagés'!E175,\"\")","v":""},{"$f":"IF('liste engagés'!$G175=9,'liste engagés'!K175,\"\")","v":""},{"$f":"IF('liste engagés'!$G175=9,'liste engagés'!L175,\"\")","v":""},0]
[172,{"$f":"IF('liste engagés'!$G176=9,'liste engagés'!A176,\"\")","v":""},{"$f":"IF('liste engagés'!$G176=9,'liste engagés'!B176,\"\")","v":""},{"$f":"IF('liste engagés'!$G176=9,'liste engagés'!C176,\"\")","v":""},{"$f":"IF('liste engagés'!$G176=9,'liste engagés'!D176,\"\")","v":""},{"$f":"IF('liste engagés'!$G176=9,'liste engagés'!E176,\"\")","v":""},{"$f":"IF('liste engagés'!$G176=9,'liste engagés'!K176,\"\")","v":""},{"$f":"IF('liste engagés'!$G176=9,'liste engagés'!L176,\"\")","v":""},0]
[173,{"$f":"IF('liste engagés'!$G177=9,'liste engagés'!A177,\"\")","v":""},{"$f":"IF('liste engagés'!$G177=9,'liste engagés'!B177,\"\")","v":""},{"$f":"IF('liste engagés'!$G177=9,'liste engagés'!C177,\"\")","v":""},{"$f":"IF('liste engagés'!$G177=9,'liste engagés'!D177,\"\")","v":""},{"$f":"IF('liste engagés'!$G177=9,'liste engagés'!E177,\"\")","v":""},{"$f":"IF('liste engagés'!$G177=9,'liste engagés'!K177,\"\")","v":""},{"$f":"IF('liste engagés'!$G177=9,'liste engagés'!L177,\"\")","v":""},0]
[174,{"$f":"IF('liste engagés'!$G178=9,'liste engagés'!A178,\"\")","v":""},{"$f":"IF('liste engagés'!$G178=9,'liste engagés'!B178,\"\")","v":""},{"$f":"IF('liste engagés'!$G178=9,'liste engagés'!C178,\"\")","v":""},{"$f":"IF('liste engagés'!$G178=9,'liste engagés'!D178,\"\")","v":""},{"$f":"IF('liste engagés'!$G178=9,'liste engagés'!E178,\"\")","v":""},{"$f":"IF('liste engagés'!$G178=9,'liste engagés'!K178,\"\")","v":""},{"$f":"IF('liste engagés'!$G178=9,'liste engagés'!L178,\"\")","v":""},0]
[175,{"$f":"IF('liste engagés'!$G180=9,'liste engagés'!A180,\"\")","v":""},{"$f":"IF('liste engagés'!$G180=9,'liste engagés'!B180,\"\")","v":""},{"$f":"IF('liste engagés'!$G180=9,'liste engagés'!C180,\"\")","v":""},{"$f":"IF('liste engagés'!$G180=9,'liste engagés'!D180,\"\")","v":""},{"$f":"IF('liste engagés'!$G180=9,'liste engagés'!E180,\"\")","v":""},{"$f":"IF('liste engagés'!$G180=9,'liste engagés'!K180,\"\")","v":""},{"$f":"IF('liste engagés'!$G180=9,'liste engagés'!L180,\"\")","v":""},0]
[176,{"$f":"IF('liste engagés'!$G181=9,'liste engagés'!A181,\"\")","v":""},{"$f":"IF('liste engagés'!$G181=9,'liste engagés'!B181,\"\")","v":""},{"$f":"IF('liste engagés'!$G181=9,'liste engagés'!C181,\"\")","v":""},{"$f":"IF('liste engagés'!$G181=9,'liste engagés'!D181,\"\")","v":""},{"$f":"IF('liste engagés'!$G181=9,'liste engagés'!E181,\"\")","v":""},{"$f":"IF('liste engagés'!$G181=9,'liste engagés'!K181,\"\")","v":""},{"$f":"IF('liste engagés'!$G181=9,'liste engagés'!L181,\"\")","v":""},0]
[177,{"$f":"IF('liste engagés'!$G182=9,'liste engagés'!A182,\"\")","v":""},{"$f":"IF('liste engagés'!$G182=9,'liste engagés'!B182,\"\")","v":""},{"$f":"IF('liste engagés'!$G182=9,'liste engagés'!C182,\"\")","v":""},{"$f":"IF('liste engagés'!$G182=9,'liste engagés'!D182,\"\")","v":""},{"$f":"IF('liste engagés'!$G182=9,'liste engagés'!E182,\"\")","v":""},{"$f":"IF('liste engagés'!$G182=9,'liste engagés'!K182,\"\")","v":""},{"$f":"IF('liste engagés'!$G182=9,'liste engagés'!L182,\"\")","v":""},0]
[178,{"$f":"IF('liste engagés'!$G183=9,'liste engagés'!A183,\"\")","v":""},{"$f":"IF('liste engagés'!$G183=9,'liste engagés'!B183,\"\")","v":""},{"$f":"IF('liste engagés'!$G183=9,'liste engagés'!C183,\"\")","v":""},{"$f":"IF('liste engagés'!$G183=9,'liste engagés'!D183,\"\")","v":""},{"$f":"IF('liste engagés'!$G183=9,'liste engagés'!E183,\"\")","v":""},{"$f":"IF('liste engagés'!$G183=9,'liste engagés'!K183,\"\")","v":""},{"$f":"IF('liste engagés'!$G183=9,'liste engagés'!L183,\"\")","v":""},0]
[179,{"$f":"IF('liste engagés'!$G184=9,'liste engagés'!A184,\"\")","v":""},{"$f":"IF('liste engagés'!$G184=9,'liste engagés'!B184,\"\")","v":""},{"$f":"IF('liste engagés'!$G184=9,'liste engagés'!C184,\"\")","v":""},{"$f":"IF('liste engagés'!$G184=9,'liste engagés'!D184,\"\")","v":""},{"$f":"IF('liste engagés'!$G184=9,'liste engagés'!E184,\"\")","v":""},{"$f":"IF('liste engagés'!$G184=9,'liste engagés'!K184,\"\")","v":""},{"$f":"IF('liste engagés'!$G184=9,'liste engagés'!L184,\"\")","v":""},0]
[180,{"$f":"IF('liste engagés'!$G185=9,'liste engagés'!A185,\"\")","v":""},{"$f":"IF('liste engagés'!$G185=9,'liste engagés'!B185,\"\")","v":""},{"$f":"IF('liste engagés'!$G185=9,'liste engagés'!C185,\"\")","v":""},{"$f":"IF('liste engagés'!$G185=9,'liste engagés'!D185,\"\")","v":""},{"$f":"IF('liste engagés'!$G185=9,'liste engagés'!E185,\"\")","v":""},{"$f":"IF('liste engagés'!$G185=9,'liste engagés'!K185,\"\")","v":""},{"$f":"IF('liste engagés'!$G185=9,'liste engagés'!L185,\"\")","v":""},0]
[181,{"$f":"IF('liste engagés'!$G186=9,'liste engagés'!A186,\"\")","v":""},{"$f":"IF('liste engagés'!$G186=9,'liste engagés'!B186,\"\")","v":""},{"$f":"IF('liste engagés'!$G186=9,'liste engagés'!C186,\"\")","v":""},{"$f":"IF('liste engagés'!$G186=9,'liste engagés'!D186,\"\")","v":""},{"$f":"IF('liste engagés'!$G186=9,'liste engagés'!E186,\"\")","v":""},{"$f":"IF('liste engagés'!$G186=9,'liste engagés'!K186,\"\")","v":""},{"$f":"IF('liste engagés'!$G186=9,'liste engagés'!L186,\"\")","v":""},0]
[182,{"$f":"IF('liste engagés'!$G187=9,'liste engagés'!A187,\"\")","v":""},{"$f":"IF('liste engagés'!$G187=9,'liste engagés'!B187,\"\")","v":""},{"$f":"IF('liste engagés'!$G187=9,'liste engagés'!C187,\"\")","v":""},{"$f":"IF('liste engagés'!$G187=9,'liste engagés'!D187,\"\")","v":""},{"$f":"IF('liste engagés'!$G187=9,'liste engagés'!E187,\"\")","v":""},{"$f":"IF('liste engagés'!$G187=9,'liste engagés'!K187,\"\")","v":""},{"$f":"IF('liste engagés'!$G187=9,'liste engagés'!L187,\"\")","v":""},0]
[183,{"$f":"IF('liste engagés'!$G188=9,'liste engagés'!A188,\"\")","v":""},{"$f":"IF('liste engagés'!$G188=9,'liste engagés'!B188,\"\")","v":""},{"$f":"IF('liste engagés'!$G188=9,'liste engagés'!C188,\"\")","v":""},{"$f":"IF('liste engagés'!$G188=9,'liste engagés'!D188,\"\")","v":""},{"$f":"IF('liste engagés'!$G188=9,'liste engagés'!E188,\"\")","v":""},{"$f":"IF('liste engagés'!$G188=9,'liste engagés'!K188,\"\")","v":""},{"$f":"IF('liste engagés'!$G188=9,'liste engagés'!L188,\"\")","v":""},0]
[184,{"$f":"IF('liste engagés'!$G189=9,'liste engagés'!A189,\"\")","v":""},{"$f":"IF('liste engagés'!$G189=9,'liste engagés'!B189,\"\")","v":""},{"$f":"IF('liste engagés'!$G189=9,'liste engagés'!C189,\"\")","v":""},{"$f":"IF('liste engagés'!$G189=9,'liste engagés'!D189,\"\")","v":""},{"$f":"IF('liste engagés'!$G189=9,'liste engagés'!E189,\"\")","v":""},{"$f":"IF('liste engagés'!$G189=9,'liste engagés'!K189,\"\")","v":""},{"$f":"IF('liste engagés'!$G189=9,'liste engagés'!L189,\"\")","v":""},0]
[185,{"$f":"IF('liste engagés'!$G190=9,'liste engagés'!A190,\"\")","v":""},{"$f":"IF('liste engagés'!$G190=9,'liste engagés'!B190,\"\")","v":""},{"$f":"IF('liste engagés'!$G190=9,'liste engagés'!C190,\"\")","v":""},{"$f":"IF('liste engagés'!$G190=9,'liste engagés'!D190,\"\")","v":""},{"$f":"IF('liste engagés'!$G190=9,'liste engagés'!E190,\"\")","v":""},{"$f":"IF('liste engagés'!$G190=9,'liste engagés'!K190,\"\")","v":""},{"$f":"IF('liste engagés'!$G190=9,'liste engagés'!L190,\"\")","v":""},0]
[186,{"$f":"IF('liste engagés'!$G191=9,'liste engagés'!A191,\"\")","v":""},{"$f":"IF('liste engagés'!$G191=9,'liste engagés'!B191,\"\")","v":""},{"$f":"IF('liste engagés'!$G191=9,'liste engagés'!C191,\"\")","v":""},{"$f":"IF('liste engagés'!$G191=9,'liste engagés'!D191,\"\")","v":""},{"$f":"IF('liste engagés'!$G191=9,'liste engagés'!E191,\"\")","v":""},{"$f":"IF('liste engagés'!$G191=9,'liste engagés'!K191,\"\")","v":""},{"$f":"IF('liste engagés'!$G191=9,'liste engagés'!L191,\"\")","v":""},0]
[187,{"$f":"IF('liste engagés'!$G192=9,'liste engagés'!A192,\"\")","v":""},{"$f":"IF('liste engagés'!$G192=9,'liste engagés'!B192,\"\")","v":""},{"$f":"IF('liste engagés'!$G192=9,'liste engagés'!C192,\"\")","v":""},{"$f":"IF('liste engagés'!$G192=9,'liste engagés'!D192,\"\")","v":""},{"$f":"IF('liste engagés'!$G192=9,'liste engagés'!E192,\"\")","v":""},{"$f":"IF('liste engagés'!$G192=9,'liste engagés'!K192,\"\")","v":""},{"$f":"IF('liste engagés'!$G192=9,'liste engagés'!L192,\"\")","v":""},0]
[188,{"$f":"IF('liste engagés'!$G193=9,'liste engagés'!A193,\"\")","v":""},{"$f":"IF('liste engagés'!$G193=9,'liste engagés'!B193,\"\")","v":""},{"$f":"IF('liste engagés'!$G193=9,'liste engagés'!C193,\"\")","v":""},{"$f":"IF('liste engagés'!$G193=9,'liste engagés'!D193,\"\")","v":""},{"$f":"IF('liste engagés'!$G193=9,'liste engagés'!E193,\"\")","v":""},{"$f":"IF('liste engagés'!$G193=9,'liste engagés'!K193,\"\")","v":""},{"$f":"IF('liste engagés'!$G193=9,'liste engagés'!L193,\"\")","v":""},0]
[189,{"$f":"IF('liste engagés'!$G194=9,'liste engagés'!A194,\"\")","v":""},{"$f":"IF('liste engagés'!$G194=9,'liste engagés'!B194,\"\")","v":""},{"$f":"IF('liste engagés'!$G194=9,'liste engagés'!C194,\"\")","v":""},{"$f":"IF('liste engagés'!$G194=9,'liste engagés'!D194,\"\")","v":""},{"$f":"IF('liste engagés'!$G194=9,'liste engagés'!E194,\"\")","v":""},{"$f":"IF('liste engagés'!$G194=9,'liste engagés'!K194,\"\")","v":""},{"$f":"IF('liste engagés'!$G194=9,'liste engagés'!L194,\"\")","v":""},0]
[190,{"$f":"IF('liste engagés'!$G195=9,'liste engagés'!A195,\"\")","v":""},{"$f":"IF('liste engagés'!$G195=9,'liste engagés'!B195,\"\")","v":""},{"$f":"IF('liste engagés'!$G195=9,'liste engagés'!C195,\"\")","v":""},{"$f":"IF('liste engagés'!$G195=9,'liste engagés'!D195,\"\")","v":""},{"$f":"IF('liste engagés'!$G195=9,'liste engagés'!E195,\"\")","v":""},{"$f":"IF('liste engagés'!$G195=9,'liste engagés'!K195,\"\")","v":""},{"$f":"IF('liste engagés'!$G195=9,'liste engagés'!L195,\"\")","v":""},0]
[191,{"$f":"IF('liste engagés'!$G196=9,'liste engagés'!A196,\"\")","v":""},{"$f":"IF('liste engagés'!$G196=9,'liste engagés'!B196,\"\")","v":""},{"$f":"IF('liste engagés'!$G196=9,'liste engagés'!C196,\"\")","v":""},{"$f":"IF('liste engagés'!$G196=9,'liste engagés'!D196,\"\")","v":""},{"$f":"IF('liste engagés'!$G196=9,'liste engagés'!E196,\"\")","v":""},{"$f":"IF('liste engagés'!$G196=9,'liste engagés'!K196,\"\")","v":""},{"$f":"IF('liste engagés'!$G196=9,'liste engagés'!L196,\"\")","v":""},0]
[192,{"$f":"IF('liste engagés'!$G197=9,'liste engagés'!A197,\"\")","v":""},{"$f":"IF('liste engagés'!$G197=9,'liste engagés'!B197,\"\")","v":""},{"$f":"IF('liste engagés'!$G197=9,'liste engagés'!C197,\"\")","v":""},{"$f":"IF('liste engagés'!$G197=9,'liste engagés'!D197,\"\")","v":""},{"$f":"IF('liste engagés'!$G197=9,'liste engagés'!E197,\"\")","v":""},{"$f":"IF('liste engagés'!$G197=9,'liste engagés'!K197,\"\")","v":""},{"$f":"IF('liste engagés'!$G197=9,'liste engagés'!L197,\"\")","v":""},0]
[193,{"$f":"IF('liste engagés'!$G198=9,'liste engagés'!A198,\"\")","v":""},{"$f":"IF('liste engagés'!$G198=9,'liste engagés'!B198,\"\")","v":""},{"$f":"IF('liste engagés'!$G198=9,'liste engagés'!C198,\"\")","v":""},{"$f":"IF('liste engagés'!$G198=9,'liste engagés'!D198,\"\")","v":""},{"$f":"IF('liste engagés'!$G198=9,'liste engagés'!E198,\"\")","v":""},{"$f":"IF('liste engagés'!$G198=9,'liste engagés'!K198,\"\")","v":""},{"$f":"IF('liste engagés'!$G198=9,'liste engagés'!L198,\"\")","v":""},{"$f":"+IF(C199=\"\",0,1)","v":0}]
[{"$f":"+A199+1","v":194},{"$f":"IF('liste engagés'!$G199=9,'liste engagés'!A199,\"\")","v":""},{"$f":"IF('liste engagés'!$G199=9,'liste engagés'!B199,\"\")","v":""},{"$f":"IF('liste engagés'!$G199=9,'liste engagés'!C199,\"\")","v":""},{"$f":"IF('liste engagés'!$G199=9,'liste engagés'!D199,\"\")","v":""},{"$f":"IF('liste engagés'!$G199=9,'liste engagés'!E199,\"\")","v":""},{"$f":"IF('liste engagés'!$G199=9,'liste engagés'!K199,\"\")","v":""},{"$f":"IF('liste engagés'!$G199=9,'liste engagés'!L199,\"\")","v":""},0]
[195,{"$f":"IF('liste engagés'!$G200=9,'liste engagés'!A200,\"\")","v":""},{"$f":"IF('liste engagés'!$G200=9,'liste engagés'!B200,\"\")","v":""},{"$f":"IF('liste engagés'!$G200=9,'liste engagés'!C200,\"\")","v":""},{"$f":"IF('liste engagés'!$G200=9,'liste engagés'!D200,\"\")","v":""},{"$f":"IF('liste engagés'!$G200=9,'liste engagés'!E200,\"\")","v":""},{"$f":"IF('liste engagés'!$G200=9,'liste engagés'!K200,\"\")","v":""},{"$f":"IF('liste engagés'!$G200=9,'liste engagés'!L200,\"\")","v":""},0]
[196,{"$f":"IF('liste engagés'!$G201=9,'liste engagés'!A201,\"\")","v":""},{"$f":"IF('liste engagés'!$G201=9,'liste engagés'!B201,\"\")","v":""},{"$f":"IF('liste engagés'!$G201=9,'liste engagés'!C201,\"\")","v":""},{"$f":"IF('liste engagés'!$G201=9,'liste engagés'!D201,\"\")","v":""},{"$f":"IF('liste engagés'!$G201=9,'liste engagés'!E201,\"\")","v":""},{"$f":"IF('liste engagés'!$G201=9,'liste engagés'!K201,\"\")","v":""},{"$f":"IF('liste engagés'!$G201=9,'liste engagés'!L201,\"\")","v":""},0]
[197,{"$f":"IF('liste engagés'!$G202=9,'liste engagés'!A202,\"\")","v":""},{"$f":"IF('liste engagés'!$G202=9,'liste engagés'!B202,\"\")","v":""},{"$f":"IF('liste engagés'!$G202=9,'liste engagés'!C202,\"\")","v":""},{"$f":"IF('liste engagés'!$G202=9,'liste engagés'!D202,\"\")","v":""},{"$f":"IF('liste engagés'!$G202=9,'liste engagés'!E202,\"\")","v":""},{"$f":"IF('liste engagés'!$G202=9,'liste engagés'!K202,\"\")","v":""},{"$f":"IF('liste engagés'!$G202=9,'liste engagés'!L202,\"\")","v":""},0]
[198,{"$f":"IF('liste engagés'!$G203=9,'liste engagés'!A203,\"\")","v":""},{"$f":"IF('liste engagés'!$G203=9,'liste engagés'!B203,\"\")","v":""},{"$f":"IF('liste engagés'!$G203=9,'liste engagés'!C203,\"\")","v":""},{"$f":"IF('liste engagés'!$G203=9,'liste engagés'!D203,\"\")","v":""},{"$f":"IF('liste engagés'!$G203=9,'liste engagés'!E203,\"\")","v":""},{"$f":"IF('liste engagés'!$G203=9,'liste engagés'!K203,\"\")","v":""},{"$f":"IF('liste engagés'!$G203=9,'liste engagés'!L203,\"\")","v":""},0]
[199,{"$f":"IF('liste engagés'!$G204=9,'liste engagés'!A204,\"\")","v":""},{"$f":"IF('liste engagés'!$G204=9,'liste engagés'!B204,\"\")","v":""},{"$f":"IF('liste engagés'!$G204=9,'liste engagés'!C204,\"\")","v":""},{"$f":"IF('liste engagés'!$G204=9,'liste engagés'!D204,\"\")","v":""},{"$f":"IF('liste engagés'!$G204=9,'liste engagés'!E204,\"\")","v":""},{"$f":"IF('liste engagés'!$G204=9,'liste engagés'!K204,\"\")","v":""},{"$f":"IF('liste engagés'!$G204=9,'liste engagés'!L204,\"\")","v":""},0]
[200,{"$f":"IF('liste engagés'!$G205=9,'liste engagés'!A205,\"\")","v":""},{"$f":"IF('liste engagés'!$G205=9,'liste engagés'!B205,\"\")","v":""},{"$f":"IF('liste engagés'!$G205=9,'liste engagés'!C205,\"\")","v":""},{"$f":"IF('liste engagés'!$G205=9,'liste engagés'!D205,\"\")","v":""},{"$f":"IF('liste engagés'!$G205=9,'liste engagés'!E205,\"\")","v":""},{"$f":"IF('liste engagés'!$G205=9,'liste engagés'!K205,\"\")","v":""},{"$f":"IF('liste engagés'!$G205=9,'liste engagés'!L205,\"\")","v":""},0]
[201,{"$f":"IF('liste engagés'!$G206=9,'liste engagés'!A206,\"\")","v":""},{"$f":"IF('liste engagés'!$G206=9,'liste engagés'!B206,\"\")","v":""},{"$f":"IF('liste engagés'!$G206=9,'liste engagés'!C206,\"\")","v":""},{"$f":"IF('liste engagés'!$G206=9,'liste engagés'!D206,\"\")","v":""},{"$f":"IF('liste engagés'!$G206=9,'liste engagés'!E206,\"\")","v":""},{"$f":"IF('liste engagés'!$G206=9,'liste engagés'!K206,\"\")","v":""},{"$f":"IF('liste engagés'!$G206=9,'liste engagés'!L206,\"\")","v":""},0]
[202,{"$f":"IF('liste engagés'!$G207=9,'liste engagés'!A207,\"\")","v":""},{"$f":"IF('liste engagés'!$G207=9,'liste engagés'!B207,\"\")","v":""},{"$f":"IF('liste engagés'!$G207=9,'liste engagés'!C207,\"\")","v":""},{"$f":"IF('liste engagés'!$G207=9,'liste engagés'!D207,\"\")","v":""},{"$f":"IF('liste engagés'!$G207=9,'liste engagés'!E207,\"\")","v":""},{"$f":"IF('liste engagés'!$G207=9,'liste engagés'!K207,\"\")","v":""},{"$f":"IF('liste engagés'!$G207=9,'liste engagés'!L207,\"\")","v":""},0]
[203,{"$f":"IF('liste engagés'!$G208=9,'liste engagés'!A208,\"\")","v":""},{"$f":"IF('liste engagés'!$G208=9,'liste engagés'!B208,\"\")","v":""},{"$f":"IF('liste engagés'!$G208=9,'liste engagés'!C208,\"\")","v":""},{"$f":"IF('liste engagés'!$G208=9,'liste engagés'!D208,\"\")","v":""},{"$f":"IF('liste engagés'!$G208=9,'liste engagés'!E208,\"\")","v":""},{"$f":"IF('liste engagés'!$G208=9,'liste engagés'!K208,\"\")","v":""},{"$f":"IF('liste engagés'!$G208=9,'liste engagés'!L208,\"\")","v":""},0]
[204,{"$f":"IF('liste engagés'!$G209=9,'liste engagés'!A209,\"\")","v":""},{"$f":"IF('liste engagés'!$G209=9,'liste engagés'!B209,\"\")","v":""},{"$f":"IF('liste engagés'!$G209=9,'liste engagés'!C209,\"\")","v":""},{"$f":"IF('liste engagés'!$G209=9,'liste engagés'!D209,\"\")","v":""},{"$f":"IF('liste engagés'!$G209=9,'liste engagés'!E209,\"\")","v":""},{"$f":"IF('liste engagés'!$G209=9,'liste engagés'!K209,\"\")","v":""},{"$f":"IF('liste engagés'!$G209=9,'liste engagés'!L209,\"\")","v":""},0]
[205,{"$f":"IF('liste engagés'!$G210=9,'liste engagés'!A210,\"\")","v":""},{"$f":"IF('liste engagés'!$G210=9,'liste engagés'!B210,\"\")","v":""},{"$f":"IF('liste engagés'!$G210=9,'liste engagés'!C210,\"\")","v":""},{"$f":"IF('liste engagés'!$G210=9,'liste engagés'!D210,\"\")","v":""},{"$f":"IF('liste engagés'!$G210=9,'liste engagés'!E210,\"\")","v":""},{"$f":"IF('liste engagés'!$G210=9,'liste engagés'!K210,\"\")","v":""},{"$f":"IF('liste engagés'!$G210=9,'liste engagés'!L210,\"\")","v":""},0]
[206,{"$f":"IF('liste engagés'!$G211=9,'liste engagés'!A211,\"\")","v":""},{"$f":"IF('liste engagés'!$G211=9,'liste engagés'!B211,\"\")","v":""},{"$f":"IF('liste engagés'!$G211=9,'liste engagés'!C211,\"\")","v":""},{"$f":"IF('liste engagés'!$G211=9,'liste engagés'!D211,\"\")","v":""},{"$f":"IF('liste engagés'!$G211=9,'liste engagés'!E211,\"\")","v":""},{"$f":"IF('liste engagés'!$G211=9,'liste engagés'!K211,\"\")","v":""},{"$f":"IF('liste engagés'!$G211=9,'liste engagés'!L211,\"\")","v":""},0]
[207,{"$f":"IF('liste engagés'!$G212=9,'liste engagés'!A212,\"\")","v":""},{"$f":"IF('liste engagés'!$G212=9,'liste engagés'!B212,\"\")","v":""},{"$f":"IF('liste engagés'!$G212=9,'liste engagés'!C212,\"\")","v":""},{"$f":"IF('liste engagés'!$G212=9,'liste engagés'!D212,\"\")","v":""},{"$f":"IF('liste engagés'!$G212=9,'liste engagés'!E212,\"\")","v":""},{"$f":"IF('liste engagés'!$G212=9,'liste engagés'!K212,\"\")","v":""},{"$f":"IF('liste engagés'!$G212=9,'liste engagés'!L212,\"\")","v":""},0]
[208,{"$f":"IF('liste engagés'!$G213=9,'liste engagés'!A213,\"\")","v":""},{"$f":"IF('liste engagés'!$G213=9,'liste engagés'!B213,\"\")","v":""},{"$f":"IF('liste engagés'!$G213=9,'liste engagés'!C213,\"\")","v":""},{"$f":"IF('liste engagés'!$G213=9,'liste engagés'!D213,\"\")","v":""},{"$f":"IF('liste engagés'!$G213=9,'liste engagés'!E213,\"\")","v":""},{"$f":"IF('liste engagés'!$G213=9,'liste engagés'!K213,\"\")","v":""},{"$f":"IF('liste engagés'!$G213=9,'liste engagés'!L213,\"\")","v":""},0]
[209,{"$f":"IF('liste engagés'!$G214=9,'liste engagés'!A214,\"\")","v":""},{"$f":"IF('liste engagés'!$G214=9,'liste engagés'!B214,\"\")","v":""},{"$f":"IF('liste engagés'!$G214=9,'liste engagés'!C214,\"\")","v":""},{"$f":"IF('liste engagés'!$G214=9,'liste engagés'!D214,\"\")","v":""},{"$f":"IF('liste engagés'!$G214=9,'liste engagés'!E214,\"\")","v":""},{"$f":"IF('liste engagés'!$G214=9,'liste engagés'!K214,\"\")","v":""},{"$f":"IF('liste engagés'!$G214=9,'liste engagés'!L214,\"\")","v":""},0]
[210,{"$f":"IF('liste engagés'!$G215=9,'liste engagés'!A215,\"\")","v":""},{"$f":"IF('liste engagés'!$G215=9,'liste engagés'!B215,\"\")","v":""},{"$f":"IF('liste engagés'!$G215=9,'liste engagés'!C215,\"\")","v":""},{"$f":"IF('liste engagés'!$G215=9,'liste engagés'!D215,\"\")","v":""},{"$f":"IF('liste engagés'!$G215=9,'liste engagés'!E215,\"\")","v":""},{"$f":"IF('liste engagés'!$G215=9,'liste engagés'!K215,\"\")","v":""},{"$f":"IF('liste engagés'!$G215=9,'liste engagés'!L215,\"\")","v":""},0]
[null,null,null,null,null,null,null,null,{"$f":"SUM(I7:I216)","v":14}]

{"sheet":"cat10","index":13,"n_rows":217,"n_cols":10,"rows_kept":217,"cut":false,"hidden":false,"merged":[]}
[{"$f":"+MENU!A1","v":"CHRONO DES LIMOUCHES "},null,null,null,null,null,{"$f":"+MENU!I1","v":"EDITION"},{"$f":"+MENU!J1","v":2018}]
[null,null,null,null,null,null,null,null,"code cat",10]
["CLASSEMENT :",null,{"$f":"+IF(J2=\"\",\"\",VLOOKUP($J$2,Catégories!B3:D17,3))","v":"Féminines"}]
[]
[]
[null,"N°de DOSSARD","Nom ","Prénom","Club","Fédération","Temps","Moyenne"]
[1,{"$f":"IF('liste engagés'!$G112=10,'liste engagés'!A112,\"\")","v":107},{"$f":"IF('liste engagés'!$G112=10,'liste engagés'!B112,\"\")","v":"MARRONE"},{"$f":"IF('liste engagés'!$G112=10,'liste engagés'!C112,\"\")","v":"AMELIE"},{"$f":"IF('liste engagés'!$G112=10,'liste engagés'!D112,\"\")","v":"FONTANIL"},{"$f":"IF('liste engagés'!$G112=10,'liste engagés'!E112,\"\")","v":"UFOLEP"},{"$f":"IF('liste engagés'!$G112=10,'liste engagés'!K112,\"\")","v":2.9374999999994045E-2},{"$f":"IF('liste engagés'!$G112=10,'liste engagés'!L112,\"\")","v":16.170212765960727},{"$f":"+IF(C7=\"\",0,1)","v":1}]
[{"$f":"+A7+1","v":2},{"$f":"IF('liste engagés'!$G138=10,'liste engagés'!A138,\"\")","v":133},{"$f":"IF('liste engagés'!$G138=10,'liste engagés'!B138,\"\")","v":"DEBANNE"},{"$f":"IF('liste engagés'!$G138=10,'liste engagés'!C138,\"\")","v":"CAROLE"},{"$f":"IF('liste engagés'!$G138=10,'liste engagés'!D138,\"\")","v":"UC PIERRELATTE"},{"$f":"IF('liste engagés'!$G138=10,'liste engagés'!E138,\"\")","v":"FSGT"},{"$f":"IF('liste engagés'!$G138=10,'liste engagés'!K138,\"\")","v":3.8275462962955642E-2},{"$f":"IF('liste engagés'!$G138=10,'liste engagés'!L138,\"\")","v":12.410039310555746},1]
[3,{"$f":"IF('liste engagés'!$G92=10,'liste engagés'!A92,\"\")","v":87},{"$f":"IF('liste engagés'!$G92=10,'liste engagés'!B92,\"\")","v":"GUIBOUD"},{"$f":"IF('liste engagés'!$G92=10,'liste engagés'!C92,\"\")","v":"ELODIE"},{"$f":"IF('liste engagés'!$G92=10,'liste engagés'!D92,\"\")","v":"SC BLV"},{"$f":"IF('liste engagés'!$G92=10,'liste engagés'!E92,\"\")","v":"FFC"},{"$f":"IF('liste engagés'!$G92=10,'liste engagés'!K92,\"\")","v":4.0347222222217483E-2},{"$f":"IF('liste engagés'!$G92=10,'liste engagés'!L92,\"\")","v":11.77280550774665},1]
[4,{"$f":"IF('liste engagés'!$G96=10,'liste engagés'!A96,\"\")","v":91},{"$f":"IF('liste engagés'!$G96=10,'liste engagés'!B96,\"\")","v":"BUATOIS"},{"$f":"IF('liste engagés'!$G96=10,'liste engagés'!C96,\"\")","v":"MURIELLE"},{"$f":"IF('liste engagés'!$G96=10,'liste engagés'!D96,\"\")","v":"VC PIERRELATTE"},{"$f":"IF('liste engagés'!$G96=10,'liste engagés'!E96,\"\")","v":"FSGT"},{"$f":"IF('liste engagés'!$G96=10,'liste engagés'!K96,\"\")","v":4.4976851851846855E-2},{"$f":"IF('liste engagés'!$G96=10,'liste engagés'!L96,\"\")","v":10.560988162636274},1]
[5,{"$f":"IF('liste engagés'!$G6=10,'liste engagés'!A6,\"\")","v":""},{"$f":"IF('liste engagés'!$G6=10,'liste engagés'!B6,\"\")","v":""},{"$f":"IF('liste engagés'!$G6=10,'liste engagés'!C6,\"\")","v":""},{"$f":"IF('liste engagés'!$G6=10,'liste engagés'!D6,\"\")","v":""},{"$f":"IF('liste engagés'!$G6=10,'liste engagés'!E6,\"\")","v":""},{"$f":"IF('liste engagés'!$G6=10,'liste engagés'!K6,\"\")","v":""},{"$f":"IF('liste engagés'!$G6=10,'liste engagés'!L6,\"\")","v":""},0]
[6,{"$f":"IF('liste engagés'!$G7=10,'liste engagés'!A7,\"\")","v":""},{"$f":"IF('liste engagés'!$G7=10,'liste engagés'!B7,\"\")","v":""},{"$f":"IF('liste engagés'!$G7=10,'liste engagés'!C7,\"\")","v":""},{"$f":"IF('liste engagés'!$G7=10,'liste engagés'!D7,\"\")","v":""},{"$f":"IF('liste engagés'!$G7=10,'liste engagés'!E7,\"\")","v":""},{"$f":"IF('liste engagés'!$G7=10,'liste engagés'!K7,\"\")","v":""},{"$f":"IF('liste engagés'!$G7=10,'liste engagés'!L7,\"\")","v":""},0]
[7,{"$f":"IF('liste engagés'!$G8=10,'liste engagés'!A8,\"\")","v":""},{"$f":"IF('liste engagés'!$G8=10,'liste engagés'!B8,\"\")","v":""},{"$f":"IF('liste engagés'!$G8=10,'liste engagés'!C8,\"\")","v":""},{"$f":"IF('liste engagés'!$G8=10,'liste engagés'!D8,\"\")","v":""},{"$f":"IF('liste engagés'!$G8=10,'liste engagés'!E8,\"\")","v":""},{"$f":"IF('liste engagés'!$G8=10,'liste engagés'!K8,\"\")","v":""},{"$f":"IF('liste engagés'!$G8=10,'liste engagés'!L8,\"\")","v":""},0]
[8,{"$f":"IF('liste engagés'!$G9=10,'liste engagés'!A9,\"\")","v":""},{"$f":"IF('liste engagés'!$G9=10,'liste engagés'!B9,\"\")","v":""},{"$f":"IF('liste engagés'!$G9=10,'liste engagés'!C9,\"\")","v":""},{"$f":"IF('liste engagés'!$G9=10,'liste engagés'!D9,\"\")","v":""},{"$f":"IF('liste engagés'!$G9=10,'liste engagés'!E9,\"\")","v":""},{"$f":"IF('liste engagés'!$G9=10,'liste engagés'!K9,\"\")","v":""},{"$f":"IF('liste engagés'!$G9=10,'liste engagés'!L9,\"\")","v":""},0]
[9,{"$f":"IF('liste engagés'!$G10=10,'liste engagés'!A10,\"\")","v":""},{"$f":"IF('liste engagés'!$G10=10,'liste engagés'!B10,\"\")","v":""},{"$f":"IF('liste engagés'!$G10=10,'liste engagés'!C10,\"\")","v":""},{"$f":"IF('liste engagés'!$G10=10,'liste engagés'!D10,\"\")","v":""},{"$f":"IF('liste engagés'!$G10=10,'liste engagés'!E10,\"\")","v":""},{"$f":"IF('liste engagés'!$G10=10,'liste engagés'!K10,\"\")","v":""},{"$f":"IF('liste engagés'!$G10=10,'liste engagés'!L10,\"\")","v":""},0]
[10,{"$f":"IF('liste engagés'!$G11=10,'liste engagés'!A11,\"\")","v":""},{"$f":"IF('liste engagés'!$G11=10,'liste engagés'!B11,\"\")","v":""},{"$f":"IF('liste engagés'!$G11=10,'liste engagés'!C11,\"\")","v":""},{"$f":"IF('liste engagés'!$G11=10,'liste engagés'!D11,\"\")","v":""},{"$f":"IF('liste engagés'!$G11=10,'liste engagés'!E11,\"\")","v":""},{"$f":"IF('liste engagés'!$G11=10,'liste engagés'!K11,\"\")","v":""},{"$f":"IF('liste engagés'!$G11=10,'liste engagés'!L11,\"\")","v":""},0]
[11,{"$f":"IF('liste engagés'!$G12=10,'liste engagés'!A12,\"\")","v":""},{"$f":"IF('liste engagés'!$G12=10,'liste engagés'!B12,\"\")","v":""},{"$f":"IF('liste engagés'!$G12=10,'liste engagés'!C12,\"\")","v":""},{"$f":"IF('liste engagés'!$G12=10,'liste engagés'!D12,\"\")","v":""},{"$f":"IF('liste engagés'!$G12=10,'liste engagés'!E12,\"\")","v":""},{"$f":"IF('liste engagés'!$G12=10,'liste engagés'!K12,\"\")","v":""},{"$f":"IF('liste engagés'!$G12=10,'liste engagés'!L12,\"\")","v":""},0]
[12,{"$f":"IF('liste engagés'!$G13=10,'liste engagés'!A13,\"\")","v":""},{"$f":"IF('liste engagés'!$G13=10,'liste engagés'!B13,\"\")","v":""},{"$f":"IF('liste engagés'!$G13=10,'liste engagés'!C13,\"\")","v":""},{"$f":"IF('liste engagés'!$G13=10,'liste engagés'!D13,\"\")","v":""},{"$f":"IF('liste engagés'!$G13=10,'liste engagés'!E13,\"\")","v":""},{"$f":"IF('liste engagés'!$G13=10,'liste engagés'!K13,\"\")","v":""},{"$f":"IF('liste engagés'!$G13=10,'liste engagés'!L13,\"\")","v":""},0]
[13,{"$f":"IF('liste engagés'!$G14=10,'liste engagés'!A14,\"\")","v":""},{"$f":"IF('liste engagés'!$G14=10,'liste engagés'!B14,\"\")","v":""},{"$f":"IF('liste engagés'!$G14=10,'liste engagés'!C14,\"\")","v":""},{"$f":"IF('liste engagés'!$G14=10,'liste engagés'!D14,\"\")","v":""},{"$f":"IF('liste engagés'!$G14=10,'liste engagés'!E14,\"\")","v":""},{"$f":"IF('liste engagés'!$G14=10,'liste engagés'!K14,\"\")","v":""},{"$f":"IF('liste engagés'!$G14=10,'liste engagés'!L14,\"\")","v":""},0]
[14,{"$f":"IF('liste engagés'!$G15=10,'liste engagés'!A15,\"\")","v":""},{"$f":"IF('liste engagés'!$G15=10,'liste engagés'!B15,\"\")","v":""},{"$f":"IF('liste engagés'!$G15=10,'liste engagés'!C15,\"\")","v":""},{"$f":"IF('liste engagés'!$G15=10,'liste engagés'!D15,\"\")","v":""},{"$f":"IF('liste engagés'!$G15=10,'liste engagés'!E15,\"\")","v":""},{"$f":"IF('liste engagés'!$G15=10,'liste engagés'!K15,\"\")","v":""},{"$f":"IF('liste engagés'!$G15=10,'liste engagés'!L15,\"\")","v":""},0]
[15,{"$f":"IF('liste engagés'!$G16=10,'liste engagés'!A16,\"\")","v":""},{"$f":"IF('liste engagés'!$G16=10,'liste engagés'!B16,\"\")","v":""},{"$f":"IF('liste engagés'!$G16=10,'liste engagés'!C16,\"\")","v":""},{"$f":"IF('liste engagés'!$G16=10,'liste engagés'!D16,\"\")","v":""},{"$f":"IF('liste engagés'!$G16=10,'liste engagés'!E16,\"\")","v":""},{"$f":"IF('liste engagés'!$G16=10,'liste engagés'!K16,\"\")","v":""},{"$f":"IF('liste engagés'!$G16=10,'liste engagés'!L16,\"\")","v":""},0]
[16,{"$f":"IF('liste engagés'!$G17=10,'liste engagés'!A17,\"\")","v":""},{"$f":"IF('liste engagés'!$G17=10,'liste engagés'!B17,\"\")","v":""},{"$f":"IF('liste engagés'!$G17=10,'liste engagés'!C17,\"\")","v":""},{"$f":"IF('liste engagés'!$G17=10,'liste engagés'!D17,\"\")","v":""},{"$f":"IF('liste engagés'!$G17=10,'liste engagés'!E17,\"\")","v":""},{"$f":"IF('liste engagés'!$G17=10,'liste engagés'!K17,\"\")","v":""},{"$f":"IF('liste engagés'!$G17=10,'liste engagés'!L17,\"\")","v":""},0]
[17,{"$f":"IF('liste engagés'!$G18=10,'liste engagés'!A18,\"\")","v":""},{"$f":"IF('liste engagés'!$G18=10,'liste engagés'!B18,\"\")","v":""},{"$f":"IF('liste engagés'!$G18=10,'liste engagés'!C18,\"\")","v":""},{"$f":"IF('liste engagés'!$G18=10,'liste engagés'!D18,\"\")","v":""},{"$f":"IF('liste engagés'!$G18=10,'liste engagés'!E18,\"\")","v":""},{"$f":"IF('liste engagés'!$G18=10,'liste engagés'!K18,\"\")","v":""},{"$f":"IF('liste engagés'!$G18=10,'liste engagés'!L18,\"\")","v":""},0]
[18,{"$f":"IF('liste engagés'!$G19=10,'liste engagés'!A19,\"\")","v":""},{"$f":"IF('liste engagés'!$G19=10,'liste engagés'!B19,\"\")","v":""},{"$f":"IF('liste engagés'!$G19=10,'liste engagés'!C19,\"\")","v":""},{"$f":"IF('liste engagés'!$G19=10,'liste engagés'!D19,\"\")","v":""},{"$f":"IF('liste engagés'!$G19=10,'liste engagés'!E19,\"\")","v":""},{"$f":"IF('liste engagés'!$G19=10,'liste engagés'!K19,\"\")","v":""},{"$f":"IF('liste engagés'!$G19=10,'liste engagés'!L19,\"\")","v":""},0]
[19,{"$f":"IF('liste engagés'!$G20=10,'liste engagés'!A20,\"\")","v":""},{"$f":"IF('liste engagés'!$G20=10,'liste engagés'!B20,\"\")","v":""},{"$f":"IF('liste engagés'!$G20=10,'liste engagés'!C20,\"\")","v":""},{"$f":"IF('liste engagés'!$G20=10,'liste engagés'!D20,\"\")","v":""},{"$f":"IF('liste engagés'!$G20=10,'liste engagés'!E20,\"\")","v":""},{"$f":"IF('liste engagés'!$G20=10,'liste engagés'!K20,\"\")","v":""},{"$f":"IF('liste engagés'!$G20=10,'liste engagés'!L20,\"\")","v":""},0]
[20,{"$f":"IF('liste engagés'!$G21=10,'liste engagés'!A21,\"\")","v":""},{"$f":"IF('liste engagés'!$G21=10,'liste engagés'!B21,\"\")","v":""},{"$f":"IF('liste engagés'!$G21=10,'liste engagés'!C21,\"\")","v":""},{"$f":"IF('liste engagés'!$G21=10,'liste engagés'!D21,\"\")","v":""},{"$f":"IF('liste engagés'!$G21=10,'liste engagés'!E21,\"\")","v":""},{"$f":"IF('liste engagés'!$G21=10,'liste engagés'!K21,\"\")","v":""},{"$f":"IF('liste engagés'!$G21=10,'liste engagés'!L21,\"\")","v":""},0]
[21,{"$f":"IF('liste engagés'!$G22=10,'liste engagés'!A22,\"\")","v":""},{"$f":"IF('liste engagés'!$G22=10,'liste engagés'!B22,\"\")","v":""},{"$f":"IF('liste engagés'!$G22=10,'liste engagés'!C22,\"\")","v":""},{"$f":"IF('liste engagés'!$G22=10,'liste engagés'!D22,\"\")","v":""},{"$f":"IF('liste engagés'!$G22=10,'liste engagés'!E22,\"\")","v":""},{"$f":"IF('liste engagés'!$G22=10,'liste engagés'!K22,\"\")","v":""},{"$f":"IF('liste engagés'!$G22=10,'liste engagés'!L22,\"\")","v":""},0]
[22,{"$f":"IF('liste engagés'!$G23=10,'liste engagés'!A23,\"\")","v":""},{"$f":"IF('liste engagés'!$G23=10,'liste engagés'!B23,\"\")","v":""},{"$f":"IF('liste engagés'!$G23=10,'liste engagés'!C23,\"\")","v":""},{"$f":"IF('liste engagés'!$G23=10,'liste engagés'!D23,\"\")","v":""},{"$f":"IF('liste engagés'!$G23=10,'liste engagés'!E23,\"\")","v":""},{"$f":"IF('liste engagés'!$G23=10,'liste engagés'!K23,\"\")","v":""},{"$f":"IF('liste engagés'!$G23=10,'liste engagés'!L23,\"\")","v":""},0]
[23,{"$f":"IF('liste engagés'!$G24=10,'liste engagés'!A24,\"\")","v":""},{"$f":"IF('liste engagés'!$G24=10,'liste engagés'!B24,\"\")","v":""},{"$f":"IF('liste engagés'!$G24=10,'liste engagés'!C24,\"\")","v":""},{"$f":"IF('liste engagés'!$G24=10,'liste engagés'!D24,\"\")","v":""},{"$f":"IF('liste engagés'!$G24=10,'liste engagés'!E24,\"\")","v":""},{"$f":"IF('liste engagés'!$G24=10,'liste engagés'!K24,\"\")","v":""},{"$f":"IF('liste engagés'!$G24=10,'liste engagés'!L24,\"\")","v":""},0]
[24,{"$f":"IF('liste engagés'!$G25=10,'liste engagés'!A25,\"\")","v":""},{"$f":"IF('liste engagés'!$G25=10,'liste engagés'!B25,\"\")","v":""},{"$f":"IF('liste engagés'!$G25=10,'liste engagés'!C25,\"\")","v":""},{"$f":"IF('liste engagés'!$G25=10,'liste engagés'!D25,\"\")","v":""},{"$f":"IF('liste engagés'!$G25=10,'liste engagés'!E25,\"\")","v":""},{"$f":"IF('liste engagés'!$G25=10,'liste engagés'!K25,\"\")","v":""},{"$f":"IF('liste engagés'!$G25=10,'liste engagés'!L25,\"\")","v":""},0]
[25,{"$f":"IF('liste engagés'!$G26=10,'liste engagés'!A26,\"\")","v":""},{"$f":"IF('liste engagés'!$G26=10,'liste engagés'!B26,\"\")","v":""},{"$f":"IF('liste engagés'!$G26=10,'liste engagés'!C26,\"\")","v":""},{"$f":"IF('liste engagés'!$G26=10,'liste engagés'!D26,\"\")","v":""},{"$f":"IF('liste engagés'!$G26=10,'liste engagés'!E26,\"\")","v":""},{"$f":"IF('liste engagés'!$G26=10,'liste engagés'!K26,\"\")","v":""},{"$f":"IF('liste engagés'!$G26=10,'liste engagés'!L26,\"\")","v":""},0]
[26,{"$f":"IF('liste engagés'!$G27=10,'liste engagés'!A27,\"\")","v":""},{"$f":"IF('liste engagés'!$G27=10,'liste engagés'!B27,\"\")","v":""},{"$f":"IF('liste engagés'!$G27=10,'liste engagés'!C27,\"\")","v":""},{"$f":"IF('liste engagés'!$G27=10,'liste engagés'!D27,\"\")","v":""},{"$f":"IF('liste engagés'!$G27=10,'liste engagés'!E27,\"\")","v":""},{"$f":"IF('liste engagés'!$G27=10,'liste engagés'!K27,\"\")","v":""},{"$f":"IF('liste engagés'!$G27=10,'liste engagés'!L27,\"\")","v":""},0]
[27,{"$f":"IF('liste engagés'!$G28=10,'liste engagés'!A28,\"\")","v":""},{"$f":"IF('liste engagés'!$G28=10,'liste engagés'!B28,\"\")","v":""},{"$f":"IF('liste engagés'!$G28=10,'liste engagés'!C28,\"\")","v":""},{"$f":"IF('liste engagés'!$G28=10,'liste engagés'!D28,\"\")","v":""},{"$f":"IF('liste engagés'!$G28=10,'liste engagés'!E28,\"\")","v":""},{"$f":"IF('liste engagés'!$G28=10,'liste engagés'!K28,\"\")","v":""},{"$f":"IF('liste engagés'!$G28=10,'liste engagés'!L28,\"\")","v":""},0]
[28,{"$f":"IF('liste engagés'!$G29=10,'liste engagés'!A29,\"\")","v":""},{"$f":"IF('liste engagés'!$G29=10,'liste engagés'!B29,\"\")","v":""},{"$f":"IF('liste engagés'!$G29=10,'liste engagés'!C29,\"\")","v":""},{"$f":"IF('liste engagés'!$G29=10,'liste engagés'!D29,\"\")","v":""},{"$f":"IF('liste engagés'!$G29=10,'liste engagés'!E29,\"\")","v":""},{"$f":"IF('liste engagés'!$G29=10,'liste engagés'!K29,\"\")","v":""},{"$f":"IF('liste engagés'!$G29=10,'liste engagés'!L29,\"\")","v":""},0]
[29,{"$f":"IF('liste engagés'!$G30=10,'liste engagés'!A30,\"\")","v":""},{"$f":"IF('liste engagés'!$G30=10,'liste engagés'!B30,\"\")","v":""},{"$f":"IF('liste engagés'!$G30=10,'liste engagés'!C30,\"\")","v":""},{"$f":"IF('liste engagés'!$G30=10,'liste engagés'!D30,\"\")","v":""},{"$f":"IF('liste engagés'!$G30=10,'liste engagés'!E30,\"\")","v":""},{"$f":"IF('liste engagés'!$G30=10,'liste engagés'!K30,\"\")","v":""},{"$f":"IF('liste engagés'!$G30=10,'liste engagés'!L30,\"\")","v":""},0]
[30,{"$f":"IF('liste engagés'!$G31=10,'liste engagés'!A31,\"\")","v":""},{"$f":"IF('liste engagés'!$G31=10,'liste engagés'!B31,\"\")","v":""},{"$f":"IF('liste engagés'!$G31=10,'liste engagés'!C31,\"\")","v":""},{"$f":"IF('liste engagés'!$G31=10,'liste engagés'!D31,\"\")","v":""},{"$f":"IF('liste engagés'!$G31=10,'liste engagés'!E31,\"\")","v":""},{"$f":"IF('liste engagés'!$G31=10,'liste engagés'!K31,\"\")","v":""},{"$f":"IF('liste engagés'!$G31=10,'liste engagés'!L31,\"\")","v":""},0]
[31,{"$f":"IF('liste engagés'!$G32=10,'liste engagés'!A32,\"\")","v":""},{"$f":"IF('liste engagés'!$G32=10,'liste engagés'!B32,\"\")","v":""},{"$f":"IF('liste engagés'!$G32=10,'liste engagés'!C32,\"\")","v":""},{"$f":"IF('liste engagés'!$G32=10,'liste engagés'!D32,\"\")","v":""},{"$f":"IF('liste engagés'!$G32=10,'liste engagés'!E32,\"\")","v":""},{"$f":"IF('liste engagés'!$G32=10,'liste engagés'!K32,\"\")","v":""},{"$f":"IF('liste engagés'!$G32=10,'liste engagés'!L32,\"\")","v":""},0]
[32,{"$f":"IF('liste engagés'!$G33=10,'liste engagés'!A33,\"\")","v":""},{"$f":"IF('liste engagés'!$G33=10,'liste engagés'!B33,\"\")","v":""},{"$f":"IF('liste engagés'!$G33=10,'liste engagés'!C33,\"\")","v":""},{"$f":"IF('liste engagés'!$G33=10,'liste engagés'!D33,\"\")","v":""},{"$f":"IF('liste engagés'!$G33=10,'liste engagés'!E33,\"\")","v":""},{"$f":"IF('liste engagés'!$G33=10,'liste engagés'!K33,\"\")","v":""},{"$f":"IF('liste engagés'!$G33=10,'liste engagés'!L33,\"\")","v":""},0]
[33,{"$f":"IF('liste engagés'!$G34=10,'liste engagés'!A34,\"\")","v":""},{"$f":"IF('liste engagés'!$G34=10,'liste engagés'!B34,\"\")","v":""},{"$f":"IF('liste engagés'!$G34=10,'liste engagés'!C34,\"\")","v":""},{"$f":"IF('liste engagés'!$G34=10,'liste engagés'!D34,\"\")","v":""},{"$f":"IF('liste engagés'!$G34=10,'liste engagés'!E34,\"\")","v":""},{"$f":"IF('liste engagés'!$G34=10,'liste engagés'!K34,\"\")","v":""},{"$f":"IF('liste engagés'!$G34=10,'liste engagés'!L34,\"\")","v":""},0]
[34,{"$f":"IF('liste engagés'!$G35=10,'liste engagés'!A35,\"\")","v":""},{"$f":"IF('liste engagés'!$G35=10,'liste engagés'!B35,\"\")","v":""},{"$f":"IF('liste engagés'!$G35=10,'liste engagés'!C35,\"\")","v":""},{"$f":"IF('liste engagés'!$G35=10,'liste engagés'!D35,\"\")","v":""},{"$f":"IF('liste engagés'!$G35=10,'liste engagés'!E35,\"\")","v":""},{"$f":"IF('liste engagés'!$G35=10,'liste engagés'!K35,\"\")","v":""},{"$f":"IF('liste engagés'!$G35=10,'liste engagés'!L35,\"\")","v":""},0]
[35,{"$f":"IF('liste engagés'!$G36=10,'liste engagés'!A36,\"\")","v":""},{"$f":"IF('liste engagés'!$G36=10,'liste engagés'!B36,\"\")","v":""},{"$f":"IF('liste engagés'!$G36=10,'liste engagés'!C36,\"\")","v":""},{"$f":"IF('liste engagés'!$G36=10,'liste engagés'!D36,\"\")","v":""},{"$f":"IF('liste engagés'!$G36=10,'liste engagés'!E36,\"\")","v":""},{"$f":"IF('liste engagés'!$G36=10,'liste engagés'!K36,\"\")","v":""},{"$f":"IF('liste engagés'!$G36=10,'liste engagés'!L36,\"\")","v":""},0]
[36,{"$f":"IF('liste engagés'!$G37=10,'liste engagés'!A37,\"\")","v":""},{"$f":"IF('liste engagés'!$G37=10,'liste engagés'!B37,\"\")","v":""},{"$f":"IF('liste engagés'!$G37=10,'liste engagés'!C37,\"\")","v":""},{"$f":"IF('liste engagés'!$G37=10,'liste engagés'!D37,\"\")","v":""},{"$f":"IF('liste engagés'!$G37=10,'liste engagés'!E37,\"\")","v":""},{"$f":"IF('liste engagés'!$G37=10,'liste engagés'!K37,\"\")","v":""},{"$f":"IF('liste engagés'!$G37=10,'liste engagés'!L37,\"\")","v":""},0]
[37,{"$f":"IF('liste engagés'!$G38=10,'liste engagés'!A38,\"\")","v":""},{"$f":"IF('liste engagés'!$G38=10,'liste engagés'!B38,\"\")","v":""},{"$f":"IF('liste engagés'!$G38=10,'liste engagés'!C38,\"\")","v":""},{"$f":"IF('liste engagés'!$G38=10,'liste engagés'!D38,\"\")","v":""},{"$f":"IF('liste engagés'!$G38=10,'liste engagés'!E38,\"\")","v":""},{"$f":"IF('liste engagés'!$G38=10,'liste engagés'!K38,\"\")","v":""},{"$f":"IF('liste engagés'!$G38=10,'liste engagés'!L38,\"\")","v":""},0]
[38,{"$f":"IF('liste engagés'!$G39=10,'liste engagés'!A39,\"\")","v":""},{"$f":"IF('liste engagés'!$G39=10,'liste engagés'!B39,\"\")","v":""},{"$f":"IF('liste engagés'!$G39=10,'liste engagés'!C39,\"\")","v":""},{"$f":"IF('liste engagés'!$G39=10,'liste engagés'!D39,\"\")","v":""},{"$f":"IF('liste engagés'!$G39=10,'liste engagés'!E39,\"\")","v":""},{"$f":"IF('liste engagés'!$G39=10,'liste engagés'!K39,\"\")","v":""},{"$f":"IF('liste engagés'!$G39=10,'liste engagés'!L39,\"\")","v":""},0]
[39,{"$f":"IF('liste engagés'!$G40=10,'liste engagés'!A40,\"\")","v":""},{"$f":"IF('liste engagés'!$G40=10,'liste engagés'!B40,\"\")","v":""},{"$f":"IF('liste engagés'!$G40=10,'liste engagés'!C40,\"\")","v":""},{"$f":"IF('liste engagés'!$G40=10,'liste engagés'!D40,\"\")","v":""},{"$f":"IF('liste engagés'!$G40=10,'liste engagés'!E40,\"\")","v":""},{"$f":"IF('liste engagés'!$G40=10,'liste engagés'!K40,\"\")","v":""},{"$f":"IF('liste engagés'!$G40=10,'liste engagés'!L40,\"\")","v":""},0]
[40,{"$f":"IF('liste engagés'!$G41=10,'liste engagés'!A41,\"\")","v":""},{"$f":"IF('liste engagés'!$G41=10,'liste engagés'!B41,\"\")","v":""},{"$f":"IF('liste engagés'!$G41=10,'liste engagés'!C41,\"\")","v":""},{"$f":"IF('liste engagés'!$G41=10,'liste engagés'!D41,\"\")","v":""},{"$f":"IF('liste engagés'!$G41=10,'liste engagés'!E41,\"\")","v":""},{"$f":"IF('liste engagés'!$G41=10,'liste engagés'!K41,\"\")","v":""},{"$f":"IF('liste engagés'!$G41=10,'liste engagés'!L41,\"\")","v":""},0]
[41,{"$f":"IF('liste engagés'!$G42=10,'liste engagés'!A42,\"\")","v":""},{"$f":"IF('liste engagés'!$G42=10,'liste engagés'!B42,\"\")","v":""},{"$f":"IF('liste engagés'!$G42=10,'liste engagés'!C42,\"\")","v":""},{"$f":"IF('liste engagés'!$G42=10,'liste engagés'!D42,\"\")","v":""},{"$f":"IF('liste engagés'!$G42=10,'liste engagés'!E42,\"\")","v":""},{"$f":"IF('liste engagés'!$G42=10,'liste engagés'!K42,\"\")","v":""},{"$f":"IF('liste engagés'!$G42=10,'liste engagés'!L42,\"\")","v":""},0]
[42,{"$f":"IF('liste engagés'!$G43=10,'liste engagés'!A43,\"\")","v":""},{"$f":"IF('liste engagés'!$G43=10,'liste engagés'!B43,\"\")","v":""},{"$f":"IF('liste engagés'!$G43=10,'liste engagés'!C43,\"\")","v":""},{"$f":"IF('liste engagés'!$G43=10,'liste engagés'!D43,\"\")","v":""},{"$f":"IF('liste engagés'!$G43=10,'liste engagés'!E43,\"\")","v":""},{"$f":"IF('liste engagés'!$G43=10,'liste engagés'!K43,\"\")","v":""},{"$f":"IF('liste engagés'!$G43=10,'liste engagés'!L43,\"\")","v":""},0]
[43,{"$f":"IF('liste engagés'!$G44=10,'liste engagés'!A44,\"\")","v":""},{"$f":"IF('liste engagés'!$G44=10,'liste engagés'!B44,\"\")","v":""},{"$f":"IF('liste engagés'!$G44=10,'liste engagés'!C44,\"\")","v":""},{"$f":"IF('liste engagés'!$G44=10,'liste engagés'!D44,\"\")","v":""},{"$f":"IF('liste engagés'!$G44=10,'liste engagés'!E44,\"\")","v":""},{"$f":"IF('liste engagés'!$G44=10,'liste engagés'!K44,\"\")","v":""},{"$f":"IF('liste engagés'!$G44=10,'liste engagés'!L44,\"\")","v":""},0]
[44,{"$f":"IF('liste engagés'!$G45=10,'liste engagés'!A45,\"\")","v":""},{"$f":"IF('liste engagés'!$G45=10,'liste engagés'!B45,\"\")","v":""},{"$f":"IF('liste engagés'!$G45=10,'liste engagés'!C45,\"\")","v":""},{"$f":"IF('liste engagés'!$G45=10,'liste engagés'!D45,\"\")","v":""},{"$f":"IF('liste engagés'!$G45=10,'liste engagés'!E45,\"\")","v":""},{"$f":"IF('liste engagés'!$G45=10,'liste engagés'!K45,\"\")","v":""},{"$f":"IF('liste engagés'!$G45=10,'liste engagés'!L45,\"\")","v":""},0]
[45,{"$f":"IF('liste engagés'!$G46=10,'liste engagés'!A46,\"\")","v":""},{"$f":"IF('liste engagés'!$G46=10,'liste engagés'!B46,\"\")","v":""},{"$f":"IF('liste engagés'!$G46=10,'liste engagés'!C46,\"\")","v":""},{"$f":"IF('liste engagés'!$G46=10,'liste engagés'!D46,\"\")","v":""},{"$f":"IF('liste engagés'!$G46=10,'liste engagés'!E46,\"\")","v":""},{"$f":"IF('liste engagés'!$G46=10,'liste engagés'!K46,\"\")","v":""},{"$f":"IF('liste engagés'!$G46=10,'liste engagés'!L46,\"\")","v":""},0]
[46,{"$f":"IF('liste engagés'!$G47=10,'liste engagés'!A47,\"\")","v":""},{"$f":"IF('liste engagés'!$G47=10,'liste engagés'!B47,\"\")","v":""},{"$f":"IF('liste engagés'!$G47=10,'liste engagés'!C47,\"\")","v":""},{"$f":"IF('liste engagés'!$G47=10,'liste engagés'!D47,\"\")","v":""},{"$f":"IF('liste engagés'!$G47=10,'liste engagés'!E47,\"\")","v":""},{"$f":"IF('liste engagés'!$G47=10,'liste engagés'!K47,\"\")","v":""},{"$f":"IF('liste engagés'!$G47=10,'liste engagés'!L47,\"\")","v":""},0]
[47,{"$f":"IF('liste engagés'!$G48=10,'liste engagés'!A48,\"\")","v":""},{"$f":"IF('liste engagés'!$G48=10,'liste engagés'!B48,\"\")","v":""},{"$f":"IF('liste engagés'!$G48=10,'liste engagés'!C48,\"\")","v":""},{"$f":"IF('liste engagés'!$G48=10,'liste engagés'!D48,\"\")","v":""},{"$f":"IF('liste engagés'!$G48=10,'liste engagés'!E48,\"\")","v":""},{"$f":"IF('liste engagés'!$G48=10,'liste engagés'!K48,\"\")","v":""},{"$f":"IF('liste engagés'!$G48=10,'liste engagés'!L48,\"\")","v":""},0]
[48,{"$f":"IF('liste engagés'!$G49=10,'liste engagés'!A49,\"\")","v":""},{"$f":"IF('liste engagés'!$G49=10,'liste engagés'!B49,\"\")","v":""},{"$f":"IF('liste engagés'!$G49=10,'liste engagés'!C49,\"\")","v":""},{"$f":"IF('liste engagés'!$G49=10,'liste engagés'!D49,\"\")","v":""},{"$f":"IF('liste engagés'!$G49=10,'liste engagés'!E49,\"\")","v":""},{"$f":"IF('liste engagés'!$G49=10,'liste engagés'!K49,\"\")","v":""},{"$f":"IF('liste engagés'!$G49=10,'liste engagés'!L49,\"\")","v":""},0]
[49,{"$f":"IF('liste engagés'!$G50=10,'liste engagés'!A50,\"\")","v":""},{"$f":"IF('liste engagés'!$G50=10,'liste engagés'!B50,\"\")","v":""},{"$f":"IF('liste engagés'!$G50=10,'liste engagés'!C50,\"\")","v":""},{"$f":"IF('liste engagés'!$G50=10,'liste engagés'!D50,\"\")","v":""},{"$f":"IF('liste engagés'!$G50=10,'liste engagés'!E50,\"\")","v":""},{"$f":"IF('liste engagés'!$G50=10,'liste engagés'!K50,\"\")","v":""},{"$f":"IF('liste engagés'!$G50=10,'liste engagés'!L50,\"\")","v":""},0]
[50,{"$f":"IF('liste engagés'!$G51=10,'liste engagés'!A51,\"\")","v":""},{"$f":"IF('liste engagés'!$G51=10,'liste engagés'!B51,\"\")","v":""},{"$f":"IF('liste engagés'!$G51=10,'liste engagés'!C51,\"\")","v":""},{"$f":"IF('liste engagés'!$G51=10,'liste engagés'!D51,\"\")","v":""},{"$f":"IF('liste engagés'!$G51=10,'liste engagés'!E51,\"\")","v":""},{"$f":"IF('liste engagés'!$G51=10,'liste engagés'!K51,\"\")","v":""},{"$f":"IF('liste engagés'!$G51=10,'liste engagés'!L51,\"\")","v":""},0]
[51,{"$f":"IF('liste engagés'!$G52=10,'liste engagés'!A52,\"\")","v":""},{"$f":"IF('liste engagés'!$G52=10,'liste engagés'!B52,\"\")","v":""},{"$f":"IF('liste engagés'!$G52=10,'liste engagés'!C52,\"\")","v":""},{"$f":"IF('liste engagés'!$G52=10,'liste engagés'!D52,\"\")","v":""},{"$f":"IF('liste engagés'!$G52=10,'liste engagés'!E52,\"\")","v":""},{"$f":"IF('liste engagés'!$G52=10,'liste engagés'!K52,\"\")","v":""},{"$f":"IF('liste engagés'!$G52=10,'liste engagés'!L52,\"\")","v":""},0]
[52,{"$f":"IF('liste engagés'!$G53=10,'liste engagés'!A53,\"\")","v":""},{"$f":"IF('liste engagés'!$G53=10,'liste engagés'!B53,\"\")","v":""},{"$f":"IF('liste engagés'!$G53=10,'liste engagés'!C53,\"\")","v":""},{"$f":"IF('liste engagés'!$G53=10,'liste engagés'!D53,\"\")","v":""},{"$f":"IF('liste engagés'!$G53=10,'liste engagés'!E53,\"\")","v":""},{"$f":"IF('liste engagés'!$G53=10,'liste engagés'!K53,\"\")","v":""},{"$f":"IF('liste engagés'!$G53=10,'liste engagés'!L53,\"\")","v":""},0]
[53,{"$f":"IF('liste engagés'!$G54=10,'liste engagés'!A54,\"\")","v":""},{"$f":"IF('liste engagés'!$G54=10,'liste engagés'!B54,\"\")","v":""},{"$f":"IF('liste engagés'!$G54=10,'liste engagés'!C54,\"\")","v":""},{"$f":"IF('liste engagés'!$G54=10,'liste engagés'!D54,\"\")","v":""},{"$f":"IF('liste engagés'!$G54=10,'liste engagés'!E54,\"\")","v":""},{"$f":"IF('liste engagés'!$G54=10,'liste engagés'!K54,\"\")","v":""},{"$f":"IF('liste engagés'!$G54=10,'liste engagés'!L54,\"\")","v":""},0]
[54,{"$f":"IF('liste engagés'!$G55=10,'liste engagés'!A55,\"\")","v":""},{"$f":"IF('liste engagés'!$G55=10,'liste engagés'!B55,\"\")","v":""},{"$f":"IF('liste engagés'!$G55=10,'liste engagés'!C55,\"\")","v":""},{"$f":"IF('liste engagés'!$G55=10,'liste engagés'!D55,\"\")","v":""},{"$f":"IF('liste engagés'!$G55=10,'liste engagés'!E55,\"\")","v":""},{"$f":"IF('liste engagés'!$G55=10,'liste engagés'!K55,\"\")","v":""},{"$f":"IF('liste engagés'!$G55=10,'liste engagés'!L55,\"\")","v":""},0]
[55,{"$f":"IF('liste engagés'!$G56=10,'liste engagés'!A56,\"\")","v":""},{"$f":"IF('liste engagés'!$G56=10,'liste engagés'!B56,\"\")","v":""},{"$f":"IF('liste engagés'!$G56=10,'liste engagés'!C56,\"\")","v":""},{"$f":"IF('liste engagés'!$G56=10,'liste engagés'!D56,\"\")","v":""},{"$f":"IF('liste engagés'!$G56=10,'liste engagés'!E56,\"\")","v":""},{"$f":"IF('liste engagés'!$G56=10,'liste engagés'!K56,\"\")","v":""},{"$f":"IF('liste engagés'!$G56=10,'liste engagés'!L56,\"\")","v":""},0]
[56,{"$f":"IF('liste engagés'!$G57=10,'liste engagés'!A57,\"\")","v":""},{"$f":"IF('liste engagés'!$G57=10,'liste engagés'!B57,\"\")","v":""},{"$f":"IF('liste engagés'!$G57=10,'liste engagés'!C57,\"\")","v":""},{"$f":"IF('liste engagés'!$G57=10,'liste engagés'!D57,\"\")","v":""},{"$f":"IF('liste engagés'!$G57=10,'liste engagés'!E57,\"\")","v":""},{"$f":"IF('liste engagés'!$G57=10,'liste engagés'!K57,\"\")","v":""},{"$f":"IF('liste engagés'!$G57=10,'liste engagés'!L57,\"\")","v":""},0]
[57,{"$f":"IF('liste engagés'!$G58=10,'liste engagés'!A58,\"\")","v":""},{"$f":"IF('liste engagés'!$G58=10,'liste engagés'!B58,\"\")","v":""},{"$f":"IF('liste engagés'!$G58=10,'liste engagés'!C58,\"\")","v":""},{"$f":"IF('liste engagés'!$G58=10,'liste engagés'!D58,\"\")","v":""},{"$f":"IF('liste engagés'!$G58=10,'liste engagés'!E58,\"\")","v":""},{"$f":"IF('liste engagés'!$G58=10,'liste engagés'!K58,\"\")","v":""},{"$f":"IF('liste engagés'!$G58=10,'liste engagés'!L58,\"\")","v":""},0]
[58,{"$f":"IF('liste engagés'!$G59=10,'liste engagés'!A59,\"\")","v":""},{"$f":"IF('liste engagés'!$G59=10,'liste engagés'!B59,\"\")","v":""},{"$f":"IF('liste engagés'!$G59=10,'liste engagés'!C59,\"\")","v":""},{"$f":"IF('liste engagés'!$G59=10,'liste engagés'!D59,\"\")","v":""},{"$f":"IF('liste engagés'!$G59=10,'liste engagés'!E59,\"\")","v":""},{"$f":"IF('liste engagés'!$G59=10,'liste engagés'!K59,\"\")","v":""},{"$f":"IF('liste engagés'!$G59=10,'liste engagés'!L59,\"\")","v":""},0]
[59,{"$f":"IF('liste engagés'!$G60=10,'liste engagés'!A60,\"\")","v":""},{"$f":"IF('liste engagés'!$G60=10,'liste engagés'!B60,\"\")","v":""},{"$f":"IF('liste engagés'!$G60=10,'liste engagés'!C60,\"\")","v":""},{"$f":"IF('liste engagés'!$G60=10,'liste engagés'!D60,\"\")","v":""},{"$f":"IF('liste engagés'!$G60=10,'liste engagés'!E60,\"\")","v":""},{"$f":"IF('liste engagés'!$G60=10,'liste engagés'!K60,\"\")","v":""},{"$f":"IF('liste engagés'!$G60=10,'liste engagés'!L60,\"\")","v":""},0]
[60,{"$f":"IF('liste engagés'!$G61=10,'liste engagés'!A61,\"\")","v":""},{"$f":"IF('liste engagés'!$G61=10,'liste engagés'!B61,\"\")","v":""},{"$f":"IF('liste engagés'!$G61=10,'liste engagés'!C61,\"\")","v":""},{"$f":"IF('liste engagés'!$G61=10,'liste engagés'!D61,\"\")","v":""},{"$f":"IF('liste engagés'!$G61=10,'liste engagés'!E61,\"\")","v":""},{"$f":"IF('liste engagés'!$G61=10,'liste engagés'!K61,\"\")","v":""},{"$f":"IF('liste engagés'!$G61=10,'liste engagés'!L61,\"\")","v":""},0]
[61,{"$f":"IF('liste engagés'!$G62=10,'liste engagés'!A62,\"\")","v":""},{"$f":"IF('liste engagés'!$G62=10,'liste engagés'!B62,\"\")","v":""},{"$f":"IF('liste engagés'!$G62=10,'liste engagés'!C62,\"\")","v":""},{"$f":"IF('liste engagés'!$G62=10,'liste engagés'!D62,\"\")","v":""},{"$f":"IF('liste engagés'!$G62=10,'liste engagés'!E62,\"\")","v":""},{"$f":"IF('liste engagés'!$G62=10,'liste engagés'!K62,\"\")","v":""},{"$f":"IF('liste engagés'!$G62=10,'liste engagés'!L62,\"\")","v":""},0]
[62,{"$f":"IF('liste engagés'!$G63=10,'liste engagés'!A63,\"\")","v":""},{"$f":"IF('liste engagés'!$G63=10,'liste engagés'!B63,\"\")","v":""},{"$f":"IF('liste engagés'!$G63=10,'liste engagés'!C63,\"\")","v":""},{"$f":"IF('liste engagés'!$G63=10,'liste engagés'!D63,\"\")","v":""},{"$f":"IF('liste engagés'!$G63=10,'liste engagés'!E63,\"\")","v":""},{"$f":"IF('liste engagés'!$G63=10,'liste engagés'!K63,\"\")","v":""},{"$f":"IF('liste engagés'!$G63=10,'liste engagés'!L63,\"\")","v":""},0]
[63,{"$f":"IF('liste engagés'!$G64=10,'liste engagés'!A64,\"\")","v":""},{"$f":"IF('liste engagés'!$G64=10,'liste engagés'!B64,\"\")","v":""},{"$f":"IF('liste engagés'!$G64=10,'liste engagés'!C64,\"\")","v":""},{"$f":"IF('liste engagés'!$G64=10,'liste engagés'!D64,\"\")","v":""},{"$f":"IF('liste engagés'!$G64=10,'liste engagés'!E64,\"\")","v":""},{"$f":"IF('liste engagés'!$G64=10,'liste engagés'!K64,\"\")","v":""},{"$f":"IF('liste engagés'!$G64=10,'liste engagés'!L64,\"\")","v":""},0]
[64,{"$f":"IF('liste engagés'!$G65=10,'liste engagés'!A65,\"\")","v":""},{"$f":"IF('liste engagés'!$G65=10,'liste engagés'!B65,\"\")","v":""},{"$f":"IF('liste engagés'!$G65=10,'liste engagés'!C65,\"\")","v":""},{"$f":"IF('liste engagés'!$G65=10,'liste engagés'!D65,\"\")","v":""},{"$f":"IF('liste engagés'!$G65=10,'liste engagés'!E65,\"\")","v":""},{"$f":"IF('liste engagés'!$G65=10,'liste engagés'!K65,\"\")","v":""},{"$f":"IF('liste engagés'!$G65=10,'liste engagés'!L65,\"\")","v":""},0]
[65,{"$f":"IF('liste engagés'!$G66=10,'liste engagés'!A66,\"\")","v":""},{"$f":"IF('liste engagés'!$G66=10,'liste engagés'!B66,\"\")","v":""},{"$f":"IF('liste engagés'!$G66=10,'liste engagés'!C66,\"\")","v":""},{"$f":"IF('liste engagés'!$G66=10,'liste engagés'!D66,\"\")","v":""},{"$f":"IF('liste engagés'!$G66=10,'liste engagés'!E66,\"\")","v":""},{"$f":"IF('liste engagés'!$G66=10,'liste engagés'!K66,\"\")","v":""},{"$f":"IF('liste engagés'!$G66=10,'liste engagés'!L66,\"\")","v":""},{"$f":"+IF(C71=\"\",0,1)","v":0}]
[{"$f":"+A71+1","v":66},{"$f":"IF('liste engagés'!$G67=10,'liste engagés'!A67,\"\")","v":""},{"$f":"IF('liste engagés'!$G67=10,'liste engagés'!B67,\"\")","v":""},{"$f":"IF('liste engagés'!$G67=10,'liste engagés'!C67,\"\")","v":""},{"$f":"IF('liste engagés'!$G67=10,'liste engagés'!D67,\"\")","v":""},{"$f":"IF('liste engagés'!$G67=10,'liste engagés'!E67,\"\")","v":""},{"$f":"IF('liste engagés'!$G67=10,'liste engagés'!K67,\"\")","v":""},{"$f":"IF('liste engagés'!$G67=10,'liste engagés'!L67,\"\")","v":""},0]
[67,{"$f":"IF('liste engagés'!$G68=10,'liste engagés'!A68,\"\")","v":""},{"$f":"IF('liste engagés'!$G68=10,'liste engagés'!B68,\"\")","v":""},{"$f":"IF('liste engagés'!$G68=10,'liste engagés'!C68,\"\")","v":""},{"$f":"IF('liste engagés'!$G68=10,'liste engagés'!D68,\"\")","v":""},{"$f":"IF('liste engagés'!$G68=10,'liste engagés'!E68,\"\")","v":""},{"$f":"IF('liste engagés'!$G68=10,'liste engagés'!K68,\"\")","v":""},{"$f":"IF('liste engagés'!$G68=10,'liste engagés'!L68,\"\")","v":""},0]
[68,{"$f":"IF('liste engagés'!$G69=10,'liste engagés'!A69,\"\")","v":""},{"$f":"IF('liste engagés'!$G69=10,'liste engagés'!B69,\"\")","v":""},{"$f":"IF('liste engagés'!$G69=10,'liste engagés'!C69,\"\")","v":""},{"$f":"IF('liste engagés'!$G69=10,'liste engagés'!D69,\"\")","v":""},{"$f":"IF('liste engagés'!$G69=10,'liste engagés'!E69,\"\")","v":""},{"$f":"IF('liste engagés'!$G69=10,'liste engagés'!K69,\"\")","v":""},{"$f":"IF('liste engagés'!$G69=10,'liste engagés'!L69,\"\")","v":""},0]
[69,{"$f":"IF('liste engagés'!$G70=10,'liste engagés'!A70,\"\")","v":""},{"$f":"IF('liste engagés'!$G70=10,'liste engagés'!B70,\"\")","v":""},{"$f":"IF('liste engagés'!$G70=10,'liste engagés'!C70,\"\")","v":""},{"$f":"IF('liste engagés'!$G70=10,'liste engagés'!D70,\"\")","v":""},{"$f":"IF('liste engagés'!$G70=10,'liste engagés'!E70,\"\")","v":""},{"$f":"IF('liste engagés'!$G70=10,'liste engagés'!K70,\"\")","v":""},{"$f":"IF('liste engagés'!$G70=10,'liste engagés'!L70,\"\")","v":""},0]
[70,{"$f":"IF('liste engagés'!$G71=10,'liste engagés'!A71,\"\")","v":""},{"$f":"IF('liste engagés'!$G71=10,'liste engagés'!B71,\"\")","v":""},{"$f":"IF('liste engagés'!$G71=10,'liste engagés'!C71,\"\")","v":""},{"$f":"IF('liste engagés'!$G71=10,'liste engagés'!D71,\"\")","v":""},{"$f":"IF('liste engagés'!$G71=10,'liste engagés'!E71,\"\")","v":""},{"$f":"IF('liste engagés'!$G71=10,'liste engagés'!K71,\"\")","v":""},{"$f":"IF('liste engagés'!$G71=10,'liste engagés'!L71,\"\")","v":""},0]
[71,{"$f":"IF('liste engagés'!$G72=10,'liste engagés'!A72,\"\")","v":""},{"$f":"IF('liste engagés'!$G72=10,'liste engagés'!B72,\"\")","v":""},{"$f":"IF('liste engagés'!$G72=10,'liste engagés'!C72,\"\")","v":""},{"$f":"IF('liste engagés'!$G72=10,'liste engagés'!D72,\"\")","v":""},{"$f":"IF('liste engagés'!$G72=10,'liste engagés'!E72,\"\")","v":""},{"$f":"IF('liste engagés'!$G72=10,'liste engagés'!K72,\"\")","v":""},{"$f":"IF('liste engagés'!$G72=10,'liste engagés'!L72,\"\")","v":""},0]
[72,{"$f":"IF('liste engagés'!$G73=10,'liste engagés'!A73,\"\")","v":""},{"$f":"IF('liste engagés'!$G73=10,'liste engagés'!B73,\"\")","v":""},{"$f":"IF('liste engagés'!$G73=10,'liste engagés'!C73,\"\")","v":""},{"$f":"IF('liste engagés'!$G73=10,'liste engagés'!D73,\"\")","v":""},{"$f":"IF('liste engagés'!$G73=10,'liste engagés'!E73,\"\")","v":""},{"$f":"IF('liste engagés'!$G73=10,'liste engagés'!K73,\"\")","v":""},{"$f":"IF('liste engagés'!$G73=10,'liste engagés'!L73,\"\")","v":""},0]
[73,{"$f":"IF('liste engagés'!$G74=10,'liste engagés'!A74,\"\")","v":""},{"$f":"IF('liste engagés'!$G74=10,'liste engagés'!B74,\"\")","v":""},{"$f":"IF('liste engagés'!$G74=10,'liste engagés'!C74,\"\")","v":""},{"$f":"IF('liste engagés'!$G74=10,'liste engagés'!D74,\"\")","v":""},{"$f":"IF('liste engagés'!$G74=10,'liste engagés'!E74,\"\")","v":""},{"$f":"IF('liste engagés'!$G74=10,'liste engagés'!K74,\"\")","v":""},{"$f":"IF('liste engagés'!$G74=10,'liste engagés'!L74,\"\")","v":""},0]
[74,{"$f":"IF('liste engagés'!$G75=10,'liste engagés'!A75,\"\")","v":""},{"$f":"IF('liste engagés'!$G75=10,'liste engagés'!B75,\"\")","v":""},{"$f":"IF('liste engagés'!$G75=10,'liste engagés'!C75,\"\")","v":""},{"$f":"IF('liste engagés'!$G75=10,'liste engagés'!D75,\"\")","v":""},{"$f":"IF('liste engagés'!$G75=10,'liste engagés'!E75,\"\")","v":""},{"$f":"IF('liste engagés'!$G75=10,'liste engagés'!K75,\"\")","v":""},{"$f":"IF('liste engagés'!$G75=10,'liste engagés'!L75,\"\")","v":""},0]
[75,{"$f":"IF('liste engagés'!$G76=10,'liste engagés'!A76,\"\")","v":""},{"$f":"IF('liste engagés'!$G76=10,'liste engagés'!B76,\"\")","v":""},{"$f":"IF('liste engagés'!$G76=10,'liste engagés'!C76,\"\")","v":""},{"$f":"IF('liste engagés'!$G76=10,'liste engagés'!D76,\"\")","v":""},{"$f":"IF('liste engagés'!$G76=10,'liste engagés'!E76,\"\")","v":""},{"$f":"IF('liste engagés'!$G76=10,'liste engagés'!K76,\"\")","v":""},{"$f":"IF('liste engagés'!$G76=10,'liste engagés'!L76,\"\")","v":""},0]
[76,{"$f":"IF('liste engagés'!$G77=10,'liste engagés'!A77,\"\")","v":""},{"$f":"IF('liste engagés'!$G77=10,'liste engagés'!B77,\"\")","v":""},{"$f":"IF('liste engagés'!$G77=10,'liste engagés'!C77,\"\")","v":""},{"$f":"IF('liste engagés'!$G77=10,'liste engagés'!D77,\"\")","v":""},{"$f":"IF('liste engagés'!$G77=10,'liste engagés'!E77,\"\")","v":""},{"$f":"IF('liste engagés'!$G77=10,'liste engagés'!K77,\"\")","v":""},{"$f":"IF('liste engagés'!$G77=10,'liste engagés'!L77,\"\")","v":""},0]
[77,{"$f":"IF('liste engagés'!$G78=10,'liste engagés'!A78,\"\")","v":""},{"$f":"IF('liste engagés'!$G78=10,'liste engagés'!B78,\"\")","v":""},{"$f":"IF('liste engagés'!$G78=10,'liste engagés'!C78,\"\")","v":""},{"$f":"IF('liste engagés'!$G78=10,'liste engagés'!D78,\"\")","v":""},{"$f":"IF('liste engagés'!$G78=10,'liste engagés'!E78,\"\")","v":""},{"$f":"IF('liste engagés'!$G78=10,'liste engagés'!K78,\"\")","v":""},{"$f":"IF('liste engagés'!$G78=10,'liste engagés'!L78,\"\")","v":""},0]
[78,{"$f":"IF('liste engagés'!$G79=10,'liste engagés'!A79,\"\")","v":""},{"$f":"IF('liste engagés'!$G79=10,'liste engagés'!B79,\"\")","v":""},{"$f":"IF('liste engagés'!$G79=10,'liste engagés'!C79,\"\")","v":""},{"$f":"IF('liste engagés'!$G79=10,'liste engagés'!D79,\"\")","v":""},{"$f":"IF('liste engagés'!$G79=10,'liste engagés'!E79,\"\")","v":""},{"$f":"IF('liste engagés'!$G79=10,'liste engagés'!K79,\"\")","v":""},{"$f":"IF('liste engagés'!$G79=10,'liste engagés'!L79,\"\")","v":""},0]
[79,{"$f":"IF('liste engagés'!$G80=10,'liste engagés'!A80,\"\")","v":""},{"$f":"IF('liste engagés'!$G80=10,'liste engagés'!B80,\"\")","v":""},{"$f":"IF('liste engagés'!$G80=10,'liste engagés'!C80,\"\")","v":""},{"$f":"IF('liste engagés'!$G80=10,'liste engagés'!D80,\"\")","v":""},{"$f":"IF('liste engagés'!$G80=10,'liste engagés'!E80,\"\")","v":""},{"$f":"IF('liste engagés'!$G80=10,'liste engagés'!K80,\"\")","v":""},{"$f":"IF('liste engagés'!$G80=10,'liste engagés'!L80,\"\")","v":""},0]
[80,{"$f":"IF('liste engagés'!$G81=10,'liste engagés'!A81,\"\")","v":""},{"$f":"IF('liste engagés'!$G81=10,'liste engagés'!B81,\"\")","v":""},{"$f":"IF('liste engagés'!$G81=10,'liste engagés'!C81,\"\")","v":""},{"$f":"IF('liste engagés'!$G81=10,'liste engagés'!D81,\"\")","v":""},{"$f":"IF('liste engagés'!$G81=10,'liste engagés'!E81,\"\")","v":""},{"$f":"IF('liste engagés'!$G81=10,'liste engagés'!K81,\"\")","v":""},{"$f":"IF('liste engagés'!$G81=10,'liste engagés'!L81,\"\")","v":""},0]
[81,{"$f":"IF('liste engagés'!$G82=10,'liste engagés'!A82,\"\")","v":""},{"$f":"IF('liste engagés'!$G82=10,'liste engagés'!B82,\"\")","v":""},{"$f":"IF('liste engagés'!$G82=10,'liste engagés'!C82,\"\")","v":""},{"$f":"IF('liste engagés'!$G82=10,'liste engagés'!D82,\"\")","v":""},{"$f":"IF('liste engagés'!$G82=10,'liste engagés'!E82,\"\")","v":""},{"$f":"IF('liste engagés'!$G82=10,'liste engagés'!K82,\"\")","v":""},{"$f":"IF('liste engagés'!$G82=10,'liste engagés'!L82,\"\")","v":""},0]
[82,{"$f":"IF('liste engagés'!$G83=10,'liste engagés'!A83,\"\")","v":""},{"$f":"IF('liste engagés'!$G83=10,'liste engagés'!B83,\"\")","v":""},{"$f":"IF('liste engagés'!$G83=10,'liste engagés'!C83,\"\")","v":""},{"$f":"IF('liste engagés'!$G83=10,'liste engagés'!D83,\"\")","v":""},{"$f":"IF('liste engagés'!$G83=10,'liste engagés'!E83,\"\")","v":""},{"$f":"IF('liste engagés'!$G83=10,'liste engagés'!K83,\"\")","v":""},{"$f":"IF('liste engagés'!$G83=10,'liste engagés'!L83,\"\")","v":""},0]
[83,{"$f":"IF('liste engagés'!$G84=10,'liste engagés'!A84,\"\")","v":""},{"$f":"IF('liste engagés'!$G84=10,'liste engagés'!B84,\"\")","v":""},{"$f":"IF('liste engagés'!$G84=10,'liste engagés'!C84,\"\")","v":""},{"$f":"IF('liste engagés'!$G84=10,'liste engagés'!D84,\"\")","v":""},{"$f":"IF('liste engagés'!$G84=10,'liste engagés'!E84,\"\")","v":""},{"$f":"IF('liste engagés'!$G84=10,'liste engagés'!K84,\"\")","v":""},{"$f":"IF('liste engagés'!$G84=10,'liste engagés'!L84,\"\")","v":""},0]
[84,{"$f":"IF('liste engagés'!$G85=10,'liste engagés'!A85,\"\")","v":""},{"$f":"IF('liste engagés'!$G85=10,'liste engagés'!B85,\"\")","v":""},{"$f":"IF('liste engagés'!$G85=10,'liste engagés'!C85,\"\")","v":""},{"$f":"IF('liste engagés'!$G85=10,'liste engagés'!D85,\"\")","v":""},{"$f":"IF('liste engagés'!$G85=10,'liste engagés'!E85,\"\")","v":""},{"$f":"IF('liste engagés'!$G85=10,'liste engagés'!K85,\"\")","v":""},{"$f":"IF('liste engagés'!$G85=10,'liste engagés'!L85,\"\")","v":""},0]
[85,{"$f":"IF('liste engagés'!$G86=10,'liste engagés'!A86,\"\")","v":""},{"$f":"IF('liste engagés'!$G86=10,'liste engagés'!B86,\"\")","v":""},{"$f":"IF('liste engagés'!$G86=10,'liste engagés'!C86,\"\")","v":""},{"$f":"IF('liste engagés'!$G86=10,'liste engagés'!D86,\"\")","v":""},{"$f":"IF('liste engagés'!$G86=10,'liste engagés'!E86,\"\")","v":""},{"$f":"IF('liste engagés'!$G86=10,'liste engagés'!K86,\"\")","v":""},{"$f":"IF('liste engagés'!$G86=10,'liste engagés'!L86,\"\")","v":""},0]
[86,{"$f":"IF('liste engagés'!$G87=10,'liste engagés'!A87,\"\")","v":""},{"$f":"IF('liste engagés'!$G87=10,'liste engagés'!B87,\"\")","v":""},{"$f":"IF('liste engagés'!$G87=10,'liste engagés'!C87,\"\")","v":""},{"$f":"IF('liste engagés'!$G87=10,'liste engagés'!D87,\"\")","v":""},{"$f":"IF('liste engagés'!$G87=10,'liste engagés'!E87,\"\")","v":""},{"$f":"IF('liste engagés'!$G87=10,'liste engagés'!K87,\"\")","v":""},{"$f":"IF('liste engagés'!$G87=10,'liste engagés'!L87,\"\")","v":""},0]
[87,{"$f":"IF('liste engagés'!$G88=10,'liste engagés'!A88,\"\")","v":""},{"$f":"IF('liste engagés'!$G88=10,'liste engagés'!B88,\"\")","v":""},{"$f":"IF('liste engagés'!$G88=10,'liste engagés'!C88,\"\")","v":""},{"$f":"IF('liste engagés'!$G88=10,'liste engagés'!D88,\"\")","v":""},{"$f":"IF('liste engagés'!$G88=10,'liste engagés'!E88,\"\")","v":""},{"$f":"IF('liste engagés'!$G88=10,'liste engagés'!K88,\"\")","v":""},{"$f":"IF('liste engagés'!$G88=10,'liste engagés'!L88,\"\")","v":""},0]
[88,{"$f":"IF('liste engagés'!$G89=10,'liste engagés'!A89,\"\")","v":""},{"$f":"IF('liste engagés'!$G89=10,'liste engagés'!B89,\"\")","v":""},{"$f":"IF('liste engagés'!$G89=10,'liste engagés'!C89,\"\")","v":""},{"$f":"IF('liste engagés'!$G89=10,'liste engagés'!D89,\"\")","v":""},{"$f":"IF('liste engagés'!$G89=10,'liste engagés'!E89,\"\")","v":""},{"$f":"IF('liste engagés'!$G89=10,'liste engagés'!K89,\"\")","v":""},{"$f":"IF('liste engagés'!$G89=10,'liste engagés'!L89,\"\")","v":""},0]
[89,{"$f":"IF('liste engagés'!$G90=10,'liste engagés'!A90,\"\")","v":""},{"$f":"IF('liste engagés'!$G90=10,'liste engagés'!B90,\"\")","v":""},{"$f":"IF('liste engagés'!$G90=10,'liste engagés'!C90,\"\")","v":""},{"$f":"IF('liste engagés'!$G90=10,'liste engagés'!D90,\"\")","v":""},{"$f":"IF('liste engagés'!$G90=10,'liste engagés'!E90,\"\")","v":""},{"$f":"IF('liste engagés'!$G90=10,'liste engagés'!K90,\"\")","v":""},{"$f":"IF('liste engagés'!$G90=10,'liste engagés'!L90,\"\")","v":""},0]
[90,{"$f":"IF('liste engagés'!$G91=10,'liste engagés'!A91,\"\")","v":""},{"$f":"IF('liste engagés'!$G91=10,'liste engagés'!B91,\"\")","v":""},{"$f":"IF('liste engagés'!$G91=10,'liste engagés'!C91,\"\")","v":""},{"$f":"IF('liste engagés'!$G91=10,'liste engagés'!D91,\"\")","v":""},{"$f":"IF('liste engagés'!$G91=10,'liste engagés'!E91,\"\")","v":""},{"$f":"IF('liste engagés'!$G91=10,'liste engagés'!K91,\"\")","v":""},{"$f":"IF('liste engagés'!$G91=10,'liste engagés'!L91,\"\")","v":""},0]
[91,{"$f":"IF('liste engagés'!$G93=10,'liste engagés'!A93,\"\")","v":""},{"$f":"IF('liste engagés'!$G93=10,'liste engagés'!B93,\"\")","v":""},{"$f":"IF('liste engagés'!$G93=10,'liste engagés'!C93,\"\")","v":""},{"$f":"IF('liste engagés'!$G93=10,'liste engagés'!D93,\"\")","v":""},{"$f":"IF('liste engagés'!$G93=10,'liste engagés'!E93,\"\")","v":""},{"$f":"IF('liste engagés'!$G93=10,'liste engagés'!K93,\"\")","v":""},{"$f":"IF('liste engagés'!$G93=10,'liste engagés'!L93,\"\")","v":""},0]
[92,{"$f":"IF('liste engagés'!$G94=10,'liste engagés'!A94,\"\")","v":""},{"$f":"IF('liste engagés'!$G94=10,'liste engagés'!B94,\"\")","v":""},{"$f":"IF('liste engagés'!$G94=10,'liste engagés'!C94,\"\")","v":""},{"$f":"IF('liste engagés'!$G94=10,'liste engagés'!D94,\"\")","v":""},{"$f":"IF('liste engagés'!$G94=10,'liste engagés'!E94,\"\")","v":""},{"$f":"IF('liste engagés'!$G94=10,'liste engagés'!K94,\"\")","v":""},{"$f":"IF('liste engagés'!$G94=10,'liste engagés'!L94,\"\")","v":""},0]
[93,{"$f":"IF('liste engagés'!$G95=10,'liste engagés'!A95,\"\")","v":""},{"$f":"IF('liste engagés'!$G95=10,'liste engagés'!B95,\"\")","v":""},{"$f":"IF('liste engagés'!$G95=10,'liste engagés'!C95,\"\")","v":""},{"$f":"IF('liste engagés'!$G95=10,'liste engagés'!D95,\"\")","v":""},{"$f":"IF('liste engagés'!$G95=10,'liste engagés'!E95,\"\")","v":""},{"$f":"IF('liste engagés'!$G95=10,'liste engagés'!K95,\"\")","v":""},{"$f":"IF('liste engagés'!$G95=10,'liste engagés'!L95,\"\")","v":""},0]
[94,{"$f":"IF('liste engagés'!$G97=10,'liste engagés'!A97,\"\")","v":""},{"$f":"IF('liste engagés'!$G97=10,'liste engagés'!B97,\"\")","v":""},{"$f":"IF('liste engagés'!$G97=10,'liste engagés'!C97,\"\")","v":""},{"$f":"IF('liste engagés'!$G97=10,'liste engagés'!D97,\"\")","v":""},{"$f":"IF('liste engagés'!$G97=10,'liste engagés'!E97,\"\")","v":""},{"$f":"IF('liste engagés'!$G97=10,'liste engagés'!K97,\"\")","v":""},{"$f":"IF('liste engagés'!$G97=10,'liste engagés'!L97,\"\")","v":""},0]
[95,{"$f":"IF('liste engagés'!$G98=10,'liste engagés'!A98,\"\")","v":""},{"$f":"IF('liste engagés'!$G98=10,'liste engagés'!B98,\"\")","v":""},{"$f":"IF('liste engagés'!$G98=10,'liste engagés'!C98,\"\")","v":""},{"$f":"IF('liste engagés'!$G98=10,'liste engagés'!D98,\"\")","v":""},{"$f":"IF('liste engagés'!$G98=10,'liste engagés'!E98,\"\")","v":""},{"$f":"IF('liste engagés'!$G98=10,'liste engagés'!K98,\"\")","v":""},{"$f":"IF('liste engagés'!$G98=10,'liste engagés'!L98,\"\")","v":""},0]
[96,{"$f":"IF('liste engagés'!$G99=10,'liste engagés'!A99,\"\")","v":""},{"$f":"IF('liste engagés'!$G99=10,'liste engagés'!B99,\"\")","v":""},{"$f":"IF('liste engagés'!$G99=10,'liste engagés'!C99,\"\")","v":""},{"$f":"IF('liste engagés'!$G99=10,'liste engagés'!D99,\"\")","v":""},{"$f":"IF('liste engagés'!$G99=10,'liste engagés'!E99,\"\")","v":""},{"$f":"IF('liste engagés'!$G99=10,'liste engagés'!K99,\"\")","v":""},{"$f":"IF('liste engagés'!$G99=10,'liste engagés'!L99,\"\")","v":""},0]
[97,{"$f":"IF('liste engagés'!$G100=10,'liste engagés'!A100,\"\")","v":""},{"$f":"IF('liste engagés'!$G100=10,'liste engagés'!B100,\"\")","v":""},{"$f":"IF('liste engagés'!$G100=10,'liste engagés'!C100,\"\")","v":""},{"$f":"IF('liste engagés'!$G100=10,'liste engagés'!D100,\"\")","v":""},{"$f":"IF('liste engagés'!$G100=10,'liste engagés'!E100,\"\")","v":""},{"$f":"IF('liste engagés'!$G100=10,'liste engagés'!K100,\"\")","v":""},{"$f":"IF('liste engagés'!$G100=10,'liste engagés'!L100,\"\")","v":""},0]
[98,{"$f":"IF('liste engagés'!$G101=10,'liste engagés'!A101,\"\")","v":""},{"$f":"IF('liste engagés'!$G101=10,'liste engagés'!B101,\"\")","v":""},{"$f":"IF('liste engagés'!$G101=10,'liste engagés'!C101,\"\")","v":""},{"$f":"IF('liste engagés'!$G101=10,'liste engagés'!D101,\"\")","v":""},{"$f":"IF('liste engagés'!$G101=10,'liste engagés'!E101,\"\")","v":""},{"$f":"IF('liste engagés'!$G101=10,'liste engagés'!K101,\"\")","v":""},{"$f":"IF('liste engagés'!$G101=10,'liste engagés'!L101,\"\")","v":""},0]
[99,{"$f":"IF('liste engagés'!$G102=10,'liste engagés'!A102,\"\")","v":""},{"$f":"IF('liste engagés'!$G102=10,'liste engagés'!B102,\"\")","v":""},{"$f":"IF('liste engagés'!$G102=10,'liste engagés'!C102,\"\")","v":""},{"$f":"IF('liste engagés'!$G102=10,'liste engagés'!D102,\"\")","v":""},{"$f":"IF('liste engagés'!$G102=10,'liste engagés'!E102,\"\")","v":""},{"$f":"IF('liste engagés'!$G102=10,'liste engagés'!K102,\"\")","v":""},{"$f":"IF('liste engagés'!$G102=10,'liste engagés'!L102,\"\")","v":""},0]
[100,{"$f":"IF('liste engagés'!$G103=10,'liste engagés'!A103,\"\")","v":""},{"$f":"IF('liste engagés'!$G103=10,'liste engagés'!B103,\"\")","v":""},{"$f":"IF('liste engagés'!$G103=10,'liste engagés'!C103,\"\")","v":""},{"$f":"IF('liste engagés'!$G103=10,'liste engagés'!D103,\"\")","v":""},{"$f":"IF('liste engagés'!$G103=10,'liste engagés'!E103,\"\")","v":""},{"$f":"IF('liste engagés'!$G103=10,'liste engagés'!K103,\"\")","v":""},{"$f":"IF('liste engagés'!$G103=10,'liste engagés'!L103,\"\")","v":""},0]
[101,{"$f":"IF('liste engagés'!$G104=10,'liste engagés'!A104,\"\")","v":""},{"$f":"IF('liste engagés'!$G104=10,'liste engagés'!B104,\"\")","v":""},{"$f":"IF('liste engagés'!$G104=10,'liste engagés'!C104,\"\")","v":""},{"$f":"IF('liste engagés'!$G104=10,'liste engagés'!D104,\"\")","v":""},{"$f":"IF('liste engagés'!$G104=10,'liste engagés'!E104,\"\")","v":""},{"$f":"IF('liste engagés'!$G104=10,'liste engagés'!K104,\"\")","v":""},{"$f":"IF('liste engagés'!$G104=10,'liste engagés'!L104,\"\")","v":""},0]
[102,{"$f":"IF('liste engagés'!$G105=10,'liste engagés'!A105,\"\")","v":""},{"$f":"IF('liste engagés'!$G105=10,'liste engagés'!B105,\"\")","v":""},{"$f":"IF('liste engagés'!$G105=10,'liste engagés'!C105,\"\")","v":""},{"$f":"IF('liste engagés'!$G105=10,'liste engagés'!D105,\"\")","v":""},{"$f":"IF('liste engagés'!$G105=10,'liste engagés'!E105,\"\")","v":""},{"$f":"IF('liste engagés'!$G105=10,'liste engagés'!K105,\"\")","v":""},{"$f":"IF('liste engagés'!$G105=10,'liste engagés'!L105,\"\")","v":""},0]
[103,{"$f":"IF('liste engagés'!$G106=10,'liste engagés'!A106,\"\")","v":""},{"$f":"IF('liste engagés'!$G106=10,'liste engagés'!B106,\"\")","v":""},{"$f":"IF('liste engagés'!$G106=10,'liste engagés'!C106,\"\")","v":""},{"$f":"IF('liste engagés'!$G106=10,'liste engagés'!D106,\"\")","v":""},{"$f":"IF('liste engagés'!$G106=10,'liste engagés'!E106,\"\")","v":""},{"$f":"IF('liste engagés'!$G106=10,'liste engagés'!K106,\"\")","v":""},{"$f":"IF('liste engagés'!$G106=10,'liste engagés'!L106,\"\")","v":""},0]
[104,{"$f":"IF('liste engagés'!$G107=10,'liste engagés'!A107,\"\")","v":""},{"$f":"IF('liste engagés'!$G107=10,'liste engagés'!B107,\"\")","v":""},{"$f":"IF('liste engagés'!$G107=10,'liste engagés'!C107,\"\")","v":""},{"$f":"IF('liste engagés'!$G107=10,'liste engagés'!D107,\"\")","v":""},{"$f":"IF('liste engagés'!$G107=10,'liste engagés'!E107,\"\")","v":""},{"$f":"IF('liste engagés'!$G107=10,'liste engagés'!K107,\"\")","v":""},{"$f":"IF('liste engagés'!$G107=10,'liste engagés'!L107,\"\")","v":""},0]
[105,{"$f":"IF('liste engagés'!$G108=10,'liste engagés'!A108,\"\")","v":""},{"$f":"IF('liste engagés'!$G108=10,'liste engagés'!B108,\"\")","v":""},{"$f":"IF('liste engagés'!$G108=10,'liste engagés'!C108,\"\")","v":""},{"$f":"IF('liste engagés'!$G108=10,'liste engagés'!D108,\"\")","v":""},{"$f":"IF('liste engagés'!$G108=10,'liste engagés'!E108,\"\")","v":""},{"$f":"IF('liste engagés'!$G108=10,'liste engagés'!K108,\"\")","v":""},{"$f":"IF('liste engagés'!$G108=10,'liste engagés'!L108,\"\")","v":""},0]
[106,{"$f":"IF('liste engagés'!$G109=10,'liste engagés'!A109,\"\")","v":""},{"$f":"IF('liste engagés'!$G109=10,'liste engagés'!B109,\"\")","v":""},{"$f":"IF('liste engagés'!$G109=10,'liste engagés'!C109,\"\")","v":""},{"$f":"IF('liste engagés'!$G109=10,'liste engagés'!D109,\"\")","v":""},{"$f":"IF('liste engagés'!$G109=10,'liste engagés'!E109,\"\")","v":""},{"$f":"IF('liste engagés'!$G109=10,'liste engagés'!K109,\"\")","v":""},{"$f":"IF('liste engagés'!$G109=10,'liste engagés'!L109,\"\")","v":""},0]
[107,{"$f":"IF('liste engagés'!$G110=10,'liste engagés'!A110,\"\")","v":""},{"$f":"IF('liste engagés'!$G110=10,'liste engagés'!B110,\"\")","v":""},{"$f":"IF('liste engagés'!$G110=10,'liste engagés'!C110,\"\")","v":""},{"$f":"IF('liste engagés'!$G110=10,'liste engagés'!D110,\"\")","v":""},{"$f":"IF('liste engagés'!$G110=10,'liste engagés'!E110,\"\")","v":""},{"$f":"IF('liste engagés'!$G110=10,'liste engagés'!K110,\"\")","v":""},{"$f":"IF('liste engagés'!$G110=10,'liste engagés'!L110,\"\")","v":""},0]
[108,{"$f":"IF('liste engagés'!$G111=10,'liste engagés'!A111,\"\")","v":""},{"$f":"IF('liste engagés'!$G111=10,'liste engagés'!B111,\"\")","v":""},{"$f":"IF('liste engagés'!$G111=10,'liste engagés'!C111,\"\")","v":""},{"$f":"IF('liste engagés'!$G111=10,'liste engagés'!D111,\"\")","v":""},{"$f":"IF('liste engagés'!$G111=10,'liste engagés'!E111,\"\")","v":""},{"$f":"IF('liste engagés'!$G111=10,'liste engagés'!K111,\"\")","v":""},{"$f":"IF('liste engagés'!$G111=10,'liste engagés'!L111,\"\")","v":""},0]
[109,{"$f":"IF('liste engagés'!$G113=10,'liste engagés'!A113,\"\")","v":""},{"$f":"IF('liste engagés'!$G113=10,'liste engagés'!B113,\"\")","v":""},{"$f":"IF('liste engagés'!$G113=10,'liste engagés'!C113,\"\")","v":""},{"$f":"IF('liste engagés'!$G113=10,'liste engagés'!D113,\"\")","v":""},{"$f":"IF('liste engagés'!$G113=10,'liste engagés'!E113,\"\")","v":""},{"$f":"IF('liste engagés'!$G113=10,'liste engagés'!K113,\"\")","v":""},{"$f":"IF('liste engagés'!$G113=10,'liste engagés'!L113,\"\")","v":""},0]
[110,{"$f":"IF('liste engagés'!$G114=10,'liste engagés'!A114,\"\")","v":""},{"$f":"IF('liste engagés'!$G114=10,'liste engagés'!B114,\"\")","v":""},{"$f":"IF('liste engagés'!$G114=10,'liste engagés'!C114,\"\")","v":""},{"$f":"IF('liste engagés'!$G114=10,'liste engagés'!D114,\"\")","v":""},{"$f":"IF('liste engagés'!$G114=10,'liste engagés'!E114,\"\")","v":""},{"$f":"IF('liste engagés'!$G114=10,'liste engagés'!K114,\"\")","v":""},{"$f":"IF('liste engagés'!$G114=10,'liste engagés'!L114,\"\")","v":""},0]
[111,{"$f":"IF('liste engagés'!$G115=10,'liste engagés'!A115,\"\")","v":""},{"$f":"IF('liste engagés'!$G115=10,'liste engagés'!B115,\"\")","v":""},{"$f":"IF('liste engagés'!$G115=10,'liste engagés'!C115,\"\")","v":""},{"$f":"IF('liste engagés'!$G115=10,'liste engagés'!D115,\"\")","v":""},{"$f":"IF('liste engagés'!$G115=10,'liste engagés'!E115,\"\")","v":""},{"$f":"IF('liste engagés'!$G115=10,'liste engagés'!K115,\"\")","v":""},{"$f":"IF('liste engagés'!$G115=10,'liste engagés'!L115,\"\")","v":""},0]
[112,{"$f":"IF('liste engagés'!$G116=10,'liste engagés'!A116,\"\")","v":""},{"$f":"IF('liste engagés'!$G116=10,'liste engagés'!B116,\"\")","v":""},{"$f":"IF('liste engagés'!$G116=10,'liste engagés'!C116,\"\")","v":""},{"$f":"IF('liste engagés'!$G116=10,'liste engagés'!D116,\"\")","v":""},{"$f":"IF('liste engagés'!$G116=10,'liste engagés'!E116,\"\")","v":""},{"$f":"IF('liste engagés'!$G116=10,'liste engagés'!K116,\"\")","v":""},{"$f":"IF('liste engagés'!$G116=10,'liste engagés'!L116,\"\")","v":""},0]
[113,{"$f":"IF('liste engagés'!$G117=10,'liste engagés'!A117,\"\")","v":""},{"$f":"IF('liste engagés'!$G117=10,'liste engagés'!B117,\"\")","v":""},{"$f":"IF('liste engagés'!$G117=10,'liste engagés'!C117,\"\")","v":""},{"$f":"IF('liste engagés'!$G117=10,'liste engagés'!D117,\"\")","v":""},{"$f":"IF('liste engagés'!$G117=10,'liste engagés'!E117,\"\")","v":""},{"$f":"IF('liste engagés'!$G117=10,'liste engagés'!K117,\"\")","v":""},{"$f":"IF('liste engagés'!$G117=10,'liste engagés'!L117,\"\")","v":""},0]
[114,{"$f":"IF('liste engagés'!$G118=10,'liste engagés'!A118,\"\")","v":""},{"$f":"IF('liste engagés'!$G118=10,'liste engagés'!B118,\"\")","v":""},{"$f":"IF('liste engagés'!$G118=10,'liste engagés'!C118,\"\")","v":""},{"$f":"IF('liste engagés'!$G118=10,'liste engagés'!D118,\"\")","v":""},{"$f":"IF('liste engagés'!$G118=10,'liste engagés'!E118,\"\")","v":""},{"$f":"IF('liste engagés'!$G118=10,'liste engagés'!K118,\"\")","v":""},{"$f":"IF('liste engagés'!$G118=10,'liste engagés'!L118,\"\")","v":""},0]
[115,{"$f":"IF('liste engagés'!$G119=10,'liste engagés'!A119,\"\")","v":""},{"$f":"IF('liste engagés'!$G119=10,'liste engagés'!B119,\"\")","v":""},{"$f":"IF('liste engagés'!$G119=10,'liste engagés'!C119,\"\")","v":""},{"$f":"IF('liste engagés'!$G119=10,'liste engagés'!D119,\"\")","v":""},{"$f":"IF('liste engagés'!$G119=10,'liste engagés'!E119,\"\")","v":""},{"$f":"IF('liste engagés'!$G119=10,'liste engagés'!K119,\"\")","v":""},{"$f":"IF('liste engagés'!$G119=10,'liste engagés'!L119,\"\")","v":""},0]
[116,{"$f":"IF('liste engagés'!$G120=10,'liste engagés'!A120,\"\")","v":""},{"$f":"IF('liste engagés'!$G120=10,'liste engagés'!B120,\"\")","v":""},{"$f":"IF('liste engagés'!$G120=10,'liste engagés'!C120,\"\")","v":""},{"$f":"IF('liste engagés'!$G120=10,'liste engagés'!D120,\"\")","v":""},{"$f":"IF('liste engagés'!$G120=10,'liste engagés'!E120,\"\")","v":""},{"$f":"IF('liste engagés'!$G120=10,'liste engagés'!K120,\"\")","v":""},{"$f":"IF('liste engagés'!$G120=10,'liste engagés'!L120,\"\")","v":""},0]
[117,{"$f":"IF('liste engagés'!$G121=10,'liste engagés'!A121,\"\")","v":""},{"$f":"IF('liste engagés'!$G121=10,'liste engagés'!B121,\"\")","v":""},{"$f":"IF('liste engagés'!$G121=10,'liste engagés'!C121,\"\")","v":""},{"$f":"IF('liste engagés'!$G121=10,'liste engagés'!D121,\"\")","v":""},{"$f":"IF('liste engagés'!$G121=10,'liste engagés'!E121,\"\")","v":""},{"$f":"IF('liste engagés'!$G121=10,'liste engagés'!K121,\"\")","v":""},{"$f":"IF('liste engagés'!$G121=10,'liste engagés'!L121,\"\")","v":""},0]
[118,{"$f":"IF('liste engagés'!$G122=10,'liste engagés'!A122,\"\")","v":""},{"$f":"IF('liste engagés'!$G122=10,'liste engagés'!B122,\"\")","v":""},{"$f":"IF('liste engagés'!$G122=10,'liste engagés'!C122,\"\")","v":""},{"$f":"IF('liste engagés'!$G122=10,'liste engagés'!D122,\"\")","v":""},{"$f":"IF('liste engagés'!$G122=10,'liste engagés'!E122,\"\")","v":""},{"$f":"IF('liste engagés'!$G122=10,'liste engagés'!K122,\"\")","v":""},{"$f":"IF('liste engagés'!$G122=10,'liste engagés'!L122,\"\")","v":""},0]
[119,{"$f":"IF('liste engagés'!$G123=10,'liste engagés'!A123,\"\")","v":""},{"$f":"IF('liste engagés'!$G123=10,'liste engagés'!B123,\"\")","v":""},{"$f":"IF('liste engagés'!$G123=10,'liste engagés'!C123,\"\")","v":""},{"$f":"IF('liste engagés'!$G123=10,'liste engagés'!D123,\"\")","v":""},{"$f":"IF('liste engagés'!$G123=10,'liste engagés'!E123,\"\")","v":""},{"$f":"IF('liste engagés'!$G123=10,'liste engagés'!K123,\"\")","v":""},{"$f":"IF('liste engagés'!$G123=10,'liste engagés'!L123,\"\")","v":""},0]
[120,{"$f":"IF('liste engagés'!$G124=10,'liste engagés'!A124,\"\")","v":""},{"$f":"IF('liste engagés'!$G124=10,'liste engagés'!B124,\"\")","v":""},{"$f":"IF('liste engagés'!$G124=10,'liste engagés'!C124,\"\")","v":""},{"$f":"IF('liste engagés'!$G124=10,'liste engagés'!D124,\"\")","v":""},{"$f":"IF('liste engagés'!$G124=10,'liste engagés'!E124,\"\")","v":""},{"$f":"IF('liste engagés'!$G124=10,'liste engagés'!K124,\"\")","v":""},{"$f":"IF('liste engagés'!$G124=10,'liste engagés'!L124,\"\")","v":""},0]
[121,{"$f":"IF('liste engagés'!$G125=10,'liste engagés'!A125,\"\")","v":""},{"$f":"IF('liste engagés'!$G125=10,'liste engagés'!B125,\"\")","v":""},{"$f":"IF('liste engagés'!$G125=10,'liste engagés'!C125,\"\")","v":""},{"$f":"IF('liste engagés'!$G125=10,'liste engagés'!D125,\"\")","v":""},{"$f":"IF('liste engagés'!$G125=10,'liste engagés'!E125,\"\")","v":""},{"$f":"IF('liste engagés'!$G125=10,'liste engagés'!K125,\"\")","v":""},{"$f":"IF('liste engagés'!$G125=10,'liste engagés'!L125,\"\")","v":""},0]
[122,{"$f":"IF('liste engagés'!$G126=10,'liste engagés'!A126,\"\")","v":""},{"$f":"IF('liste engagés'!$G126=10,'liste engagés'!B126,\"\")","v":""},{"$f":"IF('liste engagés'!$G126=10,'liste engagés'!C126,\"\")","v":""},{"$f":"IF('liste engagés'!$G126=10,'liste engagés'!D126,\"\")","v":""},{"$f":"IF('liste engagés'!$G126=10,'liste engagés'!E126,\"\")","v":""},{"$f":"IF('liste engagés'!$G126=10,'liste engagés'!K126,\"\")","v":""},{"$f":"IF('liste engagés'!$G126=10,'liste engagés'!L126,\"\")","v":""},0]
[123,{"$f":"IF('liste engagés'!$G127=10,'liste engagés'!A127,\"\")","v":""},{"$f":"IF('liste engagés'!$G127=10,'liste engagés'!B127,\"\")","v":""},{"$f":"IF('liste engagés'!$G127=10,'liste engagés'!C127,\"\")","v":""},{"$f":"IF('liste engagés'!$G127=10,'liste engagés'!D127,\"\")","v":""},{"$f":"IF('liste engagés'!$G127=10,'liste engagés'!E127,\"\")","v":""},{"$f":"IF('liste engagés'!$G127=10,'liste engagés'!K127,\"\")","v":""},{"$f":"IF('liste engagés'!$G127=10,'liste engagés'!L127,\"\")","v":""},0]
[124,{"$f":"IF('liste engagés'!$G128=10,'liste engagés'!A128,\"\")","v":""},{"$f":"IF('liste engagés'!$G128=10,'liste engagés'!B128,\"\")","v":""},{"$f":"IF('liste engagés'!$G128=10,'liste engagés'!C128,\"\")","v":""},{"$f":"IF('liste engagés'!$G128=10,'liste engagés'!D128,\"\")","v":""},{"$f":"IF('liste engagés'!$G128=10,'liste engagés'!E128,\"\")","v":""},{"$f":"IF('liste engagés'!$G128=10,'liste engagés'!K128,\"\")","v":""},{"$f":"IF('liste engagés'!$G128=10,'liste engagés'!L128,\"\")","v":""},0]
[125,{"$f":"IF('liste engagés'!$G129=10,'liste engagés'!A129,\"\")","v":""},{"$f":"IF('liste engagés'!$G129=10,'liste engagés'!B129,\"\")","v":""},{"$f":"IF('liste engagés'!$G129=10,'liste engagés'!C129,\"\")","v":""},{"$f":"IF('liste engagés'!$G129=10,'liste engagés'!D129,\"\")","v":""},{"$f":"IF('liste engagés'!$G129=10,'liste engagés'!E129,\"\")","v":""},{"$f":"IF('liste engagés'!$G129=10,'liste engagés'!K129,\"\")","v":""},{"$f":"IF('liste engagés'!$G129=10,'liste engagés'!L129,\"\")","v":""},0]
[126,{"$f":"IF('liste engagés'!$G130=10,'liste engagés'!A130,\"\")","v":""},{"$f":"IF('liste engagés'!$G130=10,'liste engagés'!B130,\"\")","v":""},{"$f":"IF('liste engagés'!$G130=10,'liste engagés'!C130,\"\")","v":""},{"$f":"IF('liste engagés'!$G130=10,'liste engagés'!D130,\"\")","v":""},{"$f":"IF('liste engagés'!$G130=10,'liste engagés'!E130,\"\")","v":""},{"$f":"IF('liste engagés'!$G130=10,'liste engagés'!K130,\"\")","v":""},{"$f":"IF('liste engagés'!$G130=10,'liste engagés'!L130,\"\")","v":""},0]
[127,{"$f":"IF('liste engagés'!$G131=10,'liste engagés'!A131,\"\")","v":""},{"$f":"IF('liste engagés'!$G131=10,'liste engagés'!B131,\"\")","v":""},{"$f":"IF('liste engagés'!$G131=10,'liste engagés'!C131,\"\")","v":""},{"$f":"IF('liste engagés'!$G131=10,'liste engagés'!D131,\"\")","v":""},{"$f":"IF('liste engagés'!$G131=10,'liste engagés'!E131,\"\")","v":""},{"$f":"IF('liste engagés'!$G131=10,'liste engagés'!K131,\"\")","v":""},{"$f":"IF('liste engagés'!$G131=10,'liste engagés'!L131,\"\")","v":""},0]
[128,{"$f":"IF('liste engagés'!$G132=10,'liste engagés'!A132,\"\")","v":""},{"$f":"IF('liste engagés'!$G132=10,'liste engagés'!B132,\"\")","v":""},{"$f":"IF('liste engagés'!$G132=10,'liste engagés'!C132,\"\")","v":""},{"$f":"IF('liste engagés'!$G132=10,'liste engagés'!D132,\"\")","v":""},{"$f":"IF('liste engagés'!$G132=10,'liste engagés'!E132,\"\")","v":""},{"$f":"IF('liste engagés'!$G132=10,'liste engagés'!K132,\"\")","v":""},{"$f":"IF('liste engagés'!$G132=10,'liste engagés'!L132,\"\")","v":""},0]
[129,{"$f":"IF('liste engagés'!$G133=10,'liste engagés'!A133,\"\")","v":""},{"$f":"IF('liste engagés'!$G133=10,'liste engagés'!B133,\"\")","v":""},{"$f":"IF('liste engagés'!$G133=10,'liste engagés'!C133,\"\")","v":""},{"$f":"IF('liste engagés'!$G133=10,'liste engagés'!D133,\"\")","v":""},{"$f":"IF('liste engagés'!$G133=10,'liste engagés'!E133,\"\")","v":""},{"$f":"IF('liste engagés'!$G133=10,'liste engagés'!K133,\"\")","v":""},{"$f":"IF('liste engagés'!$G133=10,'liste engagés'!L133,\"\")","v":""},{"$f":"+IF(C135=\"\",0,1)","v":0}]
[{"$f":"+A135+1","v":130},{"$f":"IF('liste engagés'!$G134=10,'liste engagés'!A134,\"\")","v":""},{"$f":"IF('liste engagés'!$G134=10,'liste engagés'!B134,\"\")","v":""},{"$f":"IF('liste engagés'!$G134=10,'liste engagés'!C134,\"\")","v":""},{"$f":"IF('liste engagés'!$G134=10,'liste engagés'!D134,\"\")","v":""},{"$f":"IF('liste engagés'!$G134=10,'liste engagés'!E134,\"\")","v":""},{"$f":"IF('liste engagés'!$G134=10,'liste engagés'!K134,\"\")","v":""},{"$f":"IF('liste engagés'!$G134=10,'liste engagés'!L134,\"\")","v":""},0]
[131,{"$f":"IF('liste engagés'!$G135=10,'liste engagés'!A135,\"\")","v":""},{"$f":"IF('liste engagés'!$G135=10,'liste engagés'!B135,\"\")","v":""},{"$f":"IF('liste engagés'!$G135=10,'liste engagés'!C135,\"\")","v":""},{"$f":"IF('liste engagés'!$G135=10,'liste engagés'!D135,\"\")","v":""},{"$f":"IF('liste engagés'!$G135=10,'liste engagés'!E135,\"\")","v":""},{"$f":"IF('liste engagés'!$G135=10,'liste engagés'!K135,\"\")","v":""},{"$f":"IF('liste engagés'!$G135=10,'liste engagés'!L135,\"\")","v":""},0]
[132,{"$f":"IF('liste engagés'!$G136=10,'liste engagés'!A136,\"\")","v":""},{"$f":"IF('liste engagés'!$G136=10,'liste engagés'!B136,\"\")","v":""},{"$f":"IF('liste engagés'!$G136=10,'liste engagés'!C136,\"\")","v":""},{"$f":"IF('liste engagés'!$G136=10,'liste engagés'!D136,\"\")","v":""},{"$f":"IF('liste engagés'!$G136=10,'liste engagés'!E136,\"\")","v":""},{"$f":"IF('liste engagés'!$G136=10,'liste engagés'!K136,\"\")","v":""},{"$f":"IF('liste engagés'!$G136=10,'liste engagés'!L136,\"\")","v":""},0]
[133,{"$f":"IF('liste engagés'!$G137=10,'liste engagés'!A137,\"\")","v":""},{"$f":"IF('liste engagés'!$G137=10,'liste engagés'!B137,\"\")","v":""},{"$f":"IF('liste engagés'!$G137=10,'liste engagés'!C137,\"\")","v":""},{"$f":"IF('liste engagés'!$G137=10,'liste engagés'!D137,\"\")","v":""},{"$f":"IF('liste engagés'!$G137=10,'liste engagés'!E137,\"\")","v":""},{"$f":"IF('liste engagés'!$G137=10,'liste engagés'!K137,\"\")","v":""},{"$f":"IF('liste engagés'!$G137=10,'liste engagés'!L137,\"\")","v":""},0]
[134,{"$f":"IF('liste engagés'!$G139=10,'liste engagés'!A139,\"\")","v":""},{"$f":"IF('liste engagés'!$G139=10,'liste engagés'!B139,\"\")","v":""},{"$f":"IF('liste engagés'!$G139=10,'liste engagés'!C139,\"\")","v":""},{"$f":"IF('liste engagés'!$G139=10,'liste engagés'!D139,\"\")","v":""},{"$f":"IF('liste engagés'!$G139=10,'liste engagés'!E139,\"\")","v":""},{"$f":"IF('liste engagés'!$G139=10,'liste engagés'!K139,\"\")","v":""},{"$f":"IF('liste engagés'!$G139=10,'liste engagés'!L139,\"\")","v":""},0]
[135,{"$f":"IF('liste engagés'!$G140=10,'liste engagés'!A140,\"\")","v":""},{"$f":"IF('liste engagés'!$G140=10,'liste engagés'!B140,\"\")","v":""},{"$f":"IF('liste engagés'!$G140=10,'liste engagés'!C140,\"\")","v":""},{"$f":"IF('liste engagés'!$G140=10,'liste engagés'!D140,\"\")","v":""},{"$f":"IF('liste engagés'!$G140=10,'liste engagés'!E140,\"\")","v":""},{"$f":"IF('liste engagés'!$G140=10,'liste engagés'!K140,\"\")","v":""},{"$f":"IF('liste engagés'!$G140=10,'liste engagés'!L140,\"\")","v":""},0]
[136,{"$f":"IF('liste engagés'!$G141=10,'liste engagés'!A141,\"\")","v":""},{"$f":"IF('liste engagés'!$G141=10,'liste engagés'!B141,\"\")","v":""},{"$f":"IF('liste engagés'!$G141=10,'liste engagés'!C141,\"\")","v":""},{"$f":"IF('liste engagés'!$G141=10,'liste engagés'!D141,\"\")","v":""},{"$f":"IF('liste engagés'!$G141=10,'liste engagés'!E141,\"\")","v":""},{"$f":"IF('liste engagés'!$G141=10,'liste engagés'!K141,\"\")","v":""},{"$f":"IF('liste engagés'!$G141=10,'liste engagés'!L141,\"\")","v":""},0]
[137,{"$f":"IF('liste engagés'!$G142=10,'liste engagés'!A142,\"\")","v":""},{"$f":"IF('liste engagés'!$G142=10,'liste engagés'!B142,\"\")","v":""},{"$f":"IF('liste engagés'!$G142=10,'liste engagés'!C142,\"\")","v":""},{"$f":"IF('liste engagés'!$G142=10,'liste engagés'!D142,\"\")","v":""},{"$f":"IF('liste engagés'!$G142=10,'liste engagés'!E142,\"\")","v":""},{"$f":"IF('liste engagés'!$G142=10,'liste engagés'!K142,\"\")","v":""},{"$f":"IF('liste engagés'!$G142=10,'liste engagés'!L142,\"\")","v":""},0]
[138,{"$f":"IF('liste engagés'!$G143=10,'liste engagés'!A143,\"\")","v":""},{"$f":"IF('liste engagés'!$G143=10,'liste engagés'!B143,\"\")","v":""},{"$f":"IF('liste engagés'!$G143=10,'liste engagés'!C143,\"\")","v":""},{"$f":"IF('liste engagés'!$G143=10,'liste engagés'!D143,\"\")","v":""},{"$f":"IF('liste engagés'!$G143=10,'liste engagés'!E143,\"\")","v":""},{"$f":"IF('liste engagés'!$G143=10,'liste engagés'!K143,\"\")","v":""},{"$f":"IF('liste engagés'!$G143=10,'liste engagés'!L143,\"\")","v":""},0]
[139,{"$f":"IF('liste engagés'!$G144=10,'liste engagés'!A144,\"\")","v":""},{"$f":"IF('liste engagés'!$G144=10,'liste engagés'!B144,\"\")","v":""},{"$f":"IF('liste engagés'!$G144=10,'liste engagés'!C144,\"\")","v":""},{"$f":"IF('liste engagés'!$G144=10,'liste engagés'!D144,\"\")","v":""},{"$f":"IF('liste engagés'!$G144=10,'liste engagés'!E144,\"\")","v":""},{"$f":"IF('liste engagés'!$G144=10,'liste engagés'!K144,\"\")","v":""},{"$f":"IF('liste engagés'!$G144=10,'liste engagés'!L144,\"\")","v":""},0]
[140,{"$f":"IF('liste engagés'!$G145=10,'liste engagés'!A145,\"\")","v":""},{"$f":"IF('liste engagés'!$G145=10,'liste engagés'!B145,\"\")","v":""},{"$f":"IF('liste engagés'!$G145=10,'liste engagés'!#REF!,\"\")","v":""},{"$f":"IF('liste engagés'!$G145=10,'liste engagés'!D145,\"\")","v":""},{"$f":"IF('liste engagés'!$G145=10,'liste engagés'!E145,\"\")","v":""},{"$f":"IF('liste engagés'!$G145=10,'liste engagés'!K145,\"\")","v":""},{"$f":"IF('liste engagés'!$G145=10,'liste engagés'!L145,\"\")","v":""},0]
[141,{"$f":"IF('liste engagés'!$G146=10,'liste engagés'!A146,\"\")","v":""},{"$f":"IF('liste engagés'!$G146=10,'liste engagés'!B146,\"\")","v":""},{"$f":"IF('liste engagés'!$G146=10,'liste engagés'!C145,\"\")","v":""},{"$f":"IF('liste engagés'!$G146=10,'liste engagés'!D146,\"\")","v":""},{"$f":"IF('liste engagés'!$G146=10,'liste engagés'!E146,\"\")","v":""},{"$f":"IF('liste engagés'!$G146=10,'liste engagés'!K146,\"\")","v":""},{"$f":"IF('liste engagés'!$G146=10,'liste engagés'!L146,\"\")","v":""},0]
[142,{"$f":"IF('liste engagés'!$G147=10,'liste engagés'!A147,\"\")","v":""},{"$f":"IF('liste engagés'!$G147=10,'liste engagés'!B147,\"\")","v":""},{"$f":"IF('liste engagés'!$G147=10,'liste engagés'!C147,\"\")","v":""},{"$f":"IF('liste engagés'!$G147=10,'liste engagés'!D147,\"\")","v":""},{"$f":"IF('liste engagés'!$G147=10,'liste engagés'!E147,\"\")","v":""},{"$f":"IF('liste engagés'!$G147=10,'liste engagés'!K147,\"\")","v":""},{"$f":"IF('liste engagés'!$G147=10,'liste engagés'!L147,\"\")","v":""},0]
[143,{"$f":"IF('liste engagés'!$G148=10,'liste engagés'!A148,\"\")","v":""},{"$f":"IF('liste engagés'!$G148=10,'liste engagés'!B148,\"\")","v":""},{"$f":"IF('liste engagés'!$G148=10,'liste engagés'!C148,\"\")","v":""},{"$f":"IF('liste engagés'!$G148=10,'liste engagés'!D148,\"\")","v":""},{"$f":"IF('liste engagés'!$G148=10,'liste engagés'!E148,\"\")","v":""},{"$f":"IF('liste engagés'!$G148=10,'liste engagés'!K148,\"\")","v":""},{"$f":"IF('liste engagés'!$G148=10,'liste engagés'!L148,\"\")","v":""},0]
[144,{"$f":"IF('liste engagés'!$G149=10,'liste engagés'!A149,\"\")","v":""},{"$f":"IF('liste engagés'!$G149=10,'liste engagés'!B149,\"\")","v":""},{"$f":"IF('liste engagés'!$G149=10,'liste engagés'!C149,\"\")","v":""},{"$f":"IF('liste engagés'!$G149=10,'liste engagés'!D149,\"\")","v":""},{"$f":"IF('liste engagés'!$G149=10,'liste engagés'!E149,\"\")","v":""},{"$f":"IF('liste engagés'!$G149=10,'liste engagés'!K149,\"\")","v":""},{"$f":"IF('liste engagés'!$G149=10,'liste engagés'!L149,\"\")","v":""},0]
[145,{"$f":"IF('liste engagés'!$G150=10,'liste engagés'!A150,\"\")","v":""},{"$f":"IF('liste engagés'!$G150=10,'liste engagés'!B150,\"\")","v":""},{"$f":"IF('liste engagés'!$G150=10,'liste engagés'!C150,\"\")","v":""},{"$f":"IF('liste engagés'!$G150=10,'liste engagés'!D150,\"\")","v":""},{"$f":"IF('liste engagés'!$G150=10,'liste engagés'!E150,\"\")","v":""},{"$f":"IF('liste engagés'!$G150=10,'liste engagés'!K150,\"\")","v":""},{"$f":"IF('liste engagés'!$G150=10,'liste engagés'!L150,\"\")","v":""},0]
[146,{"$f":"IF('liste engagés'!$G151=10,'liste engagés'!A151,\"\")","v":""},{"$f":"IF('liste engagés'!$G151=10,'liste engagés'!B151,\"\")","v":""},{"$f":"IF('liste engagés'!$G151=10,'liste engagés'!C151,\"\")","v":""},{"$f":"IF('liste engagés'!$G151=10,'liste engagés'!D151,\"\")","v":""},{"$f":"IF('liste engagés'!$G151=10,'liste engagés'!E151,\"\")","v":""},{"$f":"IF('liste engagés'!$G151=10,'liste engagés'!K151,\"\")","v":""},{"$f":"IF('liste engagés'!$G151=10,'liste engagés'!L151,\"\")","v":""},0]
[147,{"$f":"IF('liste engagés'!$G152=10,'liste engagés'!A152,\"\")","v":""},{"$f":"IF('liste engagés'!$G152=10,'liste engagés'!B152,\"\")","v":""},{"$f":"IF('liste engagés'!$G152=10,'liste engagés'!C152,\"\")","v":""},{"$f":"IF('liste engagés'!$G152=10,'liste engagés'!D152,\"\")","v":""},{"$f":"IF('liste engagés'!$G152=10,'liste engagés'!E152,\"\")","v":""},{"$f":"IF('liste engagés'!$G152=10,'liste engagés'!K152,\"\")","v":""},{"$f":"IF('liste engagés'!$G152=10,'liste engagés'!L152,\"\")","v":""},0]
[148,{"$f":"IF('liste engagés'!$G153=10,'liste engagés'!A153,\"\")","v":""},{"$f":"IF('liste engagés'!$G153=10,'liste engagés'!B153,\"\")","v":""},{"$f":"IF('liste engagés'!$G153=10,'liste engagés'!C153,\"\")","v":""},{"$f":"IF('liste engagés'!$G153=10,'liste engagés'!D153,\"\")","v":""},{"$f":"IF('liste engagés'!$G153=10,'liste engagés'!E153,\"\")","v":""},{"$f":"IF('liste engagés'!$G153=10,'liste engagés'!K153,\"\")","v":""},{"$f":"IF('liste engagés'!$G153=10,'liste engagés'!L153,\"\")","v":""},0]
[149,{"$f":"IF('liste engagés'!$G154=10,'liste engagés'!A154,\"\")","v":""},{"$f":"IF('liste engagés'!$G154=10,'liste engagés'!B154,\"\")","v":""},{"$f":"IF('liste engagés'!$G154=10,'liste engagés'!C154,\"\")","v":""},{"$f":"IF('liste engagés'!$G154=10,'liste engagés'!D154,\"\")","v":""},{"$f":"IF('liste engagés'!$G154=10,'liste engagés'!E154,\"\")","v":""},{"$f":"IF('liste engagés'!$G154=10,'liste engagés'!K154,\"\")","v":""},{"$f":"IF('liste engagés'!$G154=10,'liste engagés'!L154,\"\")","v":""},0]
[150,{"$f":"IF('liste engagés'!$G155=10,'liste engagés'!A155,\"\")","v":""},{"$f":"IF('liste engagés'!$G155=10,'liste engagés'!B155,\"\")","v":""},{"$f":"IF('liste engagés'!$G155=10,'liste engagés'!C155,\"\")","v":""},{"$f":"IF('liste engagés'!$G155=10,'liste engagés'!D155,\"\")","v":""},{"$f":"IF('liste engagés'!$G155=10,'liste engagés'!E155,\"\")","v":""},{"$f":"IF('liste engagés'!$G155=10,'liste engagés'!K155,\"\")","v":""},{"$f":"IF('liste engagés'!$G155=10,'liste engagés'!L155,\"\")","v":""},0]
[151,{"$f":"IF('liste engagés'!$G156=10,'liste engagés'!A156,\"\")","v":""},{"$f":"IF('liste engagés'!$G156=10,'liste engagés'!B156,\"\")","v":""},{"$f":"IF('liste engagés'!$G156=10,'liste engagés'!C156,\"\")","v":""},{"$f":"IF('liste engagés'!$G156=10,'liste engagés'!D156,\"\")","v":""},{"$f":"IF('liste engagés'!$G156=10,'liste engagés'!E156,\"\")","v":""},{"$f":"IF('liste engagés'!$G156=10,'liste engagés'!K156,\"\")","v":""},{"$f":"IF('liste engagés'!$G156=10,'liste engagés'!L156,\"\")","v":""},0]
[152,{"$f":"IF('liste engagés'!$G157=10,'liste engagés'!A157,\"\")","v":""},{"$f":"IF('liste engagés'!$G157=10,'liste engagés'!B157,\"\")","v":""},{"$f":"IF('liste engagés'!$G157=10,'liste engagés'!C157,\"\")","v":""},{"$f":"IF('liste engagés'!$G157=10,'liste engagés'!D157,\"\")","v":""},{"$f":"IF('liste engagés'!$G157=10,'liste engagés'!E157,\"\")","v":""},{"$f":"IF('liste engagés'!$G157=10,'liste engagés'!K157,\"\")","v":""},{"$f":"IF('liste engagés'!$G157=10,'liste engagés'!L157,\"\")","v":""},0]
[153,{"$f":"IF('liste engagés'!$G158=10,'liste engagés'!A158,\"\")","v":""},{"$f":"IF('liste engagés'!$G158=10,'liste engagés'!B158,\"\")","v":""},{"$f":"IF('liste engagés'!$G158=10,'liste engagés'!C158,\"\")","v":""},{"$f":"IF('liste engagés'!$G158=10,'liste engagés'!D158,\"\")","v":""},{"$f":"IF('liste engagés'!$G158=10,'liste engagés'!E158,\"\")","v":""},{"$f":"IF('liste engagés'!$G158=10,'liste engagés'!K158,\"\")","v":""},{"$f":"IF('liste engagés'!$G158=10,'liste engagés'!L158,\"\")","v":""},0]
[154,{"$f":"IF('liste engagés'!$G159=10,'liste engagés'!A159,\"\")","v":""},{"$f":"IF('liste engagés'!$G159=10,'liste engagés'!B159,\"\")","v":""},{"$f":"IF('liste engagés'!$G159=10,'liste engagés'!C159,\"\")","v":""},{"$f":"IF('liste engagés'!$G159=10,'liste engagés'!D159,\"\")","v":""},{"$f":"IF('liste engagés'!$G159=10,'liste engagés'!E159,\"\")","v":""},{"$f":"IF('liste engagés'!$G159=10,'liste engagés'!K159,\"\")","v":""},{"$f":"IF('liste engagés'!$G159=10,'liste engagés'!L159,\"\")","v":""},0]
[155,{"$f":"IF('liste engagés'!$G160=10,'liste engagés'!A160,\"\")","v":""},{"$f":"IF('liste engagés'!$G160=10,'liste engagés'!B160,\"\")","v":""},{"$f":"IF('liste engagés'!$G160=10,'liste engagés'!C160,\"\")","v":""},{"$f":"IF('liste engagés'!$G160=10,'liste engagés'!D160,\"\")","v":""},{"$f":"IF('liste engagés'!$G160=10,'liste engagés'!E160,\"\")","v":""},{"$f":"IF('liste engagés'!$G160=10,'liste engagés'!K160,\"\")","v":""},{"$f":"IF('liste engagés'!$G160=10,'liste engagés'!L160,\"\")","v":""},0]
[156,{"$f":"IF('liste engagés'!$G161=10,'liste engagés'!A161,\"\")","v":""},{"$f":"IF('liste engagés'!$G161=10,'liste engagés'!B161,\"\")","v":""},{"$f":"IF('liste engagés'!$G161=10,'liste engagés'!C161,\"\")","v":""},{"$f":"IF('liste engagés'!$G161=10,'liste engagés'!D161,\"\")","v":""},{"$f":"IF('liste engagés'!$G161=10,'liste engagés'!E161,\"\")","v":""},{"$f":"IF('liste engagés'!$G161=10,'liste engagés'!K161,\"\")","v":""},{"$f":"IF('liste engagés'!$G161=10,'liste engagés'!L161,\"\")","v":""},0]
[157,{"$f":"IF('liste engagés'!$G162=10,'liste engagés'!A162,\"\")","v":""},{"$f":"IF('liste engagés'!$G162=10,'liste engagés'!B162,\"\")","v":""},{"$f":"IF('liste engagés'!$G162=10,'liste engagés'!C162,\"\")","v":""},{"$f":"IF('liste engagés'!$G162=10,'liste engagés'!D162,\"\")","v":""},{"$f":"IF('liste engagés'!$G162=10,'liste engagés'!E162,\"\")","v":""},{"$f":"IF('liste engagés'!$G162=10,'liste engagés'!K162,\"\")","v":""},{"$f":"IF('liste engagés'!$G162=10,'liste engagés'!L162,\"\")","v":""},0]
[158,{"$f":"IF('liste engagés'!$G163=10,'liste engagés'!A163,\"\")","v":""},{"$f":"IF('liste engagés'!$G163=10,'liste engagés'!B163,\"\")","v":""},{"$f":"IF('liste engagés'!$G163=10,'liste engagés'!C163,\"\")","v":""},{"$f":"IF('liste engagés'!$G163=10,'liste engagés'!D163,\"\")","v":""},{"$f":"IF('liste engagés'!$G163=10,'liste engagés'!E163,\"\")","v":""},{"$f":"IF('liste engagés'!$G163=10,'liste engagés'!K163,\"\")","v":""},{"$f":"IF('liste engagés'!$G163=10,'liste engagés'!L163,\"\")","v":""},0]
[159,{"$f":"IF('liste engagés'!$G164=10,'liste engagés'!A164,\"\")","v":""},{"$f":"IF('liste engagés'!$G164=10,'liste engagés'!B164,\"\")","v":""},{"$f":"IF('liste engagés'!$G164=10,'liste engagés'!C164,\"\")","v":""},{"$f":"IF('liste engagés'!$G164=10,'liste engagés'!D164,\"\")","v":""},{"$f":"IF('liste engagés'!$G164=10,'liste engagés'!E164,\"\")","v":""},{"$f":"IF('liste engagés'!$G164=10,'liste engagés'!K164,\"\")","v":""},{"$f":"IF('liste engagés'!$G164=10,'liste engagés'!L164,\"\")","v":""},0]
[160,{"$f":"IF('liste engagés'!$G165=10,'liste engagés'!A165,\"\")","v":""},{"$f":"IF('liste engagés'!$G165=10,'liste engagés'!B165,\"\")","v":""},{"$f":"IF('liste engagés'!$G165=10,'liste engagés'!C165,\"\")","v":""},{"$f":"IF('liste engagés'!$G165=10,'liste engagés'!D165,\"\")","v":""},{"$f":"IF('liste engagés'!$G165=10,'liste engagés'!E165,\"\")","v":""},{"$f":"IF('liste engagés'!$G165=10,'liste engagés'!K165,\"\")","v":""},{"$f":"IF('liste engagés'!$G165=10,'liste engagés'!L165,\"\")","v":""},0]
[161,{"$f":"IF('liste engagés'!$G166=10,'liste engagés'!A166,\"\")","v":""},{"$f":"IF('liste engagés'!$G166=10,'liste engagés'!B166,\"\")","v":""},{"$f":"IF('liste engagés'!$G166=10,'liste engagés'!C166,\"\")","v":""},{"$f":"IF('liste engagés'!$G166=10,'liste engagés'!D166,\"\")","v":""},{"$f":"IF('liste engagés'!$G166=10,'liste engagés'!E166,\"\")","v":""},{"$f":"IF('liste engagés'!$G166=10,'liste engagés'!K166,\"\")","v":""},{"$f":"IF('liste engagés'!$G166=10,'liste engagés'!L166,\"\")","v":""},0]
[162,{"$f":"IF('liste engagés'!$G167=10,'liste engagés'!A167,\"\")","v":""},{"$f":"IF('liste engagés'!$G167=10,'liste engagés'!B167,\"\")","v":""},{"$f":"IF('liste engagés'!$G167=10,'liste engagés'!C167,\"\")","v":""},{"$f":"IF('liste engagés'!$G167=10,'liste engagés'!D167,\"\")","v":""},{"$f":"IF('liste engagés'!$G167=10,'liste engagés'!E167,\"\")","v":""},{"$f":"IF('liste engagés'!$G167=10,'liste engagés'!K167,\"\")","v":""},{"$f":"IF('liste engagés'!$G167=10,'liste engagés'!L167,\"\")","v":""},0]
[163,{"$f":"IF('liste engagés'!$G168=10,'liste engagés'!A168,\"\")","v":""},{"$f":"IF('liste engagés'!$G168=10,'liste engagés'!B168,\"\")","v":""},{"$f":"IF('liste engagés'!$G168=10,'liste engagés'!C168,\"\")","v":""},{"$f":"IF('liste engagés'!$G168=10,'liste engagés'!D168,\"\")","v":""},{"$f":"IF('liste engagés'!$G168=10,'liste engagés'!E168,\"\")","v":""},{"$f":"IF('liste engagés'!$G168=10,'liste engagés'!K168,\"\")","v":""},{"$f":"IF('liste engagés'!$G168=10,'liste engagés'!L168,\"\")","v":""},0]
[164,{"$f":"IF('liste engagés'!$G169=10,'liste engagés'!A169,\"\")","v":""},{"$f":"IF('liste engagés'!$G169=10,'liste engagés'!B169,\"\")","v":""},{"$f":"IF('liste engagés'!$G169=10,'liste engagés'!C169,\"\")","v":""},{"$f":"IF('liste engagés'!$G169=10,'liste engagés'!D169,\"\")","v":""},{"$f":"IF('liste engagés'!$G169=10,'liste engagés'!E169,\"\")","v":""},{"$f":"IF('liste engagés'!$G169=10,'liste engagés'!K169,\"\")","v":""},{"$f":"IF('liste engagés'!$G169=10,'liste engagés'!L169,\"\")","v":""},0]
[165,{"$f":"IF('liste engagés'!$G170=10,'liste engagés'!A170,\"\")","v":""},{"$f":"IF('liste engagés'!$G170=10,'liste engagés'!B170,\"\")","v":""},{"$f":"IF('liste engagés'!$G170=10,'liste engagés'!C170,\"\")","v":""},{"$f":"IF('liste engagés'!$G170=10,'liste engagés'!D170,\"\")","v":""},{"$f":"IF('liste engagés'!$G170=10,'liste engagés'!E170,\"\")","v":""},{"$f":"IF('liste engagés'!$G170=10,'liste engagés'!K170,\"\")","v":""},{"$f":"IF('liste engagés'!$G170=10,'liste engagés'!L170,\"\")","v":""},0]
[166,{"$f":"IF('liste engagés'!$G171=10,'liste engagés'!A171,\"\")","v":""},{"$f":"IF('liste engagés'!$G171=10,'liste engagés'!B171,\"\")","v":""},{"$f":"IF('liste engagés'!$G171=10,'liste engagés'!C171,\"\")","v":""},{"$f":"IF('liste engagés'!$G171=10,'liste engagés'!D171,\"\")","v":""},{"$f":"IF('liste engagés'!$G171=10,'liste engagés'!E171,\"\")","v":""},{"$f":"IF('liste engagés'!$G171=10,'liste engagés'!K171,\"\")","v":""},{"$f":"IF('liste engagés'!$G171=10,'liste engagés'!L171,\"\")","v":""},0]
[167,{"$f":"IF('liste engagés'!$G172=10,'liste engagés'!A172,\"\")","v":""},{"$f":"IF('liste engagés'!$G172=10,'liste engagés'!B172,\"\")","v":""},{"$f":"IF('liste engagés'!$G172=10,'liste engagés'!C172,\"\")","v":""},{"$f":"IF('liste engagés'!$G172=10,'liste engagés'!D172,\"\")","v":""},{"$f":"IF('liste engagés'!$G172=10,'liste engagés'!E172,\"\")","v":""},{"$f":"IF('liste engagés'!$G172=10,'liste engagés'!K172,\"\")","v":""},{"$f":"IF('liste engagés'!$G172=10,'liste engagés'!L172,\"\")","v":""},0]
[168,{"$f":"IF('liste engagés'!$G173=10,'liste engagés'!A173,\"\")","v":""},{"$f":"IF('liste engagés'!$G173=10,'liste engagés'!B173,\"\")","v":""},{"$f":"IF('liste engagés'!$G173=10,'liste engagés'!C173,\"\")","v":""},{"$f":"IF('liste engagés'!$G173=10,'liste engagés'!D173,\"\")","v":""},{"$f":"IF('liste engagés'!$G173=10,'liste engagés'!E173,\"\")","v":""},{"$f":"IF('liste engagés'!$G173=10,'liste engagés'!K173,\"\")","v":""},{"$f":"IF('liste engagés'!$G173=10,'liste engagés'!L173,\"\")","v":""},0]
[169,{"$f":"IF('liste engagés'!$G174=10,'liste engagés'!A174,\"\")","v":""},{"$f":"IF('liste engagés'!$G174=10,'liste engagés'!B174,\"\")","v":""},{"$f":"IF('liste engagés'!$G174=10,'liste engagés'!C174,\"\")","v":""},{"$f":"IF('liste engagés'!$G174=10,'liste engagés'!D174,\"\")","v":""},{"$f":"IF('liste engagés'!$G174=10,'liste engagés'!E174,\"\")","v":""},{"$f":"IF('liste engagés'!$G174=10,'liste engagés'!K174,\"\")","v":""},{"$f":"IF('liste engagés'!$G174=10,'liste engagés'!L174,\"\")","v":""},0]
[170,{"$f":"IF('liste engagés'!$G175=10,'liste engagés'!A175,\"\")","v":""},{"$f":"IF('liste engagés'!$G175=10,'liste engagés'!B175,\"\")","v":""},{"$f":"IF('liste engagés'!$G175=10,'liste engagés'!C175,\"\")","v":""},{"$f":"IF('liste engagés'!$G175=10,'liste engagés'!D175,\"\")","v":""},{"$f":"IF('liste engagés'!$G175=10,'liste engagés'!E175,\"\")","v":""},{"$f":"IF('liste engagés'!$G175=10,'liste engagés'!K175,\"\")","v":""},{"$f":"IF('liste engagés'!$G175=10,'liste engagés'!L175,\"\")","v":""},0]
[171,{"$f":"IF('liste engagés'!$G176=10,'liste engagés'!A176,\"\")","v":""},{"$f":"IF('liste engagés'!$G176=10,'liste engagés'!B176,\"\")","v":""},{"$f":"IF('liste engagés'!$G176=10,'liste engagés'!C176,\"\")","v":""},{"$f":"IF('liste engagés'!$G176=10,'liste engagés'!D176,\"\")","v":""},{"$f":"IF('liste engagés'!$G176=10,'liste engagés'!E176,\"\")","v":""},{"$f":"IF('liste engagés'!$G176=10,'liste engagés'!K176,\"\")","v":""},{"$f":"IF('liste engagés'!$G176=10,'liste engagés'!L176,\"\")","v":""},0]
[172,{"$f":"IF('liste engagés'!$G177=10,'liste engagés'!A177,\"\")","v":""},{"$f":"IF('liste engagés'!$G177=10,'liste engagés'!B177,\"\")","v":""},{"$f":"IF('liste engagés'!$G177=10,'liste engagés'!C177,\"\")","v":""},{"$f":"IF('liste engagés'!$G177=10,'liste engagés'!D177,\"\")","v":""},{"$f":"IF('liste engagés'!$G177=10,'liste engagés'!E177,\"\")","v":""},{"$f":"IF('liste engagés'!$G177=10,'liste engagés'!K177,\"\")","v":""},{"$f":"IF('liste engagés'!$G177=10,'liste engagés'!L177,\"\")","v":""},0]
[173,{"$f":"IF('liste engagés'!$G178=10,'liste engagés'!A178,\"\")","v":""},{"$f":"IF('liste engagés'!$G178=10,'liste engagés'!B178,\"\")","v":""},{"$f":"IF('liste engagés'!$G178=10,'liste engagés'!C178,\"\")","v":""},{"$f":"IF('liste engagés'!$G178=10,'liste engagés'!D178,\"\")","v":""},{"$f":"IF('liste engagés'!$G178=10,'liste engagés'!E178,\"\")","v":""},{"$f":"IF('liste engagés'!$G178=10,'liste engagés'!K178,\"\")","v":""},{"$f":"IF('liste engagés'!$G178=10,'liste engagés'!L178,\"\")","v":""},0]
[174,{"$f":"IF('liste engagés'!$G179=10,'liste engagés'!A179,\"\")","v":""},{"$f":"IF('liste engagés'!$G179=10,'liste engagés'!B179,\"\")","v":""},{"$f":"IF('liste engagés'!$G179=10,'liste engagés'!C179,\"\")","v":""},{"$f":"IF('liste engagés'!$G179=10,'liste engagés'!D179,\"\")","v":""},{"$f":"IF('liste engagés'!$G179=10,'liste engagés'!E179,\"\")","v":""},{"$f":"IF('liste engagés'!$G179=10,'liste engagés'!K179,\"\")","v":""},{"$f":"IF('liste engagés'!$G179=10,'liste engagés'!L179,\"\")","v":""},0]
[175,{"$f":"IF('liste engagés'!$G180=10,'liste engagés'!A180,\"\")","v":""},{"$f":"IF('liste engagés'!$G180=10,'liste engagés'!B180,\"\")","v":""},{"$f":"IF('liste engagés'!$G180=10,'liste engagés'!C180,\"\")","v":""},{"$f":"IF('liste engagés'!$G180=10,'liste engagés'!D180,\"\")","v":""},{"$f":"IF('liste engagés'!$G180=10,'liste engagés'!E180,\"\")","v":""},{"$f":"IF('liste engagés'!$G180=10,'liste engagés'!K180,\"\")","v":""},{"$f":"IF('liste engagés'!$G180=10,'liste engagés'!L180,\"\")","v":""},0]
[176,{"$f":"IF('liste engagés'!$G181=10,'liste engagés'!A181,\"\")","v":""},{"$f":"IF('liste engagés'!$G181=10,'liste engagés'!B181,\"\")","v":""},{"$f":"IF('liste engagés'!$G181=10,'liste engagés'!C181,\"\")","v":""},{"$f":"IF('liste engagés'!$G181=10,'liste engagés'!D181,\"\")","v":""},{"$f":"IF('liste engagés'!$G181=10,'liste engagés'!E181,\"\")","v":""},{"$f":"IF('liste engagés'!$G181=10,'liste engagés'!K181,\"\")","v":""},{"$f":"IF('liste engagés'!$G181=10,'liste engagés'!L181,\"\")","v":""},0]
[177,{"$f":"IF('liste engagés'!$G182=10,'liste engagés'!A182,\"\")","v":""},{"$f":"IF('liste engagés'!$G182=10,'liste engagés'!B182,\"\")","v":""},{"$f":"IF('liste engagés'!$G182=10,'liste engagés'!C182,\"\")","v":""},{"$f":"IF('liste engagés'!$G182=10,'liste engagés'!D182,\"\")","v":""},{"$f":"IF('liste engagés'!$G182=10,'liste engagés'!E182,\"\")","v":""},{"$f":"IF('liste engagés'!$G182=10,'liste engagés'!K182,\"\")","v":""},{"$f":"IF('liste engagés'!$G182=10,'liste engagés'!L182,\"\")","v":""},0]
[178,{"$f":"IF('liste engagés'!$G183=10,'liste engagés'!A183,\"\")","v":""},{"$f":"IF('liste engagés'!$G183=10,'liste engagés'!B183,\"\")","v":""},{"$f":"IF('liste engagés'!$G183=10,'liste engagés'!C183,\"\")","v":""},{"$f":"IF('liste engagés'!$G183=10,'liste engagés'!D183,\"\")","v":""},{"$f":"IF('liste engagés'!$G183=10,'liste engagés'!E183,\"\")","v":""},{"$f":"IF('liste engagés'!$G183=10,'liste engagés'!K183,\"\")","v":""},{"$f":"IF('liste engagés'!$G183=10,'liste engagés'!L183,\"\")","v":""},0]
[179,{"$f":"IF('liste engagés'!$G184=10,'liste engagés'!A184,\"\")","v":""},{"$f":"IF('liste engagés'!$G184=10,'liste engagés'!B184,\"\")","v":""},{"$f":"IF('liste engagés'!$G184=10,'liste engagés'!C184,\"\")","v":""},{"$f":"IF('liste engagés'!$G184=10,'liste engagés'!D184,\"\")","v":""},{"$f":"IF('liste engagés'!$G184=10,'liste engagés'!E184,\"\")","v":""},{"$f":"IF('liste engagés'!$G184=10,'liste engagés'!K184,\"\")","v":""},{"$f":"IF('liste engagés'!$G184=10,'liste engagés'!L184,\"\")","v":""},0]
[180,{"$f":"IF('liste engagés'!$G185=10,'liste engagés'!A185,\"\")","v":""},{"$f":"IF('liste engagés'!$G185=10,'liste engagés'!B185,\"\")","v":""},{"$f":"IF('liste engagés'!$G185=10,'liste engagés'!C185,\"\")","v":""},{"$f":"IF('liste engagés'!$G185=10,'liste engagés'!D185,\"\")","v":""},{"$f":"IF('liste engagés'!$G185=10,'liste engagés'!E185,\"\")","v":""},{"$f":"IF('liste engagés'!$G185=10,'liste engagés'!K185,\"\")","v":""},{"$f":"IF('liste engagés'!$G185=10,'liste engagés'!L185,\"\")","v":""},0]
[181,{"$f":"IF('liste engagés'!$G186=10,'liste engagés'!A186,\"\")","v":""},{"$f":"IF('liste engagés'!$G186=10,'liste engagés'!B186,\"\")","v":""},{"$f":"IF('liste engagés'!$G186=10,'liste engagés'!C186,\"\")","v":""},{"$f":"IF('liste engagés'!$G186=10,'liste engagés'!D186,\"\")","v":""},{"$f":"IF('liste engagés'!$G186=10,'liste engagés'!E186,\"\")","v":""},{"$f":"IF('liste engagés'!$G186=10,'liste engagés'!K186,\"\")","v":""},{"$f":"IF('liste engagés'!$G186=10,'liste engagés'!L186,\"\")","v":""},0]
[182,{"$f":"IF('liste engagés'!$G187=10,'liste engagés'!A187,\"\")","v":""},{"$f":"IF('liste engagés'!$G187=10,'liste engagés'!B187,\"\")","v":""},{"$f":"IF('liste engagés'!$G187=10,'liste engagés'!C187,\"\")","v":""},{"$f":"IF('liste engagés'!$G187=10,'liste engagés'!D187,\"\")","v":""},{"$f":"IF('liste engagés'!$G187=10,'liste engagés'!E187,\"\")","v":""},{"$f":"IF('liste engagés'!$G187=10,'liste engagés'!K187,\"\")","v":""},{"$f":"IF('liste engagés'!$G187=10,'liste engagés'!L187,\"\")","v":""},0]
[183,{"$f":"IF('liste engagés'!$G188=10,'liste engagés'!A188,\"\")","v":""},{"$f":"IF('liste engagés'!$G188=10,'liste engagés'!B188,\"\")","v":""},{"$f":"IF('liste engagés'!$G188=10,'liste engagés'!C188,\"\")","v":""},{"$f":"IF('liste engagés'!$G188=10,'liste engagés'!D188,\"\")","v":""},{"$f":"IF('liste engagés'!$G188=10,'liste engagés'!E188,\"\")","v":""},{"$f":"IF('liste engagés'!$G188=10,'liste engagés'!K188,\"\")","v":""},{"$f":"IF('liste engagés'!$G188=10,'liste engagés'!L188,\"\")","v":""},0]
[184,{"$f":"IF('liste engagés'!$G189=10,'liste engagés'!A189,\"\")","v":""},{"$f":"IF('liste engagés'!$G189=10,'liste engagés'!B189,\"\")","v":""},{"$f":"IF('liste engagés'!$G189=10,'liste engagés'!C189,\"\")","v":""},{"$f":"IF('liste engagés'!$G189=10,'liste engagés'!D189,\"\")","v":""},{"$f":"IF('liste engagés'!$G189=10,'liste engagés'!E189,\"\")","v":""},{"$f":"IF('liste engagés'!$G189=10,'liste engagés'!K189,\"\")","v":""},{"$f":"IF('liste engagés'!$G189=10,'liste engagés'!L189,\"\")","v":""},0]
[185,{"$f":"IF('liste engagés'!$G190=10,'liste engagés'!A190,\"\")","v":""},{"$f":"IF('liste engagés'!$G190=10,'liste engagés'!B190,\"\")","v":""},{"$f":"IF('liste engagés'!$G190=10,'liste engagés'!C190,\"\")","v":""},{"$f":"IF('liste engagés'!$G190=10,'liste engagés'!D190,\"\")","v":""},{"$f":"IF('liste engagés'!$G190=10,'liste engagés'!E190,\"\")","v":""},{"$f":"IF('liste engagés'!$G190=10,'liste engagés'!K190,\"\")","v":""},{"$f":"IF('liste engagés'!$G190=10,'liste engagés'!L190,\"\")","v":""},0]
[186,{"$f":"IF('liste engagés'!$G191=10,'liste engagés'!A191,\"\")","v":""},{"$f":"IF('liste engagés'!$G191=10,'liste engagés'!B191,\"\")","v":""},{"$f":"IF('liste engagés'!$G191=10,'liste engagés'!C191,\"\")","v":""},{"$f":"IF('liste engagés'!$G191=10,'liste engagés'!D191,\"\")","v":""},{"$f":"IF('liste engagés'!$G191=10,'liste engagés'!E191,\"\")","v":""},{"$f":"IF('liste engagés'!$G191=10,'liste engagés'!K191,\"\")","v":""},{"$f":"IF('liste engagés'!$G191=10,'liste engagés'!L191,\"\")","v":""},0]
[187,{"$f":"IF('liste engagés'!$G192=10,'liste engagés'!A192,\"\")","v":""},{"$f":"IF('liste engagés'!$G192=10,'liste engagés'!B192,\"\")","v":""},{"$f":"IF('liste engagés'!$G192=10,'liste engagés'!C192,\"\")","v":""},{"$f":"IF('liste engagés'!$G192=10,'liste engagés'!D192,\"\")","v":""},{"$f":"IF('liste engagés'!$G192=10,'liste engagés'!E192,\"\")","v":""},{"$f":"IF('liste engagés'!$G192=10,'liste engagés'!K192,\"\")","v":""},{"$f":"IF('liste engagés'!$G192=10,'liste engagés'!L192,\"\")","v":""},0]
[188,{"$f":"IF('liste engagés'!$G193=10,'liste engagés'!A193,\"\")","v":""},{"$f":"IF('liste engagés'!$G193=10,'liste engagés'!B193,\"\")","v":""},{"$f":"IF('liste engagés'!$G193=10,'liste engagés'!C193,\"\")","v":""},{"$f":"IF('liste engagés'!$G193=10,'liste engagés'!D193,\"\")","v":""},{"$f":"IF('liste engagés'!$G193=10,'liste engagés'!E193,\"\")","v":""},{"$f":"IF('liste engagés'!$G193=10,'liste engagés'!K193,\"\")","v":""},{"$f":"IF('liste engagés'!$G193=10,'liste engagés'!L193,\"\")","v":""},0]
[189,{"$f":"IF('liste engagés'!$G194=10,'liste engagés'!A194,\"\")","v":""},{"$f":"IF('liste engagés'!$G194=10,'liste engagés'!B194,\"\")","v":""},{"$f":"IF('liste engagés'!$G194=10,'liste engagés'!C194,\"\")","v":""},{"$f":"IF('liste engagés'!$G194=10,'liste engagés'!D194,\"\")","v":""},{"$f":"IF('liste engagés'!$G194=10,'liste engagés'!E194,\"\")","v":""},{"$f":"IF('liste engagés'!$G194=10,'liste engagés'!K194,\"\")","v":""},{"$f":"IF('liste engagés'!$G194=10,'liste engagés'!L194,\"\")","v":""},0]
[190,{"$f":"IF('liste engagés'!$G195=10,'liste engagés'!A195,\"\")","v":""},{"$f":"IF('liste engagés'!$G195=10,'liste engagés'!B195,\"\")","v":""},{"$f":"IF('liste engagés'!$G195=10,'liste engagés'!C195,\"\")","v":""},{"$f":"IF('liste engagés'!$G195=10,'liste engagés'!D195,\"\")","v":""},{"$f":"IF('liste engagés'!$G195=10,'liste engagés'!E195,\"\")","v":""},{"$f":"IF('liste engagés'!$G195=10,'liste engagés'!K195,\"\")","v":""},{"$f":"IF('liste engagés'!$G195=10,'liste engagés'!L195,\"\")","v":""},0]
[191,{"$f":"IF('liste engagés'!$G196=10,'liste engagés'!A196,\"\")","v":""},{"$f":"IF('liste engagés'!$G196=10,'liste engagés'!B196,\"\")","v":""},{"$f":"IF('liste engagés'!$G196=10,'liste engagés'!C196,\"\")","v":""},{"$f":"IF('liste engagés'!$G196=10,'liste engagés'!D196,\"\")","v":""},{"$f":"IF('liste engagés'!$G196=10,'liste engagés'!E196,\"\")","v":""},{"$f":"IF('liste engagés'!$G196=10,'liste engagés'!K196,\"\")","v":""},{"$f":"IF('liste engagés'!$G196=10,'liste engagés'!L196,\"\")","v":""},0]
[192,{"$f":"IF('liste engagés'!$G197=10,'liste engagés'!A197,\"\")","v":""},{"$f":"IF('liste engagés'!$G197=10,'liste engagés'!B197,\"\")","v":""},{"$f":"IF('liste engagés'!$G197=10,'liste engagés'!C197,\"\")","v":""},{"$f":"IF('liste engagés'!$G197=10,'liste engagés'!D197,\"\")","v":""},{"$f":"IF('liste engagés'!$G197=10,'liste engagés'!E197,\"\")","v":""},{"$f":"IF('liste engagés'!$G197=10,'liste engagés'!K197,\"\")","v":""},{"$f":"IF('liste engagés'!$G197=10,'liste engagés'!L197,\"\")","v":""},0]
[193,{"$f":"IF('liste engagés'!$G198=10,'liste engagés'!A198,\"\")","v":""},{"$f":"IF('liste engagés'!$G198=10,'liste engagés'!B198,\"\")","v":""},{"$f":"IF('liste engagés'!$G198=10,'liste engagés'!C198,\"\")","v":""},{"$f":"IF('liste engagés'!$G198=10,'liste engagés'!D198,\"\")","v":""},{"$f":"IF('liste engagés'!$G198=10,'liste engagés'!E198,\"\")","v":""},{"$f":"IF('liste engagés'!$G198=10,'liste engagés'!K198,\"\")","v":""},{"$f":"IF('liste engagés'!$G198=10,'liste engagés'!L198,\"\")","v":""},{"$f":"+IF(C199=\"\",0,1)","v":0}]
[{"$f":"+A199+1","v":194},{"$f":"IF('liste engagés'!$G199=10,'liste engagés'!A199,\"\")","v":""},{"$f":"IF('liste engagés'!$G199=10,'liste engagés'!B199,\"\")","v":""},{"$f":"IF('liste engagés'!$G199=10,'liste engagés'!C199,\"\")","v":""},{"$f":"IF('liste engagés'!$G199=10,'liste engagés'!D199,\"\")","v":""},{"$f":"IF('liste engagés'!$G199=10,'liste engagés'!E199,\"\")","v":""},{"$f":"IF('liste engagés'!$G199=10,'liste engagés'!K199,\"\")","v":""},{"$f":"IF('liste engagés'!$G199=10,'liste engagés'!L199,\"\")","v":""},0]
[195,{"$f":"IF('liste engagés'!$G200=10,'liste engagés'!A200,\"\")","v":""},{"$f":"IF('liste engagés'!$G200=10,'liste engagés'!B200,\"\")","v":""},{"$f":"IF('liste engagés'!$G200=10,'liste engagés'!C200,\"\")","v":""},{"$f":"IF('liste engagés'!$G200=10,'liste engagés'!D200,\"\")","v":""},{"$f":"IF('liste engagés'!$G200=10,'liste engagés'!E200,\"\")","v":""},{"$f":"IF('liste engagés'!$G200=10,'liste engagés'!K200,\"\")","v":""},{"$f":"IF('liste engagés'!$G200=10,'liste engagés'!L200,\"\")","v":""},0]
[196,{"$f":"IF('liste engagés'!$G201=10,'liste engagés'!A201,\"\")","v":""},{"$f":"IF('liste engagés'!$G201=10,'liste engagés'!B201,\"\")","v":""},{"$f":"IF('liste engagés'!$G201=10,'liste engagés'!C201,\"\")","v":""},{"$f":"IF('liste engagés'!$G201=10,'liste engagés'!D201,\"\")","v":""},{"$f":"IF('liste engagés'!$G201=10,'liste engagés'!E201,\"\")","v":""},{"$f":"IF('liste engagés'!$G201=10,'liste engagés'!K201,\"\")","v":""},{"$f":"IF('liste engagés'!$G201=10,'liste engagés'!L201,\"\")","v":""},0]
[197,{"$f":"IF('liste engagés'!$G202=10,'liste engagés'!A202,\"\")","v":""},{"$f":"IF('liste engagés'!$G202=10,'liste engagés'!B202,\"\")","v":""},{"$f":"IF('liste engagés'!$G202=10,'liste engagés'!C202,\"\")","v":""},{"$f":"IF('liste engagés'!$G202=10,'liste engagés'!D202,\"\")","v":""},{"$f":"IF('liste engagés'!$G202=10,'liste engagés'!E202,\"\")","v":""},{"$f":"IF('liste engagés'!$G202=10,'liste engagés'!K202,\"\")","v":""},{"$f":"IF('liste engagés'!$G202=10,'liste engagés'!L202,\"\")","v":""},0]
[198,{"$f":"IF('liste engagés'!$G203=10,'liste engagés'!A203,\"\")","v":""},{"$f":"IF('liste engagés'!$G203=10,'liste engagés'!B203,\"\")","v":""},{"$f":"IF('liste engagés'!$G203=10,'liste engagés'!C203,\"\")","v":""},{"$f":"IF('liste engagés'!$G203=10,'liste engagés'!D203,\"\")","v":""},{"$f":"IF('liste engagés'!$G203=10,'liste engagés'!E203,\"\")","v":""},{"$f":"IF('liste engagés'!$G203=10,'liste engagés'!K203,\"\")","v":""},{"$f":"IF('liste engagés'!$G203=10,'liste engagés'!L203,\"\")","v":""},0]
[199,{"$f":"IF('liste engagés'!$G204=10,'liste engagés'!A204,\"\")","v":""},{"$f":"IF('liste engagés'!$G204=10,'liste engagés'!B204,\"\")","v":""},{"$f":"IF('liste engagés'!$G204=10,'liste engagés'!C204,\"\")","v":""},{"$f":"IF('liste engagés'!$G204=10,'liste engagés'!D204,\"\")","v":""},{"$f":"IF('liste engagés'!$G204=10,'liste engagés'!E204,\"\")","v":""},{"$f":"IF('liste engagés'!$G204=10,'liste engagés'!K204,\"\")","v":""},{"$f":"IF('liste engagés'!$G204=10,'liste engagés'!L204,\"\")","v":""},0]
[200,{"$f":"IF('liste engagés'!$G205=10,'liste engagés'!A205,\"\")","v":""},{"$f":"IF('liste engagés'!$G205=10,'liste engagés'!B205,\"\")","v":""},{"$f":"IF('liste engagés'!$G205=10,'liste engagés'!C205,\"\")","v":""},{"$f":"IF('liste engagés'!$G205=10,'liste engagés'!D205,\"\")","v":""},{"$f":"IF('liste engagés'!$G205=10,'liste engagés'!E205,\"\")","v":""},{"$f":"IF('liste engagés'!$G205=10,'liste engagés'!K205,\"\")","v":""},{"$f":"IF('liste engagés'!$G205=10,'liste engagés'!L205,\"\")","v":""},0]
[201,{"$f":"IF('liste engagés'!$G206=10,'liste engagés'!A206,\"\")","v":""},{"$f":"IF('liste engagés'!$G206=10,'liste engagés'!B206,\"\")","v":""},{"$f":"IF('liste engagés'!$G206=10,'liste engagés'!C206,\"\")","v":""},{"$f":"IF('liste engagés'!$G206=10,'liste engagés'!D206,\"\")","v":""},{"$f":"IF('liste engagés'!$G206=10,'liste engagés'!E206,\"\")","v":""},{"$f":"IF('liste engagés'!$G206=10,'liste engagés'!K206,\"\")","v":""},{"$f":"IF('liste engagés'!$G206=10,'liste engagés'!L206,\"\")","v":""},0]
[202,{"$f":"IF('liste engagés'!$G207=10,'liste engagés'!A207,\"\")","v":""},{"$f":"IF('liste engagés'!$G207=10,'liste engagés'!B207,\"\")","v":""},{"$f":"IF('liste engagés'!$G207=10,'liste engagés'!C207,\"\")","v":""},{"$f":"IF('liste engagés'!$G207=10,'liste engagés'!D207,\"\")","v":""},{"$f":"IF('liste engagés'!$G207=10,'liste engagés'!E207,\"\")","v":""},{"$f":"IF('liste engagés'!$G207=10,'liste engagés'!K207,\"\")","v":""},{"$f":"IF('liste engagés'!$G207=10,'liste engagés'!L207,\"\")","v":""},0]
[203,{"$f":"IF('liste engagés'!$G208=10,'liste engagés'!A208,\"\")","v":""},{"$f":"IF('liste engagés'!$G208=10,'liste engagés'!B208,\"\")","v":""},{"$f":"IF('liste engagés'!$G208=10,'liste engagés'!C208,\"\")","v":""},{"$f":"IF('liste engagés'!$G208=10,'liste engagés'!D208,\"\")","v":""},{"$f":"IF('liste engagés'!$G208=10,'liste engagés'!E208,\"\")","v":""},{"$f":"IF('liste engagés'!$G208=10,'liste engagés'!K208,\"\")","v":""},{"$f":"IF('liste engagés'!$G208=10,'liste engagés'!L208,\"\")","v":""},0]
[204,{"$f":"IF('liste engagés'!$G209=10,'liste engagés'!A209,\"\")","v":""},{"$f":"IF('liste engagés'!$G209=10,'liste engagés'!B209,\"\")","v":""},{"$f":"IF('liste engagés'!$G209=10,'liste engagés'!C209,\"\")","v":""},{"$f":"IF('liste engagés'!$G209=10,'liste engagés'!D209,\"\")","v":""},{"$f":"IF('liste engagés'!$G209=10,'liste engagés'!E209,\"\")","v":""},{"$f":"IF('liste engagés'!$G209=10,'liste engagés'!K209,\"\")","v":""},{"$f":"IF('liste engagés'!$G209=10,'liste engagés'!L209,\"\")","v":""},0]
[205,{"$f":"IF('liste engagés'!$G210=10,'liste engagés'!A210,\"\")","v":""},{"$f":"IF('liste engagés'!$G210=10,'liste engagés'!B210,\"\")","v":""},{"$f":"IF('liste engagés'!$G210=10,'liste engagés'!C210,\"\")","v":""},{"$f":"IF('liste engagés'!$G210=10,'liste engagés'!D210,\"\")","v":""},{"$f":"IF('liste engagés'!$G210=10,'liste engagés'!E210,\"\")","v":""},{"$f":"IF('liste engagés'!$G210=10,'liste engagés'!K210,\"\")","v":""},{"$f":"IF('liste engagés'!$G210=10,'liste engagés'!L210,\"\")","v":""},0]
[206,{"$f":"IF('liste engagés'!$G211=10,'liste engagés'!A211,\"\")","v":""},{"$f":"IF('liste engagés'!$G211=10,'liste engagés'!B211,\"\")","v":""},{"$f":"IF('liste engagés'!$G211=10,'liste engagés'!C211,\"\")","v":""},{"$f":"IF('liste engagés'!$G211=10,'liste engagés'!D211,\"\")","v":""},{"$f":"IF('liste engagés'!$G211=10,'liste engagés'!E211,\"\")","v":""},{"$f":"IF('liste engagés'!$G211=10,'liste engagés'!K211,\"\")","v":""},{"$f":"IF('liste engagés'!$G211=10,'liste engagés'!L211,\"\")","v":""},0]
[207,{"$f":"IF('liste engagés'!$G212=10,'liste engagés'!A212,\"\")","v":""},{"$f":"IF('liste engagés'!$G212=10,'liste engagés'!B212,\"\")","v":""},{"$f":"IF('liste engagés'!$G212=10,'liste engagés'!C212,\"\")","v":""},{"$f":"IF('liste engagés'!$G212=10,'liste engagés'!D212,\"\")","v":""},{"$f":"IF('liste engagés'!$G212=10,'liste engagés'!E212,\"\")","v":""},{"$f":"IF('liste engagés'!$G212=10,'liste engagés'!K212,\"\")","v":""},{"$f":"IF('liste engagés'!$G212=10,'liste engagés'!L212,\"\")","v":""},0]
[208,{"$f":"IF('liste engagés'!$G213=10,'liste engagés'!A213,\"\")","v":""},{"$f":"IF('liste engagés'!$G213=10,'liste engagés'!B213,\"\")","v":""},{"$f":"IF('liste engagés'!$G213=10,'liste engagés'!C213,\"\")","v":""},{"$f":"IF('liste engagés'!$G213=10,'liste engagés'!D213,\"\")","v":""},{"$f":"IF('liste engagés'!$G213=10,'liste engagés'!E213,\"\")","v":""},{"$f":"IF('liste engagés'!$G213=10,'liste engagés'!K213,\"\")","v":""},{"$f":"IF('liste engagés'!$G213=10,'liste engagés'!L213,\"\")","v":""},0]
[209,{"$f":"IF('liste engagés'!$G214=10,'liste engagés'!A214,\"\")","v":""},{"$f":"IF('liste engagés'!$G214=10,'liste engagés'!B214,\"\")","v":""},{"$f":"IF('liste engagés'!$G214=10,'liste engagés'!C214,\"\")","v":""},{"$f":"IF('liste engagés'!$G214=10,'liste engagés'!D214,\"\")","v":""},{"$f":"IF('liste engagés'!$G214=10,'liste engagés'!E214,\"\")","v":""},{"$f":"IF('liste engagés'!$G214=10,'liste engagés'!K214,\"\")","v":""},{"$f":"IF('liste engagés'!$G214=10,'liste engagés'!L214,\"\")","v":""},0]
[210,{"$f":"IF('liste engagés'!$G215=10,'liste engagés'!A215,\"\")","v":""},{"$f":"IF('liste engagés'!$G215=10,'liste engagés'!B215,\"\")","v":""},{"$f":"IF('liste engagés'!$G215=10,'liste engagés'!C215,\"\")","v":""},{"$f":"IF('liste engagés'!$G215=10,'liste engagés'!D215,\"\")","v":""},{"$f":"IF('liste engagés'!$G215=10,'liste engagés'!E215,\"\")","v":""},{"$f":"IF('liste engagés'!$G215=10,'liste engagés'!K215,\"\")","v":""},{"$f":"IF('liste engagés'!$G215=10,'liste engagés'!L215,\"\")","v":""},0]
[null,null,null,null,null,null,null,null,{"$f":"SUM(I7:I216)","v":4}]

{"sheet":"cat11","index":14,"n_rows":217,"n_cols":10,"rows_kept":217,"cut":false,"hidden":false,"merged":[]}
[{"$f":"+MENU!A1","v":"CHRONO DES LIMOUCHES "},null,null,null,null,null,{"$f":"+MENU!I1","v":"EDITION"},{"$f":"+MENU!J1","v":2018}]
[null,null,null,null,null,null,null,null,"code cat",11]
["CLASSEMENT :",null,{"$f":"+IF(J2=\"\",\"\",VLOOKUP($J$2,Catégories!B3:D17,3))","v":"Cadets"}]
[]
[]
[null,"N°de DOSSARD","Nom ","Prénom","Club","Fédération","Temps","Moyenne"]
[1,{"$f":"IF('liste engagés'!$G83=11,'liste engagés'!A83,\"\")","v":78},{"$f":"IF('liste engagés'!$G83=11,'liste engagés'!B83,\"\")","v":"BRISSAUD"},{"$f":"IF('liste engagés'!$G83=11,'liste engagés'!C83,\"\")","v":"SIMON"},{"$f":"IF('liste engagés'!$G83=11,'liste engagés'!D83,\"\")","v":"UCMV"},{"$f":"IF('liste engagés'!$G83=11,'liste engagés'!E83,\"\")","v":"FFC"},{"$f":"IF('liste engagés'!$G83=11,'liste engagés'!K83,\"\")","v":2.409722222221844E-2},{"$f":"IF('liste engagés'!$G83=11,'liste engagés'!L83,\"\")","v":19.711815561962748},{"$f":"+IF(C7=\"\",0,1)","v":1}]
[{"$f":"+A7+1","v":2},{"$f":"IF('liste engagés'!$G155=11,'liste engagés'!A155,\"\")","v":150},{"$f":"IF('liste engagés'!$G155=11,'liste engagés'!B155,\"\")","v":"CHASSON CHABONNET"},{"$f":"IF('liste engagés'!$G155=11,'liste engagés'!C155,\"\")","v":"JULES"},{"$f":"IF('liste engagés'!$G155=11,'liste engagés'!D155,\"\")","v":"CS COUXOIS"},{"$f":"IF('liste engagés'!$G155=11,'liste engagés'!E155,\"\")","v":"FSGT"},{"$f":"IF('liste engagés'!$G155=11,'liste engagés'!K155,\"\")","v":2.6493055555547762E-2},{"$f":"IF('liste engagés'!$G155=11,'liste engagés'!L155,\"\")","v":17.929226736571461},1]
[3,{"$f":"IF('liste engagés'!$G120=11,'liste engagés'!A120,\"\")","v":115},{"$f":"IF('liste engagés'!$G120=11,'liste engagés'!B120,\"\")","v":"BOUSBIA"},{"$f":"IF('liste engagés'!$G120=11,'liste engagés'!C120,\"\")","v":"RAYAN"},{"$f":"IF('liste engagés'!$G120=11,'liste engagés'!D120,\"\")","v":"SC BLV"},{"$f":"IF('liste engagés'!$G120=11,'liste engagés'!E120,\"\")","v":"FFC"},{"$f":"IF('liste engagés'!$G120=11,'liste engagés'!K120,\"\")","v":2.6516203703697339E-2},{"$f":"IF('liste engagés'!$G120=11,'liste engagés'!L120,\"\")","v":17.913574858144852},1]
[4,{"$f":"IF('liste engagés'!$G132=11,'liste engagés'!A132,\"\")","v":127},{"$f":"IF('liste engagés'!$G132=11,'liste engagés'!B132,\"\")","v":"DURAND"},{"$f":"IF('liste engagés'!$G132=11,'liste engagés'!C132,\"\")","v":"MAXIME"},{"$f":"IF('liste engagés'!$G132=11,'liste engagés'!D132,\"\")","v":"UCMV"},{"$f":"IF('liste engagés'!$G132=11,'liste engagés'!E132,\"\")","v":"FFC"},{"$f":"IF('liste engagés'!$G132=11,'liste engagés'!K132,\"\")","v":2.6597222222215222E-2},{"$f":"IF('liste engagés'!$G132=11,'liste engagés'!L132,\"\")","v":17.859007832902872},1]
[5,{"$f":"IF('liste engagés'!$G100=11,'liste engagés'!A100,\"\")","v":95},{"$f":"IF('liste engagés'!$G100=11,'liste engagés'!B100,\"\")","v":"GARCIN"},{"$f":"IF('liste engagés'!$G100=11,'liste engagés'!C100,\"\")","v":"GUILLAUME"},{"$f":"IF('liste engagés'!$G100=11,'liste engagés'!D100,\"\")","v":"UCMV"},{"$f":"IF('liste engagés'!$G100=11,'liste engagés'!E100,\"\")","v":"FFC"},{"$f":"IF('liste engagés'!$G100=11,'liste engagés'!K100,\"\")","v":2.6956018518513314E-2},{"$f":"IF('liste engagés'!$G100=11,'liste engagés'!L100,\"\")","v":17.621296693863428},1]
[6,{"$f":"IF('liste engagés'!$G141=11,'liste engagés'!A141,\"\")","v":136},{"$f":"IF('liste engagés'!$G141=11,'liste engagés'!B141,\"\")","v":"HAYET"},{"$f":"IF('liste engagés'!$G141=11,'liste engagés'!C141,\"\")","v":"JUSTIN"},{"$f":"IF('liste engagés'!$G141=11,'liste engagés'!D141,\"\")","v":"AC BOLLENE"},{"$f":"IF('liste engagés'!$G141=11,'liste engagés'!E141,\"\")","v":"FFC"},{"$f":"IF('liste engagés'!$G141=11,'liste engagés'!K141,\"\")","v":2.706018518517822E-2},{"$f":"IF('liste engagés'!$G141=11,'liste engagés'!L141,\"\")","v":17.553464499576801},1]
[7,{"$f":"IF('liste engagés'!$G87=11,'liste engagés'!A87,\"\")","v":82},{"$f":"IF('liste engagés'!$G87=11,'liste engagés'!B87,\"\")","v":"CAPELLI"},{"$f":"IF('liste engagés'!$G87=11,'liste engagés'!C87,\"\")","v":"LORIS"},{"$f":"IF('liste engagés'!$G87=11,'liste engagés'!D87,\"\")","v":"UCMV"},{"$f":"IF('liste engagés'!$G87=11,'liste engagés'!E87,\"\")","v":"FFC"},{"$f":"IF('liste engagés'!$G87=11,'liste engagés'!K87,\"\")","v":3.3854166666662633E-2},{"$f":"IF('liste engagés'!$G87=11,'liste engagés'!L87,\"\")","v":14.030769230770902},1]
[8,{"$f":"IF('liste engagés'!$G6=11,'liste engagés'!A6,\"\")","v":""},{"$f":"IF('liste engagés'!$G6=11,'liste engagés'!B6,\"\")","v":""},{"$f":"IF('liste engagés'!$G6=11,'liste engagés'!C6,\"\")","v":""},{"$f":"IF('liste engagés'!$G6=11,'liste engagés'!D6,\"\")","v":""},{"$f":"IF('liste engagés'!$G6=11,'liste engagés'!E6,\"\")","v":""},{"$f":"IF('liste engagés'!$G6=11,'liste engagés'!K6,\"\")","v":""},{"$f":"IF('liste engagés'!$G6=11,'liste engagés'!L6,\"\")","v":""},0]
[9,{"$f":"IF('liste engagés'!$G7=11,'liste engagés'!A7,\"\")","v":""},{"$f":"IF('liste engagés'!$G7=11,'liste engagés'!B7,\"\")","v":""},{"$f":"IF('liste engagés'!$G7=11,'liste engagés'!C7,\"\")","v":""},{"$f":"IF('liste engagés'!$G7=11,'liste engagés'!D7,\"\")","v":""},{"$f":"IF('liste engagés'!$G7=11,'liste engagés'!E7,\"\")","v":""},{"$f":"IF('liste engagés'!$G7=11,'liste engagés'!K7,\"\")","v":""},{"$f":"IF('liste engagés'!$G7=11,'liste engagés'!L7,\"\")","v":""},0]
[10,{"$f":"IF('liste engagés'!$G8=11,'liste engagés'!A8,\"\")","v":""},{"$f":"IF('liste engagés'!$G8=11,'liste engagés'!B8,\"\")","v":""},{"$f":"IF('liste engagés'!$G8=11,'liste engagés'!C8,\"\")","v":""},{"$f":"IF('liste engagés'!$G8=11,'liste engagés'!D8,\"\")","v":""},{"$f":"IF('liste engagés'!$G8=11,'liste engagés'!E8,\"\")","v":""},{"$f":"IF('liste engagés'!$G8=11,'liste engagés'!K8,\"\")","v":""},{"$f":"IF('liste engagés'!$G8=11,'liste engagés'!L8,\"\")","v":""},0]
[11,{"$f":"IF('liste engagés'!$G9=11,'liste engagés'!A9,\"\")","v":""},{"$f":"IF('liste engagés'!$G9=11,'liste engagés'!B9,\"\")","v":""},{"$f":"IF('liste engagés'!$G9=11,'liste engagés'!C9,\"\")","v":""},{"$f":"IF('liste engagés'!$G9=11,'liste engagés'!D9,\"\")","v":""},{"$f":"IF('liste engagés'!$G9=11,'liste engagés'!E9,\"\")","v":""},{"$f":"IF('liste engagés'!$G9=11,'liste engagés'!K9,\"\")","v":""},{"$f":"IF('liste engagés'!$G9=11,'liste engagés'!L9,\"\")","v":""},0]
[12,{"$f":"IF('liste engagés'!$G10=11,'liste engagés'!A10,\"\")","v":""},{"$f":"IF('liste engagés'!$G10=11,'liste engagés'!B10,\"\")","v":""},{"$f":"IF('liste engagés'!$G10=11,'liste engagés'!C10,\"\")","v":""},{"$f":"IF('liste engagés'!$G10=11,'liste engagés'!D10,\"\")","v":""},{"$f":"IF('liste engagés'!$G10=11,'liste engagés'!E10,\"\")","v":""},{"$f":"IF('liste engagés'!$G10=11,'liste engagés'!K10,\"\")","v":""},{"$f":"IF('liste engagés'!$G10=11,'liste engagés'!L10,\"\")","v":""},0]
[13,{"$f":"IF('liste engagés'!$G11=11,'liste engagés'!A11,\"\")","v":""},{"$f":"IF('liste engagés'!$G11=11,'liste engagés'!B11,\"\")","v":""},{"$f":"IF('liste engagés'!$G11=11,'liste engagés'!C11,\"\")","v":""},{"$f":"IF('liste engagés'!$G11=11,'liste engagés'!D11,\"\")","v":""},{"$f":"IF('liste engagés'!$G11=11,'liste engagés'!E11,\"\")","v":""},{"$f":"IF('liste engagés'!$G11=11,'liste engagés'!K11,\"\")","v":""},{"$f":"IF('liste engagés'!$G11=11,'liste engagés'!L11,\"\")","v":""},0]
[14,{"$f":"IF('liste engagés'!$G12=11,'liste engagés'!A12,\"\")","v":""},{"$f":"IF('liste engagés'!$G12=11,'liste engagés'!B12,\"\")","v":""},{"$f":"IF('liste engagés'!$G12=11,'liste engagés'!C12,\"\")","v":""},{"$f":"IF('liste engagés'!$G12=11,'liste engagés'!D12,\"\")","v":""},{"$f":"IF('liste engagés'!$G12=11,'liste engagés'!E12,\"\")","v":""},{"$f":"IF('liste engagés'!$G12=11,'liste engagés'!K12,\"\")","v":""},{"$f":"IF('liste engagés'!$G12=11,'liste engagés'!L12,\"\")","v":""},0]
[15,{"$f":"IF('liste engagés'!$G13=11,'liste engagés'!A13,\"\")","v":""},{"$f":"IF('liste engagés'!$G13=11,'liste engagés'!B13,\"\")","v":""},{"$f":"IF('liste engagés'!$G13=11,'liste engagés'!C13,\"\")","v":""},{"$f":"IF('liste engagés'!$G13=11,'liste engagés'!D13,\"\")","v":""},{"$f":"IF('liste engagés'!$G13=11,'liste engagés'!E13,\"\")","v":""},{"$f":"IF('liste engagés'!$G13=11,'liste engagés'!K13,\"\")","v":""},{"$f":"IF('liste engagés'!$G13=11,'liste engagés'!L13,\"\")","v":""},0]
[16,{"$f":"IF('liste engagés'!$G14=11,'liste engagés'!A14,\"\")","v":""},{"$f":"IF('liste engagés'!$G14=11,'liste engagés'!B14,\"\")","v":""},{"$f":"IF('liste engagés'!$G14=11,'liste engagés'!C14,\"\")","v":""},{"$f":"IF('liste engagés'!$G14=11,'liste engagés'!D14,\"\")","v":""},{"$f":"IF('liste engagés'!$G14=11,'liste engagés'!E14,\"\")","v":""},{"$f":"IF('liste engagés'!$G14=11,'liste engagés'!K14,\"\")","v":""},{"$f":"IF('liste engagés'!$G14=11,'liste engagés'!L14,\"\")","v":""},0]
[17,{"$f":"IF('liste engagés'!$G15=11,'liste engagés'!A15,\"\")","v":""},{"$f":"IF('liste engagés'!$G15=11,'liste engagés'!B15,\"\")","v":""},{"$f":"IF('liste engagés'!$G15=11,'liste engagés'!C15,\"\")","v":""},{"$f":"IF('liste engagés'!$G15=11,'liste engagés'!D15,\"\")","v":""},{"$f":"IF('liste engagés'!$G15=11,'liste engagés'!E15,\"\")","v":""},{"$f":"IF('liste engagés'!$G15=11,'liste engagés'!K15,\"\")","v":""},{"$f":"IF('liste engagés'!$G15=11,'liste engagés'!L15,\"\")","v":""},0]
[18,{"$f":"IF('liste engagés'!$G16=11,'liste engagés'!A16,\"\")","v":""},{"$f":"IF('liste engagés'!$G16=11,'liste engagés'!B16,\"\")","v":""},{"$f":"IF('liste engagés'!$G16=11,'liste engagés'!C16,\"\")","v":""},{"$f":"IF('liste engagés'!$G16=11,'liste engagés'!D16,\"\")","v":""},{"$f":"IF('liste engagés'!$G16=11,'liste engagés'!E16,\"\")","v":""},{"$f":"IF('liste engagés'!$G16=11,'liste engagés'!K16,\"\")","v":""},{"$f":"IF('liste engagés'!$G16=11,'liste engagés'!L16,\"\")","v":""},0]
[19,{"$f":"IF('liste engagés'!$G17=11,'liste engagés'!A17,\"\")","v":""},{"$f":"IF('liste engagés'!$G17=11,'liste engagés'!B17,\"\")","v":""},{"$f":"IF('liste engagés'!$G17=11,'liste engagés'!C17,\"\")","v":""},{"$f":"IF('liste engagés'!$G17=11,'liste engagés'!D17,\"\")","v":""},{"$f":"IF('liste engagés'!$G17=11,'liste engagés'!E17,\"\")","v":""},{"$f":"IF('liste engagés'!$G17=11,'liste engagés'!K17,\"\")","v":""},{"$f":"IF('liste engagés'!$G17=11,'liste engagés'!L17,\"\")","v":""},0]
[20,{"$f":"IF('liste engagés'!$G18=11,'liste engagés'!A18,\"\")","v":""},{"$f":"IF('liste engagés'!$G18=11,'liste engagés'!B18,\"\")","v":""},{"$f":"IF('liste engagés'!$G18=11,'liste engagés'!C18,\"\")","v":""},{"$f":"IF('liste engagés'!$G18=11,'liste engagés'!D18,\"\")","v":""},{"$f":"IF('liste engagés'!$G18=11,'liste engagés'!E18,\"\")","v":""},{"$f":"IF('liste engagés'!$G18=11,'liste engagés'!K18,\"\")","v":""},{"$f":"IF('liste engagés'!$G18=11,'liste engagés'!L18,\"\")","v":""},0]
[21,{"$f":"IF('liste engagés'!$G19=11,'liste engagés'!A19,\"\")","v":""},{"$f":"IF('liste engagés'!$G19=11,'liste engagés'!B19,\"\")","v":""},{"$f":"IF('liste engagés'!$G19=11,'liste engagés'!C19,\"\")","v":""},{"$f":"IF('liste engagés'!$G19=11,'liste engagés'!D19,\"\")","v":""},{"$f":"IF('liste engagés'!$G19=11,'liste engagés'!E19,\"\")","v":""},{"$f":"IF('liste engagés'!$G19=11,'liste engagés'!K19,\"\")","v":""},{"$f":"IF('liste engagés'!$G19=11,'liste engagés'!L19,\"\")","v":""},0]
[22,{"$f":"IF('liste engagés'!$G20=11,'liste engagés'!A20,\"\")","v":""},{"$f":"IF('liste engagés'!$G20=11,'liste engagés'!B20,\"\")","v":""},{"$f":"IF('liste engagés'!$G20=11,'liste engagés'!C20,\"\")","v":""},{"$f":"IF('liste engagés'!$G20=11,'liste engagés'!D20,\"\")","v":""},{"$f":"IF('liste engagés'!$G20=11,'liste engagés'!E20,\"\")","v":""},{"$f":"IF('liste engagés'!$G20=11,'liste engagés'!K20,\"\")","v":""},{"$f":"IF('liste engagés'!$G20=11,'liste engagés'!L20,\"\")","v":""},0]
[23,{"$f":"IF('liste engagés'!$G21=11,'liste engagés'!A21,\"\")","v":""},{"$f":"IF('liste engagés'!$G21=11,'liste engagés'!B21,\"\")","v":""},{"$f":"IF('liste engagés'!$G21=11,'liste engagés'!C21,\"\")","v":""},{"$f":"IF('liste engagés'!$G21=11,'liste engagés'!D21,\"\")","v":""},{"$f":"IF('liste engagés'!$G21=11,'liste engagés'!E21,\"\")","v":""},{"$f":"IF('liste engagés'!$G21=11,'liste engagés'!K21,\"\")","v":""},{"$f":"IF('liste engagés'!$G21=11,'liste engagés'!L21,\"\")","v":""},0]
[24,{"$f":"IF('liste engagés'!$G22=11,'liste engagés'!A22,\"\")","v":""},{"$f":"IF('liste engagés'!$G22=11,'liste engagés'!B22,\"\")","v":""},{"$f":"IF('liste engagés'!$G22=11,'liste engagés'!C22,\"\")","v":""},{"$f":"IF('liste engagés'!$G22=11,'liste engagés'!D22,\"\")","v":""},{"$f":"IF('liste engagés'!$G22=11,'liste engagés'!E22,\"\")","v":""},{"$f":"IF('liste engagés'!$G22=11,'liste engagés'!K22,\"\")","v":""},{"$f":"IF('liste engagés'!$G22=11,'liste engagés'!L22,\"\")","v":""},0]
[25,{"$f":"IF('liste engagés'!$G23=11,'liste engagés'!A23,\"\")","v":""},{"$f":"IF('liste engagés'!$G23=11,'liste engagés'!B23,\"\")","v":""},{"$f":"IF('liste engagés'!$G23=11,'liste engagés'!C23,\"\")","v":""},{"$f":"IF('liste engagés'!$G23=11,'liste engagés'!D23,\"\")","v":""},{"$f":"IF('liste engagés'!$G23=11,'liste engagés'!E23,\"\")","v":""},{"$f":"IF('liste engagés'!$G23=11,'liste engagés'!K23,\"\")","v":""},{"$f":"IF('liste engagés'!$G23=11,'liste engagés'!L23,\"\")","v":""},0]
[26,{"$f":"IF('liste engagés'!$G24=11,'liste engagés'!A24,\"\")","v":""},{"$f":"IF('liste engagés'!$G24=11,'liste engagés'!B24,\"\")","v":""},{"$f":"IF('liste engagés'!$G24=11,'liste engagés'!C24,\"\")","v":""},{"$f":"IF('liste engagés'!$G24=11,'liste engagés'!D24,\"\")","v":""},{"$f":"IF('liste engagés'!$G24=11,'liste engagés'!E24,\"\")","v":""},{"$f":"IF('liste engagés'!$G24=11,'liste engagés'!K24,\"\")","v":""},{"$f":"IF('liste engagés'!$G24=11,'liste engagés'!L24,\"\")","v":""},0]
[27,{"$f":"IF('liste engagés'!$G25=11,'liste engagés'!A25,\"\")","v":""},{"$f":"IF('liste engagés'!$G25=11,'liste engagés'!B25,\"\")","v":""},{"$f":"IF('liste engagés'!$G25=11,'liste engagés'!C25,\"\")","v":""},{"$f":"IF('liste engagés'!$G25=11,'liste engagés'!D25,\"\")","v":""},{"$f":"IF('liste engagés'!$G25=11,'liste engagés'!E25,\"\")","v":""},{"$f":"IF('liste engagés'!$G25=11,'liste engagés'!K25,\"\")","v":""},{"$f":"IF('liste engagés'!$G25=11,'liste engagés'!L25,\"\")","v":""},0]
[28,{"$f":"IF('liste engagés'!$G26=11,'liste engagés'!A26,\"\")","v":""},{"$f":"IF('liste engagés'!$G26=11,'liste engagés'!B26,\"\")","v":""},{"$f":"IF('liste engagés'!$G26=11,'liste engagés'!C26,\"\")","v":""},{"$f":"IF('liste engagés'!$G26=11,'liste engagés'!D26,\"\")","v":""},{"$f":"IF('liste engagés'!$G26=11,'liste engagés'!E26,\"\")","v":""},{"$f":"IF('liste engagés'!$G26=11,'liste engagés'!K26,\"\")","v":""},{"$f":"IF('liste engagés'!$G26=11,'liste engagés'!L26,\"\")","v":""},0]
[29,{"$f":"IF('liste engagés'!$G27=11,'liste engagés'!A27,\"\")","v":""},{"$f":"IF('liste engagés'!$G27=11,'liste engagés'!B27,\"\")","v":""},{"$f":"IF('liste engagés'!$G27=11,'liste engagés'!C27,\"\")","v":""},{"$f":"IF('liste engagés'!$G27=11,'liste engagés'!D27,\"\")","v":""},{"$f":"IF('liste engagés'!$G27=11,'liste engagés'!E27,\"\")","v":""},{"$f":"IF('liste engagés'!$G27=11,'liste engagés'!K27,\"\")","v":""},{"$f":"IF('liste engagés'!$G27=11,'liste engagés'!L27,\"\")","v":""},0]
[30,{"$f":"IF('liste engagés'!$G28=11,'liste engagés'!A28,\"\")","v":""},{"$f":"IF('liste engagés'!$G28=11,'liste engagés'!B28,\"\")","v":""},{"$f":"IF('liste engagés'!$G28=11,'liste engagés'!C28,\"\")","v":""},{"$f":"IF('liste engagés'!$G28=11,'liste engagés'!D28,\"\")","v":""},{"$f":"IF('liste engagés'!$G28=11,'liste engagés'!E28,\"\")","v":""},{"$f":"IF('liste engagés'!$G28=11,'liste engagés'!K28,\"\")","v":""},{"$f":"IF('liste engagés'!$G28=11,'liste engagés'!L28,\"\")","v":""},0]
[31,{"$f":"IF('liste engagés'!$G29=11,'liste engagés'!A29,\"\")","v":""},{"$f":"IF('liste engagés'!$G29=11,'liste engagés'!B29,\"\")","v":""},{"$f":"IF('liste engagés'!$G29=11,'liste engagés'!C29,\"\")","v":""},{"$f":"IF('liste engagés'!$G29=11,'liste engagés'!D29,\"\")","v":""},{"$f":"IF('liste engagés'!$G29=11,'liste engagés'!E29,\"\")","v":""},{"$f":"IF('liste engagés'!$G29=11,'liste engagés'!K29,\"\")","v":""},{"$f":"IF('liste engagés'!$G29=11,'liste engagés'!L29,\"\")","v":""},0]
[32,{"$f":"IF('liste engagés'!$G30=11,'liste engagés'!A30,\"\")","v":""},{"$f":"IF('liste engagés'!$G30=11,'liste engagés'!B30,\"\")","v":""},{"$f":"IF('liste engagés'!$G30=11,'liste engagés'!C30,\"\")","v":""},{"$f":"IF('liste engagés'!$G30=11,'liste engagés'!D30,\"\")","v":""},{"$f":"IF('liste engagés'!$G30=11,'liste engagés'!E30,\"\")","v":""},{"$f":"IF('liste engagés'!$G30=11,'liste engagés'!K30,\"\")","v":""},{"$f":"IF('liste engagés'!$G30=11,'liste engagés'!L30,\"\")","v":""},0]
[33,{"$f":"IF('liste engagés'!$G31=11,'liste engagés'!A31,\"\")","v":""},{"$f":"IF('liste engagés'!$G31=11,'liste engagés'!B31,\"\")","v":""},{"$f":"IF('liste engagés'!$G31=11,'liste engagés'!C31,\"\")","v":""},{"$f":"IF('liste engagés'!$G31=11,'liste engagés'!D31,\"\")","v":""},{"$f":"IF('liste engagés'!$G31=11,'liste engagés'!E31,\"\")","v":""},{"$f":"IF('liste engagés'!$G31=11,'liste engagés'!K31,\"\")","v":""},{"$f":"IF('liste engagés'!$G31=11,'liste engagés'!L31,\"\")","v":""},0]
[34,{"$f":"IF('liste engagés'!$G32=11,'liste engagés'!A32,\"\")","v":""},{"$f":"IF('liste engagés'!$G32=11,'liste engagés'!B32,\"\")","v":""},{"$f":"IF('liste engagés'!$G32=11,'liste engagés'!C32,\"\")","v":""},{"$f":"IF('liste engagés'!$G32=11,'liste engagés'!D32,\"\")","v":""},{"$f":"IF('liste engagés'!$G32=11,'liste engagés'!E32,\"\")","v":""},{"$f":"IF('liste engagés'!$G32=11,'liste engagés'!K32,\"\")","v":""},{"$f":"IF('liste engagés'!$G32=11,'liste engagés'!L32,\"\")","v":""},0]
[35,{"$f":"IF('liste engagés'!$G33=11,'liste engagés'!A33,\"\")","v":""},{"$f":"IF('liste engagés'!$G33=11,'liste engagés'!B33,\"\")","v":""},{"$f":"IF('liste engagés'!$G33=11,'liste engagés'!C33,\"\")","v":""},{"$f":"IF('liste engagés'!$G33=11,'liste engagés'!D33,\"\")","v":""},{"$f":"IF('liste engagés'!$G33=11,'liste engagés'!E33,\"\")","v":""},{"$f":"IF('liste engagés'!$G33=11,'liste engagés'!K33,\"\")","v":""},{"$f":"IF('liste engagés'!$G33=11,'liste engagés'!L33,\"\")","v":""},0]
[36,{"$f":"IF('liste engagés'!$G34=11,'liste engagés'!A34,\"\")","v":""},{"$f":"IF('liste engagés'!$G34=11,'liste engagés'!B34,\"\")","v":""},{"$f":"IF('liste engagés'!$G34=11,'liste engagés'!C34,\"\")","v":""},{"$f":"IF('liste engagés'!$G34=11,'liste engagés'!D34,\"\")","v":""},{"$f":"IF('liste engagés'!$G34=11,'liste engagés'!E34,\"\")","v":""},{"$f":"IF('liste engagés'!$G34=11,'liste engagés'!K34,\"\")","v":""},{"$f":"IF('liste engagés'!$G34=11,'liste engagés'!L34,\"\")","v":""},0]
[37,{"$f":"IF('liste engagés'!$G35=11,'liste engagés'!A35,\"\")","v":""},{"$f":"IF('liste engagés'!$G35=11,'liste engagés'!B35,\"\")","v":""},{"$f":"IF('liste engagés'!$G35=11,'liste engagés'!C35,\"\")","v":""},{"$f":"IF('liste engagés'!$G35=11,'liste engagés'!D35,\"\")","v":""},{"$f":"IF('liste engagés'!$G35=11,'liste engagés'!E35,\"\")","v":""},{"$f":"IF('liste engagés'!$G35=11,'liste engagés'!K35,\"\")","v":""},{"$f":"IF('liste engagés'!$G35=11,'liste engagés'!L35,\"\")","v":""},0]
[38,{"$f":"IF('liste engagés'!$G36=11,'liste engagés'!A36,\"\")","v":""},{"$f":"IF('liste engagés'!$G36=11,'liste engagés'!B36,\"\")","v":""},{"$f":"IF('liste engagés'!$G36=11,'liste engagés'!C36,\"\")","v":""},{"$f":"IF('liste engagés'!$G36=11,'liste engagés'!D36,\"\")","v":""},{"$f":"IF('liste engagés'!$G36=11,'liste engagés'!E36,\"\")","v":""},{"$f":"IF('liste engagés'!$G36=11,'liste engagés'!K36,\"\")","v":""},{"$f":"IF('liste engagés'!$G36=11,'liste engagés'!L36,\"\")","v":""},0]
[39,{"$f":"IF('liste engagés'!$G37=11,'liste engagés'!A37,\"\")","v":""},{"$f":"IF('liste engagés'!$G37=11,'liste engagés'!B37,\"\")","v":""},{"$f":"IF('liste engagés'!$G37=11,'liste engagés'!C37,\"\")","v":""},{"$f":"IF('liste engagés'!$G37=11,'liste engagés'!D37,\"\")","v":""},{"$f":"IF('liste engagés'!$G37=11,'liste engagés'!E37,\"\")","v":""},{"$f":"IF('liste engagés'!$G37=11,'liste engagés'!K37,\"\")","v":""},{"$f":"IF('liste engagés'!$G37=11,'liste engagés'!L37,\"\")","v":""},0]
[40,{"$f":"IF('liste engagés'!$G38=11,'liste engagés'!A38,\"\")","v":""},{"$f":"IF('liste engagés'!$G38=11,'liste engagés'!B38,\"\")","v":""},{"$f":"IF('liste engagés'!$G38=11,'liste engagés'!C38,\"\")","v":""},{"$f":"IF('liste engagés'!$G38=11,'liste engagés'!D38,\"\")","v":""},{"$f":"IF('liste engagés'!$G38=11,'liste engagés'!E38,\"\")","v":""},{"$f":"IF('liste engagés'!$G38=11,'liste engagés'!K38,\"\")","v":""},{"$f":"IF('liste engagés'!$G38=11,'liste engagés'!L38,\"\")","v":""},0]
[41,{"$f":"IF('liste engagés'!$G39=11,'liste engagés'!A39,\"\")","v":""},{"$f":"IF('liste engagés'!$G39=11,'liste engagés'!B39,\"\")","v":""},{"$f":"IF('liste engagés'!$G39=11,'liste engagés'!C39,\"\")","v":""},{"$f":"IF('liste engagés'!$G39=11,'liste engagés'!D39,\"\")","v":""},{"$f":"IF('liste engagés'!$G39=11,'liste engagés'!E39,\"\")","v":""},{"$f":"IF('liste engagés'!$G39=11,'liste engagés'!K39,\"\")","v":""},{"$f":"IF('liste engagés'!$G39=11,'liste engagés'!L39,\"\")","v":""},0]
[42,{"$f":"IF('liste engagés'!$G40=11,'liste engagés'!A40,\"\")","v":""},{"$f":"IF('liste engagés'!$G40=11,'liste engagés'!B40,\"\")","v":""},{"$f":"IF('liste engagés'!$G40=11,'liste engagés'!C40,\"\")","v":""},{"$f":"IF('liste engagés'!$G40=11,'liste engagés'!D40,\"\")","v":""},{"$f":"IF('liste engagés'!$G40=11,'liste engagés'!E40,\"\")","v":""},{"$f":"IF('liste engagés'!$G40=11,'liste engagés'!K40,\"\")","v":""},{"$f":"IF('liste engagés'!$G40=11,'liste engagés'!L40,\"\")","v":""},0]
[43,{"$f":"IF('liste engagés'!$G41=11,'liste engagés'!A41,\"\")","v":""},{"$f":"IF('liste engagés'!$G41=11,'liste engagés'!B41,\"\")","v":""},{"$f":"IF('liste engagés'!$G41=11,'liste engagés'!C41,\"\")","v":""},{"$f":"IF('liste engagés'!$G41=11,'liste engagés'!D41,\"\")","v":""},{"$f":"IF('liste engagés'!$G41=11,'liste engagés'!E41,\"\")","v":""},{"$f":"IF('liste engagés'!$G41=11,'liste engagés'!K41,\"\")","v":""},{"$f":"IF('liste engagés'!$G41=11,'liste engagés'!L41,\"\")","v":""},0]
[44,{"$f":"IF('liste engagés'!$G42=11,'liste engagés'!A42,\"\")","v":""},{"$f":"IF('liste engagés'!$G42=11,'liste engagés'!B42,\"\")","v":""},{"$f":"IF('liste engagés'!$G42=11,'liste engagés'!C42,\"\")","v":""},{"$f":"IF('liste engagés'!$G42=11,'liste engagés'!D42,\"\")","v":""},{"$f":"IF('liste engagés'!$G42=11,'liste engagés'!E42,\"\")","v":""},{"$f":"IF('liste engagés'!$G42=11,'liste engagés'!K42,\"\")","v":""},{"$f":"IF('liste engagés'!$G42=11,'liste engagés'!L42,\"\")","v":""},0]
[45,{"$f":"IF('liste engagés'!$G43=11,'liste engagés'!A43,\"\")","v":""},{"$f":"IF('liste engagés'!$G43=11,'liste engagés'!B43,\"\")","v":""},{"$f":"IF('liste engagés'!$G43=11,'liste engagés'!C43,\"\")","v":""},{"$f":"IF('liste engagés'!$G43=11,'liste engagés'!D43,\"\")","v":""},{"$f":"IF('liste engagés'!$G43=11,'liste engagés'!E43,\"\")","v":""},{"$f":"IF('liste engagés'!$G43=11,'liste engagés'!K43,\"\")","v":""},{"$f":"IF('liste engagés'!$G43=11,'liste engagés'!L43,\"\")","v":""},0]
[46,{"$f":"IF('liste engagés'!$G44=11,'liste engagés'!A44,\"\")","v":""},{"$f":"IF('liste engagés'!$G44=11,'liste engagés'!B44,\"\")","v":""},{"$f":"IF('liste engagés'!$G44=11,'liste engagés'!C44,\"\")","v":""},{"$f":"IF('liste engagés'!$G44=11,'liste engagés'!D44,\"\")","v":""},{"$f":"IF('liste engagés'!$G44=11,'liste engagés'!E44,\"\")","v":""},{"$f":"IF('liste engagés'!$G44=11,'liste engagés'!K44,\"\")","v":""},{"$f":"IF('liste engagés'!$G44=11,'liste engagés'!L44,\"\")","v":""},0]
[47,{"$f":"IF('liste engagés'!$G45=11,'liste engagés'!A45,\"\")","v":""},{"$f":"IF('liste engagés'!$G45=11,'liste engagés'!B45,\"\")","v":""},{"$f":"IF('liste engagés'!$G45=11,'liste engagés'!C45,\"\")","v":""},{"$f":"IF('liste engagés'!$G45=11,'liste engagés'!D45,\"\")","v":""},{"$f":"IF('liste engagés'!$G45=11,'liste engagés'!E45,\"\")","v":""},{"$f":"IF('liste engagés'!$G45=11,'liste engagés'!K45,\"\")","v":""},{"$f":"IF('liste engagés'!$G45=11,'liste engagés'!L45,\"\")","v":""},0]
[48,{"$f":"IF('liste engagés'!$G46=11,'liste engagés'!A46,\"\")","v":""},{"$f":"IF('liste engagés'!$G46=11,'liste engagés'!B46,\"\")","v":""},{"$f":"IF('liste engagés'!$G46=11,'liste engagés'!C46,\"\")","v":""},{"$f":"IF('liste engagés'!$G46=11,'liste engagés'!D46,\"\")","v":""},{"$f":"IF('liste engagés'!$G46=11,'liste engagés'!E46,\"\")","v":""},{"$f":"IF('liste engagés'!$G46=11,'liste engagés'!K46,\"\")","v":""},{"$f":"IF('liste engagés'!$G46=11,'liste engagés'!L46,\"\")","v":""},0]
[49,{"$f":"IF('liste engagés'!$G47=11,'liste engagés'!A47,\"\")","v":""},{"$f":"IF('liste engagés'!$G47=11,'liste engagés'!B47,\"\")","v":""},{"$f":"IF('liste engagés'!$G47=11,'liste engagés'!C47,\"\")","v":""},{"$f":"IF('liste engagés'!$G47=11,'liste engagés'!D47,\"\")","v":""},{"$f":"IF('liste engagés'!$G47=11,'liste engagés'!E47,\"\")","v":""},{"$f":"IF('liste engagés'!$G47=11,'liste engagés'!K47,\"\")","v":""},{"$f":"IF('liste engagés'!$G47=11,'liste engagés'!L47,\"\")","v":""},0]
[50,{"$f":"IF('liste engagés'!$G48=11,'liste engagés'!A48,\"\")","v":""},{"$f":"IF('liste engagés'!$G48=11,'liste engagés'!B48,\"\")","v":""},{"$f":"IF('liste engagés'!$G48=11,'liste engagés'!C48,\"\")","v":""},{"$f":"IF('liste engagés'!$G48=11,'liste engagés'!D48,\"\")","v":""},{"$f":"IF('liste engagés'!$G48=11,'liste engagés'!E48,\"\")","v":""},{"$f":"IF('liste engagés'!$G48=11,'liste engagés'!K48,\"\")","v":""},{"$f":"IF('liste engagés'!$G48=11,'liste engagés'!L48,\"\")","v":""},0]
[51,{"$f":"IF('liste engagés'!$G49=11,'liste engagés'!A49,\"\")","v":""},{"$f":"IF('liste engagés'!$G49=11,'liste engagés'!B49,\"\")","v":""},{"$f":"IF('liste engagés'!$G49=11,'liste engagés'!C49,\"\")","v":""},{"$f":"IF('liste engagés'!$G49=11,'liste engagés'!D49,\"\")","v":""},{"$f":"IF('liste engagés'!$G49=11,'liste engagés'!E49,\"\")","v":""},{"$f":"IF('liste engagés'!$G49=11,'liste engagés'!K49,\"\")","v":""},{"$f":"IF('liste engagés'!$G49=11,'liste engagés'!L49,\"\")","v":""},0]
[52,{"$f":"IF('liste engagés'!$G50=11,'liste engagés'!A50,\"\")","v":""},{"$f":"IF('liste engagés'!$G50=11,'liste engagés'!B50,\"\")","v":""},{"$f":"IF('liste engagés'!$G50=11,'liste engagés'!C50,\"\")","v":""},{"$f":"IF('liste engagés'!$G50=11,'liste engagés'!D50,\"\")","v":""},{"$f":"IF('liste engagés'!$G50=11,'liste engagés'!E50,\"\")","v":""},{"$f":"IF('liste engagés'!$G50=11,'liste engagés'!K50,\"\")","v":""},{"$f":"IF('liste engagés'!$G50=11,'liste engagés'!L50,\"\")","v":""},0]
[53,{"$f":"IF('liste engagés'!$G51=11,'liste engagés'!A51,\"\")","v":""},{"$f":"IF('liste engagés'!$G51=11,'liste engagés'!B51,\"\")","v":""},{"$f":"IF('liste engagés'!$G51=11,'liste engagés'!C51,\"\")","v":""},{"$f":"IF('liste engagés'!$G51=11,'liste engagés'!D51,\"\")","v":""},{"$f":"IF('liste engagés'!$G51=11,'liste engagés'!E51,\"\")","v":""},{"$f":"IF('liste engagés'!$G51=11,'liste engagés'!K51,\"\")","v":""},{"$f":"IF('liste engagés'!$G51=11,'liste engagés'!L51,\"\")","v":""},0]
[54,{"$f":"IF('liste engagés'!$G52=11,'liste engagés'!A52,\"\")","v":""},{"$f":"IF('liste engagés'!$G52=11,'liste engagés'!B52,\"\")","v":""},{"$f":"IF('liste engagés'!$G52=11,'liste engagés'!C52,\"\")","v":""},{"$f":"IF('liste engagés'!$G52=11,'liste engagés'!D52,\"\")","v":""},{"$f":"IF('liste engagés'!$G52=11,'liste engagés'!E52,\"\")","v":""},{"$f":"IF('liste engagés'!$G52=11,'liste engagés'!K52,\"\")","v":""},{"$f":"IF('liste engagés'!$G52=11,'liste engagés'!L52,\"\")","v":""},0]
[55,{"$f":"IF('liste engagés'!$G53=11,'liste engagés'!A53,\"\")","v":""},{"$f":"IF('liste engagés'!$G53=11,'liste engagés'!B53,\"\")","v":""},{"$f":"IF('liste engagés'!$G53=11,'liste engagés'!C53,\"\")","v":""},{"$f":"IF('liste engagés'!$G53=11,'liste engagés'!D53,\"\")","v":""},{"$f":"IF('liste engagés'!$G53=11,'liste engagés'!E53,\"\")","v":""},{"$f":"IF('liste engagés'!$G53=11,'liste engagés'!K53,\"\")","v":""},{"$f":"IF('liste engagés'!$G53=11,'liste engagés'!L53,\"\")","v":""},0]
[56,{"$f":"IF('liste engagés'!$G54=11,'liste engagés'!A54,\"\")","v":""},{"$f":"IF('liste engagés'!$G54=11,'liste engagés'!B54,\"\")","v":""},{"$f":"IF('liste engagés'!$G54=11,'liste engagés'!C54,\"\")","v":""},{"$f":"IF('liste engagés'!$G54=11,'liste engagés'!D54,\"\")","v":""},{"$f":"IF('liste engagés'!$G54=11,'liste engagés'!E54,\"\")","v":""},{"$f":"IF('liste engagés'!$G54=11,'liste engagés'!K54,\"\")","v":""},{"$f":"IF('liste engagés'!$G54=11,'liste engagés'!L54,\"\")","v":""},0]
[57,{"$f":"IF('liste engagés'!$G55=11,'liste engagés'!A55,\"\")","v":""},{"$f":"IF('liste engagés'!$G55=11,'liste engagés'!B55,\"\")","v":""},{"$f":"IF('liste engagés'!$G55=11,'liste engagés'!C55,\"\")","v":""},{"$f":"IF('liste engagés'!$G55=11,'liste engagés'!D55,\"\")","v":""},{"$f":"IF('liste engagés'!$G55=11,'liste engagés'!E55,\"\")","v":""},{"$f":"IF('liste engagés'!$G55=11,'liste engagés'!K55,\"\")","v":""},{"$f":"IF('liste engagés'!$G55=11,'liste engagés'!L55,\"\")","v":""},0]
[58,{"$f":"IF('liste engagés'!$G56=11,'liste engagés'!A56,\"\")","v":""},{"$f":"IF('liste engagés'!$G56=11,'liste engagés'!B56,\"\")","v":""},{"$f":"IF('liste engagés'!$G56=11,'liste engagés'!C56,\"\")","v":""},{"$f":"IF('liste engagés'!$G56=11,'liste engagés'!D56,\"\")","v":""},{"$f":"IF('liste engagés'!$G56=11,'liste engagés'!E56,\"\")","v":""},{"$f":"IF('liste engagés'!$G56=11,'liste engagés'!K56,\"\")","v":""},{"$f":"IF('liste engagés'!$G56=11,'liste engagés'!L56,\"\")","v":""},0]
[59,{"$f":"IF('liste engagés'!$G57=11,'liste engagés'!A57,\"\")","v":""},{"$f":"IF('liste engagés'!$G57=11,'liste engagés'!B57,\"\")","v":""},{"$f":"IF('liste engagés'!$G57=11,'liste engagés'!C57,\"\")","v":""},{"$f":"IF('liste engagés'!$G57=11,'liste engagés'!D57,\"\")","v":""},{"$f":"IF('liste engagés'!$G57=11,'liste engagés'!E57,\"\")","v":""},{"$f":"IF('liste engagés'!$G57=11,'liste engagés'!K57,\"\")","v":""},{"$f":"IF('liste engagés'!$G57=11,'liste engagés'!L57,\"\")","v":""},0]
[60,{"$f":"IF('liste engagés'!$G58=11,'liste engagés'!A58,\"\")","v":""},{"$f":"IF('liste engagés'!$G58=11,'liste engagés'!B58,\"\")","v":""},{"$f":"IF('liste engagés'!$G58=11,'liste engagés'!C58,\"\")","v":""},{"$f":"IF('liste engagés'!$G58=11,'liste engagés'!D58,\"\")","v":""},{"$f":"IF('liste engagés'!$G58=11,'liste engagés'!E58,\"\")","v":""},{"$f":"IF('liste engagés'!$G58=11,'liste engagés'!K58,\"\")","v":""},{"$f":"IF('liste engagés'!$G58=11,'liste engagés'!L58,\"\")","v":""},0]
[61,{"$f":"IF('liste engagés'!$G59=11,'liste engagés'!A59,\"\")","v":""},{"$f":"IF('liste engagés'!$G59=11,'liste engagés'!B59,\"\")","v":""},{"$f":"IF('liste engagés'!$G59=11,'liste engagés'!C59,\"\")","v":""},{"$f":"IF('liste engagés'!$G59=11,'liste engagés'!D59,\"\")","v":""},{"$f":"IF('liste engagés'!$G59=11,'liste engagés'!E59,\"\")","v":""},{"$f":"IF('liste engagés'!$G59=11,'liste engagés'!K59,\"\")","v":""},{"$f":"IF('liste engagés'!$G59=11,'liste engagés'!L59,\"\")","v":""},0]
[62,{"$f":"IF('liste engagés'!$G60=11,'liste engagés'!A60,\"\")","v":""},{"$f":"IF('liste engagés'!$G60=11,'liste engagés'!B60,\"\")","v":""},{"$f":"IF('liste engagés'!$G60=11,'liste engagés'!C60,\"\")","v":""},{"$f":"IF('liste engagés'!$G60=11,'liste engagés'!D60,\"\")","v":""},{"$f":"IF('liste engagés'!$G60=11,'liste engagés'!E60,\"\")","v":""},{"$f":"IF('liste engagés'!$G60=11,'liste engagés'!K60,\"\")","v":""},{"$f":"IF('liste engagés'!$G60=11,'liste engagés'!L60,\"\")","v":""},0]
[63,{"$f":"IF('liste engagés'!$G61=11,'liste engagés'!A61,\"\")","v":""},{"$f":"IF('liste engagés'!$G61=11,'liste engagés'!B61,\"\")","v":""},{"$f":"IF('liste engagés'!$G61=11,'liste engagés'!C61,\"\")","v":""},{"$f":"IF('liste engagés'!$G61=11,'liste engagés'!D61,\"\")","v":""},{"$f":"IF('liste engagés'!$G61=11,'liste engagés'!E61,\"\")","v":""},{"$f":"IF('liste engagés'!$G61=11,'liste engagés'!K61,\"\")","v":""},{"$f":"IF('liste engagés'!$G61=11,'liste engagés'!L61,\"\")","v":""},0]
[64,{"$f":"IF('liste engagés'!$G62=11,'liste engagés'!A62,\"\")","v":""},{"$f":"IF('liste engagés'!$G62=11,'liste engagés'!B62,\"\")","v":""},{"$f":"IF('liste engagés'!$G62=11,'liste engagés'!C62,\"\")","v":""},{"$f":"IF('liste engagés'!$G62=11,'liste engagés'!D62,\"\")","v":""},{"$f":"IF('liste engagés'!$G62=11,'liste engagés'!E62,\"\")","v":""},{"$f":"IF('liste engagés'!$G62=11,'liste engagés'!K62,\"\")","v":""},{"$f":"IF('liste engagés'!$G62=11,'liste engagés'!L62,\"\")","v":""},0]
[65,{"$f":"IF('liste engagés'!$G63=11,'liste engagés'!A63,\"\")","v":""},{"$f":"IF('liste engagés'!$G63=11,'liste engagés'!B63,\"\")","v":""},{"$f":"IF('liste engagés'!$G63=11,'liste engagés'!C63,\"\")","v":""},{"$f":"IF('liste engagés'!$G63=11,'liste engagés'!D63,\"\")","v":""},{"$f":"IF('liste engagés'!$G63=11,'liste engagés'!E63,\"\")","v":""},{"$f":"IF('liste engagés'!$G63=11,'liste engagés'!K63,\"\")","v":""},{"$f":"IF('liste engagés'!$G63=11,'liste engagés'!L63,\"\")","v":""},{"$f":"+IF(C71=\"\",0,1)","v":0}]
[{"$f":"+A71+1","v":66},{"$f":"IF('liste engagés'!$G64=11,'liste engagés'!A64,\"\")","v":""},{"$f":"IF('liste engagés'!$G64=11,'liste engagés'!B64,\"\")","v":""},{"$f":"IF('liste engagés'!$G64=11,'liste engagés'!C64,\"\")","v":""},{"$f":"IF('liste engagés'!$G64=11,'liste engagés'!D64,\"\")","v":""},{"$f":"IF('liste engagés'!$G64=11,'liste engagés'!E64,\"\")","v":""},{"$f":"IF('liste engagés'!$G64=11,'liste engagés'!K64,\"\")","v":""},{"$f":"IF('liste engagés'!$G64=11,'liste engagés'!L64,\"\")","v":""},0]
[67,{"$f":"IF('liste engagés'!$G65=11,'liste engagés'!A65,\"\")","v":""},{"$f":"IF('liste engagés'!$G65=11,'liste engagés'!B65,\"\")","v":""},{"$f":"IF('liste engagés'!$G65=11,'liste engagés'!C65,\"\")","v":""},{"$f":"IF('liste engagés'!$G65=11,'liste engagés'!D65,\"\")","v":""},{"$f":"IF('liste engagés'!$G65=11,'liste engagés'!E65,\"\")","v":""},{"$f":"IF('liste engagés'!$G65=11,'liste engagés'!K65,\"\")","v":""},{"$f":"IF('liste engagés'!$G65=11,'liste engagés'!L65,\"\")","v":""},0]
[68,{"$f":"IF('liste engagés'!$G66=11,'liste engagés'!A66,\"\")","v":""},{"$f":"IF('liste engagés'!$G66=11,'liste engagés'!B66,\"\")","v":""},{"$f":"IF('liste engagés'!$G66=11,'liste engagés'!C66,\"\")","v":""},{"$f":"IF('liste engagés'!$G66=11,'liste engagés'!D66,\"\")","v":""},{"$f":"IF('liste engagés'!$G66=11,'liste engagés'!E66,\"\")","v":""},{"$f":"IF('liste engagés'!$G66=11,'liste engagés'!K66,\"\")","v":""},{"$f":"IF('liste engagés'!$G66=11,'liste engagés'!L66,\"\")","v":""},0]
[69,{"$f":"IF('liste engagés'!$G67=11,'liste engagés'!A67,\"\")","v":""},{"$f":"IF('liste engagés'!$G67=11,'liste engagés'!B67,\"\")","v":""},{"$f":"IF('liste engagés'!$G67=11,'liste engagés'!C67,\"\")","v":""},{"$f":"IF('liste engagés'!$G67=11,'liste engagés'!D67,\"\")","v":""},{"$f":"IF('liste engagés'!$G67=11,'liste engagés'!E67,\"\")","v":""},{"$f":"IF('liste engagés'!$G67=11,'liste engagés'!K67,\"\")","v":""},{"$f":"IF('liste engagés'!$G67=11,'liste engagés'!L67,\"\")","v":""},0]
[70,{"$f":"IF('liste engagés'!$G68=11,'liste engagés'!A68,\"\")","v":""},{"$f":"IF('liste engagés'!$G68=11,'liste engagés'!B68,\"\")","v":""},{"$f":"IF('liste engagés'!$G68=11,'liste engagés'!C68,\"\")","v":""},{"$f":"IF('liste engagés'!$G68=11,'liste engagés'!D68,\"\")","v":""},{"$f":"IF('liste engagés'!$G68=11,'liste engagés'!E68,\"\")","v":""},{"$f":"IF('liste engagés'!$G68=11,'liste engagés'!K68,\"\")","v":""},{"$f":"IF('liste engagés'!$G68=11,'liste engagés'!L68,\"\")","v":""},0]
[71,{"$f":"IF('liste engagés'!$G69=11,'liste engagés'!A69,\"\")","v":""},{"$f":"IF('liste engagés'!$G69=11,'liste engagés'!B69,\"\")","v":""},{"$f":"IF('liste engagés'!$G69=11,'liste engagés'!C69,\"\")","v":""},{"$f":"IF('liste engagés'!$G69=11,'liste engagés'!D69,\"\")","v":""},{"$f":"IF('liste engagés'!$G69=11,'liste engagés'!E69,\"\")","v":""},{"$f":"IF('liste engagés'!$G69=11,'liste engagés'!K69,\"\")","v":""},{"$f":"IF('liste engagés'!$G69=11,'liste engagés'!L69,\"\")","v":""},0]
[72,{"$f":"IF('liste engagés'!$G70=11,'liste engagés'!A70,\"\")","v":""},{"$f":"IF('liste engagés'!$G70=11,'liste engagés'!B70,\"\")","v":""},{"$f":"IF('liste engagés'!$G70=11,'liste engagés'!C70,\"\")","v":""},{"$f":"IF('liste engagés'!$G70=11,'liste engagés'!D70,\"\")","v":""},{"$f":"IF('liste engagés'!$G70=11,'liste engagés'!E70,\"\")","v":""},{"$f":"IF('liste engagés'!$G70=11,'liste engagés'!K70,\"\")","v":""},{"$f":"IF('liste engagés'!$G70=11,'liste engagés'!L70,\"\")","v":""},0]
[73,{"$f":"IF('liste engagés'!$G71=11,'liste engagés'!A71,\"\")","v":""},{"$f":"IF('liste engagés'!$G71=11,'liste engagés'!B71,\"\")","v":""},{"$f":"IF('liste engagés'!$G71=11,'liste engagés'!C71,\"\")","v":""},{"$f":"IF('liste engagés'!$G71=11,'liste engagés'!D71,\"\")","v":""},{"$f":"IF('liste engagés'!$G71=11,'liste engagés'!E71,\"\")","v":""},{"$f":"IF('liste engagés'!$G71=11,'liste engagés'!K71,\"\")","v":""},{"$f":"IF('liste engagés'!$G71=11,'liste engagés'!L71,\"\")","v":""},0]
[74,{"$f":"IF('liste engagés'!$G72=11,'liste engagés'!A72,\"\")","v":""},{"$f":"IF('liste engagés'!$G72=11,'liste engagés'!B72,\"\")","v":""},{"$f":"IF('liste engagés'!$G72=11,'liste engagés'!C72,\"\")","v":""},{"$f":"IF('liste engagés'!$G72=11,'liste engagés'!D72,\"\")","v":""},{"$f":"IF('liste engagés'!$G72=11,'liste engagés'!E72,\"\")","v":""},{"$f":"IF('liste engagés'!$G72=11,'liste engagés'!K72,\"\")","v":""},{"$f":"IF('liste engagés'!$G72=11,'liste engagés'!L72,\"\")","v":""},0]
[75,{"$f":"IF('liste engagés'!$G73=11,'liste engagés'!A73,\"\")","v":""},{"$f":"IF('liste engagés'!$G73=11,'liste engagés'!B73,\"\")","v":""},{"$f":"IF('liste engagés'!$G73=11,'liste engagés'!C73,\"\")","v":""},{"$f":"IF('liste engagés'!$G73=11,'liste engagés'!D73,\"\")","v":""},{"$f":"IF('liste engagés'!$G73=11,'liste engagés'!E73,\"\")","v":""},{"$f":"IF('liste engagés'!$G73=11,'liste engagés'!K73,\"\")","v":""},{"$f":"IF('liste engagés'!$G73=11,'liste engagés'!L73,\"\")","v":""},0]
[76,{"$f":"IF('liste engagés'!$G74=11,'liste engagés'!A74,\"\")","v":""},{"$f":"IF('liste engagés'!$G74=11,'liste engagés'!B74,\"\")","v":""},{"$f":"IF('liste engagés'!$G74=11,'liste engagés'!C74,\"\")","v":""},{"$f":"IF('liste engagés'!$G74=11,'liste engagés'!D74,\"\")","v":""},{"$f":"IF('liste engagés'!$G74=11,'liste engagés'!E74,\"\")","v":""},{"$f":"IF('liste engagés'!$G74=11,'liste engagés'!K74,\"\")","v":""},{"$f":"IF('liste engagés'!$G74=11,'liste engagés'!L74,\"\")","v":""},0]
[77,{"$f":"IF('liste engagés'!$G75=11,'liste engagés'!A75,\"\")","v":""},{"$f":"IF('liste engagés'!$G75=11,'liste engagés'!B75,\"\")","v":""},{"$f":"IF('liste engagés'!$G75=11,'liste engagés'!C75,\"\")","v":""},{"$f":"IF('liste engagés'!$G75=11,'liste engagés'!D75,\"\")","v":""},{"$f":"IF('liste engagés'!$G75=11,'liste engagés'!E75,\"\")","v":""},{"$f":"IF('liste engagés'!$G75=11,'liste engagés'!K75,\"\")","v":""},{"$f":"IF('liste engagés'!$G75=11,'liste engagés'!L75,\"\")","v":""},0]
[78,{"$f":"IF('liste engagés'!$G76=11,'liste engagés'!A76,\"\")","v":""},{"$f":"IF('liste engagés'!$G76=11,'liste engagés'!B76,\"\")","v":""},{"$f":"IF('liste engagés'!$G76=11,'liste engagés'!C76,\"\")","v":""},{"$f":"IF('liste engagés'!$G76=11,'liste engagés'!D76,\"\")","v":""},{"$f":"IF('liste engagés'!$G76=11,'liste engagés'!E76,\"\")","v":""},{"$f":"IF('liste engagés'!$G76=11,'liste engagés'!K76,\"\")","v":""},{"$f":"IF('liste engagés'!$G76=11,'liste engagés'!L76,\"\")","v":""},0]
[79,{"$f":"IF('liste engagés'!$G77=11,'liste engagés'!A77,\"\")","v":""},{"$f":"IF('liste engagés'!$G77=11,'liste engagés'!B77,\"\")","v":""},{"$f":"IF('liste engagés'!$G77=11,'liste engagés'!C77,\"\")","v":""},{"$f":"IF('liste engagés'!$G77=11,'liste engagés'!D77,\"\")","v":""},{"$f":"IF('liste engagés'!$G77=11,'liste engagés'!E77,\"\")","v":""},{"$f":"IF('liste engagés'!$G77=11,'liste engagés'!K77,\"\")","v":""},{"$f":"IF('liste engagés'!$G77=11,'liste engagés'!L77,\"\")","v":""},0]
[80,{"$f":"IF('liste engagés'!$G78=11,'liste engagés'!A78,\"\")","v":""},{"$f":"IF('liste engagés'!$G78=11,'liste engagés'!B78,\"\")","v":""},{"$f":"IF('liste engagés'!$G78=11,'liste engagés'!C78,\"\")","v":""},{"$f":"IF('liste engagés'!$G78=11,'liste engagés'!D78,\"\")","v":""},{"$f":"IF('liste engagés'!$G78=11,'liste engagés'!E78,\"\")","v":""},{"$f":"IF('liste engagés'!$G78=11,'liste engagés'!K78,\"\")","v":""},{"$f":"IF('liste engagés'!$G78=11,'liste engagés'!L78,\"\")","v":""},0]
[81,{"$f":"IF('liste engagés'!$G79=11,'liste engagés'!A79,\"\")","v":""},{"$f":"IF('liste engagés'!$G79=11,'liste engagés'!B79,\"\")","v":""},{"$f":"IF('liste engagés'!$G79=11,'liste engagés'!C79,\"\")","v":""},{"$f":"IF('liste engagés'!$G79=11,'liste engagés'!D79,\"\")","v":""},{"$f":"IF('liste engagés'!$G79=11,'liste engagés'!E79,\"\")","v":""},{"$f":"IF('liste engagés'!$G79=11,'liste engagés'!K79,\"\")","v":""},{"$f":"IF('liste engagés'!$G79=11,'liste engagés'!L79,\"\")","v":""},0]
[82,{"$f":"IF('liste engagés'!$G80=11,'liste engagés'!A80,\"\")","v":""},{"$f":"IF('liste engagés'!$G80=11,'liste engagés'!B80,\"\")","v":""},{"$f":"IF('liste engagés'!$G80=11,'liste engagés'!C80,\"\")","v":""},{"$f":"IF('liste engagés'!$G80=11,'liste engagés'!D80,\"\")","v":""},{"$f":"IF('liste engagés'!$G80=11,'liste engagés'!E80,\"\")","v":""},{"$f":"IF('liste engagés'!$G80=11,'liste engagés'!K80,\"\")","v":""},{"$f":"IF('liste engagés'!$G80=11,'liste engagés'!L80,\"\")","v":""},0]
[83,{"$f":"IF('liste engagés'!$G81=11,'liste engagés'!A81,\"\")","v":""},{"$f":"IF('liste engagés'!$G81=11,'liste engagés'!B81,\"\")","v":""},{"$f":"IF('liste engagés'!$G81=11,'liste engagés'!C81,\"\")","v":""},{"$f":"IF('liste engagés'!$G81=11,'liste engagés'!D81,\"\")","v":""},{"$f":"IF('liste engagés'!$G81=11,'liste engagés'!E81,\"\")","v":""},{"$f":"IF('liste engagés'!$G81=11,'liste engagés'!K81,\"\")","v":""},{"$f":"IF('liste engagés'!$G81=11,'liste engagés'!L81,\"\")","v":""},0]
[84,{"$f":"IF('liste engagés'!$G82=11,'liste engagés'!A82,\"\")","v":""},{"$f":"IF('liste engagés'!$G82=11,'liste engagés'!B82,\"\")","v":""},{"$f":"IF('liste engagés'!$G82=11,'liste engagés'!C82,\"\")","v":""},{"$f":"IF('liste engagés'!$G82=11,'liste engagés'!D82,\"\")","v":""},{"$f":"IF('liste engagés'!$G82=11,'liste engagés'!E82,\"\")","v":""},{"$f":"IF('liste engagés'!$G82=11,'liste engagés'!K82,\"\")","v":""},{"$f":"IF('liste engagés'!$G82=11,'liste engagés'!L82,\"\")","v":""},0]
[85,{"$f":"IF('liste engagés'!$G84=11,'liste engagés'!A84,\"\")","v":""},{"$f":"IF('liste engagés'!$G84=11,'liste engagés'!B84,\"\")","v":""},{"$f":"IF('liste engagés'!$G84=11,'liste engagés'!C84,\"\")","v":""},{"$f":"IF('liste engagés'!$G84=11,'liste engagés'!D84,\"\")","v":""},{"$f":"IF('liste engagés'!$G84=11,'liste engagés'!E84,\"\")","v":""},{"$f":"IF('liste engagés'!$G84=11,'liste engagés'!K84,\"\")","v":""},{"$f":"IF('liste engagés'!$G84=11,'liste engagés'!L84,\"\")","v":""},0]
[86,{"$f":"IF('liste engagés'!$G85=11,'liste engagés'!A85,\"\")","v":""},{"$f":"IF('liste engagés'!$G85=11,'liste engagés'!B85,\"\")","v":""},{"$f":"IF('liste engagés'!$G85=11,'liste engagés'!C85,\"\")","v":""},{"$f":"IF('liste engagés'!$G85=11,'liste engagés'!D85,\"\")","v":""},{"$f":"IF('liste engagés'!$G85=11,'liste engagés'!E85,\"\")","v":""},{"$f":"IF('liste engagés'!$G85=11,'liste engagés'!K85,\"\")","v":""},{"$f":"IF('liste engagés'!$G85=11,'liste engagés'!L85,\"\")","v":""},0]
[87,{"$f":"IF('liste engagés'!$G86=11,'liste engagés'!A86,\"\")","v":""},{"$f":"IF('liste engagés'!$G86=11,'liste engagés'!B86,\"\")","v":""},{"$f":"IF('liste engagés'!$G86=11,'liste engagés'!C86,\"\")","v":""},{"$f":"IF('liste engagés'!$G86=11,'liste engagés'!D86,\"\")","v":""},{"$f":"IF('liste engagés'!$G86=11,'liste engagés'!E86,\"\")","v":""},{"$f":"IF('liste engagés'!$G86=11,'liste engagés'!K86,\"\")","v":""},{"$f":"IF('liste engagés'!$G86=11,'liste engagés'!L86,\"\")","v":""},0]
[88,{"$f":"IF('liste engagés'!$G88=11,'liste engagés'!A88,\"\")","v":""},{"$f":"IF('liste engagés'!$G88=11,'liste engagés'!B88,\"\")","v":""},{"$f":"IF('liste engagés'!$G88=11,'liste engagés'!C88,\"\")","v":""},{"$f":"IF('liste engagés'!$G88=11,'liste engagés'!D88,\"\")","v":""},{"$f":"IF('liste engagés'!$G88=11,'liste engagés'!E88,\"\")","v":""},{"$f":"IF('liste engagés'!$G88=11,'liste engagés'!K88,\"\")","v":""},{"$f":"IF('liste engagés'!$G88=11,'liste engagés'!L88,\"\")","v":""},0]
[89,{"$f":"IF('liste engagés'!$G89=11,'liste engagés'!A89,\"\")","v":""},{"$f":"IF('liste engagés'!$G89=11,'liste engagés'!B89,\"\")","v":""},{"$f":"IF('liste engagés'!$G89=11,'liste engagés'!C89,\"\")","v":""},{"$f":"IF('liste engagés'!$G89=11,'liste engagés'!D89,\"\")","v":""},{"$f":"IF('liste engagés'!$G89=11,'liste engagés'!E89,\"\")","v":""},{"$f":"IF('liste engagés'!$G89=11,'liste engagés'!K89,\"\")","v":""},{"$f":"IF('liste engagés'!$G89=11,'liste engagés'!L89,\"\")","v":""},0]
[90,{"$f":"IF('liste engagés'!$G90=11,'liste engagés'!A90,\"\")","v":""},{"$f":"IF('liste engagés'!$G90=11,'liste engagés'!B90,\"\")","v":""},{"$f":"IF('liste engagés'!$G90=11,'liste engagés'!C90,\"\")","v":""},{"$f":"IF('liste engagés'!$G90=11,'liste engagés'!D90,\"\")","v":""},{"$f":"IF('liste engagés'!$G90=11,'liste engagés'!E90,\"\")","v":""},{"$f":"IF('liste engagés'!$G90=11,'liste engagés'!K90,\"\")","v":""},{"$f":"IF('liste engagés'!$G90=11,'liste engagés'!L90,\"\")","v":""},0]
[91,{"$f":"IF('liste engagés'!$G91=11,'liste engagés'!A91,\"\")","v":""},{"$f":"IF('liste engagés'!$G91=11,'liste engagés'!B91,\"\")","v":""},{"$f":"IF('liste engagés'!$G91=11,'liste engagés'!C91,\"\")","v":""},{"$f":"IF('liste engagés'!$G91=11,'liste engagés'!D91,\"\")","v":""},{"$f":"IF('liste engagés'!$G91=11,'liste engagés'!E91,\"\")","v":""},{"$f":"IF('liste engagés'!$G91=11,'liste engagés'!K91,\"\")","v":""},{"$f":"IF('liste engagés'!$G91=11,'liste engagés'!L91,\"\")","v":""},0]
[92,{"$f":"IF('liste engagés'!$G92=11,'liste engagés'!A92,\"\")","v":""},{"$f":"IF('liste engagés'!$G92=11,'liste engagés'!B92,\"\")","v":""},{"$f":"IF('liste engagés'!$G92=11,'liste engagés'!C92,\"\")","v":""},{"$f":"IF('liste engagés'!$G92=11,'liste engagés'!D92,\"\")","v":""},{"$f":"IF('liste engagés'!$G92=11,'liste engagés'!E92,\"\")","v":""},{"$f":"IF('liste engagés'!$G92=11,'liste engagés'!K92,\"\")","v":""},{"$f":"IF('liste engagés'!$G92=11,'liste engagés'!L92,\"\")","v":""},0]
[93,{"$f":"IF('liste engagés'!$G93=11,'liste engagés'!A93,\"\")","v":""},{"$f":"IF('liste engagés'!$G93=11,'liste engagés'!B93,\"\")","v":""},{"$f":"IF('liste engagés'!$G93=11,'liste engagés'!C93,\"\")","v":""},{"$f":"IF('liste engagés'!$G93=11,'liste engagés'!D93,\"\")","v":""},{"$f":"IF('liste engagés'!$G93=11,'liste engagés'!E93,\"\")","v":""},{"$f":"IF('liste engagés'!$G93=11,'liste engagés'!K93,\"\")","v":""},{"$f":"IF('liste engagés'!$G93=11,'liste engagés'!L93,\"\")","v":""},0]
[94,{"$f":"IF('liste engagés'!$G94=11,'liste engagés'!A94,\"\")","v":""},{"$f":"IF('liste engagés'!$G94=11,'liste engagés'!B94,\"\")","v":""},{"$f":"IF('liste engagés'!$G94=11,'liste engagés'!C94,\"\")","v":""},{"$f":"IF('liste engagés'!$G94=11,'liste engagés'!D94,\"\")","v":""},{"$f":"IF('liste engagés'!$G94=11,'liste engagés'!E94,\"\")","v":""},{"$f":"IF('liste engagés'!$G94=11,'liste engagés'!K94,\"\")","v":""},{"$f":"IF('liste engagés'!$G94=11,'liste engagés'!L94,\"\")","v":""},0]
[95,{"$f":"IF('liste engagés'!$G95=11,'liste engagés'!A95,\"\")","v":""},{"$f":"IF('liste engagés'!$G95=11,'liste engagés'!B95,\"\")","v":""},{"$f":"IF('liste engagés'!$G95=11,'liste engagés'!C95,\"\")","v":""},{"$f":"IF('liste engagés'!$G95=11,'liste engagés'!D95,\"\")","v":""},{"$f":"IF('liste engagés'!$G95=11,'liste engagés'!E95,\"\")","v":""},{"$f":"IF('liste engagés'!$G95=11,'liste engagés'!K95,\"\")","v":""},{"$f":"IF('liste engagés'!$G95=11,'liste engagés'!L95,\"\")","v":""},0]
[96,{"$f":"IF('liste engagés'!$G96=11,'liste engagés'!A96,\"\")","v":""},{"$f":"IF('liste engagés'!$G96=11,'liste engagés'!B96,\"\")","v":""},{"$f":"IF('liste engagés'!$G96=11,'liste engagés'!C96,\"\")","v":""},{"$f":"IF('liste engagés'!$G96=11,'liste engagés'!D96,\"\")","v":""},{"$f":"IF('liste engagés'!$G96=11,'liste engagés'!E96,\"\")","v":""},{"$f":"IF('liste engagés'!$G96=11,'liste engagés'!K96,\"\")","v":""},{"$f":"IF('liste engagés'!$G96=11,'liste engagés'!L96,\"\")","v":""},0]
[97,{"$f":"IF('liste engagés'!$G97=11,'liste engagés'!A97,\"\")","v":""},{"$f":"IF('liste engagés'!$G97=11,'liste engagés'!B97,\"\")","v":""},{"$f":"IF('liste engagés'!$G97=11,'liste engagés'!C97,\"\")","v":""},{"$f":"IF('liste engagés'!$G97=11,'liste engagés'!D97,\"\")","v":""},{"$f":"IF('liste engagés'!$G97=11,'liste engagés'!E97,\"\")","v":""},{"$f":"IF('liste engagés'!$G97=11,'liste engagés'!K97,\"\")","v":""},{"$f":"IF('liste engagés'!$G97=11,'liste engagés'!L97,\"\")","v":""},0]
[98,{"$f":"IF('liste engagés'!$G98=11,'liste engagés'!A98,\"\")","v":""},{"$f":"IF('liste engagés'!$G98=11,'liste engagés'!B98,\"\")","v":""},{"$f":"IF('liste engagés'!$G98=11,'liste engagés'!C98,\"\")","v":""},{"$f":"IF('liste engagés'!$G98=11,'liste engagés'!D98,\"\")","v":""},{"$f":"IF('liste engagés'!$G98=11,'liste engagés'!E98,\"\")","v":""},{"$f":"IF('liste engagés'!$G98=11,'liste engagés'!K98,\"\")","v":""},{"$f":"IF('liste engagés'!$G98=11,'liste engagés'!L98,\"\")","v":""},0]
[99,{"$f":"IF('liste engagés'!$G99=11,'liste engagés'!A99,\"\")","v":""},{"$f":"IF('liste engagés'!$G99=11,'liste engagés'!B99,\"\")","v":""},{"$f":"IF('liste engagés'!$G99=11,'liste engagés'!C99,\"\")","v":""},{"$f":"IF('liste engagés'!$G99=11,'liste engagés'!D99,\"\")","v":""},{"$f":"IF('liste engagés'!$G99=11,'liste engagés'!E99,\"\")","v":""},{"$f":"IF('liste engagés'!$G99=11,'liste engagés'!K99,\"\")","v":""},{"$f":"IF('liste engagés'!$G99=11,'liste engagés'!L99,\"\")","v":""},0]
[100,{"$f":"IF('liste engagés'!$G101=11,'liste engagés'!A101,\"\")","v":""},{"$f":"IF('liste engagés'!$G101=11,'liste engagés'!B101,\"\")","v":""},{"$f":"IF('liste engagés'!$G101=11,'liste engagés'!C101,\"\")","v":""},{"$f":"IF('liste engagés'!$G101=11,'liste engagés'!D101,\"\")","v":""},{"$f":"IF('liste engagés'!$G101=11,'liste engagés'!E101,\"\")","v":""},{"$f":"IF('liste engagés'!$G101=11,'liste engagés'!K101,\"\")","v":""},{"$f":"IF('liste engagés'!$G101=11,'liste engagés'!L101,\"\")","v":""},0]
[101,{"$f":"IF('liste engagés'!$G102=11,'liste engagés'!A102,\"\")","v":""},{"$f":"IF('liste engagés'!$G102=11,'liste engagés'!B102,\"\")","v":""},{"$f":"IF('liste engagés'!$G102=11,'liste engagés'!C102,\"\")","v":""},{"$f":"IF('liste engagés'!$G102=11,'liste engagés'!D102,\"\")","v":""},{"$f":"IF('liste engagés'!$G102=11,'liste engagés'!E102,\"\")","v":""},{"$f":"IF('liste engagés'!$G102=11,'liste engagés'!K102,\"\")","v":""},{"$f":"IF('liste engagés'!$G102=11,'liste engagés'!L102,\"\")","v":""},0]
[102,{"$f":"IF('liste engagés'!$G103=11,'liste engagés'!A103,\"\")","v":""},{"$f":"IF('liste engagés'!$G103=11,'liste engagés'!B103,\"\")","v":""},{"$f":"IF('liste engagés'!$G103=11,'liste engagés'!C103,\"\")","v":""},{"$f":"IF('liste engagés'!$G103=11,'liste engagés'!D103,\"\")","v":""},{"$f":"IF('liste engagés'!$G103=11,'liste engagés'!E103,\"\")","v":""},{"$f":"IF('liste engagés'!$G103=11,'liste engagés'!K103,\"\")","v":""},{"$f":"IF('liste engagés'!$G103=11,'liste engagés'!L103,\"\")","v":""},0]
[103,{"$f":"IF('liste engagés'!$G104=11,'liste engagés'!A104,\"\")","v":""},{"$f":"IF('liste engagés'!$G104=11,'liste engagés'!B104,\"\")","v":""},{"$f":"IF('liste engagés'!$G104=11,'liste engagés'!C104,\"\")","v":""},{"$f":"IF('liste engagés'!$G104=11,'liste engagés'!D104,\"\")","v":""},{"$f":"IF('liste engagés'!$G104=11,'liste engagés'!E104,\"\")","v":""},{"$f":"IF('liste engagés'!$G104=11,'liste engagés'!K104,\"\")","v":""},{"$f":"IF('liste engagés'!$G104=11,'liste engagés'!L104,\"\")","v":""},0]
[104,{"$f":"IF('liste engagés'!$G105=11,'liste engagés'!A105,\"\")","v":""},{"$f":"IF('liste engagés'!$G105=11,'liste engagés'!B105,\"\")","v":""},{"$f":"IF('liste engagés'!$G105=11,'liste engagés'!C105,\"\")","v":""},{"$f":"IF('liste engagés'!$G105=11,'liste engagés'!D105,\"\")","v":""},{"$f":"IF('liste engagés'!$G105=11,'liste engagés'!E105,\"\")","v":""},{"$f":"IF('liste engagés'!$G105=11,'liste engagés'!K105,\"\")","v":""},{"$f":"IF('liste engagés'!$G105=11,'liste engagés'!L105,\"\")","v":""},0]
[105,{"$f":"IF('liste engagés'!$G106=11,'liste engagés'!A106,\"\")","v":""},{"$f":"IF('liste engagés'!$G106=11,'liste engagés'!B106,\"\")","v":""},{"$f":"IF('liste engagés'!$G106=11,'liste engagés'!C106,\"\")","v":""},{"$f":"IF('liste engagés'!$G106=11,'liste engagés'!D106,\"\")","v":""},{"$f":"IF('liste engagés'!$G106=11,'liste engagés'!E106,\"\")","v":""},{"$f":"IF('liste engagés'!$G106=11,'liste engagés'!K106,\"\")","v":""},{"$f":"IF('liste engagés'!$G106=11,'liste engagés'!L106,\"\")","v":""},0]
[106,{"$f":"IF('liste engagés'!$G107=11,'liste engagés'!A107,\"\")","v":""},{"$f":"IF('liste engagés'!$G107=11,'liste engagés'!B107,\"\")","v":""},{"$f":"IF('liste engagés'!$G107=11,'liste engagés'!C107,\"\")","v":""},{"$f":"IF('liste engagés'!$G107=11,'liste engagés'!D107,\"\")","v":""},{"$f":"IF('liste engagés'!$G107=11,'liste engagés'!E107,\"\")","v":""},{"$f":"IF('liste engagés'!$G107=11,'liste engagés'!K107,\"\")","v":""},{"$f":"IF('liste engagés'!$G107=11,'liste engagés'!L107,\"\")","v":""},0]
[107,{"$f":"IF('liste engagés'!$G108=11,'liste engagés'!A108,\"\")","v":""},{"$f":"IF('liste engagés'!$G108=11,'liste engagés'!B108,\"\")","v":""},{"$f":"IF('liste engagés'!$G108=11,'liste engagés'!C108,\"\")","v":""},{"$f":"IF('liste engagés'!$G108=11,'liste engagés'!D108,\"\")","v":""},{"$f":"IF('liste engagés'!$G108=11,'liste engagés'!E108,\"\")","v":""},{"$f":"IF('liste engagés'!$G108=11,'liste engagés'!K108,\"\")","v":""},{"$f":"IF('liste engagés'!$G108=11,'liste engagés'!L108,\"\")","v":""},0]
[108,{"$f":"IF('liste engagés'!$G109=11,'liste engagés'!A109,\"\")","v":""},{"$f":"IF('liste engagés'!$G109=11,'liste engagés'!B109,\"\")","v":""},{"$f":"IF('liste engagés'!$G109=11,'liste engagés'!C109,\"\")","v":""},{"$f":"IF('liste engagés'!$G109=11,'liste engagés'!D109,\"\")","v":""},{"$f":"IF('liste engagés'!$G109=11,'liste engagés'!E109,\"\")","v":""},{"$f":"IF('liste engagés'!$G109=11,'liste engagés'!K109,\"\")","v":""},{"$f":"IF('liste engagés'!$G109=11,'liste engagés'!L109,\"\")","v":""},0]
[109,{"$f":"IF('liste engagés'!$G110=11,'liste engagés'!A110,\"\")","v":""},{"$f":"IF('liste engagés'!$G110=11,'liste engagés'!B110,\"\")","v":""},{"$f":"IF('liste engagés'!$G110=11,'liste engagés'!C110,\"\")","v":""},{"$f":"IF('liste engagés'!$G110=11,'liste engagés'!D110,\"\")","v":""},{"$f":"IF('liste engagés'!$G110=11,'liste engagés'!E110,\"\")","v":""},{"$f":"IF('liste engagés'!$G110=11,'liste engagés'!K110,\"\")","v":""},{"$f":"IF('liste engagés'!$G110=11,'liste engagés'!L110,\"\")","v":""},0]
[110,{"$f":"IF('liste engagés'!$G111=11,'liste engagés'!A111,\"\")","v":""},{"$f":"IF('liste engagés'!$G111=11,'liste engagés'!B111,\"\")","v":""},{"$f":"IF('liste engagés'!$G111=11,'liste engagés'!C111,\"\")","v":""},{"$f":"IF('liste engagés'!$G111=11,'liste engagés'!D111,\"\")","v":""},{"$f":"IF('liste engagés'!$G111=11,'liste engagés'!E111,\"\")","v":""},{"$f":"IF('liste engagés'!$G111=11,'liste engagés'!K111,\"\")","v":""},{"$f":"IF('liste engagés'!$G111=11,'liste engagés'!L111,\"\")","v":""},0]
[111,{"$f":"IF('liste engagés'!$G112=11,'liste engagés'!A112,\"\")","v":""},{"$f":"IF('liste engagés'!$G112=11,'liste engagés'!B112,\"\")","v":""},{"$f":"IF('liste engagés'!$G112=11,'liste engagés'!C112,\"\")","v":""},{"$f":"IF('liste engagés'!$G112=11,'liste engagés'!D112,\"\")","v":""},{"$f":"IF('liste engagés'!$G112=11,'liste engagés'!E112,\"\")","v":""},{"$f":"IF('liste engagés'!$G112=11,'liste engagés'!K112,\"\")","v":""},{"$f":"IF('liste engagés'!$G112=11,'liste engagés'!L112,\"\")","v":""},0]
[112,{"$f":"IF('liste engagés'!$G113=11,'liste engagés'!A113,\"\")","v":""},{"$f":"IF('liste engagés'!$G113=11,'liste engagés'!B113,\"\")","v":""},{"$f":"IF('liste engagés'!$G113=11,'liste engagés'!C113,\"\")","v":""},{"$f":"IF('liste engagés'!$G113=11,'liste engagés'!D113,\"\")","v":""},{"$f":"IF('liste engagés'!$G113=11,'liste engagés'!E113,\"\")","v":""},{"$f":"IF('liste engagés'!$G113=11,'liste engagés'!K113,\"\")","v":""},{"$f":"IF('liste engagés'!$G113=11,'liste engagés'!L113,\"\")","v":""},0]
[113,{"$f":"IF('liste engagés'!$G114=11,'liste engagés'!A114,\"\")","v":""},{"$f":"IF('liste engagés'!$G114=11,'liste engagés'!B114,\"\")","v":""},{"$f":"IF('liste engagés'!$G114=11,'liste engagés'!C114,\"\")","v":""},{"$f":"IF('liste engagés'!$G114=11,'liste engagés'!D114,\"\")","v":""},{"$f":"IF('liste engagés'!$G114=11,'liste engagés'!E114,\"\")","v":""},{"$f":"IF('liste engagés'!$G114=11,'liste engagés'!K114,\"\")","v":""},{"$f":"IF('liste engagés'!$G114=11,'liste engagés'!L114,\"\")","v":""},0]
[114,{"$f":"IF('liste engagés'!$G115=11,'liste engagés'!A115,\"\")","v":""},{"$f":"IF('liste engagés'!$G115=11,'liste engagés'!B115,\"\")","v":""},{"$f":"IF('liste engagés'!$G115=11,'liste engagés'!C115,\"\")","v":""},{"$f":"IF('liste engagés'!$G115=11,'liste engagés'!D115,\"\")","v":""},{"$f":"IF('liste engagés'!$G115=11,'liste engagés'!E115,\"\")","v":""},{"$f":"IF('liste engagés'!$G115=11,'liste engagés'!K115,\"\")","v":""},{"$f":"IF('liste engagés'!$G115=11,'liste engagés'!L115,\"\")","v":""},0]
[115,{"$f":"IF('liste engagés'!$G116=11,'liste engagés'!A116,\"\")","v":""},{"$f":"IF('liste engagés'!$G116=11,'liste engagés'!B116,\"\")","v":""},{"$f":"IF('liste engagés'!$G116=11,'liste engagés'!C116,\"\")","v":""},{"$f":"IF('liste engagés'!$G116=11,'liste engagés'!D116,\"\")","v":""},{"$f":"IF('liste engagés'!$G116=11,'liste engagés'!E116,\"\")","v":""},{"$f":"IF('liste engagés'!$G116=11,'liste engagés'!K116,\"\")","v":""},{"$f":"IF('liste engagés'!$G116=11,'liste engagés'!L116,\"\")","v":""},0]
[116,{"$f":"IF('liste engagés'!$G117=11,'liste engagés'!A117,\"\")","v":""},{"$f":"IF('liste engagés'!$G117=11,'liste engagés'!B117,\"\")","v":""},{"$f":"IF('liste engagés'!$G117=11,'liste engagés'!C117,\"\")","v":""},{"$f":"IF('liste engagés'!$G117=11,'liste engagés'!D117,\"\")","v":""},{"$f":"IF('liste engagés'!$G117=11,'liste engagés'!E117,\"\")","v":""},{"$f":"IF('liste engagés'!$G117=11,'liste engagés'!K117,\"\")","v":""},{"$f":"IF('liste engagés'!$G117=11,'liste engagés'!L117,\"\")","v":""},0]
[117,{"$f":"IF('liste engagés'!$G118=11,'liste engagés'!A118,\"\")","v":""},{"$f":"IF('liste engagés'!$G118=11,'liste engagés'!B118,\"\")","v":""},{"$f":"IF('liste engagés'!$G118=11,'liste engagés'!C118,\"\")","v":""},{"$f":"IF('liste engagés'!$G118=11,'liste engagés'!D118,\"\")","v":""},{"$f":"IF('liste engagés'!$G118=11,'liste engagés'!E118,\"\")","v":""},{"$f":"IF('liste engagés'!$G118=11,'liste engagés'!K118,\"\")","v":""},{"$f":"IF('liste engagés'!$G118=11,'liste engagés'!L118,\"\")","v":""},0]
[118,{"$f":"IF('liste engagés'!$G119=11,'liste engagés'!A119,\"\")","v":""},{"$f":"IF('liste engagés'!$G119=11,'liste engagés'!B119,\"\")","v":""},{"$f":"IF('liste engagés'!$G119=11,'liste engagés'!C119,\"\")","v":""},{"$f":"IF('liste engagés'!$G119=11,'liste engagés'!D119,\"\")","v":""},{"$f":"IF('liste engagés'!$G119=11,'liste engagés'!E119,\"\")","v":""},{"$f":"IF('liste engagés'!$G119=11,'liste engagés'!K119,\"\")","v":""},{"$f":"IF('liste engagés'!$G119=11,'liste engagés'!L119,\"\")","v":""},0]
[119,{"$f":"IF('liste engagés'!$G121=11,'liste engagés'!A121,\"\")","v":""},{"$f":"IF('liste engagés'!$G121=11,'liste engagés'!B121,\"\")","v":""},{"$f":"IF('liste engagés'!$G121=11,'liste engagés'!C121,\"\")","v":""},{"$f":"IF('liste engagés'!$G121=11,'liste engagés'!D121,\"\")","v":""},{"$f":"IF('liste engagés'!$G121=11,'liste engagés'!E121,\"\")","v":""},{"$f":"IF('liste engagés'!$G121=11,'liste engagés'!K121,\"\")","v":""},{"$f":"IF('liste engagés'!$G121=11,'liste engagés'!L121,\"\")","v":""},0]
[120,{"$f":"IF('liste engagés'!$G122=11,'liste engagés'!A122,\"\")","v":""},{"$f":"IF('liste engagés'!$G122=11,'liste engagés'!B122,\"\")","v":""},{"$f":"IF('liste engagés'!$G122=11,'liste engagés'!C122,\"\")","v":""},{"$f":"IF('liste engagés'!$G122=11,'liste engagés'!D122,\"\")","v":""},{"$f":"IF('liste engagés'!$G122=11,'liste engagés'!E122,\"\")","v":""},{"$f":"IF('liste engagés'!$G122=11,'liste engagés'!K122,\"\")","v":""},{"$f":"IF('liste engagés'!$G122=11,'liste engagés'!L122,\"\")","v":""},0]
[121,{"$f":"IF('liste engagés'!$G123=11,'liste engagés'!A123,\"\")","v":""},{"$f":"IF('liste engagés'!$G123=11,'liste engagés'!B123,\"\")","v":""},{"$f":"IF('liste engagés'!$G123=11,'liste engagés'!C123,\"\")","v":""},{"$f":"IF('liste engagés'!$G123=11,'liste engagés'!D123,\"\")","v":""},{"$f":"IF('liste engagés'!$G123=11,'liste engagés'!E123,\"\")","v":""},{"$f":"IF('liste engagés'!$G123=11,'liste engagés'!K123,\"\")","v":""},{"$f":"IF('liste engagés'!$G123=11,'liste engagés'!L123,\"\")","v":""},0]
[122,{"$f":"IF('liste engagés'!$G124=11,'liste engagés'!A124,\"\")","v":""},{"$f":"IF('liste engagés'!$G124=11,'liste engagés'!B124,\"\")","v":""},{"$f":"IF('liste engagés'!$G124=11,'liste engagés'!C124,\"\")","v":""},{"$f":"IF('liste engagés'!$G124=11,'liste engagés'!D124,\"\")","v":""},{"$f":"IF('liste engagés'!$G124=11,'liste engagés'!E124,\"\")","v":""},{"$f":"IF('liste engagés'!$G124=11,'liste engagés'!K124,\"\")","v":""},{"$f":"IF('liste engagés'!$G124=11,'liste engagés'!L124,\"\")","v":""},0]
[123,{"$f":"IF('liste engagés'!$G125=11,'liste engagés'!A125,\"\")","v":""},{"$f":"IF('liste engagés'!$G125=11,'liste engagés'!B125,\"\")","v":""},{"$f":"IF('liste engagés'!$G125=11,'liste engagés'!C125,\"\")","v":""},{"$f":"IF('liste engagés'!$G125=11,'liste engagés'!D125,\"\")","v":""},{"$f":"IF('liste engagés'!$G125=11,'liste engagés'!E125,\"\")","v":""},{"$f":"IF('liste engagés'!$G125=11,'liste engagés'!K125,\"\")","v":""},{"$f":"IF('liste engagés'!$G125=11,'liste engagés'!L125,\"\")","v":""},0]
[124,{"$f":"IF('liste engagés'!$G126=11,'liste engagés'!A126,\"\")","v":""},{"$f":"IF('liste engagés'!$G126=11,'liste engagés'!B126,\"\")","v":""},{"$f":"IF('liste engagés'!$G126=11,'liste engagés'!C126,\"\")","v":""},{"$f":"IF('liste engagés'!$G126=11,'liste engagés'!D126,\"\")","v":""},{"$f":"IF('liste engagés'!$G126=11,'liste engagés'!E126,\"\")","v":""},{"$f":"IF('liste engagés'!$G126=11,'liste engagés'!K126,\"\")","v":""},{"$f":"IF('liste engagés'!$G126=11,'liste engagés'!L126,\"\")","v":""},0]
[125,{"$f":"IF('liste engagés'!$G127=11,'liste engagés'!A127,\"\")","v":""},{"$f":"IF('liste engagés'!$G127=11,'liste engagés'!B127,\"\")","v":""},{"$f":"IF('liste engagés'!$G127=11,'liste engagés'!C127,\"\")","v":""},{"$f":"IF('liste engagés'!$G127=11,'liste engagés'!D127,\"\")","v":""},{"$f":"IF('liste engagés'!$G127=11,'liste engagés'!E127,\"\")","v":""},{"$f":"IF('liste engagés'!$G127=11,'liste engagés'!K127,\"\")","v":""},{"$f":"IF('liste engagés'!$G127=11,'liste engagés'!L127,\"\")","v":""},0]
[126,{"$f":"IF('liste engagés'!$G128=11,'liste engagés'!A128,\"\")","v":""},{"$f":"IF('liste engagés'!$G128=11,'liste engagés'!B128,\"\")","v":""},{"$f":"IF('liste engagés'!$G128=11,'liste engagés'!C128,\"\")","v":""},{"$f":"IF('liste engagés'!$G128=11,'liste engagés'!D128,\"\")","v":""},{"$f":"IF('liste engagés'!$G128=11,'liste engagés'!E128,\"\")","v":""},{"$f":"IF('liste engagés'!$G128=11,'liste engagés'!K128,\"\")","v":""},{"$f":"IF('liste engagés'!$G128=11,'liste engagés'!L128,\"\")","v":""},0]
[127,{"$f":"IF('liste engagés'!$G129=11,'liste engagés'!A129,\"\")","v":""},{"$f":"IF('liste engagés'!$G129=11,'liste engagés'!B129,\"\")","v":""},{"$f":"IF('liste engagés'!$G129=11,'liste engagés'!C129,\"\")","v":""},{"$f":"IF('liste engagés'!$G129=11,'liste engagés'!D129,\"\")","v":""},{"$f":"IF('liste engagés'!$G129=11,'liste engagés'!E129,\"\")","v":""},{"$f":"IF('liste engagés'!$G129=11,'liste engagés'!K129,\"\")","v":""},{"$f":"IF('liste engagés'!$G129=11,'liste engagés'!L129,\"\")","v":""},0]
[128,{"$f":"IF('liste engagés'!$G130=11,'liste engagés'!A130,\"\")","v":""},{"$f":"IF('liste engagés'!$G130=11,'liste engagés'!B130,\"\")","v":""},{"$f":"IF('liste engagés'!$G130=11,'liste engagés'!C130,\"\")","v":""},{"$f":"IF('liste engagés'!$G130=11,'liste engagés'!D130,\"\")","v":""},{"$f":"IF('liste engagés'!$G130=11,'liste engagés'!E130,\"\")","v":""},{"$f":"IF('liste engagés'!$G130=11,'liste engagés'!K130,\"\")","v":""},{"$f":"IF('liste engagés'!$G130=11,'liste engagés'!L130,\"\")","v":""},0]
[129,{"$f":"IF('liste engagés'!$G131=11,'liste engagés'!A131,\"\")","v":""},{"$f":"IF('liste engagés'!$G131=11,'liste engagés'!B131,\"\")","v":""},{"$f":"IF('liste engagés'!$G131=11,'liste engagés'!C131,\"\")","v":""},{"$f":"IF('liste engagés'!$G131=11,'liste engagés'!D131,\"\")","v":""},{"$f":"IF('liste engagés'!$G131=11,'liste engagés'!E131,\"\")","v":""},{"$f":"IF('liste engagés'!$G131=11,'liste engagés'!K131,\"\")","v":""},{"$f":"IF('liste engagés'!$G131=11,'liste engagés'!L131,\"\")","v":""},{"$f":"+IF(C135=\"\",0,1)","v":0}]
[{"$f":"+A135+1","v":130},{"$f":"IF('liste engagés'!$G133=11,'liste engagés'!A133,\"\")","v":""},{"$f":"IF('liste engagés'!$G133=11,'liste engagés'!B133,\"\")","v":""},{"$f":"IF('liste engagés'!$G133=11,'liste engagés'!C133,\"\")","v":""},{"$f":"IF('liste engagés'!$G133=11,'liste engagés'!D133,\"\")","v":""},{"$f":"IF('liste engagés'!$G133=11,'liste engagés'!E133,\"\")","v":""},{"$f":"IF('liste engagés'!$G133=11,'liste engagés'!K133,\"\")","v":""},{"$f":"IF('liste engagés'!$G133=11,'liste engagés'!L133,\"\")","v":""},0]
[131,{"$f":"IF('liste engagés'!$G134=11,'liste engagés'!A134,\"\")","v":""},{"$f":"IF('liste engagés'!$G134=11,'liste engagés'!B134,\"\")","v":""},{"$f":"IF('liste engagés'!$G134=11,'liste engagés'!C134,\"\")","v":""},{"$f":"IF('liste engagés'!$G134=11,'liste engagés'!D134,\"\")","v":""},{"$f":"IF('liste engagés'!$G134=11,'liste engagés'!E134,\"\")","v":""},{"$f":"IF('liste engagés'!$G134=11,'liste engagés'!K134,\"\")","v":""},{"$f":"IF('liste engagés'!$G134=11,'liste engagés'!L134,\"\")","v":""},0]
[132,{"$f":"IF('liste engagés'!$G135=11,'liste engagés'!A135,\"\")","v":""},{"$f":"IF('liste engagés'!$G135=11,'liste engagés'!B135,\"\")","v":""},{"$f":"IF('liste engagés'!$G135=11,'liste engagés'!C135,\"\")","v":""},{"$f":"IF('liste engagés'!$G135=11,'liste engagés'!D135,\"\")","v":""},{"$f":"IF('liste engagés'!$G135=11,'liste engagés'!E135,\"\")","v":""},{"$f":"IF('liste engagés'!$G135=11,'liste engagés'!K135,\"\")","v":""},{"$f":"IF('liste engagés'!$G135=11,'liste engagés'!L135,\"\")","v":""},0]
[133,{"$f":"IF('liste engagés'!$G136=11,'liste engagés'!A136,\"\")","v":""},{"$f":"IF('liste engagés'!$G136=11,'liste engagés'!B136,\"\")","v":""},{"$f":"IF('liste engagés'!$G136=11,'liste engagés'!C136,\"\")","v":""},{"$f":"IF('liste engagés'!$G136=11,'liste engagés'!D136,\"\")","v":""},{"$f":"IF('liste engagés'!$G136=11,'liste engagés'!E136,\"\")","v":""},{"$f":"IF('liste engagés'!$G136=11,'liste engagés'!K136,\"\")","v":""},{"$f":"IF('liste engagés'!$G136=11,'liste engagés'!L136,\"\")","v":""},0]
[134,{"$f":"IF('liste engagés'!$G137=11,'liste engagés'!A137,\"\")","v":""},{"$f":"IF('liste engagés'!$G137=11,'liste engagés'!B137,\"\")","v":""},{"$f":"IF('liste engagés'!$G137=11,'liste engagés'!C137,\"\")","v":""},{"$f":"IF('liste engagés'!$G137=11,'liste engagés'!D137,\"\")","v":""},{"$f":"IF('liste engagés'!$G137=11,'liste engagés'!E137,\"\")","v":""},{"$f":"IF('liste engagés'!$G137=11,'liste engagés'!K137,\"\")","v":""},{"$f":"IF('liste engagés'!$G137=11,'liste engagés'!L137,\"\")","v":""},0]
[135,{"$f":"IF('liste engagés'!$G138=11,'liste engagés'!A138,\"\")","v":""},{"$f":"IF('liste engagés'!$G138=11,'liste engagés'!B138,\"\")","v":""},{"$f":"IF('liste engagés'!$G138=11,'liste engagés'!C138,\"\")","v":""},{"$f":"IF('liste engagés'!$G138=11,'liste engagés'!D138,\"\")","v":""},{"$f":"IF('liste engagés'!$G138=11,'liste engagés'!E138,\"\")","v":""},{"$f":"IF('liste engagés'!$G138=11,'liste engagés'!K138,\"\")","v":""},{"$f":"IF('liste engagés'!$G138=11,'liste engagés'!L138,\"\")","v":""},0]
[136,{"$f":"IF('liste engagés'!$G139=11,'liste engagés'!A139,\"\")","v":""},{"$f":"IF('liste engagés'!$G139=11,'liste engagés'!B139,\"\")","v":""},{"$f":"IF('liste engagés'!$G139=11,'liste engagés'!C139,\"\")","v":""},{"$f":"IF('liste engagés'!$G139=11,'liste engagés'!D139,\"\")","v":""},{"$f":"IF('liste engagés'!$G139=11,'liste engagés'!E139,\"\")","v":""},{"$f":"IF('liste engagés'!$G139=11,'liste engagés'!K139,\"\")","v":""},{"$f":"IF('liste engagés'!$G139=11,'liste engagés'!L139,\"\")","v":""},0]
[137,{"$f":"IF('liste engagés'!$G140=11,'liste engagés'!A140,\"\")","v":""},{"$f":"IF('liste engagés'!$G140=11,'liste engagés'!B140,\"\")","v":""},{"$f":"IF('liste engagés'!$G140=11,'liste engagés'!C140,\"\")","v":""},{"$f":"IF('liste engagés'!$G140=11,'liste engagés'!D140,\"\")","v":""},{"$f":"IF('liste engagés'!$G140=11,'liste engagés'!E140,\"\")","v":""},{"$f":"IF('liste engagés'!$G140=11,'liste engagés'!K140,\"\")","v":""},{"$f":"IF('liste engagés'!$G140=11,'liste engagés'!L140,\"\")","v":""},0]
[138,{"$f":"IF('liste engagés'!$G142=11,'liste engagés'!A142,\"\")","v":""},{"$f":"IF('liste engagés'!$G142=11,'liste engagés'!B142,\"\")","v":""},{"$f":"IF('liste engagés'!$G142=11,'liste engagés'!C142,\"\")","v":""},{"$f":"IF('liste engagés'!$G142=11,'liste engagés'!D142,\"\")","v":""},{"$f":"IF('liste engagés'!$G142=11,'liste engagés'!E142,\"\")","v":""},{"$f":"IF('liste engagés'!$G142=11,'liste engagés'!K142,\"\")","v":""},{"$f":"IF('liste engagés'!$G142=11,'liste engagés'!L142,\"\")","v":""},0]
[139,{"$f":"IF('liste engagés'!$G143=11,'liste engagés'!A143,\"\")","v":""},{"$f":"IF('liste engagés'!$G143=11,'liste engagés'!B143,\"\")","v":""},{"$f":"IF('liste engagés'!$G143=11,'liste engagés'!C143,\"\")","v":""},{"$f":"IF('liste engagés'!$G143=11,'liste engagés'!D143,\"\")","v":""},{"$f":"IF('liste engagés'!$G143=11,'liste engagés'!E143,\"\")","v":""},{"$f":"IF('liste engagés'!$G143=11,'liste engagés'!K143,\"\")","v":""},{"$f":"IF('liste engagés'!$G143=11,'liste engagés'!L143,\"\")","v":""},0]
[140,{"$f":"IF('liste engagés'!$G144=11,'liste engagés'!A144,\"\")","v":""},{"$f":"IF('liste engagés'!$G144=11,'liste engagés'!B144,\"\")","v":""},{"$f":"IF('liste engagés'!$G144=11,'liste engagés'!C144,\"\")","v":""},{"$f":"IF('liste engagés'!$G144=11,'liste engagés'!D144,\"\")","v":""},{"$f":"IF('liste engagés'!$G144=11,'liste engagés'!E144,\"\")","v":""},{"$f":"IF('liste engagés'!$G144=11,'liste engagés'!K144,\"\")","v":""},{"$f":"IF('liste engagés'!$G144=11,'liste engagés'!L144,\"\")","v":""},0]
[141,{"$f":"IF('liste engagés'!$G145=11,'liste engagés'!A145,\"\")","v":""},{"$f":"IF('liste engagés'!$G145=11,'liste engagés'!B145,\"\")","v":""},{"$f":"IF('liste engagés'!$G145=11,'liste engagés'!#REF!,\"\")","v":""},{"$f":"IF('liste engagés'!$G145=11,'liste engagés'!D145,\"\")","v":""},{"$f":"IF('liste engagés'!$G145=11,'liste engagés'!E145,\"\")","v":""},{"$f":"IF('liste engagés'!$G145=11,'liste engagés'!K145,\"\")","v":""},{"$f":"IF('liste engagés'!$G145=11,'liste engagés'!L145,\"\")","v":""},0]
[142,{"$f":"IF('liste engagés'!$G146=11,'liste engagés'!A146,\"\")","v":""},{"$f":"IF('liste engagés'!$G146=11,'liste engagés'!B146,\"\")","v":""},{"$f":"IF('liste engagés'!$G146=11,'liste engagés'!C145,\"\")","v":""},{"$f":"IF('liste engagés'!$G146=11,'liste engagés'!D146,\"\")","v":""},{"$f":"IF('liste engagés'!$G146=11,'liste engagés'!E146,\"\")","v":""},{"$f":"IF('liste engagés'!$G146=11,'liste engagés'!K146,\"\")","v":""},{"$f":"IF('liste engagés'!$G146=11,'liste engagés'!L146,\"\")","v":""},0]
[143,{"$f":"IF('liste engagés'!$G147=11,'liste engagés'!A147,\"\")","v":""},{"$f":"IF('liste engagés'!$G147=11,'liste engagés'!B147,\"\")","v":""},{"$f":"IF('liste engagés'!$G147=11,'liste engagés'!C147,\"\")","v":""},{"$f":"IF('liste engagés'!$G147=11,'liste engagés'!D147,\"\")","v":""},{"$f":"IF('liste engagés'!$G147=11,'liste engagés'!E147,\"\")","v":""},{"$f":"IF('liste engagés'!$G147=11,'liste engagés'!K147,\"\")","v":""},{"$f":"IF('liste engagés'!$G147=11,'liste engagés'!L147,\"\")","v":""},0]
[144,{"$f":"IF('liste engagés'!$G148=11,'liste engagés'!A148,\"\")","v":""},{"$f":"IF('liste engagés'!$G148=11,'liste engagés'!B148,\"\")","v":""},{"$f":"IF('liste engagés'!$G148=11,'liste engagés'!C148,\"\")","v":""},{"$f":"IF('liste engagés'!$G148=11,'liste engagés'!D148,\"\")","v":""},{"$f":"IF('liste engagés'!$G148=11,'liste engagés'!E148,\"\")","v":""},{"$f":"IF('liste engagés'!$G148=11,'liste engagés'!K148,\"\")","v":""},{"$f":"IF('liste engagés'!$G148=11,'liste engagés'!L148,\"\")","v":""},0]
[145,{"$f":"IF('liste engagés'!$G149=11,'liste engagés'!A149,\"\")","v":""},{"$f":"IF('liste engagés'!$G149=11,'liste engagés'!B149,\"\")","v":""},{"$f":"IF('liste engagés'!$G149=11,'liste engagés'!C149,\"\")","v":""},{"$f":"IF('liste engagés'!$G149=11,'liste engagés'!D149,\"\")","v":""},{"$f":"IF('liste engagés'!$G149=11,'liste engagés'!E149,\"\")","v":""},{"$f":"IF('liste engagés'!$G149=11,'liste engagés'!K149,\"\")","v":""},{"$f":"IF('liste engagés'!$G149=11,'liste engagés'!L149,\"\")","v":""},0]
[146,{"$f":"IF('liste engagés'!$G150=11,'liste engagés'!A150,\"\")","v":""},{"$f":"IF('liste engagés'!$G150=11,'liste engagés'!B150,\"\")","v":""},{"$f":"IF('liste engagés'!$G150=11,'liste engagés'!C150,\"\")","v":""},{"$f":"IF('liste engagés'!$G150=11,'liste engagés'!D150,\"\")","v":""},{"$f":"IF('liste engagés'!$G150=11,'liste engagés'!E150,\"\")","v":""},{"$f":"IF('liste engagés'!$G150=11,'liste engagés'!K150,\"\")","v":""},{"$f":"IF('liste engagés'!$G150=11,'liste engagés'!L150,\"\")","v":""},0]
[147,{"$f":"IF('liste engagés'!$G151=11,'liste engagés'!A151,\"\")","v":""},{"$f":"IF('liste engagés'!$G151=11,'liste engagés'!B151,\"\")","v":""},{"$f":"IF('liste engagés'!$G151=11,'liste engagés'!C151,\"\")","v":""},{"$f":"IF('liste engagés'!$G151=11,'liste engagés'!D151,\"\")","v":""},{"$f":"IF('liste engagés'!$G151=11,'liste engagés'!E151,\"\")","v":""},{"$f":"IF('liste engagés'!$G151=11,'liste engagés'!K151,\"\")","v":""},{"$f":"IF('liste engagés'!$G151=11,'liste engagés'!L151,\"\")","v":""},0]
[148,{"$f":"IF('liste engagés'!$G152=11,'liste engagés'!A152,\"\")","v":""},{"$f":"IF('liste engagés'!$G152=11,'liste engagés'!B152,\"\")","v":""},{"$f":"IF('liste engagés'!$G152=11,'liste engagés'!C152,\"\")","v":""},{"$f":"IF('liste engagés'!$G152=11,'liste engagés'!D152,\"\")","v":""},{"$f":"IF('liste engagés'!$G152=11,'liste engagés'!E152,\"\")","v":""},{"$f":"IF('liste engagés'!$G152=11,'liste engagés'!K152,\"\")","v":""},{"$f":"IF('liste engagés'!$G152=11,'liste engagés'!L152,\"\")","v":""},0]
[149,{"$f":"IF('liste engagés'!$G153=11,'liste engagés'!A153,\"\")","v":""},{"$f":"IF('liste engagés'!$G153=11,'liste engagés'!B153,\"\")","v":""},{"$f":"IF('liste engagés'!$G153=11,'liste engagés'!C153,\"\")","v":""},{"$f":"IF('liste engagés'!$G153=11,'liste engagés'!D153,\"\")","v":""},{"$f":"IF('liste engagés'!$G153=11,'liste engagés'!E153,\"\")","v":""},{"$f":"IF('liste engagés'!$G153=11,'liste engagés'!K153,\"\")","v":""},{"$f":"IF('liste engagés'!$G153=11,'liste engagés'!L153,\"\")","v":""},0]
[150,{"$f":"IF('liste engagés'!$G154=11,'liste engagés'!A154,\"\")","v":""},{"$f":"IF('liste engagés'!$G154=11,'liste engagés'!B154,\"\")","v":""},{"$f":"IF('liste engagés'!$G154=11,'liste engagés'!C154,\"\")","v":""},{"$f":"IF('liste engagés'!$G154=11,'liste engagés'!D154,\"\")","v":""},{"$f":"IF('liste engagés'!$G154=11,'liste engagés'!E154,\"\")","v":""},{"$f":"IF('liste engagés'!$G154=11,'liste engagés'!K154,\"\")","v":""},{"$f":"IF('liste engagés'!$G154=11,'liste engagés'!L154,\"\")","v":""},0]
[151,{"$f":"IF('liste engagés'!$G156=11,'liste engagés'!A156,\"\")","v":""},{"$f":"IF('liste engagés'!$G156=11,'liste engagés'!B156,\"\")","v":""},{"$f":"IF('liste engagés'!$G156=11,'liste engagés'!C156,\"\")","v":""},{"$f":"IF('liste engagés'!$G156=11,'liste engagés'!D156,\"\")","v":""},{"$f":"IF('liste engagés'!$G156=11,'liste engagés'!E156,\"\")","v":""},{"$f":"IF('liste engagés'!$G156=11,'liste engagés'!K156,\"\")","v":""},{"$f":"IF('liste engagés'!$G156=11,'liste engagés'!L156,\"\")","v":""},0]
[152,{"$f":"IF('liste engagés'!$G157=11,'liste engagés'!A157,\"\")","v":""},{"$f":"IF('liste engagés'!$G157=11,'liste engagés'!B157,\"\")","v":""},{"$f":"IF('liste engagés'!$G157=11,'liste engagés'!C157,\"\")","v":""},{"$f":"IF('liste engagés'!$G157=11,'liste engagés'!D157,\"\")","v":""},{"$f":"IF('liste engagés'!$G157=11,'liste engagés'!E157,\"\")","v":""},{"$f":"IF('liste engagés'!$G157=11,'liste engagés'!K157,\"\")","v":""},{"$f":"IF('liste engagés'!$G157=11,'liste engagés'!L157,\"\")","v":""},0]
[153,{"$f":"IF('liste engagés'!$G158=11,'liste engagés'!A158,\"\")","v":""},{"$f":"IF('liste engagés'!$G158=11,'liste engagés'!B158,\"\")","v":""},{"$f":"IF('liste engagés'!$G158=11,'liste engagés'!C158,\"\")","v":""},{"$f":"IF('liste engagés'!$G158=11,'liste engagés'!D158,\"\")","v":""},{"$f":"IF('liste engagés'!$G158=11,'liste engagés'!E158,\"\")","v":""},{"$f":"IF('liste engagés'!$G158=11,'liste engagés'!K158,\"\")","v":""},{"$f":"IF('liste engagés'!$G158=11,'liste engagés'!L158,\"\")","v":""},0]
[154,{"$f":"IF('liste engagés'!$G159=11,'liste engagés'!A159,\"\")","v":""},{"$f":"IF('liste engagés'!$G159=11,'liste engagés'!B159,\"\")","v":""},{"$f":"IF('liste engagés'!$G159=11,'liste engagés'!C159,\"\")","v":""},{"$f":"IF('liste engagés'!$G159=11,'liste engagés'!D159,\"\")","v":""},{"$f":"IF('liste engagés'!$G159=11,'liste engagés'!E159,\"\")","v":""},{"$f":"IF('liste engagés'!$G159=11,'liste engagés'!K159,\"\")","v":""},{"$f":"IF('liste engagés'!$G159=11,'liste engagés'!L159,\"\")","v":""},0]
[155,{"$f":"IF('liste engagés'!$G160=11,'liste engagés'!A160,\"\")","v":""},{"$f":"IF('liste engagés'!$G160=11,'liste engagés'!B160,\"\")","v":""},{"$f":"IF('liste engagés'!$G160=11,'liste engagés'!C160,\"\")","v":""},{"$f":"IF('liste engagés'!$G160=11,'liste engagés'!D160,\"\")","v":""},{"$f":"IF('liste engagés'!$G160=11,'liste engagés'!E160,\"\")","v":""},{"$f":"IF('liste engagés'!$G160=11,'liste engagés'!K160,\"\")","v":""},{"$f":"IF('liste engagés'!$G160=11,'liste engagés'!L160,\"\")","v":""},0]
[156,{"$f":"IF('liste engagés'!$G161=11,'liste engagés'!A161,\"\")","v":""},{"$f":"IF('liste engagés'!$G161=11,'liste engagés'!B161,\"\")","v":""},{"$f":"IF('liste engagés'!$G161=11,'liste engagés'!C161,\"\")","v":""},{"$f":"IF('liste engagés'!$G161=11,'liste engagés'!D161,\"\")","v":""},{"$f":"IF('liste engagés'!$G161=11,'liste engagés'!E161,\"\")","v":""},{"$f":"IF('liste engagés'!$G161=11,'liste engagés'!K161,\"\")","v":""},{"$f":"IF('liste engagés'!$G161=11,'liste engagés'!L161,\"\")","v":""},0]
[157,{"$f":"IF('liste engagés'!$G162=11,'liste engagés'!A162,\"\")","v":""},{"$f":"IF('liste engagés'!$G162=11,'liste engagés'!B162,\"\")","v":""},{"$f":"IF('liste engagés'!$G162=11,'liste engagés'!C162,\"\")","v":""},{"$f":"IF('liste engagés'!$G162=11,'liste engagés'!D162,\"\")","v":""},{"$f":"IF('liste engagés'!$G162=11,'liste engagés'!E162,\"\")","v":""},{"$f":"IF('liste engagés'!$G162=11,'liste engagés'!K162,\"\")","v":""},{"$f":"IF('liste engagés'!$G162=11,'liste engagés'!L162,\"\")","v":""},0]
[158,{"$f":"IF('liste engagés'!$G163=11,'liste engagés'!A163,\"\")","v":""},{"$f":"IF('liste engagés'!$G163=11,'liste engagés'!B163,\"\")","v":""},{"$f":"IF('liste engagés'!$G163=11,'liste engagés'!C163,\"\")","v":""},{"$f":"IF('liste engagés'!$G163=11,'liste engagés'!D163,\"\")","v":""},{"$f":"IF('liste engagés'!$G163=11,'liste engagés'!E163,\"\")","v":""},{"$f":"IF('liste engagés'!$G163=11,'liste engagés'!K163,\"\")","v":""},{"$f":"IF('liste engagés'!$G163=11,'liste engagés'!L163,\"\")","v":""},0]
[159,{"$f":"IF('liste engagés'!$G164=11,'liste engagés'!A164,\"\")","v":""},{"$f":"IF('liste engagés'!$G164=11,'liste engagés'!B164,\"\")","v":""},{"$f":"IF('liste engagés'!$G164=11,'liste engagés'!C164,\"\")","v":""},{"$f":"IF('liste engagés'!$G164=11,'liste engagés'!D164,\"\")","v":""},{"$f":"IF('liste engagés'!$G164=11,'liste engagés'!E164,\"\")","v":""},{"$f":"IF('liste engagés'!$G164=11,'liste engagés'!K164,\"\")","v":""},{"$f":"IF('liste engagés'!$G164=11,'liste engagés'!L164,\"\")","v":""},0]
[160,{"$f":"IF('liste engagés'!$G165=11,'liste engagés'!A165,\"\")","v":""},{"$f":"IF('liste engagés'!$G165=11,'liste engagés'!B165,\"\")","v":""},{"$f":"IF('liste engagés'!$G165=11,'liste engagés'!C165,\"\")","v":""},{"$f":"IF('liste engagés'!$G165=11,'liste engagés'!D165,\"\")","v":""},{"$f":"IF('liste engagés'!$G165=11,'liste engagés'!E165,\"\")","v":""},{"$f":"IF('liste engagés'!$G165=11,'liste engagés'!K165,\"\")","v":""},{"$f":"IF('liste engagés'!$G165=11,'liste engagés'!L165,\"\")","v":""},0]
[161,{"$f":"IF('liste engagés'!$G166=11,'liste engagés'!A166,\"\")","v":""},{"$f":"IF('liste engagés'!$G166=11,'liste engagés'!B166,\"\")","v":""},{"$f":"IF('liste engagés'!$G166=11,'liste engagés'!C166,\"\")","v":""},{"$f":"IF('liste engagés'!$G166=11,'liste engagés'!D166,\"\")","v":""},{"$f":"IF('liste engagés'!$G166=11,'liste engagés'!E166,\"\")","v":""},{"$f":"IF('liste engagés'!$G166=11,'liste engagés'!K166,\"\")","v":""},{"$f":"IF('liste engagés'!$G166=11,'liste engagés'!L166,\"\")","v":""},0]
[162,{"$f":"IF('liste engagés'!$G167=11,'liste engagés'!A167,\"\")","v":""},{"$f":"IF('liste engagés'!$G167=11,'liste engagés'!B167,\"\")","v":""},{"$f":"IF('liste engagés'!$G167=11,'liste engagés'!C167,\"\")","v":""},{"$f":"IF('liste engagés'!$G167=11,'liste engagés'!D167,\"\")","v":""},{"$f":"IF('liste engagés'!$G167=11,'liste engagés'!E167,\"\")","v":""},{"$f":"IF('liste engagés'!$G167=11,'liste engagés'!K167,\"\")","v":""},{"$f":"IF('liste engagés'!$G167=11,'liste engagés'!L167,\"\")","v":""},0]
[163,{"$f":"IF('liste engagés'!$G168=11,'liste engagés'!A168,\"\")","v":""},{"$f":"IF('liste engagés'!$G168=11,'liste engagés'!B168,\"\")","v":""},{"$f":"IF('liste engagés'!$G168=11,'liste engagés'!C168,\"\")","v":""},{"$f":"IF('liste engagés'!$G168=11,'liste engagés'!D168,\"\")","v":""},{"$f":"IF('liste engagés'!$G168=11,'liste engagés'!E168,\"\")","v":""},{"$f":"IF('liste engagés'!$G168=11,'liste engagés'!K168,\"\")","v":""},{"$f":"IF('liste engagés'!$G168=11,'liste engagés'!L168,\"\")","v":""},0]
[164,{"$f":"IF('liste engagés'!$G169=11,'liste engagés'!A169,\"\")","v":""},{"$f":"IF('liste engagés'!$G169=11,'liste engagés'!B169,\"\")","v":""},{"$f":"IF('liste engagés'!$G169=11,'liste engagés'!C169,\"\")","v":""},{"$f":"IF('liste engagés'!$G169=11,'liste engagés'!D169,\"\")","v":""},{"$f":"IF('liste engagés'!$G169=11,'liste engagés'!E169,\"\")","v":""},{"$f":"IF('liste engagés'!$G169=11,'liste engagés'!K169,\"\")","v":""},{"$f":"IF('liste engagés'!$G169=11,'liste engagés'!L169,\"\")","v":""},0]
[165,{"$f":"IF('liste engagés'!$G170=11,'liste engagés'!A170,\"\")","v":""},{"$f":"IF('liste engagés'!$G170=11,'liste engagés'!B170,\"\")","v":""},{"$f":"IF('liste engagés'!$G170=11,'liste engagés'!C170,\"\")","v":""},{"$f":"IF('liste engagés'!$G170=11,'liste engagés'!D170,\"\")","v":""},{"$f":"IF('liste engagés'!$G170=11,'liste engagés'!E170,\"\")","v":""},{"$f":"IF('liste engagés'!$G170=11,'liste engagés'!K170,\"\")","v":""},{"$f":"IF('liste engagés'!$G170=11,'liste engagés'!L170,\"\")","v":""},0]
[166,{"$f":"IF('liste engagés'!$G171=11,'liste engagés'!A171,\"\")","v":""},{"$f":"IF('liste engagés'!$G171=11,'liste engagés'!B171,\"\")","v":""},{"$f":"IF('liste engagés'!$G171=11,'liste engagés'!C171,\"\")","v":""},{"$f":"IF('liste engagés'!$G171=11,'liste engagés'!D171,\"\")","v":""},{"$f":"IF('liste engagés'!$G171=11,'liste engagés'!E171,\"\")","v":""},{"$f":"IF('liste engagés'!$G171=11,'liste engagés'!K171,\"\")","v":""},{"$f":"IF('liste engagés'!$G171=11,'liste engagés'!L171,\"\")","v":""},0]
[167,{"$f":"IF('liste engagés'!$G172=11,'liste engagés'!A172,\"\")","v":""},{"$f":"IF('liste engagés'!$G172=11,'liste engagés'!B172,\"\")","v":""},{"$f":"IF('liste engagés'!$G172=11,'liste engagés'!C172,\"\")","v":""},{"$f":"IF('liste engagés'!$G172=11,'liste engagés'!D172,\"\")","v":""},{"$f":"IF('liste engagés'!$G172=11,'liste engagés'!E172,\"\")","v":""},{"$f":"IF('liste engagés'!$G172=11,'liste engagés'!K172,\"\")","v":""},{"$f":"IF('liste engagés'!$G172=11,'liste engagés'!L172,\"\")","v":""},0]
[168,{"$f":"IF('liste engagés'!$G173=11,'liste engagés'!A173,\"\")","v":""},{"$f":"IF('liste engagés'!$G173=11,'liste engagés'!B173,\"\")","v":""},{"$f":"IF('liste engagés'!$G173=11,'liste engagés'!C173,\"\")","v":""},{"$f":"IF('liste engagés'!$G173=11,'liste engagés'!D173,\"\")","v":""},{"$f":"IF('liste engagés'!$G173=11,'liste engagés'!E173,\"\")","v":""},{"$f":"IF('liste engagés'!$G173=11,'liste engagés'!K173,\"\")","v":""},{"$f":"IF('liste engagés'!$G173=11,'liste engagés'!L173,\"\")","v":""},0]
[169,{"$f":"IF('liste engagés'!$G174=11,'liste engagés'!A174,\"\")","v":""},{"$f":"IF('liste engagés'!$G174=11,'liste engagés'!B174,\"\")","v":""},{"$f":"IF('liste engagés'!$G174=11,'liste engagés'!C174,\"\")","v":""},{"$f":"IF('liste engagés'!$G174=11,'liste engagés'!D174,\"\")","v":""},{"$f":"IF('liste engagés'!$G174=11,'liste engagés'!E174,\"\")","v":""},{"$f":"IF('liste engagés'!$G174=11,'liste engagés'!K174,\"\")","v":""},{"$f":"IF('liste engagés'!$G174=11,'liste engagés'!L174,\"\")","v":""},0]
[170,{"$f":"IF('liste engagés'!$G175=11,'liste engagés'!A175,\"\")","v":""},{"$f":"IF('liste engagés'!$G175=11,'liste engagés'!B175,\"\")","v":""},{"$f":"IF('liste engagés'!$G175=11,'liste engagés'!C175,\"\")","v":""},{"$f":"IF('liste engagés'!$G175=11,'liste engagés'!D175,\"\")","v":""},{"$f":"IF('liste engagés'!$G175=11,'liste engagés'!E175,\"\")","v":""},{"$f":"IF('liste engagés'!$G175=11,'liste engagés'!K175,\"\")","v":""},{"$f":"IF('liste engagés'!$G175=11,'liste engagés'!L175,\"\")","v":""},0]
[171,{"$f":"IF('liste engagés'!$G176=11,'liste engagés'!A176,\"\")","v":""},{"$f":"IF('liste engagés'!$G176=11,'liste engagés'!B176,\"\")","v":""},{"$f":"IF('liste engagés'!$G176=11,'liste engagés'!C176,\"\")","v":""},{"$f":"IF('liste engagés'!$G176=11,'liste engagés'!D176,\"\")","v":""},{"$f":"IF('liste engagés'!$G176=11,'liste engagés'!E176,\"\")","v":""},{"$f":"IF('liste engagés'!$G176=11,'liste engagés'!K176,\"\")","v":""},{"$f":"IF('liste engagés'!$G176=11,'liste engagés'!L176,\"\")","v":""},0]
[172,{"$f":"IF('liste engagés'!$G177=11,'liste engagés'!A177,\"\")","v":""},{"$f":"IF('liste engagés'!$G177=11,'liste engagés'!B177,\"\")","v":""},{"$f":"IF('liste engagés'!$G177=11,'liste engagés'!C177,\"\")","v":""},{"$f":"IF('liste engagés'!$G177=11,'liste engagés'!D177,\"\")","v":""},{"$f":"IF('liste engagés'!$G177=11,'liste engagés'!E177,\"\")","v":""},{"$f":"IF('liste engagés'!$G177=11,'liste engagés'!K177,\"\")","v":""},{"$f":"IF('liste engagés'!$G177=11,'liste engagés'!L177,\"\")","v":""},0]
[173,{"$f":"IF('liste engagés'!$G178=11,'liste engagés'!A178,\"\")","v":""},{"$f":"IF('liste engagés'!$G178=11,'liste engagés'!B178,\"\")","v":""},{"$f":"IF('liste engagés'!$G178=11,'liste engagés'!C178,\"\")","v":""},{"$f":"IF('liste engagés'!$G178=11,'liste engagés'!D178,\"\")","v":""},{"$f":"IF('liste engagés'!$G178=11,'liste engagés'!E178,\"\")","v":""},{"$f":"IF('liste engagés'!$G178=11,'liste engagés'!K178,\"\")","v":""},{"$f":"IF('liste engagés'!$G178=11,'liste engagés'!L178,\"\")","v":""},0]
[174,{"$f":"IF('liste engagés'!$G179=11,'liste engagés'!A179,\"\")","v":""},{"$f":"IF('liste engagés'!$G179=11,'liste engagés'!B179,\"\")","v":""},{"$f":"IF('liste engagés'!$G179=11,'liste engagés'!C179,\"\")","v":""},{"$f":"IF('liste engagés'!$G179=11,'liste engagés'!D179,\"\")","v":""},{"$f":"IF('liste engagés'!$G179=11,'liste engagés'!E179,\"\")","v":""},{"$f":"IF('liste engagés'!$G179=11,'liste engagés'!K179,\"\")","v":""},{"$f":"IF('liste engagés'!$G179=11,'liste engagés'!L179,\"\")","v":""},0]
[175,{"$f":"IF('liste engagés'!$G180=11,'liste engagés'!A180,\"\")","v":""},{"$f":"IF('liste engagés'!$G180=11,'liste engagés'!B180,\"\")","v":""},{"$f":"IF('liste engagés'!$G180=11,'liste engagés'!C180,\"\")","v":""},{"$f":"IF('liste engagés'!$G180=11,'liste engagés'!D180,\"\")","v":""},{"$f":"IF('liste engagés'!$G180=11,'liste engagés'!E180,\"\")","v":""},{"$f":"IF('liste engagés'!$G180=11,'liste engagés'!K180,\"\")","v":""},{"$f":"IF('liste engagés'!$G180=11,'liste engagés'!L180,\"\")","v":""},0]
[176,{"$f":"IF('liste engagés'!$G181=11,'liste engagés'!A181,\"\")","v":""},{"$f":"IF('liste engagés'!$G181=11,'liste engagés'!B181,\"\")","v":""},{"$f":"IF('liste engagés'!$G181=11,'liste engagés'!C181,\"\")","v":""},{"$f":"IF('liste engagés'!$G181=11,'liste engagés'!D181,\"\")","v":""},{"$f":"IF('liste engagés'!$G181=11,'liste engagés'!E181,\"\")","v":""},{"$f":"IF('liste engagés'!$G181=11,'liste engagés'!K181,\"\")","v":""},{"$f":"IF('liste engagés'!$G181=11,'liste engagés'!L181,\"\")","v":""},0]
[177,{"$f":"IF('liste engagés'!$G182=11,'liste engagés'!A182,\"\")","v":""},{"$f":"IF('liste engagés'!$G182=11,'liste engagés'!B182,\"\")","v":""},{"$f":"IF('liste engagés'!$G182=11,'liste engagés'!C182,\"\")","v":""},{"$f":"IF('liste engagés'!$G182=11,'liste engagés'!D182,\"\")","v":""},{"$f":"IF('liste engagés'!$G182=11,'liste engagés'!E182,\"\")","v":""},{"$f":"IF('liste engagés'!$G182=11,'liste engagés'!K182,\"\")","v":""},{"$f":"IF('liste engagés'!$G182=11,'liste engagés'!L182,\"\")","v":""},0]
[178,{"$f":"IF('liste engagés'!$G183=11,'liste engagés'!A183,\"\")","v":""},{"$f":"IF('liste engagés'!$G183=11,'liste engagés'!B183,\"\")","v":""},{"$f":"IF('liste engagés'!$G183=11,'liste engagés'!C183,\"\")","v":""},{"$f":"IF('liste engagés'!$G183=11,'liste engagés'!D183,\"\")","v":""},{"$f":"IF('liste engagés'!$G183=11,'liste engagés'!E183,\"\")","v":""},{"$f":"IF('liste engagés'!$G183=11,'liste engagés'!K183,\"\")","v":""},{"$f":"IF('liste engagés'!$G183=11,'liste engagés'!L183,\"\")","v":""},0]
[179,{"$f":"IF('liste engagés'!$G184=11,'liste engagés'!A184,\"\")","v":""},{"$f":"IF('liste engagés'!$G184=11,'liste engagés'!B184,\"\")","v":""},{"$f":"IF('liste engagés'!$G184=11,'liste engagés'!C184,\"\")","v":""},{"$f":"IF('liste engagés'!$G184=11,'liste engagés'!D184,\"\")","v":""},{"$f":"IF('liste engagés'!$G184=11,'liste engagés'!E184,\"\")","v":""},{"$f":"IF('liste engagés'!$G184=11,'liste engagés'!K184,\"\")","v":""},{"$f":"IF('liste engagés'!$G184=11,'liste engagés'!L184,\"\")","v":""},0]
[180,{"$f":"IF('liste engagés'!$G185=11,'liste engagés'!A185,\"\")","v":""},{"$f":"IF('liste engagés'!$G185=11,'liste engagés'!B185,\"\")","v":""},{"$f":"IF('liste engagés'!$G185=11,'liste engagés'!C185,\"\")","v":""},{"$f":"IF('liste engagés'!$G185=11,'liste engagés'!D185,\"\")","v":""},{"$f":"IF('liste engagés'!$G185=11,'liste engagés'!E185,\"\")","v":""},{"$f":"IF('liste engagés'!$G185=11,'liste engagés'!K185,\"\")","v":""},{"$f":"IF('liste engagés'!$G185=11,'liste engagés'!L185,\"\")","v":""},0]
[181,{"$f":"IF('liste engagés'!$G186=11,'liste engagés'!A186,\"\")","v":""},{"$f":"IF('liste engagés'!$G186=11,'liste engagés'!B186,\"\")","v":""},{"$f":"IF('liste engagés'!$G186=11,'liste engagés'!C186,\"\")","v":""},{"$f":"IF('liste engagés'!$G186=11,'liste engagés'!D186,\"\")","v":""},{"$f":"IF('liste engagés'!$G186=11,'liste engagés'!E186,\"\")","v":""},{"$f":"IF('liste engagés'!$G186=11,'liste engagés'!K186,\"\")","v":""},{"$f":"IF('liste engagés'!$G186=11,'liste engagés'!L186,\"\")","v":""},0]
[182,{"$f":"IF('liste engagés'!$G187=11,'liste engagés'!A187,\"\")","v":""},{"$f":"IF('liste engagés'!$G187=11,'liste engagés'!B187,\"\")","v":""},{"$f":"IF('liste engagés'!$G187=11,'liste engagés'!C187,\"\")","v":""},{"$f":"IF('liste engagés'!$G187=11,'liste engagés'!D187,\"\")","v":""},{"$f":"IF('liste engagés'!$G187=11,'liste engagés'!E187,\"\")","v":""},{"$f":"IF('liste engagés'!$G187=11,'liste engagés'!K187,\"\")","v":""},{"$f":"IF('liste engagés'!$G187=11,'liste engagés'!L187,\"\")","v":""},0]
[183,{"$f":"IF('liste engagés'!$G188=11,'liste engagés'!A188,\"\")","v":""},{"$f":"IF('liste engagés'!$G188=11,'liste engagés'!B188,\"\")","v":""},{"$f":"IF('liste engagés'!$G188=11,'liste engagés'!C188,\"\")","v":""},{"$f":"IF('liste engagés'!$G188=11,'liste engagés'!D188,\"\")","v":""},{"$f":"IF('liste engagés'!$G188=11,'liste engagés'!E188,\"\")","v":""},{"$f":"IF('liste engagés'!$G188=11,'liste engagés'!K188,\"\")","v":""},{"$f":"IF('liste engagés'!$G188=11,'liste engagés'!L188,\"\")","v":""},0]
[184,{"$f":"IF('liste engagés'!$G189=11,'liste engagés'!A189,\"\")","v":""},{"$f":"IF('liste engagés'!$G189=11,'liste engagés'!B189,\"\")","v":""},{"$f":"IF('liste engagés'!$G189=11,'liste engagés'!C189,\"\")","v":""},{"$f":"IF('liste engagés'!$G189=11,'liste engagés'!D189,\"\")","v":""},{"$f":"IF('liste engagés'!$G189=11,'liste engagés'!E189,\"\")","v":""},{"$f":"IF('liste engagés'!$G189=11,'liste engagés'!K189,\"\")","v":""},{"$f":"IF('liste engagés'!$G189=11,'liste engagés'!L189,\"\")","v":""},0]
[185,{"$f":"IF('liste engagés'!$G190=11,'liste engagés'!A190,\"\")","v":""},{"$f":"IF('liste engagés'!$G190=11,'liste engagés'!B190,\"\")","v":""},{"$f":"IF('liste engagés'!$G190=11,'liste engagés'!C190,\"\")","v":""},{"$f":"IF('liste engagés'!$G190=11,'liste engagés'!D190,\"\")","v":""},{"$f":"IF('liste engagés'!$G190=11,'liste engagés'!E190,\"\")","v":""},{"$f":"IF('liste engagés'!$G190=11,'liste engagés'!K190,\"\")","v":""},{"$f":"IF('liste engagés'!$G190=11,'liste engagés'!L190,\"\")","v":""},0]
[186,{"$f":"IF('liste engagés'!$G191=11,'liste engagés'!A191,\"\")","v":""},{"$f":"IF('liste engagés'!$G191=11,'liste engagés'!B191,\"\")","v":""},{"$f":"IF('liste engagés'!$G191=11,'liste engagés'!C191,\"\")","v":""},{"$f":"IF('liste engagés'!$G191=11,'liste engagés'!D191,\"\")","v":""},{"$f":"IF('liste engagés'!$G191=11,'liste engagés'!E191,\"\")","v":""},{"$f":"IF('liste engagés'!$G191=11,'liste engagés'!K191,\"\")","v":""},{"$f":"IF('liste engagés'!$G191=11,'liste engagés'!L191,\"\")","v":""},0]
[187,{"$f":"IF('liste engagés'!$G192=11,'liste engagés'!A192,\"\")","v":""},{"$f":"IF('liste engagés'!$G192=11,'liste engagés'!B192,\"\")","v":""},{"$f":"IF('liste engagés'!$G192=11,'liste engagés'!C192,\"\")","v":""},{"$f":"IF('liste engagés'!$G192=11,'liste engagés'!D192,\"\")","v":""},{"$f":"IF('liste engagés'!$G192=11,'liste engagés'!E192,\"\")","v":""},{"$f":"IF('liste engagés'!$G192=11,'liste engagés'!K192,\"\")","v":""},{"$f":"IF('liste engagés'!$G192=11,'liste engagés'!L192,\"\")","v":""},0]
[188,{"$f":"IF('liste engagés'!$G193=11,'liste engagés'!A193,\"\")","v":""},{"$f":"IF('liste engagés'!$G193=11,'liste engagés'!B193,\"\")","v":""},{"$f":"IF('liste engagés'!$G193=11,'liste engagés'!C193,\"\")","v":""},{"$f":"IF('liste engagés'!$G193=11,'liste engagés'!D193,\"\")","v":""},{"$f":"IF('liste engagés'!$G193=11,'liste engagés'!E193,\"\")","v":""},{"$f":"IF('liste engagés'!$G193=11,'liste engagés'!K193,\"\")","v":""},{"$f":"IF('liste engagés'!$G193=11,'liste engagés'!L193,\"\")","v":""},0]
[189,{"$f":"IF('liste engagés'!$G194=11,'liste engagés'!A194,\"\")","v":""},{"$f":"IF('liste engagés'!$G194=11,'liste engagés'!B194,\"\")","v":""},{"$f":"IF('liste engagés'!$G194=11,'liste engagés'!C194,\"\")","v":""},{"$f":"IF('liste engagés'!$G194=11,'liste engagés'!D194,\"\")","v":""},{"$f":"IF('liste engagés'!$G194=11,'liste engagés'!E194,\"\")","v":""},{"$f":"IF('liste engagés'!$G194=11,'liste engagés'!K194,\"\")","v":""},{"$f":"IF('liste engagés'!$G194=11,'liste engagés'!L194,\"\")","v":""},0]
[190,{"$f":"IF('liste engagés'!$G195=11,'liste engagés'!A195,\"\")","v":""},{"$f":"IF('liste engagés'!$G195=11,'liste engagés'!B195,\"\")","v":""},{"$f":"IF('liste engagés'!$G195=11,'liste engagés'!C195,\"\")","v":""},{"$f":"IF('liste engagés'!$G195=11,'liste engagés'!D195,\"\")","v":""},{"$f":"IF('liste engagés'!$G195=11,'liste engagés'!E195,\"\")","v":""},{"$f":"IF('liste engagés'!$G195=11,'liste engagés'!K195,\"\")","v":""},{"$f":"IF('liste engagés'!$G195=11,'liste engagés'!L195,\"\")","v":""},0]
[191,{"$f":"IF('liste engagés'!$G196=11,'liste engagés'!A196,\"\")","v":""},{"$f":"IF('liste engagés'!$G196=11,'liste engagés'!B196,\"\")","v":""},{"$f":"IF('liste engagés'!$G196=11,'liste engagés'!C196,\"\")","v":""},{"$f":"IF('liste engagés'!$G196=11,'liste engagés'!D196,\"\")","v":""},{"$f":"IF('liste engagés'!$G196=11,'liste engagés'!E196,\"\")","v":""},{"$f":"IF('liste engagés'!$G196=11,'liste engagés'!K196,\"\")","v":""},{"$f":"IF('liste engagés'!$G196=11,'liste engagés'!L196,\"\")","v":""},0]
[192,{"$f":"IF('liste engagés'!$G197=11,'liste engagés'!A197,\"\")","v":""},{"$f":"IF('liste engagés'!$G197=11,'liste engagés'!B197,\"\")","v":""},{"$f":"IF('liste engagés'!$G197=11,'liste engagés'!C197,\"\")","v":""},{"$f":"IF('liste engagés'!$G197=11,'liste engagés'!D197,\"\")","v":""},{"$f":"IF('liste engagés'!$G197=11,'liste engagés'!E197,\"\")","v":""},{"$f":"IF('liste engagés'!$G197=11,'liste engagés'!K197,\"\")","v":""},{"$f":"IF('liste engagés'!$G197=11,'liste engagés'!L197,\"\")","v":""},0]
[193,{"$f":"IF('liste engagés'!$G198=11,'liste engagés'!A198,\"\")","v":""},{"$f":"IF('liste engagés'!$G198=11,'liste engagés'!B198,\"\")","v":""},{"$f":"IF('liste engagés'!$G198=11,'liste engagés'!C198,\"\")","v":""},{"$f":"IF('liste engagés'!$G198=11,'liste engagés'!D198,\"\")","v":""},{"$f":"IF('liste engagés'!$G198=11,'liste engagés'!E198,\"\")","v":""},{"$f":"IF('liste engagés'!$G198=11,'liste engagés'!K198,\"\")","v":""},{"$f":"IF('liste engagés'!$G198=11,'liste engagés'!L198,\"\")","v":""},{"$f":"+IF(C199=\"\",0,1)","v":0}]
[{"$f":"+A199+1","v":194},{"$f":"IF('liste engagés'!$G199=11,'liste engagés'!A199,\"\")","v":""},{"$f":"IF('liste engagés'!$G199=11,'liste engagés'!B199,\"\")","v":""},{"$f":"IF('liste engagés'!$G199=11,'liste engagés'!C199,\"\")","v":""},{"$f":"IF('liste engagés'!$G199=11,'liste engagés'!D199,\"\")","v":""},{"$f":"IF('liste engagés'!$G199=11,'liste engagés'!E199,\"\")","v":""},{"$f":"IF('liste engagés'!$G199=11,'liste engagés'!K199,\"\")","v":""},{"$f":"IF('liste engagés'!$G199=11,'liste engagés'!L199,\"\")","v":""},0]
[195,{"$f":"IF('liste engagés'!$G200=11,'liste engagés'!A200,\"\")","v":""},{"$f":"IF('liste engagés'!$G200=11,'liste engagés'!B200,\"\")","v":""},{"$f":"IF('liste engagés'!$G200=11,'liste engagés'!C200,\"\")","v":""},{"$f":"IF('liste engagés'!$G200=11,'liste engagés'!D200,\"\")","v":""},{"$f":"IF('liste engagés'!$G200=11,'liste engagés'!E200,\"\")","v":""},{"$f":"IF('liste engagés'!$G200=11,'liste engagés'!K200,\"\")","v":""},{"$f":"IF('liste engagés'!$G200=11,'liste engagés'!L200,\"\")","v":""},0]
[196,{"$f":"IF('liste engagés'!$G201=11,'liste engagés'!A201,\"\")","v":""},{"$f":"IF('liste engagés'!$G201=11,'liste engagés'!B201,\"\")","v":""},{"$f":"IF('liste engagés'!$G201=11,'liste engagés'!C201,\"\")","v":""},{"$f":"IF('liste engagés'!$G201=11,'liste engagés'!D201,\"\")","v":""},{"$f":"IF('liste engagés'!$G201=11,'liste engagés'!E201,\"\")","v":""},{"$f":"IF('liste engagés'!$G201=11,'liste engagés'!K201,\"\")","v":""},{"$f":"IF('liste engagés'!$G201=11,'liste engagés'!L201,\"\")","v":""},0]
[197,{"$f":"IF('liste engagés'!$G202=11,'liste engagés'!A202,\"\")","v":""},{"$f":"IF('liste engagés'!$G202=11,'liste engagés'!B202,\"\")","v":""},{"$f":"IF('liste engagés'!$G202=11,'liste engagés'!C202,\"\")","v":""},{"$f":"IF('liste engagés'!$G202=11,'liste engagés'!D202,\"\")","v":""},{"$f":"IF('liste engagés'!$G202=11,'liste engagés'!E202,\"\")","v":""},{"$f":"IF('liste engagés'!$G202=11,'liste engagés'!K202,\"\")","v":""},{"$f":"IF('liste engagés'!$G202=11,'liste engagés'!L202,\"\")","v":""},0]
[198,{"$f":"IF('liste engagés'!$G203=11,'liste engagés'!A203,\"\")","v":""},{"$f":"IF('liste engagés'!$G203=11,'liste engagés'!B203,\"\")","v":""},{"$f":"IF('liste engagés'!$G203=11,'liste engagés'!C203,\"\")","v":""},{"$f":"IF('liste engagés'!$G203=11,'liste engagés'!D203,\"\")","v":""},{"$f":"IF('liste engagés'!$G203=11,'liste engagés'!E203,\"\")","v":""},{"$f":"IF('liste engagés'!$G203=11,'liste engagés'!K203,\"\")","v":""},{"$f":"IF('liste engagés'!$G203=11,'liste engagés'!L203,\"\")","v":""},0]
[199,{"$f":"IF('liste engagés'!$G204=11,'liste engagés'!A204,\"\")","v":""},{"$f":"IF('liste engagés'!$G204=11,'liste engagés'!B204,\"\")","v":""},{"$f":"IF('liste engagés'!$G204=11,'liste engagés'!C204,\"\")","v":""},{"$f":"IF('liste engagés'!$G204=11,'liste engagés'!D204,\"\")","v":""},{"$f":"IF('liste engagés'!$G204=11,'liste engagés'!E204,\"\")","v":""},{"$f":"IF('liste engagés'!$G204=11,'liste engagés'!K204,\"\")","v":""},{"$f":"IF('liste engagés'!$G204=11,'liste engagés'!L204,\"\")","v":""},0]
[200,{"$f":"IF('liste engagés'!$G205=11,'liste engagés'!A205,\"\")","v":""},{"$f":"IF('liste engagés'!$G205=11,'liste engagés'!B205,\"\")","v":""},{"$f":"IF('liste engagés'!$G205=11,'liste engagés'!C205,\"\")","v":""},{"$f":"IF('liste engagés'!$G205=11,'liste engagés'!D205,\"\")","v":""},{"$f":"IF('liste engagés'!$G205=11,'liste engagés'!E205,\"\")","v":""},{"$f":"IF('liste engagés'!$G205=11,'liste engagés'!K205,\"\")","v":""},{"$f":"IF('liste engagés'!$G205=11,'liste engagés'!L205,\"\")","v":""},0]
[201,{"$f":"IF('liste engagés'!$G206=11,'liste engagés'!A206,\"\")","v":""},{"$f":"IF('liste engagés'!$G206=11,'liste engagés'!B206,\"\")","v":""},{"$f":"IF('liste engagés'!$G206=11,'liste engagés'!C206,\"\")","v":""},{"$f":"IF('liste engagés'!$G206=11,'liste engagés'!D206,\"\")","v":""},{"$f":"IF('liste engagés'!$G206=11,'liste engagés'!E206,\"\")","v":""},{"$f":"IF('liste engagés'!$G206=11,'liste engagés'!K206,\"\")","v":""},{"$f":"IF('liste engagés'!$G206=11,'liste engagés'!L206,\"\")","v":""},0]
[202,{"$f":"IF('liste engagés'!$G207=11,'liste engagés'!A207,\"\")","v":""},{"$f":"IF('liste engagés'!$G207=11,'liste engagés'!B207,\"\")","v":""},{"$f":"IF('liste engagés'!$G207=11,'liste engagés'!C207,\"\")","v":""},{"$f":"IF('liste engagés'!$G207=11,'liste engagés'!D207,\"\")","v":""},{"$f":"IF('liste engagés'!$G207=11,'liste engagés'!E207,\"\")","v":""},{"$f":"IF('liste engagés'!$G207=11,'liste engagés'!K207,\"\")","v":""},{"$f":"IF('liste engagés'!$G207=11,'liste engagés'!L207,\"\")","v":""},0]
[203,{"$f":"IF('liste engagés'!$G208=11,'liste engagés'!A208,\"\")","v":""},{"$f":"IF('liste engagés'!$G208=11,'liste engagés'!B208,\"\")","v":""},{"$f":"IF('liste engagés'!$G208=11,'liste engagés'!C208,\"\")","v":""},{"$f":"IF('liste engagés'!$G208=11,'liste engagés'!D208,\"\")","v":""},{"$f":"IF('liste engagés'!$G208=11,'liste engagés'!E208,\"\")","v":""},{"$f":"IF('liste engagés'!$G208=11,'liste engagés'!K208,\"\")","v":""},{"$f":"IF('liste engagés'!$G208=11,'liste engagés'!L208,\"\")","v":""},0]
[204,{"$f":"IF('liste engagés'!$G209=11,'liste engagés'!A209,\"\")","v":""},{"$f":"IF('liste engagés'!$G209=11,'liste engagés'!B209,\"\")","v":""},{"$f":"IF('liste engagés'!$G209=11,'liste engagés'!C209,\"\")","v":""},{"$f":"IF('liste engagés'!$G209=11,'liste engagés'!D209,\"\")","v":""},{"$f":"IF('liste engagés'!$G209=11,'liste engagés'!E209,\"\")","v":""},{"$f":"IF('liste engagés'!$G209=11,'liste engagés'!K209,\"\")","v":""},{"$f":"IF('liste engagés'!$G209=11,'liste engagés'!L209,\"\")","v":""},0]
[205,{"$f":"IF('liste engagés'!$G210=11,'liste engagés'!A210,\"\")","v":""},{"$f":"IF('liste engagés'!$G210=11,'liste engagés'!B210,\"\")","v":""},{"$f":"IF('liste engagés'!$G210=11,'liste engagés'!C210,\"\")","v":""},{"$f":"IF('liste engagés'!$G210=11,'liste engagés'!D210,\"\")","v":""},{"$f":"IF('liste engagés'!$G210=11,'liste engagés'!E210,\"\")","v":""},{"$f":"IF('liste engagés'!$G210=11,'liste engagés'!K210,\"\")","v":""},{"$f":"IF('liste engagés'!$G210=11,'liste engagés'!L210,\"\")","v":""},0]
[206,{"$f":"IF('liste engagés'!$G211=11,'liste engagés'!A211,\"\")","v":""},{"$f":"IF('liste engagés'!$G211=11,'liste engagés'!B211,\"\")","v":""},{"$f":"IF('liste engagés'!$G211=11,'liste engagés'!C211,\"\")","v":""},{"$f":"IF('liste engagés'!$G211=11,'liste engagés'!D211,\"\")","v":""},{"$f":"IF('liste engagés'!$G211=11,'liste engagés'!E211,\"\")","v":""},{"$f":"IF('liste engagés'!$G211=11,'liste engagés'!K211,\"\")","v":""},{"$f":"IF('liste engagés'!$G211=11,'liste engagés'!L211,\"\")","v":""},0]
[207,{"$f":"IF('liste engagés'!$G212=11,'liste engagés'!A212,\"\")","v":""},{"$f":"IF('liste engagés'!$G212=11,'liste engagés'!B212,\"\")","v":""},{"$f":"IF('liste engagés'!$G212=11,'liste engagés'!C212,\"\")","v":""},{"$f":"IF('liste engagés'!$G212=11,'liste engagés'!D212,\"\")","v":""},{"$f":"IF('liste engagés'!$G212=11,'liste engagés'!E212,\"\")","v":""},{"$f":"IF('liste engagés'!$G212=11,'liste engagés'!K212,\"\")","v":""},{"$f":"IF('liste engagés'!$G212=11,'liste engagés'!L212,\"\")","v":""},0]
[208,{"$f":"IF('liste engagés'!$G213=11,'liste engagés'!A213,\"\")","v":""},{"$f":"IF('liste engagés'!$G213=11,'liste engagés'!B213,\"\")","v":""},{"$f":"IF('liste engagés'!$G213=11,'liste engagés'!C213,\"\")","v":""},{"$f":"IF('liste engagés'!$G213=11,'liste engagés'!D213,\"\")","v":""},{"$f":"IF('liste engagés'!$G213=11,'liste engagés'!E213,\"\")","v":""},{"$f":"IF('liste engagés'!$G213=11,'liste engagés'!K213,\"\")","v":""},{"$f":"IF('liste engagés'!$G213=11,'liste engagés'!L213,\"\")","v":""},0]
[209,{"$f":"IF('liste engagés'!$G214=11,'liste engagés'!A214,\"\")","v":""},{"$f":"IF('liste engagés'!$G214=11,'liste engagés'!B214,\"\")","v":""},{"$f":"IF('liste engagés'!$G214=11,'liste engagés'!C214,\"\")","v":""},{"$f":"IF('liste engagés'!$G214=11,'liste engagés'!D214,\"\")","v":""},{"$f":"IF('liste engagés'!$G214=11,'liste engagés'!E214,\"\")","v":""},{"$f":"IF('liste engagés'!$G214=11,'liste engagés'!K214,\"\")","v":""},{"$f":"IF('liste engagés'!$G214=11,'liste engagés'!L214,\"\")","v":""},0]
[210,{"$f":"IF('liste engagés'!$G215=11,'liste engagés'!A215,\"\")","v":""},{"$f":"IF('liste engagés'!$G215=11,'liste engagés'!B215,\"\")","v":""},{"$f":"IF('liste engagés'!$G215=11,'liste engagés'!C215,\"\")","v":""},{"$f":"IF('liste engagés'!$G215=11,'liste engagés'!D215,\"\")","v":""},{"$f":"IF('liste engagés'!$G215=11,'liste engagés'!E215,\"\")","v":""},{"$f":"IF('liste engagés'!$G215=11,'liste engagés'!K215,\"\")","v":""},{"$f":"IF('liste engagés'!$G215=11,'liste engagés'!L215,\"\")","v":""},0]
[null,null,null,null,null,null,null,null,{"$f":"SUM(I7:I216)","v":7}]

{"sheet":"cat12","index":15,"n_rows":217,"n_cols":10,"rows_kept":217,"cut":false,"hidden":false,"merged":[]}
[{"$f":"+MENU!A1","v":"CHRONO DES LIMOUCHES "},null,null,null,null,null,{"$f":"+MENU!I1","v":"EDITION"},{"$f":"+MENU!J1","v":2018}]
[null,null,null,null,null,null,null,null,"code cat",12]
["CLASSEMENT :",null,{"$f":"+IF(J2=\"\",\"\",VLOOKUP($J$2,Catégories!B3:D17,3))","v":"Minimes"}]
[]
[]
[null,"N°de DOSSARD","Nom ","Prénom","Club","Fédération","Temps","Moyenne"]
[1,{"$f":"IF('liste engagés'!$G123=12,'liste engagés'!A123,\"\")","v":118},{"$f":"IF('liste engagés'!$G123=12,'liste engagés'!B123,\"\")","v":"ANDRE"},{"$f":"IF('liste engagés'!$G123=12,'liste engagés'!C123,\"\")","v":"NOAH"},{"$f":"IF('liste engagés'!$G123=12,'liste engagés'!D123,\"\")","v":"VC PAYS VALLONNAIS"},{"$f":"IF('liste engagés'!$G123=12,'liste engagés'!E123,\"\")","v":"FFC"},{"$f":"IF('liste engagés'!$G123=12,'liste engagés'!K123,\"\")","v":2.567129629629028E-2},{"$f":"IF('liste engagés'!$G123=12,'liste engagés'!L123,\"\")","v":18.503155996397485},{"$f":"+IF(C7=\"\",0,1)","v":1}]
[{"$f":"+A7+1","v":2},{"$f":"IF('liste engagés'!$G21=12,'liste engagés'!A21,\"\")","v":16},{"$f":"IF('liste engagés'!$G21=12,'liste engagés'!B21,\"\")","v":"HEROLD"},{"$f":"IF('liste engagés'!$G21=12,'liste engagés'!C21,\"\")","v":"GABIN"},{"$f":"IF('liste engagés'!$G21=12,'liste engagés'!D21,\"\")","v":"UCMV"},{"$f":"IF('liste engagés'!$G21=12,'liste engagés'!E21,\"\")","v":"FFC"},{"$f":"IF('liste engagés'!$G21=12,'liste engagés'!K21,\"\")","v":3.1331018518517162E-2},{"$f":"IF('liste engagés'!$G21=12,'liste engagés'!L21,\"\")","v":15.160694495752411},1]
[3,{"$f":"IF('liste engagés'!$G135=12,'liste engagés'!A135,\"\")","v":130},{"$f":"IF('liste engagés'!$G135=12,'liste engagés'!B135,\"\")","v":"LEMAIRE"},{"$f":"IF('liste engagés'!$G135=12,'liste engagés'!C135,\"\")","v":"MATHIAS"},{"$f":"IF('liste engagés'!$G135=12,'liste engagés'!D135,\"\")","v":"UCMV"},{"$f":"IF('liste engagés'!$G135=12,'liste engagés'!E135,\"\")","v":"FFC"},{"$f":"IF('liste engagés'!$G135=12,'liste engagés'!K135,\"\")","v":3.1643518518511826E-2},{"$f":"IF('liste engagés'!$G135=12,'liste engagés'!L135,\"\")","v":15.010972933434045},1]
[4,{"$f":"IF('liste engagés'!$G107=12,'liste engagés'!A107,\"\")","v":102},{"$f":"IF('liste engagés'!$G107=12,'liste engagés'!B107,\"\")","v":"POINT "},{"$f":"IF('liste engagés'!$G107=12,'liste engagés'!C107,\"\")","v":"LORICK"},{"$f":"IF('liste engagés'!$G107=12,'liste engagés'!D107,\"\")","v":"UCMV"},{"$f":"IF('liste engagés'!$G107=12,'liste engagés'!E107,\"\")","v":"FFC"},{"$f":"IF('liste engagés'!$G107=12,'liste engagés'!K107,\"\")","v":3.752314814814306E-2},{"$f":"IF('liste engagés'!$G107=12,'liste engagés'!L107,\"\")","v":12.658852560149773},1]
[5,{"$f":"IF('liste engagés'!$G60=12,'liste engagés'!A60,\"\")","v":55},{"$f":"IF('liste engagés'!$G60=12,'liste engagés'!B60,\"\")","v":"PERMINGEAT"},{"$f":"IF('liste engagés'!$G60=12,'liste engagés'!C60,\"\")","v":"EVANN"},{"$f":"IF('liste engagés'!$G60=12,'liste engagés'!D60,\"\")","v":"UCMV"},{"$f":"IF('liste engagés'!$G60=12,'liste engagés'!E60,\"\")","v":"FFC"},{"$f":"IF('liste engagés'!$G60=12,'liste engagés'!K60,\"\")","v":4.1932870370367414E-2},{"$f":"IF('liste engagés'!$G60=12,'liste engagés'!L60,\"\")","v":11.327629036710707},1]
[6,{"$f":"IF('liste engagés'!$G6=12,'liste engagés'!A6,\"\")","v":""},{"$f":"IF('liste engagés'!$G6=12,'liste engagés'!B6,\"\")","v":""},{"$f":"IF('liste engagés'!$G6=12,'liste engagés'!C6,\"\")","v":""},{"$f":"IF('liste engagés'!$G6=12,'liste engagés'!D6,\"\")","v":""},{"$f":"IF('liste engagés'!$G6=12,'liste engagés'!E6,\"\")","v":""},{"$f":"IF('liste engagés'!$G6=12,'liste engagés'!K6,\"\")","v":""},{"$f":"IF('liste engagés'!$G6=12,'liste engagés'!L6,\"\")","v":""},0]
[7,{"$f":"IF('liste engagés'!$G7=12,'liste engagés'!A7,\"\")","v":""},{"$f":"IF('liste engagés'!$G7=12,'liste engagés'!B7,\"\")","v":""},{"$f":"IF('liste engagés'!$G7=12,'liste engagés'!C7,\"\")","v":""},{"$f":"IF('liste engagés'!$G7=12,'liste engagés'!D7,\"\")","v":""},{"$f":"IF('liste engagés'!$G7=12,'liste engagés'!E7,\"\")","v":""},{"$f":"IF('liste engagés'!$G7=12,'liste engagés'!K7,\"\")","v":""},{"$f":"IF('liste engagés'!$G7=12,'liste engagés'!L7,\"\")","v":""},0]
[8,{"$f":"IF('liste engagés'!$G8=12,'liste engagés'!A8,\"\")","v":""},{"$f":"IF('liste engagés'!$G8=12,'liste engagés'!B8,\"\")","v":""},{"$f":"IF('liste engagés'!$G8=12,'liste engagés'!C8,\"\")","v":""},{"$f":"IF('liste engagés'!$G8=12,'liste engagés'!D8,\"\")","v":""},{"$f":"IF('liste engagés'!$G8=12,'liste engagés'!E8,\"\")","v":""},{"$f":"IF('liste engagés'!$G8=12,'liste engagés'!K8,\"\")","v":""},{"$f":"IF('liste engagés'!$G8=12,'liste engagés'!L8,\"\")","v":""},0]
[9,{"$f":"IF('liste engagés'!$G9=12,'liste engagés'!A9,\"\")","v":""},{"$f":"IF('liste engagés'!$G9=12,'liste engagés'!B9,\"\")","v":""},{"$f":"IF('liste engagés'!$G9=12,'liste engagés'!C9,\"\")","v":""},{"$f":"IF('liste engagés'!$G9=12,'liste engagés'!D9,\"\")","v":""},{"$f":"IF('liste engagés'!$G9=12,'liste engagés'!E9,\"\")","v":""},{"$f":"IF('liste engagés'!$G9=12,'liste engagés'!K9,\"\")","v":""},{"$f":"IF('liste engagés'!$G9=12,'liste engagés'!L9,\"\")","v":""},0]
[10,{"$f":"IF('liste engagés'!$G10=12,'liste engagés'!A10,\"\")","v":""},{"$f":"IF('liste engagés'!$G10=12,'liste engagés'!B10,\"\")","v":""},{"$f":"IF('liste engagés'!$G10=12,'liste engagés'!C10,\"\")","v":""},{"$f":"IF('liste engagés'!$G10=12,'liste engagés'!D10,\"\")","v":""},{"$f":"IF('liste engagés'!$G10=12,'liste engagés'!E10,\"\")","v":""},{"$f":"IF('liste engagés'!$G10=12,'liste engagés'!K10,\"\")","v":""},{"$f":"IF('liste engagés'!$G10=12,'liste engagés'!L10,\"\")","v":""},0]
[11,{"$f":"IF('liste engagés'!$G11=12,'liste engagés'!A11,\"\")","v":""},{"$f":"IF('liste engagés'!$G11=12,'liste engagés'!B11,\"\")","v":""},{"$f":"IF('liste engagés'!$G11=12,'liste engagés'!C11,\"\")","v":""},{"$f":"IF('liste engagés'!$G11=12,'liste engagés'!D11,\"\")","v":""},{"$f":"IF('liste engagés'!$G11=12,'liste engagés'!E11,\"\")","v":""},{"$f":"IF('liste engagés'!$G11=12,'liste engagés'!K11,\"\")","v":""},{"$f":"IF('liste engagés'!$G11=12,'liste engagés'!L11,\"\")","v":""},0]
[12,{"$f":"IF('liste engagés'!$G12=12,'liste engagés'!A12,\"\")","v":""},{"$f":"IF('liste engagés'!$G12=12,'liste engagés'!B12,\"\")","v":""},{"$f":"IF('liste engagés'!$G12=12,'liste engagés'!C12,\"\")","v":""},{"$f":"IF('liste engagés'!$G12=12,'liste engagés'!D12,\"\")","v":""},{"$f":"IF('liste engagés'!$G12=12,'liste engagés'!E12,\"\")","v":""},{"$f":"IF('liste engagés'!$G12=12,'liste engagés'!K12,\"\")","v":""},{"$f":"IF('liste engagés'!$G12=12,'liste engagés'!L12,\"\")","v":""},0]
[13,{"$f":"IF('liste engagés'!$G13=12,'liste engagés'!A13,\"\")","v":""},{"$f":"IF('liste engagés'!$G13=12,'liste engagés'!B13,\"\")","v":""},{"$f":"IF('liste engagés'!$G13=12,'liste engagés'!C13,\"\")","v":""},{"$f":"IF('liste engagés'!$G13=12,'liste engagés'!D13,\"\")","v":""},{"$f":"IF('liste engagés'!$G13=12,'liste engagés'!E13,\"\")","v":""},{"$f":"IF('liste engagés'!$G13=12,'liste engagés'!K13,\"\")","v":""},{"$f":"IF('liste engagés'!$G13=12,'liste engagés'!L13,\"\")","v":""},0]
[14,{"$f":"IF('liste engagés'!$G14=12,'liste engagés'!A14,\"\")","v":""},{"$f":"IF('liste engagés'!$G14=12,'liste engagés'!B14,\"\")","v":""},{"$f":"IF('liste engagés'!$G14=12,'liste engagés'!C14,\"\")","v":""},{"$f":"IF('liste engagés'!$G14=12,'liste engagés'!D14,\"\")","v":""},{"$f":"IF('liste engagés'!$G14=12,'liste engagés'!E14,\"\")","v":""},{"$f":"IF('liste engagés'!$G14=12,'liste engagés'!K14,\"\")","v":""},{"$f":"IF('liste engagés'!$G14=12,'liste engagés'!L14,\"\")","v":""},0]
[15,{"$f":"IF('liste engagés'!$G15=12,'liste engagés'!A15,\"\")","v":""},{"$f":"IF('liste engagés'!$G15=12,'liste engagés'!B15,\"\")","v":""},{"$f":"IF('liste engagés'!$G15=12,'liste engagés'!C15,\"\")","v":""},{"$f":"IF('liste engagés'!$G15=12,'liste engagés'!D15,\"\")","v":""},{"$f":"IF('liste engagés'!$G15=12,'liste engagés'!E15,\"\")","v":""},{"$f":"IF('liste engagés'!$G15=12,'liste engagés'!K15,\"\")","v":""},{"$f":"IF('liste engagés'!$G15=12,'liste engagés'!L15,\"\")","v":""},0]
[16,{"$f":"IF('liste engagés'!$G16=12,'liste engagés'!A16,\"\")","v":""},{"$f":"IF('liste engagés'!$G16=12,'liste engagés'!B16,\"\")","v":""},{"$f":"IF('liste engagés'!$G16=12,'liste engagés'!C16,\"\")","v":""},{"$f":"IF('liste engagés'!$G16=12,'liste engagés'!D16,\"\")","v":""},{"$f":"IF('liste engagés'!$G16=12,'liste engagés'!E16,\"\")","v":""},{"$f":"IF('liste engagés'!$G16=12,'liste engagés'!K16,\"\")","v":""},{"$f":"IF('liste engagés'!$G16=12,'liste engagés'!L16,\"\")","v":""},0]
[17,{"$f":"IF('liste engagés'!$G17=12,'liste engagés'!A17,\"\")","v":""},{"$f":"IF('liste engagés'!$G17=12,'liste engagés'!B17,\"\")","v":""},{"$f":"IF('liste engagés'!$G17=12,'liste engagés'!C17,\"\")","v":""},{"$f":"IF('liste engagés'!$G17=12,'liste engagés'!D17,\"\")","v":""},{"$f":"IF('liste engagés'!$G17=12,'liste engagés'!E17,\"\")","v":""},{"$f":"IF('liste engagés'!$G17=12,'liste engagés'!K17,\"\")","v":""},{"$f":"IF('liste engagés'!$G17=12,'liste engagés'!L17,\"\")","v":""},0]
[18,{"$f":"IF('liste engagés'!$G18=12,'liste engagés'!A18,\"\")","v":""},{"$f":"IF('liste engagés'!$G18=12,'liste engagés'!B18,\"\")","v":""},{"$f":"IF('liste engagés'!$G18=12,'liste engagés'!C18,\"\")","v":""},{"$f":"IF('liste engagés'!$G18=12,'liste engagés'!D18,\"\")","v":""},{"$f":"IF('liste engagés'!$G18=12,'liste engagés'!E18,\"\")","v":""},{"$f":"IF('liste engagés'!$G18=12,'liste engagés'!K18,\"\")","v":""},{"$f":"IF('liste engagés'!$G18=12,'liste engagés'!L18,\"\")","v":""},0]
[19,{"$f":"IF('liste engagés'!$G19=12,'liste engagés'!A19,\"\")","v":""},{"$f":"IF('liste engagés'!$G19=12,'liste engagés'!B19,\"\")","v":""},{"$f":"IF('liste engagés'!$G19=12,'liste engagés'!C19,\"\")","v":""},{"$f":"IF('liste engagés'!$G19=12,'liste engagés'!D19,\"\")","v":""},{"$f":"IF('liste engagés'!$G19=12,'liste engagés'!E19,\"\")","v":""},{"$f":"IF('liste engagés'!$G19=12,'liste engagés'!K19,\"\")","v":""},{"$f":"IF('liste engagés'!$G19=12,'liste engagés'!L19,\"\")","v":""},0]
[20,{"$f":"IF('liste engagés'!$G20=12,'liste engagés'!A20,\"\")","v":""},{"$f":"IF('liste engagés'!$G20=12,'liste engagés'!B20,\"\")","v":""},{"$f":"IF('liste engagés'!$G20=12,'liste engagés'!C20,\"\")","v":""},{"$f":"IF('liste engagés'!$G20=12,'liste engagés'!D20,\"\")","v":""},{"$f":"IF('liste engagés'!$G20=12,'liste engagés'!E20,\"\")","v":""},{"$f":"IF('liste engagés'!$G20=12,'liste engagés'!K20,\"\")","v":""},{"$f":"IF('liste engagés'!$G20=12,'liste engagés'!L20,\"\")","v":""},0]
[21,{"$f":"IF('liste engagés'!$G22=12,'liste engagés'!A22,\"\")","v":""},{"$f":"IF('liste engagés'!$G22=12,'liste engagés'!B22,\"\")","v":""},{"$f":"IF('liste engagés'!$G22=12,'liste engagés'!C22,\"\")","v":""},{"$f":"IF('liste engagés'!$G22=12,'liste engagés'!D22,\"\")","v":""},{"$f":"IF('liste engagés'!$G22=12,'liste engagés'!E22,\"\")","v":""},{"$f":"IF('liste engagés'!$G22=12,'liste engagés'!K22,\"\")","v":""},{"$f":"IF('liste engagés'!$G22=12,'liste engagés'!L22,\"\")","v":""},0]
[22,{"$f":"IF('liste engagés'!$G23=12,'liste engagés'!A23,\"\")","v":""},{"$f":"IF('liste engagés'!$G23=12,'liste engagés'!B23,\"\")","v":""},{"$f":"IF('liste engagés'!$G23=12,'liste engagés'!C23,\"\")","v":""},{"$f":"IF('liste engagés'!$G23=12,'liste engagés'!D23,\"\")","v":""},{"$f":"IF('liste engagés'!$G23=12,'liste engagés'!E23,\"\")","v":""},{"$f":"IF('liste engagés'!$G23=12,'liste engagés'!K23,\"\")","v":""},{"$f":"IF('liste engagés'!$G23=12,'liste engagés'!L23,\"\")","v":""},0]
[23,{"$f":"IF('liste engagés'!$G24=12,'liste engagés'!A24,\"\")","v":""},{"$f":"IF('liste engagés'!$G24=12,'liste engagés'!B24,\"\")","v":""},{"$f":"IF('liste engagés'!$G24=12,'liste engagés'!C24,\"\")","v":""},{"$f":"IF('liste engagés'!$G24=12,'liste engagés'!D24,\"\")","v":""},{"$f":"IF('liste engagés'!$G24=12,'liste engagés'!E24,\"\")","v":""},{"$f":"IF('liste engagés'!$G24=12,'liste engagés'!K24,\"\")","v":""},{"$f":"IF('liste engagés'!$G24=12,'liste engagés'!L24,\"\")","v":""},0]
[24,{"$f":"IF('liste engagés'!$G25=12,'liste engagés'!A25,\"\")","v":""},{"$f":"IF('liste engagés'!$G25=12,'liste engagés'!B25,\"\")","v":""},{"$f":"IF('liste engagés'!$G25=12,'liste engagés'!C25,\"\")","v":""},{"$f":"IF('liste engagés'!$G25=12,'liste engagés'!D25,\"\")","v":""},{"$f":"IF('liste engagés'!$G25=12,'liste engagés'!E25,\"\")","v":""},{"$f":"IF('liste engagés'!$G25=12,'liste engagés'!K25,\"\")","v":""},{"$f":"IF('liste engagés'!$G25=12,'liste engagés'!L25,\"\")","v":""},0]
[25,{"$f":"IF('liste engagés'!$G26=12,'liste engagés'!A26,\"\")","v":""},{"$f":"IF('liste engagés'!$G26=12,'liste engagés'!B26,\"\")","v":""},{"$f":"IF('liste engagés'!$G26=12,'liste engagés'!C26,\"\")","v":""},{"$f":"IF('liste engagés'!$G26=12,'liste engagés'!D26,\"\")","v":""},{"$f":"IF('liste engagés'!$G26=12,'liste engagés'!E26,\"\")","v":""},{"$f":"IF('liste engagés'!$G26=12,'liste engagés'!K26,\"\")","v":""},{"$f":"IF('liste engagés'!$G26=12,'liste engagés'!L26,\"\")","v":""},0]
[26,{"$f":"IF('liste engagés'!$G27=12,'liste engagés'!A27,\"\")","v":""},{"$f":"IF('liste engagés'!$G27=12,'liste engagés'!B27,\"\")","v":""},{"$f":"IF('liste engagés'!$G27=12,'liste engagés'!C27,\"\")","v":""},{"$f":"IF('liste engagés'!$G27=12,'liste engagés'!D27,\"\")","v":""},{"$f":"IF('liste engagés'!$G27=12,'liste engagés'!E27,\"\")","v":""},{"$f":"IF('liste engagés'!$G27=12,'liste engagés'!K27,\"\")","v":""},{"$f":"IF('liste engagés'!$G27=12,'liste engagés'!L27,\"\")","v":""},0]
[27,{"$f":"IF('liste engagés'!$G28=12,'liste engagés'!A28,\"\")","v":""},{"$f":"IF('liste engagés'!$G28=12,'liste engagés'!B28,\"\")","v":""},{"$f":"IF('liste engagés'!$G28=12,'liste engagés'!C28,\"\")","v":""},{"$f":"IF('liste engagés'!$G28=12,'liste engagés'!D28,\"\")","v":""},{"$f":"IF('liste engagés'!$G28=12,'liste engagés'!E28,\"\")","v":""},{"$f":"IF('liste engagés'!$G28=12,'liste engagés'!K28,\"\")","v":""},{"$f":"IF('liste engagés'!$G28=12,'liste engagés'!L28,\"\")","v":""},0]
[28,{"$f":"IF('liste engagés'!$G29=12,'liste engagés'!A29,\"\")","v":""},{"$f":"IF('liste engagés'!$G29=12,'liste engagés'!B29,\"\")","v":""},{"$f":"IF('liste engagés'!$G29=12,'liste engagés'!C29,\"\")","v":""},{"$f":"IF('liste engagés'!$G29=12,'liste engagés'!D29,\"\")","v":""},{"$f":"IF('liste engagés'!$G29=12,'liste engagés'!E29,\"\")","v":""},{"$f":"IF('liste engagés'!$G29=12,'liste engagés'!K29,\"\")","v":""},{"$f":"IF('liste engagés'!$G29=12,'liste engagés'!L29,\"\")","v":""},0]
[29,{"$f":"IF('liste engagés'!$G30=12,'liste engagés'!A30,\"\")","v":""},{"$f":"IF('liste engagés'!$G30=12,'liste engagés'!B30,\"\")","v":""},{"$f":"IF('liste engagés'!$G30=12,'liste engagés'!C30,\"\")","v":""},{"$f":"IF('liste engagés'!$G30=12,'liste engagés'!D30,\"\")","v":""},{"$f":"IF('liste engagés'!$G30=12,'liste engagés'!E30,\"\")","v":""},{"$f":"IF('liste engagés'!$G30=12,'liste engagés'!K30,\"\")","v":""},{"$f":"IF('liste engagés'!$G30=12,'liste engagés'!L30,\"\")","v":""},0]
[30,{"$f":"IF('liste engagés'!$G31=12,'liste engagés'!A31,\"\")","v":""},{"$f":"IF('liste engagés'!$G31=12,'liste engagés'!B31,\"\")","v":""},{"$f":"IF('liste engagés'!$G31=12,'liste engagés'!C31,\"\")","v":""},{"$f":"IF('liste engagés'!$G31=12,'liste engagés'!D31,\"\")","v":""},{"$f":"IF('liste engagés'!$G31=12,'liste engagés'!E31,\"\")","v":""},{"$f":"IF('liste engagés'!$G31=12,'liste engagés'!K31,\"\")","v":""},{"$f":"IF('liste engagés'!$G31=12,'liste engagés'!L31,\"\")","v":""},0]
[31,{"$f":"IF('liste engagés'!$G32=12,'liste engagés'!A32,\"\")","v":""},{"$f":"IF('liste engagés'!$G32=12,'liste engagés'!B32,\"\")","v":""},{"$f":"IF('liste engagés'!$G32=12,'liste engagés'!C32,\"\")","v":""},{"$f":"IF('liste engagés'!$G32=12,'liste engagés'!D32,\"\")","v":""},{"$f":"IF('liste engagés'!$G32=12,'liste engagés'!E32,\"\")","v":""},{"$f":"IF('liste engagés'!$G32=12,'liste engagés'!K32,\"\")","v":""},{"$f":"IF('liste engagés'!$G32=12,'liste engagés'!L32,\"\")","v":""},0]
[32,{"$f":"IF('liste engagés'!$G33=12,'liste engagés'!A33,\"\")","v":""},{"$f":"IF('liste engagés'!$G33=12,'liste engagés'!B33,\"\")","v":""},{"$f":"IF('liste engagés'!$G33=12,'liste engagés'!C33,\"\")","v":""},{"$f":"IF('liste engagés'!$G33=12,'liste engagés'!D33,\"\")","v":""},{"$f":"IF('liste engagés'!$G33=12,'liste engagés'!E33,\"\")","v":""},{"$f":"IF('liste engagés'!$G33=12,'liste engagés'!K33,\"\")","v":""},{"$f":"IF('liste engagés'!$G33=12,'liste engagés'!L33,\"\")","v":""},0]
[33,{"$f":"IF('liste engagés'!$G34=12,'liste engagés'!A34,\"\")","v":""},{"$f":"IF('liste engagés'!$G34=12,'liste engagés'!B34,\"\")","v":""},{"$f":"IF('liste engagés'!$G34=12,'liste engagés'!C34,\"\")","v":""},{"$f":"IF('liste engagés'!$G34=12,'liste engagés'!D34,\"\")","v":""},{"$f":"IF('liste engagés'!$G34=12,'liste engagés'!E34,\"\")","v":""},{"$f":"IF('liste engagés'!$G34=12,'liste engagés'!K34,\"\")","v":""},{"$f":"IF('liste engagés'!$G34=12,'liste engagés'!L34,\"\")","v":""},0]
[34,{"$f":"IF('liste engagés'!$G35=12,'liste engagés'!A35,\"\")","v":""},{"$f":"IF('liste engagés'!$G35=12,'liste engagés'!B35,\"\")","v":""},{"$f":"IF('liste engagés'!$G35=12,'liste engagés'!C35,\"\")","v":""},{"$f":"IF('liste engagés'!$G35=12,'liste engagés'!D35,\"\")","v":""},{"$f":"IF('liste engagés'!$G35=12,'liste engagés'!E35,\"\")","v":""},{"$f":"IF('liste engagés'!$G35=12,'liste engagés'!K35,\"\")","v":""},{"$f":"IF('liste engagés'!$G35=12,'liste engagés'!L35,\"\")","v":""},0]
[35,{"$f":"IF('liste engagés'!$G36=12,'liste engagés'!A36,\"\")","v":""},{"$f":"IF('liste engagés'!$G36=12,'liste engagés'!B36,\"\")","v":""},{"$f":"IF('liste engagés'!$G36=12,'liste engagés'!C36,\"\")","v":""},{"$f":"IF('liste engagés'!$G36=12,'liste engagés'!D36,\"\")","v":""},{"$f":"IF('liste engagés'!$G36=12,'liste engagés'!E36,\"\")","v":""},{"$f":"IF('liste engagés'!$G36=12,'liste engagés'!K36,\"\")","v":""},{"$f":"IF('liste engagés'!$G36=12,'liste engagés'!L36,\"\")","v":""},0]
[36,{"$f":"IF('liste engagés'!$G37=12,'liste engagés'!A37,\"\")","v":""},{"$f":"IF('liste engagés'!$G37=12,'liste engagés'!B37,\"\")","v":""},{"$f":"IF('liste engagés'!$G37=12,'liste engagés'!C37,\"\")","v":""},{"$f":"IF('liste engagés'!$G37=12,'liste engagés'!D37,\"\")","v":""},{"$f":"IF('liste engagés'!$G37=12,'liste engagés'!E37,\"\")","v":""},{"$f":"IF('liste engagés'!$G37=12,'liste engagés'!K37,\"\")","v":""},{"$f":"IF('liste engagés'!$G37=12,'liste engagés'!L37,\"\")","v":""},0]
[37,{"$f":"IF('liste engagés'!$G38=12,'liste engagés'!A38,\"\")","v":""},{"$f":"IF('liste engagés'!$G38=12,'liste engagés'!B38,\"\")","v":""},{"$f":"IF('liste engagés'!$G38=12,'liste engagés'!C38,\"\")","v":""},{"$f":"IF('liste engagés'!$G38=12,'liste engagés'!D38,\"\")","v":""},{"$f":"IF('liste engagés'!$G38=12,'liste engagés'!E38,\"\")","v":""},{"$f":"IF('liste engagés'!$G38=12,'liste engagés'!K38,\"\")","v":""},{"$f":"IF('liste engagés'!$G38=12,'liste engagés'!L38,\"\")","v":""},0]
[38,{"$f":"IF('liste engagés'!$G39=12,'liste engagés'!A39,\"\")","v":""},{"$f":"IF('liste engagés'!$G39=12,'liste engagés'!B39,\"\")","v":""},{"$f":"IF('liste engagés'!$G39=12,'liste engagés'!C39,\"\")","v":""},{"$f":"IF('liste engagés'!$G39=12,'liste engagés'!D39,\"\")","v":""},{"$f":"IF('liste engagés'!$G39=12,'liste engagés'!E39,\"\")","v":""},{"$f":"IF('liste engagés'!$G39=12,'liste engagés'!K39,\"\")","v":""},{"$f":"IF('liste engagés'!$G39=12,'liste engagés'!L39,\"\")","v":""},0]
[39,{"$f":"IF('liste engagés'!$G40=12,'liste engagés'!A40,\"\")","v":""},{"$f":"IF('liste engagés'!$G40=12,'liste engagés'!B40,\"\")","v":""},{"$f":"IF('liste engagés'!$G40=12,'liste engagés'!C40,\"\")","v":""},{"$f":"IF('liste engagés'!$G40=12,'liste engagés'!D40,\"\")","v":""},{"$f":"IF('liste engagés'!$G40=12,'liste engagés'!E40,\"\")","v":""},{"$f":"IF('liste engagés'!$G40=12,'liste engagés'!K40,\"\")","v":""},{"$f":"IF('liste engagés'!$G40=12,'liste engagés'!L40,\"\")","v":""},0]
[40,{"$f":"IF('liste engagés'!$G41=12,'liste engagés'!A41,\"\")","v":""},{"$f":"IF('liste engagés'!$G41=12,'liste engagés'!B41,\"\")","v":""},{"$f":"IF('liste engagés'!$G41=12,'liste engagés'!C41,\"\")","v":""},{"$f":"IF('liste engagés'!$G41=12,'liste engagés'!D41,\"\")","v":""},{"$f":"IF('liste engagés'!$G41=12,'liste engagés'!E41,\"\")","v":""},{"$f":"IF('liste engagés'!$G41=12,'liste engagés'!K41,\"\")","v":""},{"$f":"IF('liste engagés'!$G41=12,'liste engagés'!L41,\"\")","v":""},0]
[41,{"$f":"IF('liste engagés'!$G42=12,'liste engagés'!A42,\"\")","v":""},{"$f":"IF('liste engagés'!$G42=12,'liste engagés'!B42,\"\")","v":""},{"$f":"IF('liste engagés'!$G42=12,'liste engagés'!C42,\"\")","v":""},{"$f":"IF('liste engagés'!$G42=12,'liste engagés'!D42,\"\")","v":""},{"$f":"IF('liste engagés'!$G42=12,'liste engagés'!E42,\"\")","v":""},{"$f":"IF('liste engagés'!$G42=12,'liste engagés'!K42,\"\")","v":""},{"$f":"IF('liste engagés'!$G42=12,'liste engagés'!L42,\"\")","v":""},0]
[42,{"$f":"IF('liste engagés'!$G43=12,'liste engagés'!A43,\"\")","v":""},{"$f":"IF('liste engagés'!$G43=12,'liste engagés'!B43,\"\")","v":""},{"$f":"IF('liste engagés'!$G43=12,'liste engagés'!C43,\"\")","v":""},{"$f":"IF('liste engagés'!$G43=12,'liste engagés'!D43,\"\")","v":""},{"$f":"IF('liste engagés'!$G43=12,'liste engagés'!E43,\"\")","v":""},{"$f":"IF('liste engagés'!$G43=12,'liste engagés'!K43,\"\")","v":""},{"$f":"IF('liste engagés'!$G43=12,'liste engagés'!L43,\"\")","v":""},0]
[43,{"$f":"IF('liste engagés'!$G44=12,'liste engagés'!A44,\"\")","v":""},{"$f":"IF('liste engagés'!$G44=12,'liste engagés'!B44,\"\")","v":""},{"$f":"IF('liste engagés'!$G44=12,'liste engagés'!C44,\"\")","v":""},{"$f":"IF('liste engagés'!$G44=12,'liste engagés'!D44,\"\")","v":""},{"$f":"IF('liste engagés'!$G44=12,'liste engagés'!E44,\"\")","v":""},{"$f":"IF('liste engagés'!$G44=12,'liste engagés'!K44,\"\")","v":""},{"$f":"IF('liste engagés'!$G44=12,'liste engagés'!L44,\"\")","v":""},0]
[44,{"$f":"IF('liste engagés'!$G45=12,'liste engagés'!A45,\"\")","v":""},{"$f":"IF('liste engagés'!$G45=12,'liste engagés'!B45,\"\")","v":""},{"$f":"IF('liste engagés'!$G45=12,'liste engagés'!C45,\"\")","v":""},{"$f":"IF('liste engagés'!$G45=12,'liste engagés'!D45,\"\")","v":""},{"$f":"IF('liste engagés'!$G45=12,'liste engagés'!E45,\"\")","v":""},{"$f":"IF('liste engagés'!$G45=12,'liste engagés'!K45,\"\")","v":""},{"$f":"IF('liste engagés'!$G45=12,'liste engagés'!L45,\"\")","v":""},0]
[45,{"$f":"IF('liste engagés'!$G46=12,'liste engagés'!A46,\"\")","v":""},{"$f":"IF('liste engagés'!$G46=12,'liste engagés'!B46,\"\")","v":""},{"$f":"IF('liste engagés'!$G46=12,'liste engagés'!C46,\"\")","v":""},{"$f":"IF('liste engagés'!$G46=12,'liste engagés'!D46,\"\")","v":""},{"$f":"IF('liste engagés'!$G46=12,'liste engagés'!E46,\"\")","v":""},{"$f":"IF('liste engagés'!$G46=12,'liste engagés'!K46,\"\")","v":""},{"$f":"IF('liste engagés'!$G46=12,'liste engagés'!L46,\"\")","v":""},0]
[46,{"$f":"IF('liste engagés'!$G47=12,'liste engagés'!A47,\"\")","v":""},{"$f":"IF('liste engagés'!$G47=12,'liste engagés'!B47,\"\")","v":""},{"$f":"IF('liste engagés'!$G47=12,'liste engagés'!C47,\"\")","v":""},{"$f":"IF('liste engagés'!$G47=12,'liste engagés'!D47,\"\")","v":""},{"$f":"IF('liste engagés'!$G47=12,'liste engagés'!E47,\"\")","v":""},{"$f":"IF('liste engagés'!$G47=12,'liste engagés'!K47,\"\")","v":""},{"$f":"IF('liste engagés'!$G47=12,'liste engagés'!L47,\"\")","v":""},0]
[47,{"$f":"IF('liste engagés'!$G48=12,'liste engagés'!A48,\"\")","v":""},{"$f":"IF('liste engagés'!$G48=12,'liste engagés'!B48,\"\")","v":""},{"$f":"IF('liste engagés'!$G48=12,'liste engagés'!C48,\"\")","v":""},{"$f":"IF('liste engagés'!$G48=12,'liste engagés'!D48,\"\")","v":""},{"$f":"IF('liste engagés'!$G48=12,'liste engagés'!E48,\"\")","v":""},{"$f":"IF('liste engagés'!$G48=12,'liste engagés'!K48,\"\")","v":""},{"$f":"IF('liste engagés'!$G48=12,'liste engagés'!L48,\"\")","v":""},0]
[48,{"$f":"IF('liste engagés'!$G49=12,'liste engagés'!A49,\"\")","v":""},{"$f":"IF('liste engagés'!$G49=12,'liste engagés'!B49,\"\")","v":""},{"$f":"IF('liste engagés'!$G49=12,'liste engagés'!C49,\"\")","v":""},{"$f":"IF('liste engagés'!$G49=12,'liste engagés'!D49,\"\")","v":""},{"$f":"IF('liste engagés'!$G49=12,'liste engagés'!E49,\"\")","v":""},{"$f":"IF('liste engagés'!$G49=12,'liste engagés'!K49,\"\")","v":""},{"$f":"IF('liste engagés'!$G49=12,'liste engagés'!L49,\"\")","v":""},0]
[49,{"$f":"IF('liste engagés'!$G50=12,'liste engagés'!A50,\"\")","v":""},{"$f":"IF('liste engagés'!$G50=12,'liste engagés'!B50,\"\")","v":""},{"$f":"IF('liste engagés'!$G50=12,'liste engagés'!C50,\"\")","v":""},{"$f":"IF('liste engagés'!$G50=12,'liste engagés'!D50,\"\")","v":""},{"$f":"IF('liste engagés'!$G50=12,'liste engagés'!E50,\"\")","v":""},{"$f":"IF('liste engagés'!$G50=12,'liste engagés'!K50,\"\")","v":""},{"$f":"IF('liste engagés'!$G50=12,'liste engagés'!L50,\"\")","v":""},0]
[50,{"$f":"IF('liste engagés'!$G51=12,'liste engagés'!A51,\"\")","v":""},{"$f":"IF('liste engagés'!$G51=12,'liste engagés'!B51,\"\")","v":""},{"$f":"IF('liste engagés'!$G51=12,'liste engagés'!C51,\"\")","v":""},{"$f":"IF('liste engagés'!$G51=12,'liste engagés'!D51,\"\")","v":""},{"$f":"IF('liste engagés'!$G51=12,'liste engagés'!E51,\"\")","v":""},{"$f":"IF('liste engagés'!$G51=12,'liste engagés'!K51,\"\")","v":""},{"$f":"IF('liste engagés'!$G51=12,'liste engagés'!L51,\"\")","v":""},0]
[51,{"$f":"IF('liste engagés'!$G52=12,'liste engagés'!A52,\"\")","v":""},{"$f":"IF('liste engagés'!$G52=12,'liste engagés'!B52,\"\")","v":""},{"$f":"IF('liste engagés'!$G52=12,'liste engagés'!C52,\"\")","v":""},{"$f":"IF('liste engagés'!$G52=12,'liste engagés'!D52,\"\")","v":""},{"$f":"IF('liste engagés'!$G52=12,'liste engagés'!E52,\"\")","v":""},{"$f":"IF('liste engagés'!$G52=12,'liste engagés'!K52,\"\")","v":""},{"$f":"IF('liste engagés'!$G52=12,'liste engagés'!L52,\"\")","v":""},0]
[52,{"$f":"IF('liste engagés'!$G53=12,'liste engagés'!A53,\"\")","v":""},{"$f":"IF('liste engagés'!$G53=12,'liste engagés'!B53,\"\")","v":""},{"$f":"IF('liste engagés'!$G53=12,'liste engagés'!C53,\"\")","v":""},{"$f":"IF('liste engagés'!$G53=12,'liste engagés'!D53,\"\")","v":""},{"$f":"IF('liste engagés'!$G53=12,'liste engagés'!E53,\"\")","v":""},{"$f":"IF('liste engagés'!$G53=12,'liste engagés'!K53,\"\")","v":""},{"$f":"IF('liste engagés'!$G53=12,'liste engagés'!L53,\"\")","v":""},0]
[53,{"$f":"IF('liste engagés'!$G54=12,'liste engagés'!A54,\"\")","v":""},{"$f":"IF('liste engagés'!$G54=12,'liste engagés'!B54,\"\")","v":""},{"$f":"IF('liste engagés'!$G54=12,'liste engagés'!C54,\"\")","v":""},{"$f":"IF('liste engagés'!$G54=12,'liste engagés'!D54,\"\")","v":""},{"$f":"IF('liste engagés'!$G54=12,'liste engagés'!E54,\"\")","v":""},{"$f":"IF('liste engagés'!$G54=12,'liste engagés'!K54,\"\")","v":""},{"$f":"IF('liste engagés'!$G54=12,'liste engagés'!L54,\"\")","v":""},0]
[54,{"$f":"IF('liste engagés'!$G55=12,'liste engagés'!A55,\"\")","v":""},{"$f":"IF('liste engagés'!$G55=12,'liste engagés'!B55,\"\")","v":""},{"$f":"IF('liste engagés'!$G55=12,'liste engagés'!C55,\"\")","v":""},{"$f":"IF('liste engagés'!$G55=12,'liste engagés'!D55,\"\")","v":""},{"$f":"IF('liste engagés'!$G55=12,'liste engagés'!E55,\"\")","v":""},{"$f":"IF('liste engagés'!$G55=12,'liste engagés'!K55,\"\")","v":""},{"$f":"IF('liste engagés'!$G55=12,'liste engagés'!L55,\"\")","v":""},0]
[55,{"$f":"IF('liste engagés'!$G56=12,'liste engagés'!A56,\"\")","v":""},{"$f":"IF('liste engagés'!$G56=12,'liste engagés'!B56,\"\")","v":""},{"$f":"IF('liste engagés'!$G56=12,'liste engagés'!C56,\"\")","v":""},{"$f":"IF('liste engagés'!$G56=12,'liste engagés'!D56,\"\")","v":""},{"$f":"IF('liste engagés'!$G56=12,'liste engagés'!E56,\"\")","v":""},{"$f":"IF('liste engagés'!$G56=12,'liste engagés'!K56,\"\")","v":""},{"$f":"IF('liste engagés'!$G56=12,'liste engagés'!L56,\"\")","v":""},0]
[56,{"$f":"IF('liste engagés'!$G57=12,'liste engagés'!A57,\"\")","v":""},{"$f":"IF('liste engagés'!$G57=12,'liste engagés'!B57,\"\")","v":""},{"$f":"IF('liste engagés'!$G57=12,'liste engagés'!C57,\"\")","v":""},{"$f":"IF('liste engagés'!$G57=12,'liste engagés'!D57,\"\")","v":""},{"$f":"IF('liste engagés'!$G57=12,'liste engagés'!E57,\"\")","v":""},{"$f":"IF('liste engagés'!$G57=12,'liste engagés'!K57,\"\")","v":""},{"$f":"IF('liste engagés'!$G57=12,'liste engagés'!L57,\"\")","v":""},0]
[57,{"$f":"IF('liste engagés'!$G58=12,'liste engagés'!A58,\"\")","v":""},{"$f":"IF('liste engagés'!$G58=12,'liste engagés'!B58,\"\")","v":""},{"$f":"IF('liste engagés'!$G58=12,'liste engagés'!C58,\"\")","v":""},{"$f":"IF('liste engagés'!$G58=12,'liste engagés'!D58,\"\")","v":""},{"$f":"IF('liste engagés'!$G58=12,'liste engagés'!E58,\"\")","v":""},{"$f":"IF('liste engagés'!$G58=12,'liste engagés'!K58,\"\")","v":""},{"$f":"IF('liste engagés'!$G58=12,'liste engagés'!L58,\"\")","v":""},0]
[58,{"$f":"IF('liste engagés'!$G59=12,'liste engagés'!A59,\"\")","v":""},{"$f":"IF('liste engagés'!$G59=12,'liste engagés'!B59,\"\")","v":""},{"$f":"IF('liste engagés'!$G59=12,'liste engagés'!C59,\"\")","v":""},{"$f":"IF('liste engagés'!$G59=12,'liste engagés'!D59,\"\")","v":""},{"$f":"IF('liste engagés'!$G59=12,'liste engagés'!E59,\"\")","v":""},{"$f":"IF('liste engagés'!$G59=12,'liste engagés'!K59,\"\")","v":""},{"$f":"IF('liste engagés'!$G59=12,'liste engagés'!L59,\"\")","v":""},0]
[59,{"$f":"IF('liste engagés'!$G61=12,'liste engagés'!A61,\"\")","v":""},{"$f":"IF('liste engagés'!$G61=12,'liste engagés'!B61,\"\")","v":""},{"$f":"IF('liste engagés'!$G61=12,'liste engagés'!C61,\"\")","v":""},{"$f":"IF('liste engagés'!$G61=12,'liste engagés'!D61,\"\")","v":""},{"$f":"IF('liste engagés'!$G61=12,'liste engagés'!E61,\"\")","v":""},{"$f":"IF('liste engagés'!$G61=12,'liste engagés'!K61,\"\")","v":""},{"$f":"IF('liste engagés'!$G61=12,'liste engagés'!L61,\"\")","v":""},0]
[60,{"$f":"IF('liste engagés'!$G62=12,'liste engagés'!A62,\"\")","v":""},{"$f":"IF('liste engagés'!$G62=12,'liste engagés'!B62,\"\")","v":""},{"$f":"IF('liste engagés'!$G62=12,'liste engagés'!C62,\"\")","v":""},{"$f":"IF('liste engagés'!$G62=12,'liste engagés'!D62,\"\")","v":""},{"$f":"IF('liste engagés'!$G62=12,'liste engagés'!E62,\"\")","v":""},{"$f":"IF('liste engagés'!$G62=12,'liste engagés'!K62,\"\")","v":""},{"$f":"IF('liste engagés'!$G62=12,'liste engagés'!L62,\"\")","v":""},0]
[61,{"$f":"IF('liste engagés'!$G63=12,'liste engagés'!A63,\"\")","v":""},{"$f":"IF('liste engagés'!$G63=12,'liste engagés'!B63,\"\")","v":""},{"$f":"IF('liste engagés'!$G63=12,'liste engagés'!C63,\"\")","v":""},{"$f":"IF('liste engagés'!$G63=12,'liste engagés'!D63,\"\")","v":""},{"$f":"IF('liste engagés'!$G63=12,'liste engagés'!E63,\"\")","v":""},{"$f":"IF('liste engagés'!$G63=12,'liste engagés'!K63,\"\")","v":""},{"$f":"IF('liste engagés'!$G63=12,'liste engagés'!L63,\"\")","v":""},0]
[62,{"$f":"IF('liste engagés'!$G64=12,'liste engagés'!A64,\"\")","v":""},{"$f":"IF('liste engagés'!$G64=12,'liste engagés'!B64,\"\")","v":""},{"$f":"IF('liste engagés'!$G64=12,'liste engagés'!C64,\"\")","v":""},{"$f":"IF('liste engagés'!$G64=12,'liste engagés'!D64,\"\")","v":""},{"$f":"IF('liste engagés'!$G64=12,'liste engagés'!E64,\"\")","v":""},{"$f":"IF('liste engagés'!$G64=12,'liste engagés'!K64,\"\")","v":""},{"$f":"IF('liste engagés'!$G64=12,'liste engagés'!L64,\"\")","v":""},0]
[63,{"$f":"IF('liste engagés'!$G65=12,'liste engagés'!A65,\"\")","v":""},{"$f":"IF('liste engagés'!$G65=12,'liste engagés'!B65,\"\")","v":""},{"$f":"IF('liste engagés'!$G65=12,'liste engagés'!C65,\"\")","v":""},{"$f":"IF('liste engagés'!$G65=12,'liste engagés'!D65,\"\")","v":""},{"$f":"IF('liste engagés'!$G65=12,'liste engagés'!E65,\"\")","v":""},{"$f":"IF('liste engagés'!$G65=12,'liste engagés'!K65,\"\")","v":""},{"$f":"IF('liste engagés'!$G65=12,'liste engagés'!L65,\"\")","v":""},0]
[64,{"$f":"IF('liste engagés'!$G66=12,'liste engagés'!A66,\"\")","v":""},{"$f":"IF('liste engagés'!$G66=12,'liste engagés'!B66,\"\")","v":""},{"$f":"IF('liste engagés'!$G66=12,'liste engagés'!C66,\"\")","v":""},{"$f":"IF('liste engagés'!$G66=12,'liste engagés'!D66,\"\")","v":""},{"$f":"IF('liste engagés'!$G66=12,'liste engagés'!E66,\"\")","v":""},{"$f":"IF('liste engagés'!$G66=12,'liste engagés'!K66,\"\")","v":""},{"$f":"IF('liste engagés'!$G66=12,'liste engagés'!L66,\"\")","v":""},0]
[65,{"$f":"IF('liste engagés'!$G67=12,'liste engagés'!A67,\"\")","v":""},{"$f":"IF('liste engagés'!$G67=12,'liste engagés'!B67,\"\")","v":""},{"$f":"IF('liste engagés'!$G67=12,'liste engagés'!C67,\"\")","v":""},{"$f":"IF('liste engagés'!$G67=12,'liste engagés'!D67,\"\")","v":""},{"$f":"IF('liste engagés'!$G67=12,'liste engagés'!E67,\"\")","v":""},{"$f":"IF('liste engagés'!$G67=12,'liste engagés'!K67,\"\")","v":""},{"$f":"IF('liste engagés'!$G67=12,'liste engagés'!L67,\"\")","v":""},{"$f":"+IF(C71=\"\",0,1)","v":0}]
[{"$f":"+A71+1","v":66},{"$f":"IF('liste engagés'!$G68=12,'liste engagés'!A68,\"\")","v":""},{"$f":"IF('liste engagés'!$G68=12,'liste engagés'!B68,\"\")","v":""},{"$f":"IF('liste engagés'!$G68=12,'liste engagés'!C68,\"\")","v":""},{"$f":"IF('liste engagés'!$G68=12,'liste engagés'!D68,\"\")","v":""},{"$f":"IF('liste engagés'!$G68=12,'liste engagés'!E68,\"\")","v":""},{"$f":"IF('liste engagés'!$G68=12,'liste engagés'!K68,\"\")","v":""},{"$f":"IF('liste engagés'!$G68=12,'liste engagés'!L68,\"\")","v":""},0]
[67,{"$f":"IF('liste engagés'!$G69=12,'liste engagés'!A69,\"\")","v":""},{"$f":"IF('liste engagés'!$G69=12,'liste engagés'!B69,\"\")","v":""},{"$f":"IF('liste engagés'!$G69=12,'liste engagés'!C69,\"\")","v":""},{"$f":"IF('liste engagés'!$G69=12,'liste engagés'!D69,\"\")","v":""},{"$f":"IF('liste engagés'!$G69=12,'liste engagés'!E69,\"\")","v":""},{"$f":"IF('liste engagés'!$G69=12,'liste engagés'!K69,\"\")","v":""},{"$f":"IF('liste engagés'!$G69=12,'liste engagés'!L69,\"\")","v":""},0]
[68,{"$f":"IF('liste engagés'!$G70=12,'liste engagés'!A70,\"\")","v":""},{"$f":"IF('liste engagés'!$G70=12,'liste engagés'!B70,\"\")","v":""},{"$f":"IF('liste engagés'!$G70=12,'liste engagés'!C70,\"\")","v":""},{"$f":"IF('liste engagés'!$G70=12,'liste engagés'!D70,\"\")","v":""},{"$f":"IF('liste engagés'!$G70=12,'liste engagés'!E70,\"\")","v":""},{"$f":"IF('liste engagés'!$G70=12,'liste engagés'!K70,\"\")","v":""},{"$f":"IF('liste engagés'!$G70=12,'liste engagés'!L70,\"\")","v":""},0]
[69,{"$f":"IF('liste engagés'!$G71=12,'liste engagés'!A71,\"\")","v":""},{"$f":"IF('liste engagés'!$G71=12,'liste engagés'!B71,\"\")","v":""},{"$f":"IF('liste engagés'!$G71=12,'liste engagés'!C71,\"\")","v":""},{"$f":"IF('liste engagés'!$G71=12,'liste engagés'!D71,\"\")","v":""},{"$f":"IF('liste engagés'!$G71=12,'liste engagés'!E71,\"\")","v":""},{"$f":"IF('liste engagés'!$G71=12,'liste engagés'!K71,\"\")","v":""},{"$f":"IF('liste engagés'!$G71=12,'liste engagés'!L71,\"\")","v":""},0]
[70,{"$f":"IF('liste engagés'!$G72=12,'liste engagés'!A72,\"\")","v":""},{"$f":"IF('liste engagés'!$G72=12,'liste engagés'!B72,\"\")","v":""},{"$f":"IF('liste engagés'!$G72=12,'liste engagés'!C72,\"\")","v":""},{"$f":"IF('liste engagés'!$G72=12,'liste engagés'!D72,\"\")","v":""},{"$f":"IF('liste engagés'!$G72=12,'liste engagés'!E72,\"\")","v":""},{"$f":"IF('liste engagés'!$G72=12,'liste engagés'!K72,\"\")","v":""},{"$f":"IF('liste engagés'!$G72=12,'liste engagés'!L72,\"\")","v":""},0]
[71,{"$f":"IF('liste engagés'!$G73=12,'liste engagés'!A73,\"\")","v":""},{"$f":"IF('liste engagés'!$G73=12,'liste engagés'!B73,\"\")","v":""},{"$f":"IF('liste engagés'!$G73=12,'liste engagés'!C73,\"\")","v":""},{"$f":"IF('liste engagés'!$G73=12,'liste engagés'!D73,\"\")","v":""},{"$f":"IF('liste engagés'!$G73=12,'liste engagés'!E73,\"\")","v":""},{"$f":"IF('liste engagés'!$G73=12,'liste engagés'!K73,\"\")","v":""},{"$f":"IF('liste engagés'!$G73=12,'liste engagés'!L73,\"\")","v":""},0]
[72,{"$f":"IF('liste engagés'!$G74=12,'liste engagés'!A74,\"\")","v":""},{"$f":"IF('liste engagés'!$G74=12,'liste engagés'!B74,\"\")","v":""},{"$f":"IF('liste engagés'!$G74=12,'liste engagés'!C74,\"\")","v":""},{"$f":"IF('liste engagés'!$G74=12,'liste engagés'!D74,\"\")","v":""},{"$f":"IF('liste engagés'!$G74=12,'liste engagés'!E74,\"\")","v":""},{"$f":"IF('liste engagés'!$G74=12,'liste engagés'!K74,\"\")","v":""},{"$f":"IF('liste engagés'!$G74=12,'liste engagés'!L74,\"\")","v":""},0]
[73,{"$f":"IF('liste engagés'!$G75=12,'liste engagés'!A75,\"\")","v":""},{"$f":"IF('liste engagés'!$G75=12,'liste engagés'!B75,\"\")","v":""},{"$f":"IF('liste engagés'!$G75=12,'liste engagés'!C75,\"\")","v":""},{"$f":"IF('liste engagés'!$G75=12,'liste engagés'!D75,\"\")","v":""},{"$f":"IF('liste engagés'!$G75=12,'liste engagés'!E75,\"\")","v":""},{"$f":"IF('liste engagés'!$G75=12,'liste engagés'!K75,\"\")","v":""},{"$f":"IF('liste engagés'!$G75=12,'liste engagés'!L75,\"\")","v":""},0]
[74,{"$f":"IF('liste engagés'!$G76=12,'liste engagés'!A76,\"\")","v":""},{"$f":"IF('liste engagés'!$G76=12,'liste engagés'!B76,\"\")","v":""},{"$f":"IF('liste engagés'!$G76=12,'liste engagés'!C76,\"\")","v":""},{"$f":"IF('liste engagés'!$G76=12,'liste engagés'!D76,\"\")","v":""},{"$f":"IF('liste engagés'!$G76=12,'liste engagés'!E76,\"\")","v":""},{"$f":"IF('liste engagés'!$G76=12,'liste engagés'!K76,\"\")","v":""},{"$f":"IF('liste engagés'!$G76=12,'liste engagés'!L76,\"\")","v":""},0]
[75,{"$f":"IF('liste engagés'!$G77=12,'liste engagés'!A77,\"\")","v":""},{"$f":"IF('liste engagés'!$G77=12,'liste engagés'!B77,\"\")","v":""},{"$f":"IF('liste engagés'!$G77=12,'liste engagés'!C77,\"\")","v":""},{"$f":"IF('liste engagés'!$G77=12,'liste engagés'!D77,\"\")","v":""},{"$f":"IF('liste engagés'!$G77=12,'liste engagés'!E77,\"\")","v":""},{"$f":"IF('liste engagés'!$G77=12,'liste engagés'!K77,\"\")","v":""},{"$f":"IF('liste engagés'!$G77=12,'liste engagés'!L77,\"\")","v":""},0]
[76,{"$f":"IF('liste engagés'!$G78=12,'liste engagés'!A78,\"\")","v":""},{"$f":"IF('liste engagés'!$G78=12,'liste engagés'!B78,\"\")","v":""},{"$f":"IF('liste engagés'!$G78=12,'liste engagés'!C78,\"\")","v":""},{"$f":"IF('liste engagés'!$G78=12,'liste engagés'!D78,\"\")","v":""},{"$f":"IF('liste engagés'!$G78=12,'liste engagés'!E78,\"\")","v":""},{"$f":"IF('liste engagés'!$G78=12,'liste engagés'!K78,\"\")","v":""},{"$f":"IF('liste engagés'!$G78=12,'liste engagés'!L78,\"\")","v":""},0]
[77,{"$f":"IF('liste engagés'!$G79=12,'liste engagés'!A79,\"\")","v":""},{"$f":"IF('liste engagés'!$G79=12,'liste engagés'!B79,\"\")","v":""},{"$f":"IF('liste engagés'!$G79=12,'liste engagés'!C79,\"\")","v":""},{"$f":"IF('liste engagés'!$G79=12,'liste engagés'!D79,\"\")","v":""},{"$f":"IF('liste engagés'!$G79=12,'liste engagés'!E79,\"\")","v":""},{"$f":"IF('liste engagés'!$G79=12,'liste engagés'!K79,\"\")","v":""},{"$f":"IF('liste engagés'!$G79=12,'liste engagés'!L79,\"\")","v":""},0]
[78,{"$f":"IF('liste engagés'!$G80=12,'liste engagés'!A80,\"\")","v":""},{"$f":"IF('liste engagés'!$G80=12,'liste engagés'!B80,\"\")","v":""},{"$f":"IF('liste engagés'!$G80=12,'liste engagés'!C80,\"\")","v":""},{"$f":"IF('liste engagés'!$G80=12,'liste engagés'!D80,\"\")","v":""},{"$f":"IF('liste engagés'!$G80=12,'liste engagés'!E80,\"\")","v":""},{"$f":"IF('liste engagés'!$G80=12,'liste engagés'!K80,\"\")","v":""},{"$f":"IF('liste engagés'!$G80=12,'liste engagés'!L80,\"\")","v":""},0]
[79,{"$f":"IF('liste engagés'!$G81=12,'liste engagés'!A81,\"\")","v":""},{"$f":"IF('liste engagés'!$G81=12,'liste engagés'!B81,\"\")","v":""},{"$f":"IF('liste engagés'!$G81=12,'liste engagés'!C81,\"\")","v":""},{"$f":"IF('liste engagés'!$G81=12,'liste engagés'!D81,\"\")","v":""},{"$f":"IF('liste engagés'!$G81=12,'liste engagés'!E81,\"\")","v":""},{"$f":"IF('liste engagés'!$G81=12,'liste engagés'!K81,\"\")","v":""},{"$f":"IF('liste engagés'!$G81=12,'liste engagés'!L81,\"\")","v":""},0]
[80,{"$f":"IF('liste engagés'!$G82=12,'liste engagés'!A82,\"\")","v":""},{"$f":"IF('liste engagés'!$G82=12,'liste engagés'!B82,\"\")","v":""},{"$f":"IF('liste engagés'!$G82=12,'liste engagés'!C82,\"\")","v":""},{"$f":"IF('liste engagés'!$G82=12,'liste engagés'!D82,\"\")","v":""},{"$f":"IF('liste engagés'!$G82=12,'liste engagés'!E82,\"\")","v":""},{"$f":"IF('liste engagés'!$G82=12,'liste engagés'!K82,\"\")","v":""},{"$f":"IF('liste engagés'!$G82=12,'liste engagés'!L82,\"\")","v":""},0]
[81,{"$f":"IF('liste engagés'!$G83=12,'liste engagés'!A83,\"\")","v":""},{"$f":"IF('liste engagés'!$G83=12,'liste engagés'!B83,\"\")","v":""},{"$f":"IF('liste engagés'!$G83=12,'liste engagés'!C83,\"\")","v":""},{"$f":"IF('liste engagés'!$G83=12,'liste engagés'!D83,\"\")","v":""},{"$f":"IF('liste engagés'!$G83=12,'liste engagés'!E83,\"\")","v":""},{"$f":"IF('liste engagés'!$G83=12,'liste engagés'!K83,\"\")","v":""},{"$f":"IF('liste engagés'!$G83=12,'liste engagés'!L83,\"\")","v":""},0]
[82,{"$f":"IF('liste engagés'!$G84=12,'liste engagés'!A84,\"\")","v":""},{"$f":"IF('liste engagés'!$G84=12,'liste engagés'!B84,\"\")","v":""},{"$f":"IF('liste engagés'!$G84=12,'liste engagés'!C84,\"\")","v":""},{"$f":"IF('liste engagés'!$G84=12,'liste engagés'!D84,\"\")","v":""},{"$f":"IF('liste engagés'!$G84=12,'liste engagés'!E84,\"\")","v":""},{"$f":"IF('liste engagés'!$G84=12,'liste engagés'!K84,\"\")","v":""},{"$f":"IF('liste engagés'!$G84=12,'liste engagés'!L84,\"\")","v":""},0]
[83,{"$f":"IF('liste engagés'!$G85=12,'liste engagés'!A85,\"\")","v":""},{"$f":"IF('liste engagés'!$G85=12,'liste engagés'!B85,\"\")","v":""},{"$f":"IF('liste engagés'!$G85=12,'liste engagés'!C85,\"\")","v":""},{"$f":"IF('liste engagés'!$G85=12,'liste engagés'!D85,\"\")","v":""},{"$f":"IF('liste engagés'!$G85=12,'liste engagés'!E85,\"\")","v":""},{"$f":"IF('liste engagés'!$G85=12,'liste engagés'!K85,\"\")","v":""},{"$f":"IF('liste engagés'!$G85=12,'liste engagés'!L85,\"\")","v":""},0]
[84,{"$f":"IF('liste engagés'!$G86=12,'liste engagés'!A86,\"\")","v":""},{"$f":"IF('liste engagés'!$G86=12,'liste engagés'!B86,\"\")","v":""},{"$f":"IF('liste engagés'!$G86=12,'liste engagés'!C86,\"\")","v":""},{"$f":"IF('liste engagés'!$G86=12,'liste engagés'!D86,\"\")","v":""},{"$f":"IF('liste engagés'!$G86=12,'liste engagés'!E86,\"\")","v":""},{"$f":"IF('liste engagés'!$G86=12,'liste engagés'!K86,\"\")","v":""},{"$f":"IF('liste engagés'!$G86=12,'liste engagés'!L86,\"\")","v":""},0]
[85,{"$f":"IF('liste engagés'!$G87=12,'liste engagés'!A87,\"\")","v":""},{"$f":"IF('liste engagés'!$G87=12,'liste engagés'!B87,\"\")","v":""},{"$f":"IF('liste engagés'!$G87=12,'liste engagés'!C87,\"\")","v":""},{"$f":"IF('liste engagés'!$G87=12,'liste engagés'!D87,\"\")","v":""},{"$f":"IF('liste engagés'!$G87=12,'liste engagés'!E87,\"\")","v":""},{"$f":"IF('liste engagés'!$G87=12,'liste engagés'!K87,\"\")","v":""},{"$f":"IF('liste engagés'!$G87=12,'liste engagés'!L87,\"\")","v":""},0]
[86,{"$f":"IF('liste engagés'!$G88=12,'liste engagés'!A88,\"\")","v":""},{"$f":"IF('liste engagés'!$G88=12,'liste engagés'!B88,\"\")","v":""},{"$f":"IF('liste engagés'!$G88=12,'liste engagés'!C88,\"\")","v":""},{"$f":"IF('liste engagés'!$G88=12,'liste engagés'!D88,\"\")","v":""},{"$f":"IF('liste engagés'!$G88=12,'liste engagés'!E88,\"\")","v":""},{"$f":"IF('liste engagés'!$G88=12,'liste engagés'!K88,\"\")","v":""},{"$f":"IF('liste engagés'!$G88=12,'liste engagés'!L88,\"\")","v":""},0]
[87,{"$f":"IF('liste engagés'!$G89=12,'liste engagés'!A89,\"\")","v":""},{"$f":"IF('liste engagés'!$G89=12,'liste engagés'!B89,\"\")","v":""},{"$f":"IF('liste engagés'!$G89=12,'liste engagés'!C89,\"\")","v":""},{"$f":"IF('liste engagés'!$G89=12,'liste engagés'!D89,\"\")","v":""},{"$f":"IF('liste engagés'!$G89=12,'liste engagés'!E89,\"\")","v":""},{"$f":"IF('liste engagés'!$G89=12,'liste engagés'!K89,\"\")","v":""},{"$f":"IF('liste engagés'!$G89=12,'liste engagés'!L89,\"\")","v":""},0]
[88,{"$f":"IF('liste engagés'!$G90=12,'liste engagés'!A90,\"\")","v":""},{"$f":"IF('liste engagés'!$G90=12,'liste engagés'!B90,\"\")","v":""},{"$f":"IF('liste engagés'!$G90=12,'liste engagés'!C90,\"\")","v":""},{"$f":"IF('liste engagés'!$G90=12,'liste engagés'!D90,\"\")","v":""},{"$f":"IF('liste engagés'!$G90=12,'liste engagés'!E90,\"\")","v":""},{"$f":"IF('liste engagés'!$G90=12,'liste engagés'!K90,\"\")","v":""},{"$f":"IF('liste engagés'!$G90=12,'liste engagés'!L90,\"\")","v":""},0]
[89,{"$f":"IF('liste engagés'!$G91=12,'liste engagés'!A91,\"\")","v":""},{"$f":"IF('liste engagés'!$G91=12,'liste engagés'!B91,\"\")","v":""},{"$f":"IF('liste engagés'!$G91=12,'liste engagés'!C91,\"\")","v":""},{"$f":"IF('liste engagés'!$G91=12,'liste engagés'!D91,\"\")","v":""},{"$f":"IF('liste engagés'!$G91=12,'liste engagés'!E91,\"\")","v":""},{"$f":"IF('liste engagés'!$G91=12,'liste engagés'!K91,\"\")","v":""},{"$f":"IF('liste engagés'!$G91=12,'liste engagés'!L91,\"\")","v":""},0]
[90,{"$f":"IF('liste engagés'!$G92=12,'liste engagés'!A92,\"\")","v":""},{"$f":"IF('liste engagés'!$G92=12,'liste engagés'!B92,\"\")","v":""},{"$f":"IF('liste engagés'!$G92=12,'liste engagés'!C92,\"\")","v":""},{"$f":"IF('liste engagés'!$G92=12,'liste engagés'!D92,\"\")","v":""},{"$f":"IF('liste engagés'!$G92=12,'liste engagés'!E92,\"\")","v":""},{"$f":"IF('liste engagés'!$G92=12,'liste engagés'!K92,\"\")","v":""},{"$f":"IF('liste engagés'!$G92=12,'liste engagés'!L92,\"\")","v":""},0]
[91,{"$f":"IF('liste engagés'!$G93=12,'liste engagés'!A93,\"\")","v":""},{"$f":"IF('liste engagés'!$G93=12,'liste engagés'!B93,\"\")","v":""},{"$f":"IF('liste engagés'!$G93=12,'liste engagés'!C93,\"\")","v":""},{"$f":"IF('liste engagés'!$G93=12,'liste engagés'!D93,\"\")","v":""},{"$f":"IF('liste engagés'!$G93=12,'liste engagés'!E93,\"\")","v":""},{"$f":"IF('liste engagés'!$G93=12,'liste engagés'!K93,\"\")","v":""},{"$f":"IF('liste engagés'!$G93=12,'liste engagés'!L93,\"\")","v":""},0]
[92,{"$f":"IF('liste engagés'!$G94=12,'liste engagés'!A94,\"\")","v":""},{"$f":"IF('liste engagés'!$G94=12,'liste engagés'!B94,\"\")","v":""},{"$f":"IF('liste engagés'!$G94=12,'liste engagés'!C94,\"\")","v":""},{"$f":"IF('liste engagés'!$G94=12,'liste engagés'!D94,\"\")","v":""},{"$f":"IF('liste engagés'!$G94=12,'liste engagés'!E94,\"\")","v":""},{"$f":"IF('liste engagés'!$G94=12,'liste engagés'!K94,\"\")","v":""},{"$f":"IF('liste engagés'!$G94=12,'liste engagés'!L94,\"\")","v":""},0]
[93,{"$f":"IF('liste engagés'!$G95=12,'liste engagés'!A95,\"\")","v":""},{"$f":"IF('liste engagés'!$G95=12,'liste engagés'!B95,\"\")","v":""},{"$f":"IF('liste engagés'!$G95=12,'liste engagés'!C95,\"\")","v":""},{"$f":"IF('liste engagés'!$G95=12,'liste engagés'!D95,\"\")","v":""},{"$f":"IF('liste engagés'!$G95=12,'liste engagés'!E95,\"\")","v":""},{"$f":"IF('liste engagés'!$G95=12,'liste engagés'!K95,\"\")","v":""},{"$f":"IF('liste engagés'!$G95=12,'liste engagés'!L95,\"\")","v":""},0]
[94,{"$f":"IF('liste engagés'!$G96=12,'liste engagés'!A96,\"\")","v":""},{"$f":"IF('liste engagés'!$G96=12,'liste engagés'!B96,\"\")","v":""},{"$f":"IF('liste engagés'!$G96=12,'liste engagés'!C96,\"\")","v":""},{"$f":"IF('liste engagés'!$G96=12,'liste engagés'!D96,\"\")","v":""},{"$f":"IF('liste engagés'!$G96=12,'liste engagés'!E96,\"\")","v":""},{"$f":"IF('liste engagés'!$G96=12,'liste engagés'!K96,\"\")","v":""},{"$f":"IF('liste engagés'!$G96=12,'liste engagés'!L96,\"\")","v":""},0]
[95,{"$f":"IF('liste engagés'!$G97=12,'liste engagés'!A97,\"\")","v":""},{"$f":"IF('liste engagés'!$G97=12,'liste engagés'!B97,\"\")","v":""},{"$f":"IF('liste engagés'!$G97=12,'liste engagés'!C97,\"\")","v":""},{"$f":"IF('liste engagés'!$G97=12,'liste engagés'!D97,\"\")","v":""},{"$f":"IF('liste engagés'!$G97=12,'liste engagés'!E97,\"\")","v":""},{"$f":"IF('liste engagés'!$G97=12,'liste engagés'!K97,\"\")","v":""},{"$f":"IF('liste engagés'!$G97=12,'liste engagés'!L97,\"\")","v":""},0]
[96,{"$f":"IF('liste engagés'!$G98=12,'liste engagés'!A98,\"\")","v":""},{"$f":"IF('liste engagés'!$G98=12,'liste engagés'!B98,\"\")","v":""},{"$f":"IF('liste engagés'!$G98=12,'liste engagés'!C98,\"\")","v":""},{"$f":"IF('liste engagés'!$G98=12,'liste engagés'!D98,\"\")","v":""},{"$f":"IF('liste engagés'!$G98=12,'liste engagés'!E98,\"\")","v":""},{"$f":"IF('liste engagés'!$G98=12,'liste engagés'!K98,\"\")","v":""},{"$f":"IF('liste engagés'!$G98=12,'liste engagés'!L98,\"\")","v":""},0]
[97,{"$f":"IF('liste engagés'!$G99=12,'liste engagés'!A99,\"\")","v":""},{"$f":"IF('liste engagés'!$G99=12,'liste engagés'!B99,\"\")","v":""},{"$f":"IF('liste engagés'!$G99=12,'liste engagés'!C99,\"\")","v":""},{"$f":"IF('liste engagés'!$G99=12,'liste engagés'!D99,\"\")","v":""},{"$f":"IF('liste engagés'!$G99=12,'liste engagés'!E99,\"\")","v":""},{"$f":"IF('liste engagés'!$G99=12,'liste engagés'!K99,\"\")","v":""},{"$f":"IF('liste engagés'!$G99=12,'liste engagés'!L99,\"\")","v":""},0]
[98,{"$f":"IF('liste engagés'!$G100=12,'liste engagés'!A100,\"\")","v":""},{"$f":"IF('liste engagés'!$G100=12,'liste engagés'!B100,\"\")","v":""},{"$f":"IF('liste engagés'!$G100=12,'liste engagés'!C100,\"\")","v":""},{"$f":"IF('liste engagés'!$G100=12,'liste engagés'!D100,\"\")","v":""},{"$f":"IF('liste engagés'!$G100=12,'liste engagés'!E100,\"\")","v":""},{"$f":"IF('liste engagés'!$G100=12,'liste engagés'!K100,\"\")","v":""},{"$f":"IF('liste engagés'!$G100=12,'liste engagés'!L100,\"\")","v":""},0]
[99,{"$f":"IF('liste engagés'!$G101=12,'liste engagés'!A101,\"\")","v":""},{"$f":"IF('liste engagés'!$G101=12,'liste engagés'!B101,\"\")","v":""},{"$f":"IF('liste engagés'!$G101=12,'liste engagés'!C101,\"\")","v":""},{"$f":"IF('liste engagés'!$G101=12,'liste engagés'!D101,\"\")","v":""},{"$f":"IF('liste engagés'!$G101=12,'liste engagés'!E101,\"\")","v":""},{"$f":"IF('liste engagés'!$G101=12,'liste engagés'!K101,\"\")","v":""},{"$f":"IF('liste engagés'!$G101=12,'liste engagés'!L101,\"\")","v":""},0]
[100,{"$f":"IF('liste engagés'!$G102=12,'liste engagés'!A102,\"\")","v":""},{"$f":"IF('liste engagés'!$G102=12,'liste engagés'!B102,\"\")","v":""},{"$f":"IF('liste engagés'!$G102=12,'liste engagés'!C102,\"\")","v":""},{"$f":"IF('liste engagés'!$G102=12,'liste engagés'!D102,\"\")","v":""},{"$f":"IF('liste engagés'!$G102=12,'liste engagés'!E102,\"\")","v":""},{"$f":"IF('liste engagés'!$G102=12,'liste engagés'!K102,\"\")","v":""},{"$f":"IF('liste engagés'!$G102=12,'liste engagés'!L102,\"\")","v":""},0]
[101,{"$f":"IF('liste engagés'!$G103=12,'liste engagés'!A103,\"\")","v":""},{"$f":"IF('liste engagés'!$G103=12,'liste engagés'!B103,\"\")","v":""},{"$f":"IF('liste engagés'!$G103=12,'liste engagés'!C103,\"\")","v":""},{"$f":"IF('liste engagés'!$G103=12,'liste engagés'!D103,\"\")","v":""},{"$f":"IF('liste engagés'!$G103=12,'liste engagés'!E103,\"\")","v":""},{"$f":"IF('liste engagés'!$G103=12,'liste engagés'!K103,\"\")","v":""},{"$f":"IF('liste engagés'!$G103=12,'liste engagés'!L103,\"\")","v":""},0]
[102,{"$f":"IF('liste engagés'!$G104=12,'liste engagés'!A104,\"\")","v":""},{"$f":"IF('liste engagés'!$G104=12,'liste engagés'!B104,\"\")","v":""},{"$f":"IF('liste engagés'!$G104=12,'liste engagés'!C104,\"\")","v":""},{"$f":"IF('liste engagés'!$G104=12,'liste engagés'!D104,\"\")","v":""},{"$f":"IF('liste engagés'!$G104=12,'liste engagés'!E104,\"\")","v":""},{"$f":"IF('liste engagés'!$G104=12,'liste engagés'!K104,\"\")","v":""},{"$f":"IF('liste engagés'!$G104=12,'liste engagés'!L104,\"\")","v":""},0]
[103,{"$f":"IF('liste engagés'!$G105=12,'liste engagés'!A105,\"\")","v":""},{"$f":"IF('liste engagés'!$G105=12,'liste engagés'!B105,\"\")","v":""},{"$f":"IF('liste engagés'!$G105=12,'liste engagés'!C105,\"\")","v":""},{"$f":"IF('liste engagés'!$G105=12,'liste engagés'!D105,\"\")","v":""},{"$f":"IF('liste engagés'!$G105=12,'liste engagés'!E105,\"\")","v":""},{"$f":"IF('liste engagés'!$G105=12,'liste engagés'!K105,\"\")","v":""},{"$f":"IF('liste engagés'!$G105=12,'liste engagés'!L105,\"\")","v":""},0]
[104,{"$f":"IF('liste engagés'!$G106=12,'liste engagés'!A106,\"\")","v":""},{"$f":"IF('liste engagés'!$G106=12,'liste engagés'!B106,\"\")","v":""},{"$f":"IF('liste engagés'!$G106=12,'liste engagés'!C106,\"\")","v":""},{"$f":"IF('liste engagés'!$G106=12,'liste engagés'!D106,\"\")","v":""},{"$f":"IF('liste engagés'!$G106=12,'liste engagés'!E106,\"\")","v":""},{"$f":"IF('liste engagés'!$G106=12,'liste engagés'!K106,\"\")","v":""},{"$f":"IF('liste engagés'!$G106=12,'liste engagés'!L106,\"\")","v":""},0]
[105,{"$f":"IF('liste engagés'!$G108=12,'liste engagés'!A108,\"\")","v":""},{"$f":"IF('liste engagés'!$G108=12,'liste engagés'!B108,\"\")","v":""},{"$f":"IF('liste engagés'!$G108=12,'liste engagés'!C108,\"\")","v":""},{"$f":"IF('liste engagés'!$G108=12,'liste engagés'!D108,\"\")","v":""},{"$f":"IF('liste engagés'!$G108=12,'liste engagés'!E108,\"\")","v":""},{"$f":"IF('liste engagés'!$G108=12,'liste engagés'!K108,\"\")","v":""},{"$f":"IF('liste engagés'!$G108=12,'liste engagés'!L108,\"\")","v":""},0]
[106,{"$f":"IF('liste engagés'!$G109=12,'liste engagés'!A109,\"\")","v":""},{"$f":"IF('liste engagés'!$G109=12,'liste engagés'!B109,\"\")","v":""},{"$f":"IF('liste engagés'!$G109=12,'liste engagés'!C109,\"\")","v":""},{"$f":"IF('liste engagés'!$G109=12,'liste engagés'!D109,\"\")","v":""},{"$f":"IF('liste engagés'!$G109=12,'liste engagés'!E109,\"\")","v":""},{"$f":"IF('liste engagés'!$G109=12,'liste engagés'!K109,\"\")","v":""},{"$f":"IF('liste engagés'!$G109=12,'liste engagés'!L109,\"\")","v":""},0]
[107,{"$f":"IF('liste engagés'!$G110=12,'liste engagés'!A110,\"\")","v":""},{"$f":"IF('liste engagés'!$G110=12,'liste engagés'!B110,\"\")","v":""},{"$f":"IF('liste engagés'!$G110=12,'liste engagés'!C110,\"\")","v":""},{"$f":"IF('liste engagés'!$G110=12,'liste engagés'!D110,\"\")","v":""},{"$f":"IF('liste engagés'!$G110=12,'liste engagés'!E110,\"\")","v":""},{"$f":"IF('liste engagés'!$G110=12,'liste engagés'!K110,\"\")","v":""},{"$f":"IF('liste engagés'!$G110=12,'liste engagés'!L110,\"\")","v":""},0]
[108,{"$f":"IF('liste engagés'!$G111=12,'liste engagés'!A111,\"\")","v":""},{"$f":"IF('liste engagés'!$G111=12,'liste engagés'!B111,\"\")","v":""},{"$f":"IF('liste engagés'!$G111=12,'liste engagés'!C111,\"\")","v":""},{"$f":"IF('liste engagés'!$G111=12,'liste engagés'!D111,\"\")","v":""},{"$f":"IF('liste engagés'!$G111=12,'liste engagés'!E111,\"\")","v":""},{"$f":"IF('liste engagés'!$G111=12,'liste engagés'!K111,\"\")","v":""},{"$f":"IF('liste engagés'!$G111=12,'liste engagés'!L111,\"\")","v":""},0]
[109,{"$f":"IF('liste engagés'!$G112=12,'liste engagés'!A112,\"\")","v":""},{"$f":"IF('liste engagés'!$G112=12,'liste engagés'!B112,\"\")","v":""},{"$f":"IF('liste engagés'!$G112=12,'liste engagés'!C112,\"\")","v":""},{"$f":"IF('liste engagés'!$G112=12,'liste engagés'!D112,\"\")","v":""},{"$f":"IF('liste engagés'!$G112=12,'liste engagés'!E112,\"\")","v":""},{"$f":"IF('liste engagés'!$G112=12,'liste engagés'!K112,\"\")","v":""},{"$f":"IF('liste engagés'!$G112=12,'liste engagés'!L112,\"\")","v":""},0]
[110,{"$f":"IF('liste engagés'!$G113=12,'liste engagés'!A113,\"\")","v":""},{"$f":"IF('liste engagés'!$G113=12,'liste engagés'!B113,\"\")","v":""},{"$f":"IF('liste engagés'!$G113=12,'liste engagés'!C113,\"\")","v":""},{"$f":"IF('liste engagés'!$G113=12,'liste engagés'!D113,\"\")","v":""},{"$f":"IF('liste engagés'!$G113=12,'liste engagés'!E113,\"\")","v":""},{"$f":"IF('liste engagés'!$G113=12,'liste engagés'!K113,\"\")","v":""},{"$f":"IF('liste engagés'!$G113=12,'liste engagés'!L113,\"\")","v":""},0]
[111,{"$f":"IF('liste engagés'!$G114=12,'liste engagés'!A114,\"\")","v":""},{"$f":"IF('liste engagés'!$G114=12,'liste engagés'!B114,\"\")","v":""},{"$f":"IF('liste engagés'!$G114=12,'liste engagés'!C114,\"\")","v":""},{"$f":"IF('liste engagés'!$G114=12,'liste engagés'!D114,\"\")","v":""},{"$f":"IF('liste engagés'!$G114=12,'liste engagés'!E114,\"\")","v":""},{"$f":"IF('liste engagés'!$G114=12,'liste engagés'!K114,\"\")","v":""},{"$f":"IF('liste engagés'!$G114=12,'liste engagés'!L114,\"\")","v":""},0]
[112,{"$f":"IF('liste engagés'!$G115=12,'liste engagés'!A115,\"\")","v":""},{"$f":"IF('liste engagés'!$G115=12,'liste engagés'!B115,\"\")","v":""},{"$f":"IF('liste engagés'!$G115=12,'liste engagés'!C115,\"\")","v":""},{"$f":"IF('liste engagés'!$G115=12,'liste engagés'!D115,\"\")","v":""},{"$f":"IF('liste engagés'!$G115=12,'liste engagés'!E115,\"\")","v":""},{"$f":"IF('liste engagés'!$G115=12,'liste engagés'!K115,\"\")","v":""},{"$f":"IF('liste engagés'!$G115=12,'liste engagés'!L115,\"\")","v":""},0]
[113,{"$f":"IF('liste engagés'!$G116=12,'liste engagés'!A116,\"\")","v":""},{"$f":"IF('liste engagés'!$G116=12,'liste engagés'!B116,\"\")","v":""},{"$f":"IF('liste engagés'!$G116=12,'liste engagés'!C116,\"\")","v":""},{"$f":"IF('liste engagés'!$G116=12,'liste engagés'!D116,\"\")","v":""},{"$f":"IF('liste engagés'!$G116=12,'liste engagés'!E116,\"\")","v":""},{"$f":"IF('liste engagés'!$G116=12,'liste engagés'!K116,\"\")","v":""},{"$f":"IF('liste engagés'!$G116=12,'liste engagés'!L116,\"\")","v":""},0]
[114,{"$f":"IF('liste engagés'!$G117=12,'liste engagés'!A117,\"\")","v":""},{"$f":"IF('liste engagés'!$G117=12,'liste engagés'!B117,\"\")","v":""},{"$f":"IF('liste engagés'!$G117=12,'liste engagés'!C117,\"\")","v":""},{"$f":"IF('liste engagés'!$G117=12,'liste engagés'!D117,\"\")","v":""},{"$f":"IF('liste engagés'!$G117=12,'liste engagés'!E117,\"\")","v":""},{"$f":"IF('liste engagés'!$G117=12,'liste engagés'!K117,\"\")","v":""},{"$f":"IF('liste engagés'!$G117=12,'liste engagés'!L117,\"\")","v":""},0]
[115,{"$f":"IF('liste engagés'!$G118=12,'liste engagés'!A118,\"\")","v":""},{"$f":"IF('liste engagés'!$G118=12,'liste engagés'!B118,\"\")","v":""},{"$f":"IF('liste engagés'!$G118=12,'liste engagés'!C118,\"\")","v":""},{"$f":"IF('liste engagés'!$G118=12,'liste engagés'!D118,\"\")","v":""},{"$f":"IF('liste engagés'!$G118=12,'liste engagés'!E118,\"\")","v":""},{"$f":"IF('liste engagés'!$G118=12,'liste engagés'!K118,\"\")","v":""},{"$f":"IF('liste engagés'!$G118=12,'liste engagés'!L118,\"\")","v":""},0]
[116,{"$f":"IF('liste engagés'!$G119=12,'liste engagés'!A119,\"\")","v":""},{"$f":"IF('liste engagés'!$G119=12,'liste engagés'!B119,\"\")","v":""},{"$f":"IF('liste engagés'!$G119=12,'liste engagés'!C119,\"\")","v":""},{"$f":"IF('liste engagés'!$G119=12,'liste engagés'!D119,\"\")","v":""},{"$f":"IF('liste engagés'!$G119=12,'liste engagés'!E119,\"\")","v":""},{"$f":"IF('liste engagés'!$G119=12,'liste engagés'!K119,\"\")","v":""},{"$f":"IF('liste engagés'!$G119=12,'liste engagés'!L119,\"\")","v":""},0]
[117,{"$f":"IF('liste engagés'!$G120=12,'liste engagés'!A120,\"\")","v":""},{"$f":"IF('liste engagés'!$G120=12,'liste engagés'!B120,\"\")","v":""},{"$f":"IF('liste engagés'!$G120=12,'liste engagés'!C120,\"\")","v":""},{"$f":"IF('liste engagés'!$G120=12,'liste engagés'!D120,\"\")","v":""},{"$f":"IF('liste engagés'!$G120=12,'liste engagés'!E120,\"\")","v":""},{"$f":"IF('liste engagés'!$G120=12,'liste engagés'!K120,\"\")","v":""},{"$f":"IF('liste engagés'!$G120=12,'liste engagés'!L120,\"\")","v":""},0]
[118,{"$f":"IF('liste engagés'!$G121=12,'liste engagés'!A121,\"\")","v":""},{"$f":"IF('liste engagés'!$G121=12,'liste engagés'!B121,\"\")","v":""},{"$f":"IF('liste engagés'!$G121=12,'liste engagés'!C121,\"\")","v":""},{"$f":"IF('liste engagés'!$G121=12,'liste engagés'!D121,\"\")","v":""},{"$f":"IF('liste engagés'!$G121=12,'liste engagés'!E121,\"\")","v":""},{"$f":"IF('liste engagés'!$G121=12,'liste engagés'!K121,\"\")","v":""},{"$f":"IF('liste engagés'!$G121=12,'liste engagés'!L121,\"\")","v":""},0]
[119,{"$f":"IF('liste engagés'!$G122=12,'liste engagés'!A122,\"\")","v":""},{"$f":"IF('liste engagés'!$G122=12,'liste engagés'!B122,\"\")","v":""},{"$f":"IF('liste engagés'!$G122=12,'liste engagés'!C122,\"\")","v":""},{"$f":"IF('liste engagés'!$G122=12,'liste engagés'!D122,\"\")","v":""},{"$f":"IF('liste engagés'!$G122=12,'liste engagés'!E122,\"\")","v":""},{"$f":"IF('liste engagés'!$G122=12,'liste engagés'!K122,\"\")","v":""},{"$f":"IF('liste engagés'!$G122=12,'liste engagés'!L122,\"\")","v":""},0]
[120,{"$f":"IF('liste engagés'!$G124=12,'liste engagés'!A124,\"\")","v":""},{"$f":"IF('liste engagés'!$G124=12,'liste engagés'!B124,\"\")","v":""},{"$f":"IF('liste engagés'!$G124=12,'liste engagés'!C124,\"\")","v":""},{"$f":"IF('liste engagés'!$G124=12,'liste engagés'!D124,\"\")","v":""},{"$f":"IF('liste engagés'!$G124=12,'liste engagés'!E124,\"\")","v":""},{"$f":"IF('liste engagés'!$G124=12,'liste engagés'!K124,\"\")","v":""},{"$f":"IF('liste engagés'!$G124=12,'liste engagés'!L124,\"\")","v":""},0]
[121,{"$f":"IF('liste engagés'!$G125=12,'liste engagés'!A125,\"\")","v":""},{"$f":"IF('liste engagés'!$G125=12,'liste engagés'!B125,\"\")","v":""},{"$f":"IF('liste engagés'!$G125=12,'liste engagés'!C125,\"\")","v":""},{"$f":"IF('liste engagés'!$G125=12,'liste engagés'!D125,\"\")","v":""},{"$f":"IF('liste engagés'!$G125=12,'liste engagés'!E125,\"\")","v":""},{"$f":"IF('liste engagés'!$G125=12,'liste engagés'!K125,\"\")","v":""},{"$f":"IF('liste engagés'!$G125=12,'liste engagés'!L125,\"\")","v":""},0]
[122,{"$f":"IF('liste engagés'!$G126=12,'liste engagés'!A126,\"\")","v":""},{"$f":"IF('liste engagés'!$G126=12,'liste engagés'!B126,\"\")","v":""},{"$f":"IF('liste engagés'!$G126=12,'liste engagés'!C126,\"\")","v":""},{"$f":"IF('liste engagés'!$G126=12,'liste engagés'!D126,\"\")","v":""},{"$f":"IF('liste engagés'!$G126=12,'liste engagés'!E126,\"\")","v":""},{"$f":"IF('liste engagés'!$G126=12,'liste engagés'!K126,\"\")","v":""},{"$f":"IF('liste engagés'!$G126=12,'liste engagés'!L126,\"\")","v":""},0]
[123,{"$f":"IF('liste engagés'!$G127=12,'liste engagés'!A127,\"\")","v":""},{"$f":"IF('liste engagés'!$G127=12,'liste engagés'!B127,\"\")","v":""},{"$f":"IF('liste engagés'!$G127=12,'liste engagés'!C127,\"\")","v":""},{"$f":"IF('liste engagés'!$G127=12,'liste engagés'!D127,\"\")","v":""},{"$f":"IF('liste engagés'!$G127=12,'liste engagés'!E127,\"\")","v":""},{"$f":"IF('liste engagés'!$G127=12,'liste engagés'!K127,\"\")","v":""},{"$f":"IF('liste engagés'!$G127=12,'liste engagés'!L127,\"\")","v":""},0]
[124,{"$f":"IF('liste engagés'!$G128=12,'liste engagés'!A128,\"\")","v":""},{"$f":"IF('liste engagés'!$G128=12,'liste engagés'!B128,\"\")","v":""},{"$f":"IF('liste engagés'!$G128=12,'liste engagés'!C128,\"\")","v":""},{"$f":"IF('liste engagés'!$G128=12,'liste engagés'!D128,\"\")","v":""},{"$f":"IF('liste engagés'!$G128=12,'liste engagés'!E128,\"\")","v":""},{"$f":"IF('liste engagés'!$G128=12,'liste engagés'!K128,\"\")","v":""},{"$f":"IF('liste engagés'!$G128=12,'liste engagés'!L128,\"\")","v":""},0]
[125,{"$f":"IF('liste engagés'!$G129=12,'liste engagés'!A129,\"\")","v":""},{"$f":"IF('liste engagés'!$G129=12,'liste engagés'!B129,\"\")","v":""},{"$f":"IF('liste engagés'!$G129=12,'liste engagés'!C129,\"\")","v":""},{"$f":"IF('liste engagés'!$G129=12,'liste engagés'!D129,\"\")","v":""},{"$f":"IF('liste engagés'!$G129=12,'liste engagés'!E129,\"\")","v":""},{"$f":"IF('liste engagés'!$G129=12,'liste engagés'!K129,\"\")","v":""},{"$f":"IF('liste engagés'!$G129=12,'liste engagés'!L129,\"\")","v":""},0]
[126,{"$f":"IF('liste engagés'!$G130=12,'liste engagés'!A130,\"\")","v":""},{"$f":"IF('liste engagés'!$G130=12,'liste engagés'!B130,\"\")","v":""},{"$f":"IF('liste engagés'!$G130=12,'liste engagés'!C130,\"\")","v":""},{"$f":"IF('liste engagés'!$G130=12,'liste engagés'!D130,\"\")","v":""},{"$f":"IF('liste engagés'!$G130=12,'liste engagés'!E130,\"\")","v":""},{"$f":"IF('liste engagés'!$G130=12,'liste engagés'!K130,\"\")","v":""},{"$f":"IF('liste engagés'!$G130=12,'liste engagés'!L130,\"\")","v":""},0]
[127,{"$f":"IF('liste engagés'!$G131=12,'liste engagés'!A131,\"\")","v":""},{"$f":"IF('liste engagés'!$G131=12,'liste engagés'!B131,\"\")","v":""},{"$f":"IF('liste engagés'!$G131=12,'liste engagés'!C131,\"\")","v":""},{"$f":"IF('liste engagés'!$G131=12,'liste engagés'!D131,\"\")","v":""},{"$f":"IF('liste engagés'!$G131=12,'liste engagés'!E131,\"\")","v":""},{"$f":"IF('liste engagés'!$G131=12,'liste engagés'!K131,\"\")","v":""},{"$f":"IF('liste engagés'!$G131=12,'liste engagés'!L131,\"\")","v":""},0]
[128,{"$f":"IF('liste engagés'!$G132=12,'liste engagés'!A132,\"\")","v":""},{"$f":"IF('liste engagés'!$G132=12,'liste engagés'!B132,\"\")","v":""},{"$f":"IF('liste engagés'!$G132=12,'liste engagés'!C132,\"\")","v":""},{"$f":"IF('liste engagés'!$G132=12,'liste engagés'!D132,\"\")","v":""},{"$f":"IF('liste engagés'!$G132=12,'liste engagés'!E132,\"\")","v":""},{"$f":"IF('liste engagés'!$G132=12,'liste engagés'!K132,\"\")","v":""},{"$f":"IF('liste engagés'!$G132=12,'liste engagés'!L132,\"\")","v":""},0]
[129,{"$f":"IF('liste engagés'!$G133=12,'liste engagés'!A133,\"\")","v":""},{"$f":"IF('liste engagés'!$G133=12,'liste engagés'!B133,\"\")","v":""},{"$f":"IF('liste engagés'!$G133=12,'liste engagés'!C133,\"\")","v":""},{"$f":"IF('liste engagés'!$G133=12,'liste engagés'!D133,\"\")","v":""},{"$f":"IF('liste engagés'!$G133=12,'liste engagés'!E133,\"\")","v":""},{"$f":"IF('liste engagés'!$G133=12,'liste engagés'!K133,\"\")","v":""},{"$f":"IF('liste engagés'!$G133=12,'liste engagés'!L133,\"\")","v":""},{"$f":"+IF(C135=\"\",0,1)","v":0}]
[{"$f":"+A135+1","v":130},{"$f":"IF('liste engagés'!$G134=12,'liste engagés'!A134,\"\")","v":""},{"$f":"IF('liste engagés'!$G134=12,'liste engagés'!B134,\"\")","v":""},{"$f":"IF('liste engagés'!$G134=12,'liste engagés'!C134,\"\")","v":""},{"$f":"IF('liste engagés'!$G134=12,'liste engagés'!D134,\"\")","v":""},{"$f":"IF('liste engagés'!$G134=12,'liste engagés'!E134,\"\")","v":""},{"$f":"IF('liste engagés'!$G134=12,'liste engagés'!K134,\"\")","v":""},{"$f":"IF('liste engagés'!$G134=12,'liste engagés'!L134,\"\")","v":""},0]
[131,{"$f":"IF('liste engagés'!$G136=12,'liste engagés'!A136,\"\")","v":""},{"$f":"IF('liste engagés'!$G136=12,'liste engagés'!B136,\"\")","v":""},{"$f":"IF('liste engagés'!$G136=12,'liste engagés'!C136,\"\")","v":""},{"$f":"IF('liste engagés'!$G136=12,'liste engagés'!D136,\"\")","v":""},{"$f":"IF('liste engagés'!$G136=12,'liste engagés'!E136,\"\")","v":""},{"$f":"IF('liste engagés'!$G136=12,'liste engagés'!K136,\"\")","v":""},{"$f":"IF('liste engagés'!$G136=12,'liste engagés'!L136,\"\")","v":""},0]
[132,{"$f":"IF('liste engagés'!$G137=12,'liste engagés'!A137,\"\")","v":""},{"$f":"IF('liste engagés'!$G137=12,'liste engagés'!B137,\"\")","v":""},{"$f":"IF('liste engagés'!$G137=12,'liste engagés'!C137,\"\")","v":""},{"$f":"IF('liste engagés'!$G137=12,'liste engagés'!D137,\"\")","v":""},{"$f":"IF('liste engagés'!$G137=12,'liste engagés'!E137,\"\")","v":""},{"$f":"IF('liste engagés'!$G137=12,'liste engagés'!K137,\"\")","v":""},{"$f":"IF('liste engagés'!$G137=12,'liste engagés'!L137,\"\")","v":""},0]
[133,{"$f":"IF('liste engagés'!$G138=12,'liste engagés'!A138,\"\")","v":""},{"$f":"IF('liste engagés'!$G138=12,'liste engagés'!B138,\"\")","v":""},{"$f":"IF('liste engagés'!$G138=12,'liste engagés'!C138,\"\")","v":""},{"$f":"IF('liste engagés'!$G138=12,'liste engagés'!D138,\"\")","v":""},{"$f":"IF('liste engagés'!$G138=12,'liste engagés'!E138,\"\")","v":""},{"$f":"IF('liste engagés'!$G138=12,'liste engagés'!K138,\"\")","v":""},{"$f":"IF('liste engagés'!$G138=12,'liste engagés'!L138,\"\")","v":""},0]
[134,{"$f":"IF('liste engagés'!$G139=12,'liste engagés'!A139,\"\")","v":""},{"$f":"IF('liste engagés'!$G139=12,'liste engagés'!B139,\"\")","v":""},{"$f":"IF('liste engagés'!$G139=12,'liste engagés'!C139,\"\")","v":""},{"$f":"IF('liste engagés'!$G139=12,'liste engagés'!D139,\"\")","v":""},{"$f":"IF('liste engagés'!$G139=12,'liste engagés'!E139,\"\")","v":""},{"$f":"IF('liste engagés'!$G139=12,'liste engagés'!K139,\"\")","v":""},{"$f":"IF('liste engagés'!$G139=12,'liste engagés'!L139,\"\")","v":""},0]
[135,{"$f":"IF('liste engagés'!$G140=12,'liste engagés'!A140,\"\")","v":""},{"$f":"IF('liste engagés'!$G140=12,'liste engagés'!B140,\"\")","v":""},{"$f":"IF('liste engagés'!$G140=12,'liste engagés'!C140,\"\")","v":""},{"$f":"IF('liste engagés'!$G140=12,'liste engagés'!D140,\"\")","v":""},{"$f":"IF('liste engagés'!$G140=12,'liste engagés'!E140,\"\")","v":""},{"$f":"IF('liste engagés'!$G140=12,'liste engagés'!K140,\"\")","v":""},{"$f":"IF('liste engagés'!$G140=12,'liste engagés'!L140,\"\")","v":""},0]
[136,{"$f":"IF('liste engagés'!$G141=12,'liste engagés'!A141,\"\")","v":""},{"$f":"IF('liste engagés'!$G141=12,'liste engagés'!B141,\"\")","v":""},{"$f":"IF('liste engagés'!$G141=12,'liste engagés'!C141,\"\")","v":""},{"$f":"IF('liste engagés'!$G141=12,'liste engagés'!D141,\"\")","v":""},{"$f":"IF('liste engagés'!$G141=12,'liste engagés'!E141,\"\")","v":""},{"$f":"IF('liste engagés'!$G141=12,'liste engagés'!K141,\"\")","v":""},{"$f":"IF('liste engagés'!$G141=12,'liste engagés'!L141,\"\")","v":""},0]
[137,{"$f":"IF('liste engagés'!$G142=12,'liste engagés'!A142,\"\")","v":""},{"$f":"IF('liste engagés'!$G142=12,'liste engagés'!B142,\"\")","v":""},{"$f":"IF('liste engagés'!$G142=12,'liste engagés'!C142,\"\")","v":""},{"$f":"IF('liste engagés'!$G142=12,'liste engagés'!D142,\"\")","v":""},{"$f":"IF('liste engagés'!$G142=12,'liste engagés'!E142,\"\")","v":""},{"$f":"IF('liste engagés'!$G142=12,'liste engagés'!K142,\"\")","v":""},{"$f":"IF('liste engagés'!$G142=12,'liste engagés'!L142,\"\")","v":""},0]
[138,{"$f":"IF('liste engagés'!$G143=12,'liste engagés'!A143,\"\")","v":""},{"$f":"IF('liste engagés'!$G143=12,'liste engagés'!B143,\"\")","v":""},{"$f":"IF('liste engagés'!$G143=12,'liste engagés'!C143,\"\")","v":""},{"$f":"IF('liste engagés'!$G143=12,'liste engagés'!D143,\"\")","v":""},{"$f":"IF('liste engagés'!$G143=12,'liste engagés'!E143,\"\")","v":""},{"$f":"IF('liste engagés'!$G143=12,'liste engagés'!K143,\"\")","v":""},{"$f":"IF('liste engagés'!$G143=12,'liste engagés'!L143,\"\")","v":""},0]
[139,{"$f":"IF('liste engagés'!$G144=12,'liste engagés'!A144,\"\")","v":""},{"$f":"IF('liste engagés'!$G144=12,'liste engagés'!B144,\"\")","v":""},{"$f":"IF('liste engagés'!$G144=12,'liste engagés'!C144,\"\")","v":""},{"$f":"IF('liste engagés'!$G144=12,'liste engagés'!D144,\"\")","v":""},{"$f":"IF('liste engagés'!$G144=12,'liste engagés'!E144,\"\")","v":""},{"$f":"IF('liste engagés'!$G144=12,'liste engagés'!K144,\"\")","v":""},{"$f":"IF('liste engagés'!$G144=12,'liste engagés'!L144,\"\")","v":""},0]
[140,{"$f":"IF('liste engagés'!$G145=12,'liste engagés'!A145,\"\")","v":""},{"$f":"IF('liste engagés'!$G145=12,'liste engagés'!B145,\"\")","v":""},{"$f":"IF('liste engagés'!$G145=12,'liste engagés'!#REF!,\"\")","v":""},{"$f":"IF('liste engagés'!$G145=12,'liste engagés'!D145,\"\")","v":""},{"$f":"IF('liste engagés'!$G145=12,'liste engagés'!E145,\"\")","v":""},{"$f":"IF('liste engagés'!$G145=12,'liste engagés'!K145,\"\")","v":""},{"$f":"IF('liste engagés'!$G145=12,'liste engagés'!L145,\"\")","v":""},0]
[141,{"$f":"IF('liste engagés'!$G146=12,'liste engagés'!A146,\"\")","v":""},{"$f":"IF('liste engagés'!$G146=12,'liste engagés'!B146,\"\")","v":""},{"$f":"IF('liste engagés'!$G146=12,'liste engagés'!C145,\"\")","v":""},{"$f":"IF('liste engagés'!$G146=12,'liste engagés'!D146,\"\")","v":""},{"$f":"IF('liste engagés'!$G146=12,'liste engagés'!E146,\"\")","v":""},{"$f":"IF('liste engagés'!$G146=12,'liste engagés'!K146,\"\")","v":""},{"$f":"IF('liste engagés'!$G146=12,'liste engagés'!L146,\"\")","v":""},0]
[142,{"$f":"IF('liste engagés'!$G147=12,'liste engagés'!A147,\"\")","v":""},{"$f":"IF('liste engagés'!$G147=12,'liste engagés'!B147,\"\")","v":""},{"$f":"IF('liste engagés'!$G147=12,'liste engagés'!C147,\"\")","v":""},{"$f":"IF('liste engagés'!$G147=12,'liste engagés'!D147,\"\")","v":""},{"$f":"IF('liste engagés'!$G147=12,'liste engagés'!E147,\"\")","v":""},{"$f":"IF('liste engagés'!$G147=12,'liste engagés'!K147,\"\")","v":""},{"$f":"IF('liste engagés'!$G147=12,'liste engagés'!L147,\"\")","v":""},0]
[143,{"$f":"IF('liste engagés'!$G148=12,'liste engagés'!A148,\"\")","v":""},{"$f":"IF('liste engagés'!$G148=12,'liste engagés'!B148,\"\")","v":""},{"$f":"IF('liste engagés'!$G148=12,'liste engagés'!C148,\"\")","v":""},{"$f":"IF('liste engagés'!$G148=12,'liste engagés'!D148,\"\")","v":""},{"$f":"IF('liste engagés'!$G148=12,'liste engagés'!E148,\"\")","v":""},{"$f":"IF('liste engagés'!$G148=12,'liste engagés'!K148,\"\")","v":""},{"$f":"IF('liste engagés'!$G148=12,'liste engagés'!L148,\"\")","v":""},0]
[144,{"$f":"IF('liste engagés'!$G149=12,'liste engagés'!A149,\"\")","v":""},{"$f":"IF('liste engagés'!$G149=12,'liste engagés'!B149,\"\")","v":""},{"$f":"IF('liste engagés'!$G149=12,'liste engagés'!C149,\"\")","v":""},{"$f":"IF('liste engagés'!$G149=12,'liste engagés'!D149,\"\")","v":""},{"$f":"IF('liste engagés'!$G149=12,'liste engagés'!E149,\"\")","v":""},{"$f":"IF('liste engagés'!$G149=12,'liste engagés'!K149,\"\")","v":""},{"$f":"IF('liste engagés'!$G149=12,'liste engagés'!L149,\"\")","v":""},0]
[145,{"$f":"IF('liste engagés'!$G150=12,'liste engagés'!A150,\"\")","v":""},{"$f":"IF('liste engagés'!$G150=12,'liste engagés'!B150,\"\")","v":""},{"$f":"IF('liste engagés'!$G150=12,'liste engagés'!C150,\"\")","v":""},{"$f":"IF('liste engagés'!$G150=12,'liste engagés'!D150,\"\")","v":""},{"$f":"IF('liste engagés'!$G150=12,'liste engagés'!E150,\"\")","v":""},{"$f":"IF('liste engagés'!$G150=12,'liste engagés'!K150,\"\")","v":""},{"$f":"IF('liste engagés'!$G150=12,'liste engagés'!L150,\"\")","v":""},0]
[146,{"$f":"IF('liste engagés'!$G151=12,'liste engagés'!A151,\"\")","v":""},{"$f":"IF('liste engagés'!$G151=12,'liste engagés'!B151,\"\")","v":""},{"$f":"IF('liste engagés'!$G151=12,'liste engagés'!C151,\"\")","v":""},{"$f":"IF('liste engagés'!$G151=12,'liste engagés'!D151,\"\")","v":""},{"$f":"IF('liste engagés'!$G151=12,'liste engagés'!E151,\"\")","v":""},{"$f":"IF('liste engagés'!$G151=12,'liste engagés'!K151,\"\")","v":""},{"$f":"IF('liste engagés'!$G151=12,'liste engagés'!L151,\"\")","v":""},0]
[147,{"$f":"IF('liste engagés'!$G152=12,'liste engagés'!A152,\"\")","v":""},{"$f":"IF('liste engagés'!$G152=12,'liste engagés'!B152,\"\")","v":""},{"$f":"IF('liste engagés'!$G152=12,'liste engagés'!C152,\"\")","v":""},{"$f":"IF('liste engagés'!$G152=12,'liste engagés'!D152,\"\")","v":""},{"$f":"IF('liste engagés'!$G152=12,'liste engagés'!E152,\"\")","v":""},{"$f":"IF('liste engagés'!$G152=12,'liste engagés'!K152,\"\")","v":""},{"$f":"IF('liste engagés'!$G152=12,'liste engagés'!L152,\"\")","v":""},0]
[148,{"$f":"IF('liste engagés'!$G153=12,'liste engagés'!A153,\"\")","v":""},{"$f":"IF('liste engagés'!$G153=12,'liste engagés'!B153,\"\")","v":""},{"$f":"IF('liste engagés'!$G153=12,'liste engagés'!C153,\"\")","v":""},{"$f":"IF('liste engagés'!$G153=12,'liste engagés'!D153,\"\")","v":""},{"$f":"IF('liste engagés'!$G153=12,'liste engagés'!E153,\"\")","v":""},{"$f":"IF('liste engagés'!$G153=12,'liste engagés'!K153,\"\")","v":""},{"$f":"IF('liste engagés'!$G153=12,'liste engagés'!L153,\"\")","v":""},0]
[149,{"$f":"IF('liste engagés'!$G154=12,'liste engagés'!A154,\"\")","v":""},{"$f":"IF('liste engagés'!$G154=12,'liste engagés'!B154,\"\")","v":""},{"$f":"IF('liste engagés'!$G154=12,'liste engagés'!C154,\"\")","v":""},{"$f":"IF('liste engagés'!$G154=12,'liste engagés'!D154,\"\")","v":""},{"$f":"IF('liste engagés'!$G154=12,'liste engagés'!E154,\"\")","v":""},{"$f":"IF('liste engagés'!$G154=12,'liste engagés'!K154,\"\")","v":""},{"$f":"IF('liste engagés'!$G154=12,'liste engagés'!L154,\"\")","v":""},0]
[150,{"$f":"IF('liste engagés'!$G155=12,'liste engagés'!A155,\"\")","v":""},{"$f":"IF('liste engagés'!$G155=12,'liste engagés'!B155,\"\")","v":""},{"$f":"IF('liste engagés'!$G155=12,'liste engagés'!C155,\"\")","v":""},{"$f":"IF('liste engagés'!$G155=12,'liste engagés'!D155,\"\")","v":""},{"$f":"IF('liste engagés'!$G155=12,'liste engagés'!E155,\"\")","v":""},{"$f":"IF('liste engagés'!$G155=12,'liste engagés'!K155,\"\")","v":""},{"$f":"IF('liste engagés'!$G155=12,'liste engagés'!L155,\"\")","v":""},0]
[151,{"$f":"IF('liste engagés'!$G156=12,'liste engagés'!A156,\"\")","v":""},{"$f":"IF('liste engagés'!$G156=12,'liste engagés'!B156,\"\")","v":""},{"$f":"IF('liste engagés'!$G156=12,'liste engagés'!C156,\"\")","v":""},{"$f":"IF('liste engagés'!$G156=12,'liste engagés'!D156,\"\")","v":""},{"$f":"IF('liste engagés'!$G156=12,'liste engagés'!E156,\"\")","v":""},{"$f":"IF('liste engagés'!$G156=12,'liste engagés'!K156,\"\")","v":""},{"$f":"IF('liste engagés'!$G156=12,'liste engagés'!L156,\"\")","v":""},0]
[152,{"$f":"IF('liste engagés'!$G157=12,'liste engagés'!A157,\"\")","v":""},{"$f":"IF('liste engagés'!$G157=12,'liste engagés'!B157,\"\")","v":""},{"$f":"IF('liste engagés'!$G157=12,'liste engagés'!C157,\"\")","v":""},{"$f":"IF('liste engagés'!$G157=12,'liste engagés'!D157,\"\")","v":""},{"$f":"IF('liste engagés'!$G157=12,'liste engagés'!E157,\"\")","v":""},{"$f":"IF('liste engagés'!$G157=12,'liste engagés'!K157,\"\")","v":""},{"$f":"IF('liste engagés'!$G157=12,'liste engagés'!L157,\"\")","v":""},0]
[153,{"$f":"IF('liste engagés'!$G158=12,'liste engagés'!A158,\"\")","v":""},{"$f":"IF('liste engagés'!$G158=12,'liste engagés'!B158,\"\")","v":""},{"$f":"IF('liste engagés'!$G158=12,'liste engagés'!C158,\"\")","v":""},{"$f":"IF('liste engagés'!$G158=12,'liste engagés'!D158,\"\")","v":""},{"$f":"IF('liste engagés'!$G158=12,'liste engagés'!E158,\"\")","v":""},{"$f":"IF('liste engagés'!$G158=12,'liste engagés'!K158,\"\")","v":""},{"$f":"IF('liste engagés'!$G158=12,'liste engagés'!L158,\"\")","v":""},0]
[154,{"$f":"IF('liste engagés'!$G159=12,'liste engagés'!A159,\"\")","v":""},{"$f":"IF('liste engagés'!$G159=12,'liste engagés'!B159,\"\")","v":""},{"$f":"IF('liste engagés'!$G159=12,'liste engagés'!C159,\"\")","v":""},{"$f":"IF('liste engagés'!$G159=12,'liste engagés'!D159,\"\")","v":""},{"$f":"IF('liste engagés'!$G159=12,'liste engagés'!E159,\"\")","v":""},{"$f":"IF('liste engagés'!$G159=12,'liste engagés'!K159,\"\")","v":""},{"$f":"IF('liste engagés'!$G159=12,'liste engagés'!L159,\"\")","v":""},0]
[155,{"$f":"IF('liste engagés'!$G160=12,'liste engagés'!A160,\"\")","v":""},{"$f":"IF('liste engagés'!$G160=12,'liste engagés'!B160,\"\")","v":""},{"$f":"IF('liste engagés'!$G160=12,'liste engagés'!C160,\"\")","v":""},{"$f":"IF('liste engagés'!$G160=12,'liste engagés'!D160,\"\")","v":""},{"$f":"IF('liste engagés'!$G160=12,'liste engagés'!E160,\"\")","v":""},{"$f":"IF('liste engagés'!$G160=12,'liste engagés'!K160,\"\")","v":""},{"$f":"IF('liste engagés'!$G160=12,'liste engagés'!L160,\"\")","v":""},0]
[156,{"$f":"IF('liste engagés'!$G161=12,'liste engagés'!A161,\"\")","v":""},{"$f":"IF('liste engagés'!$G161=12,'liste engagés'!B161,\"\")","v":""},{"$f":"IF('liste engagés'!$G161=12,'liste engagés'!C161,\"\")","v":""},{"$f":"IF('liste engagés'!$G161=12,'liste engagés'!D161,\"\")","v":""},{"$f":"IF('liste engagés'!$G161=12,'liste engagés'!E161,\"\")","v":""},{"$f":"IF('liste engagés'!$G161=12,'liste engagés'!K161,\"\")","v":""},{"$f":"IF('liste engagés'!$G161=12,'liste engagés'!L161,\"\")","v":""},0]
[157,{"$f":"IF('liste engagés'!$G162=12,'liste engagés'!A162,\"\")","v":""},{"$f":"IF('liste engagés'!$G162=12,'liste engagés'!B162,\"\")","v":""},{"$f":"IF('liste engagés'!$G162=12,'liste engagés'!C162,\"\")","v":""},{"$f":"IF('liste engagés'!$G162=12,'liste engagés'!D162,\"\")","v":""},{"$f":"IF('liste engagés'!$G162=12,'liste engagés'!E162,\"\")","v":""},{"$f":"IF('liste engagés'!$G162=12,'liste engagés'!K162,\"\")","v":""},{"$f":"IF('liste engagés'!$G162=12,'liste engagés'!L162,\"\")","v":""},0]
[158,{"$f":"IF('liste engagés'!$G163=12,'liste engagés'!A163,\"\")","v":""},{"$f":"IF('liste engagés'!$G163=12,'liste engagés'!B163,\"\")","v":""},{"$f":"IF('liste engagés'!$G163=12,'liste engagés'!C163,\"\")","v":""},{"$f":"IF('liste engagés'!$G163=12,'liste engagés'!D163,\"\")","v":""},{"$f":"IF('liste engagés'!$G163=12,'liste engagés'!E163,\"\")","v":""},{"$f":"IF('liste engagés'!$G163=12,'liste engagés'!K163,\"\")","v":""},{"$f":"IF('liste engagés'!$G163=12,'liste engagés'!L163,\"\")","v":""},0]
[159,{"$f":"IF('liste engagés'!$G164=12,'liste engagés'!A164,\"\")","v":""},{"$f":"IF('liste engagés'!$G164=12,'liste engagés'!B164,\"\")","v":""},{"$f":"IF('liste engagés'!$G164=12,'liste engagés'!C164,\"\")","v":""},{"$f":"IF('liste engagés'!$G164=12,'liste engagés'!D164,\"\")","v":""},{"$f":"IF('liste engagés'!$G164=12,'liste engagés'!E164,\"\")","v":""},{"$f":"IF('liste engagés'!$G164=12,'liste engagés'!K164,\"\")","v":""},{"$f":"IF('liste engagés'!$G164=12,'liste engagés'!L164,\"\")","v":""},0]
[160,{"$f":"IF('liste engagés'!$G165=12,'liste engagés'!A165,\"\")","v":""},{"$f":"IF('liste engagés'!$G165=12,'liste engagés'!B165,\"\")","v":""},{"$f":"IF('liste engagés'!$G165=12,'liste engagés'!C165,\"\")","v":""},{"$f":"IF('liste engagés'!$G165=12,'liste engagés'!D165,\"\")","v":""},{"$f":"IF('liste engagés'!$G165=12,'liste engagés'!E165,\"\")","v":""},{"$f":"IF('liste engagés'!$G165=12,'liste engagés'!K165,\"\")","v":""},{"$f":"IF('liste engagés'!$G165=12,'liste engagés'!L165,\"\")","v":""},0]
[161,{"$f":"IF('liste engagés'!$G166=12,'liste engagés'!A166,\"\")","v":""},{"$f":"IF('liste engagés'!$G166=12,'liste engagés'!B166,\"\")","v":""},{"$f":"IF('liste engagés'!$G166=12,'liste engagés'!C166,\"\")","v":""},{"$f":"IF('liste engagés'!$G166=12,'liste engagés'!D166,\"\")","v":""},{"$f":"IF('liste engagés'!$G166=12,'liste engagés'!E166,\"\")","v":""},{"$f":"IF('liste engagés'!$G166=12,'liste engagés'!K166,\"\")","v":""},{"$f":"IF('liste engagés'!$G166=12,'liste engagés'!L166,\"\")","v":""},0]
[162,{"$f":"IF('liste engagés'!$G167=12,'liste engagés'!A167,\"\")","v":""},{"$f":"IF('liste engagés'!$G167=12,'liste engagés'!B167,\"\")","v":""},{"$f":"IF('liste engagés'!$G167=12,'liste engagés'!C167,\"\")","v":""},{"$f":"IF('liste engagés'!$G167=12,'liste engagés'!D167,\"\")","v":""},{"$f":"IF('liste engagés'!$G167=12,'liste engagés'!E167,\"\")","v":""},{"$f":"IF('liste engagés'!$G167=12,'liste engagés'!K167,\"\")","v":""},{"$f":"IF('liste engagés'!$G167=12,'liste engagés'!L167,\"\")","v":""},0]
[163,{"$f":"IF('liste engagés'!$G168=12,'liste engagés'!A168,\"\")","v":""},{"$f":"IF('liste engagés'!$G168=12,'liste engagés'!B168,\"\")","v":""},{"$f":"IF('liste engagés'!$G168=12,'liste engagés'!C168,\"\")","v":""},{"$f":"IF('liste engagés'!$G168=12,'liste engagés'!D168,\"\")","v":""},{"$f":"IF('liste engagés'!$G168=12,'liste engagés'!E168,\"\")","v":""},{"$f":"IF('liste engagés'!$G168=12,'liste engagés'!K168,\"\")","v":""},{"$f":"IF('liste engagés'!$G168=12,'liste engagés'!L168,\"\")","v":""},0]
[164,{"$f":"IF('liste engagés'!$G169=12,'liste engagés'!A169,\"\")","v":""},{"$f":"IF('liste engagés'!$G169=12,'liste engagés'!B169,\"\")","v":""},{"$f":"IF('liste engagés'!$G169=12,'liste engagés'!C169,\"\")","v":""},{"$f":"IF('liste engagés'!$G169=12,'liste engagés'!D169,\"\")","v":""},{"$f":"IF('liste engagés'!$G169=12,'liste engagés'!E169,\"\")","v":""},{"$f":"IF('liste engagés'!$G169=12,'liste engagés'!K169,\"\")","v":""},{"$f":"IF('liste engagés'!$G169=12,'liste engagés'!L169,\"\")","v":""},0]
[165,{"$f":"IF('liste engagés'!$G170=12,'liste engagés'!A170,\"\")","v":""},{"$f":"IF('liste engagés'!$G170=12,'liste engagés'!B170,\"\")","v":""},{"$f":"IF('liste engagés'!$G170=12,'liste engagés'!C170,\"\")","v":""},{"$f":"IF('liste engagés'!$G170=12,'liste engagés'!D170,\"\")","v":""},{"$f":"IF('liste engagés'!$G170=12,'liste engagés'!E170,\"\")","v":""},{"$f":"IF('liste engagés'!$G170=12,'liste engagés'!K170,\"\")","v":""},{"$f":"IF('liste engagés'!$G170=12,'liste engagés'!L170,\"\")","v":""},0]
[166,{"$f":"IF('liste engagés'!$G171=12,'liste engagés'!A171,\"\")","v":""},{"$f":"IF('liste engagés'!$G171=12,'liste engagés'!B171,\"\")","v":""},{"$f":"IF('liste engagés'!$G171=12,'liste engagés'!C171,\"\")","v":""},{"$f":"IF('liste engagés'!$G171=12,'liste engagés'!D171,\"\")","v":""},{"$f":"IF('liste engagés'!$G171=12,'liste engagés'!E171,\"\")","v":""},{"$f":"IF('liste engagés'!$G171=12,'liste engagés'!K171,\"\")","v":""},{"$f":"IF('liste engagés'!$G171=12,'liste engagés'!L171,\"\")","v":""},0]
[167,{"$f":"IF('liste engagés'!$G172=12,'liste engagés'!A172,\"\")","v":""},{"$f":"IF('liste engagés'!$G172=12,'liste engagés'!B172,\"\")","v":""},{"$f":"IF('liste engagés'!$G172=12,'liste engagés'!C172,\"\")","v":""},{"$f":"IF('liste engagés'!$G172=12,'liste engagés'!D172,\"\")","v":""},{"$f":"IF('liste engagés'!$G172=12,'liste engagés'!E172,\"\")","v":""},{"$f":"IF('liste engagés'!$G172=12,'liste engagés'!K172,\"\")","v":""},{"$f":"IF('liste engagés'!$G172=12,'liste engagés'!L172,\"\")","v":""},0]
[168,{"$f":"IF('liste engagés'!$G173=12,'liste engagés'!A173,\"\")","v":""},{"$f":"IF('liste engagés'!$G173=12,'liste engagés'!B173,\"\")","v":""},{"$f":"IF('liste engagés'!$G173=12,'liste engagés'!C173,\"\")","v":""},{"$f":"IF('liste engagés'!$G173=12,'liste engagés'!D173,\"\")","v":""},{"$f":"IF('liste engagés'!$G173=12,'liste engagés'!E173,\"\")","v":""},{"$f":"IF('liste engagés'!$G173=12,'liste engagés'!K173,\"\")","v":""},{"$f":"IF('liste engagés'!$G173=12,'liste engagés'!L173,\"\")","v":""},0]
[169,{"$f":"IF('liste engagés'!$G174=12,'liste engagés'!A174,\"\")","v":""},{"$f":"IF('liste engagés'!$G174=12,'liste engagés'!B174,\"\")","v":""},{"$f":"IF('liste engagés'!$G174=12,'liste engagés'!C174,\"\")","v":""},{"$f":"IF('liste engagés'!$G174=12,'liste engagés'!D174,\"\")","v":""},{"$f":"IF('liste engagés'!$G174=12,'liste engagés'!E174,\"\")","v":""},{"$f":"IF('liste engagés'!$G174=12,'liste engagés'!K174,\"\")","v":""},{"$f":"IF('liste engagés'!$G174=12,'liste engagés'!L174,\"\")","v":""},0]
[170,{"$f":"IF('liste engagés'!$G175=12,'liste engagés'!A175,\"\")","v":""},{"$f":"IF('liste engagés'!$G175=12,'liste engagés'!B175,\"\")","v":""},{"$f":"IF('liste engagés'!$G175=12,'liste engagés'!C175,\"\")","v":""},{"$f":"IF('liste engagés'!$G175=12,'liste engagés'!D175,\"\")","v":""},{"$f":"IF('liste engagés'!$G175=12,'liste engagés'!E175,\"\")","v":""},{"$f":"IF('liste engagés'!$G175=12,'liste engagés'!K175,\"\")","v":""},{"$f":"IF('liste engagés'!$G175=12,'liste engagés'!L175,\"\")","v":""},0]
[171,{"$f":"IF('liste engagés'!$G176=12,'liste engagés'!A176,\"\")","v":""},{"$f":"IF('liste engagés'!$G176=12,'liste engagés'!B176,\"\")","v":""},{"$f":"IF('liste engagés'!$G176=12,'liste engagés'!C176,\"\")","v":""},{"$f":"IF('liste engagés'!$G176=12,'liste engagés'!D176,\"\")","v":""},{"$f":"IF('liste engagés'!$G176=12,'liste engagés'!E176,\"\")","v":""},{"$f":"IF('liste engagés'!$G176=12,'liste engagés'!K176,\"\")","v":""},{"$f":"IF('liste engagés'!$G176=12,'liste engagés'!L176,\"\")","v":""},0]
[172,{"$f":"IF('liste engagés'!$G177=12,'liste engagés'!A177,\"\")","v":""},{"$f":"IF('liste engagés'!$G177=12,'liste engagés'!B177,\"\")","v":""},{"$f":"IF('liste engagés'!$G177=12,'liste engagés'!C177,\"\")","v":""},{"$f":"IF('liste engagés'!$G177=12,'liste engagés'!D177,\"\")","v":""},{"$f":"IF('liste engagés'!$G177=12,'liste engagés'!E177,\"\")","v":""},{"$f":"IF('liste engagés'!$G177=12,'liste engagés'!K177,\"\")","v":""},{"$f":"IF('liste engagés'!$G177=12,'liste engagés'!L177,\"\")","v":""},0]
[173,{"$f":"IF('liste engagés'!$G178=12,'liste engagés'!A178,\"\")","v":""},{"$f":"IF('liste engagés'!$G178=12,'liste engagés'!B178,\"\")","v":""},{"$f":"IF('liste engagés'!$G178=12,'liste engagés'!C178,\"\")","v":""},{"$f":"IF('liste engagés'!$G178=12,'liste engagés'!D178,\"\")","v":""},{"$f":"IF('liste engagés'!$G178=12,'liste engagés'!E178,\"\")","v":""},{"$f":"IF('liste engagés'!$G178=12,'liste engagés'!K178,\"\")","v":""},{"$f":"IF('liste engagés'!$G178=12,'liste engagés'!L178,\"\")","v":""},0]
[174,{"$f":"IF('liste engagés'!$G179=12,'liste engagés'!A179,\"\")","v":""},{"$f":"IF('liste engagés'!$G179=12,'liste engagés'!B179,\"\")","v":""},{"$f":"IF('liste engagés'!$G179=12,'liste engagés'!C179,\"\")","v":""},{"$f":"IF('liste engagés'!$G179=12,'liste engagés'!D179,\"\")","v":""},{"$f":"IF('liste engagés'!$G179=12,'liste engagés'!E179,\"\")","v":""},{"$f":"IF('liste engagés'!$G179=12,'liste engagés'!K179,\"\")","v":""},{"$f":"IF('liste engagés'!$G179=12,'liste engagés'!L179,\"\")","v":""},0]
[175,{"$f":"IF('liste engagés'!$G180=12,'liste engagés'!A180,\"\")","v":""},{"$f":"IF('liste engagés'!$G180=12,'liste engagés'!B180,\"\")","v":""},{"$f":"IF('liste engagés'!$G180=12,'liste engagés'!C180,\"\")","v":""},{"$f":"IF('liste engagés'!$G180=12,'liste engagés'!D180,\"\")","v":""},{"$f":"IF('liste engagés'!$G180=12,'liste engagés'!E180,\"\")","v":""},{"$f":"IF('liste engagés'!$G180=12,'liste engagés'!K180,\"\")","v":""},{"$f":"IF('liste engagés'!$G180=12,'liste engagés'!L180,\"\")","v":""},0]
[176,{"$f":"IF('liste engagés'!$G181=12,'liste engagés'!A181,\"\")","v":""},{"$f":"IF('liste engagés'!$G181=12,'liste engagés'!B181,\"\")","v":""},{"$f":"IF('liste engagés'!$G181=12,'liste engagés'!C181,\"\")","v":""},{"$f":"IF('liste engagés'!$G181=12,'liste engagés'!D181,\"\")","v":""},{"$f":"IF('liste engagés'!$G181=12,'liste engagés'!E181,\"\")","v":""},{"$f":"IF('liste engagés'!$G181=12,'liste engagés'!K181,\"\")","v":""},{"$f":"IF('liste engagés'!$G181=12,'liste engagés'!L181,\"\")","v":""},0]
[177,{"$f":"IF('liste engagés'!$G182=12,'liste engagés'!A182,\"\")","v":""},{"$f":"IF('liste engagés'!$G182=12,'liste engagés'!B182,\"\")","v":""},{"$f":"IF('liste engagés'!$G182=12,'liste engagés'!C182,\"\")","v":""},{"$f":"IF('liste engagés'!$G182=12,'liste engagés'!D182,\"\")","v":""},{"$f":"IF('liste engagés'!$G182=12,'liste engagés'!E182,\"\")","v":""},{"$f":"IF('liste engagés'!$G182=12,'liste engagés'!K182,\"\")","v":""},{"$f":"IF('liste engagés'!$G182=12,'liste engagés'!L182,\"\")","v":""},0]
[178,{"$f":"IF('liste engagés'!$G183=12,'liste engagés'!A183,\"\")","v":""},{"$f":"IF('liste engagés'!$G183=12,'liste engagés'!B183,\"\")","v":""},{"$f":"IF('liste engagés'!$G183=12,'liste engagés'!C183,\"\")","v":""},{"$f":"IF('liste engagés'!$G183=12,'liste engagés'!D183,\"\")","v":""},{"$f":"IF('liste engagés'!$G183=12,'liste engagés'!E183,\"\")","v":""},{"$f":"IF('liste engagés'!$G183=12,'liste engagés'!K183,\"\")","v":""},{"$f":"IF('liste engagés'!$G183=12,'liste engagés'!L183,\"\")","v":""},0]
[179,{"$f":"IF('liste engagés'!$G184=12,'liste engagés'!A184,\"\")","v":""},{"$f":"IF('liste engagés'!$G184=12,'liste engagés'!B184,\"\")","v":""},{"$f":"IF('liste engagés'!$G184=12,'liste engagés'!C184,\"\")","v":""},{"$f":"IF('liste engagés'!$G184=12,'liste engagés'!D184,\"\")","v":""},{"$f":"IF('liste engagés'!$G184=12,'liste engagés'!E184,\"\")","v":""},{"$f":"IF('liste engagés'!$G184=12,'liste engagés'!K184,\"\")","v":""},{"$f":"IF('liste engagés'!$G184=12,'liste engagés'!L184,\"\")","v":""},0]
[180,{"$f":"IF('liste engagés'!$G185=12,'liste engagés'!A185,\"\")","v":""},{"$f":"IF('liste engagés'!$G185=12,'liste engagés'!B185,\"\")","v":""},{"$f":"IF('liste engagés'!$G185=12,'liste engagés'!C185,\"\")","v":""},{"$f":"IF('liste engagés'!$G185=12,'liste engagés'!D185,\"\")","v":""},{"$f":"IF('liste engagés'!$G185=12,'liste engagés'!E185,\"\")","v":""},{"$f":"IF('liste engagés'!$G185=12,'liste engagés'!K185,\"\")","v":""},{"$f":"IF('liste engagés'!$G185=12,'liste engagés'!L185,\"\")","v":""},0]
[181,{"$f":"IF('liste engagés'!$G186=12,'liste engagés'!A186,\"\")","v":""},{"$f":"IF('liste engagés'!$G186=12,'liste engagés'!B186,\"\")","v":""},{"$f":"IF('liste engagés'!$G186=12,'liste engagés'!C186,\"\")","v":""},{"$f":"IF('liste engagés'!$G186=12,'liste engagés'!D186,\"\")","v":""},{"$f":"IF('liste engagés'!$G186=12,'liste engagés'!E186,\"\")","v":""},{"$f":"IF('liste engagés'!$G186=12,'liste engagés'!K186,\"\")","v":""},{"$f":"IF('liste engagés'!$G186=12,'liste engagés'!L186,\"\")","v":""},0]
[182,{"$f":"IF('liste engagés'!$G187=12,'liste engagés'!A187,\"\")","v":""},{"$f":"IF('liste engagés'!$G187=12,'liste engagés'!B187,\"\")","v":""},{"$f":"IF('liste engagés'!$G187=12,'liste engagés'!C187,\"\")","v":""},{"$f":"IF('liste engagés'!$G187=12,'liste engagés'!D187,\"\")","v":""},{"$f":"IF('liste engagés'!$G187=12,'liste engagés'!E187,\"\")","v":""},{"$f":"IF('liste engagés'!$G187=12,'liste engagés'!K187,\"\")","v":""},{"$f":"IF('liste engagés'!$G187=12,'liste engagés'!L187,\"\")","v":""},0]
[183,{"$f":"IF('liste engagés'!$G188=12,'liste engagés'!A188,\"\")","v":""},{"$f":"IF('liste engagés'!$G188=12,'liste engagés'!B188,\"\")","v":""},{"$f":"IF('liste engagés'!$G188=12,'liste engagés'!C188,\"\")","v":""},{"$f":"IF('liste engagés'!$G188=12,'liste engagés'!D188,\"\")","v":""},{"$f":"IF('liste engagés'!$G188=12,'liste engagés'!E188,\"\")","v":""},{"$f":"IF('liste engagés'!$G188=12,'liste engagés'!K188,\"\")","v":""},{"$f":"IF('liste engagés'!$G188=12,'liste engagés'!L188,\"\")","v":""},0]
[184,{"$f":"IF('liste engagés'!$G189=12,'liste engagés'!A189,\"\")","v":""},{"$f":"IF('liste engagés'!$G189=12,'liste engagés'!B189,\"\")","v":""},{"$f":"IF('liste engagés'!$G189=12,'liste engagés'!C189,\"\")","v":""},{"$f":"IF('liste engagés'!$G189=12,'liste engagés'!D189,\"\")","v":""},{"$f":"IF('liste engagés'!$G189=12,'liste engagés'!E189,\"\")","v":""},{"$f":"IF('liste engagés'!$G189=12,'liste engagés'!K189,\"\")","v":""},{"$f":"IF('liste engagés'!$G189=12,'liste engagés'!L189,\"\")","v":""},0]
[185,{"$f":"IF('liste engagés'!$G190=12,'liste engagés'!A190,\"\")","v":""},{"$f":"IF('liste engagés'!$G190=12,'liste engagés'!B190,\"\")","v":""},{"$f":"IF('liste engagés'!$G190=12,'liste engagés'!C190,\"\")","v":""},{"$f":"IF('liste engagés'!$G190=12,'liste engagés'!D190,\"\")","v":""},{"$f":"IF('liste engagés'!$G190=12,'liste engagés'!E190,\"\")","v":""},{"$f":"IF('liste engagés'!$G190=12,'liste engagés'!K190,\"\")","v":""},{"$f":"IF('liste engagés'!$G190=12,'liste engagés'!L190,\"\")","v":""},0]
[186,{"$f":"IF('liste engagés'!$G191=12,'liste engagés'!A191,\"\")","v":""},{"$f":"IF('liste engagés'!$G191=12,'liste engagés'!B191,\"\")","v":""},{"$f":"IF('liste engagés'!$G191=12,'liste engagés'!C191,\"\")","v":""},{"$f":"IF('liste engagés'!$G191=12,'liste engagés'!D191,\"\")","v":""},{"$f":"IF('liste engagés'!$G191=12,'liste engagés'!E191,\"\")","v":""},{"$f":"IF('liste engagés'!$G191=12,'liste engagés'!K191,\"\")","v":""},{"$f":"IF('liste engagés'!$G191=12,'liste engagés'!L191,\"\")","v":""},0]
[187,{"$f":"IF('liste engagés'!$G192=12,'liste engagés'!A192,\"\")","v":""},{"$f":"IF('liste engagés'!$G192=12,'liste engagés'!B192,\"\")","v":""},{"$f":"IF('liste engagés'!$G192=12,'liste engagés'!C192,\"\")","v":""},{"$f":"IF('liste engagés'!$G192=12,'liste engagés'!D192,\"\")","v":""},{"$f":"IF('liste engagés'!$G192=12,'liste engagés'!E192,\"\")","v":""},{"$f":"IF('liste engagés'!$G192=12,'liste engagés'!K192,\"\")","v":""},{"$f":"IF('liste engagés'!$G192=12,'liste engagés'!L192,\"\")","v":""},0]
[188,{"$f":"IF('liste engagés'!$G193=12,'liste engagés'!A193,\"\")","v":""},{"$f":"IF('liste engagés'!$G193=12,'liste engagés'!B193,\"\")","v":""},{"$f":"IF('liste engagés'!$G193=12,'liste engagés'!C193,\"\")","v":""},{"$f":"IF('liste engagés'!$G193=12,'liste engagés'!D193,\"\")","v":""},{"$f":"IF('liste engagés'!$G193=12,'liste engagés'!E193,\"\")","v":""},{"$f":"IF('liste engagés'!$G193=12,'liste engagés'!K193,\"\")","v":""},{"$f":"IF('liste engagés'!$G193=12,'liste engagés'!L193,\"\")","v":""},0]
[189,{"$f":"IF('liste engagés'!$G194=12,'liste engagés'!A194,\"\")","v":""},{"$f":"IF('liste engagés'!$G194=12,'liste engagés'!B194,\"\")","v":""},{"$f":"IF('liste engagés'!$G194=12,'liste engagés'!C194,\"\")","v":""},{"$f":"IF('liste engagés'!$G194=12,'liste engagés'!D194,\"\")","v":""},{"$f":"IF('liste engagés'!$G194=12,'liste engagés'!E194,\"\")","v":""},{"$f":"IF('liste engagés'!$G194=12,'liste engagés'!K194,\"\")","v":""},{"$f":"IF('liste engagés'!$G194=12,'liste engagés'!L194,\"\")","v":""},0]
[190,{"$f":"IF('liste engagés'!$G195=12,'liste engagés'!A195,\"\")","v":""},{"$f":"IF('liste engagés'!$G195=12,'liste engagés'!B195,\"\")","v":""},{"$f":"IF('liste engagés'!$G195=12,'liste engagés'!C195,\"\")","v":""},{"$f":"IF('liste engagés'!$G195=12,'liste engagés'!D195,\"\")","v":""},{"$f":"IF('liste engagés'!$G195=12,'liste engagés'!E195,\"\")","v":""},{"$f":"IF('liste engagés'!$G195=12,'liste engagés'!K195,\"\")","v":""},{"$f":"IF('liste engagés'!$G195=12,'liste engagés'!L195,\"\")","v":""},0]
[191,{"$f":"IF('liste engagés'!$G196=12,'liste engagés'!A196,\"\")","v":""},{"$f":"IF('liste engagés'!$G196=12,'liste engagés'!B196,\"\")","v":""},{"$f":"IF('liste engagés'!$G196=12,'liste engagés'!C196,\"\")","v":""},{"$f":"IF('liste engagés'!$G196=12,'liste engagés'!D196,\"\")","v":""},{"$f":"IF('liste engagés'!$G196=12,'liste engagés'!E196,\"\")","v":""},{"$f":"IF('liste engagés'!$G196=12,'liste engagés'!K196,\"\")","v":""},{"$f":"IF('liste engagés'!$G196=12,'liste engagés'!L196,\"\")","v":""},0]
[192,{"$f":"IF('liste engagés'!$G197=12,'liste engagés'!A197,\"\")","v":""},{"$f":"IF('liste engagés'!$G197=12,'liste engagés'!B197,\"\")","v":""},{"$f":"IF('liste engagés'!$G197=12,'liste engagés'!C197,\"\")","v":""},{"$f":"IF('liste engagés'!$G197=12,'liste engagés'!D197,\"\")","v":""},{"$f":"IF('liste engagés'!$G197=12,'liste engagés'!E197,\"\")","v":""},{"$f":"IF('liste engagés'!$G197=12,'liste engagés'!K197,\"\")","v":""},{"$f":"IF('liste engagés'!$G197=12,'liste engagés'!L197,\"\")","v":""},0]
[193,{"$f":"IF('liste engagés'!$G198=12,'liste engagés'!A198,\"\")","v":""},{"$f":"IF('liste engagés'!$G198=12,'liste engagés'!B198,\"\")","v":""},{"$f":"IF('liste engagés'!$G198=12,'liste engagés'!C198,\"\")","v":""},{"$f":"IF('liste engagés'!$G198=12,'liste engagés'!D198,\"\")","v":""},{"$f":"IF('liste engagés'!$G198=12,'liste engagés'!E198,\"\")","v":""},{"$f":"IF('liste engagés'!$G198=12,'liste engagés'!K198,\"\")","v":""},{"$f":"IF('liste engagés'!$G198=12,'liste engagés'!L198,\"\")","v":""},{"$f":"+IF(C199=\"\",0,1)","v":0}]
[{"$f":"+A199+1","v":194},{"$f":"IF('liste engagés'!$G199=12,'liste engagés'!A199,\"\")","v":""},{"$f":"IF('liste engagés'!$G199=12,'liste engagés'!B199,\"\")","v":""},{"$f":"IF('liste engagés'!$G199=12,'liste engagés'!C199,\"\")","v":""},{"$f":"IF('liste engagés'!$G199=12,'liste engagés'!D199,\"\")","v":""},{"$f":"IF('liste engagés'!$G199=12,'liste engagés'!E199,\"\")","v":""},{"$f":"IF('liste engagés'!$G199=12,'liste engagés'!K199,\"\")","v":""},{"$f":"IF('liste engagés'!$G199=12,'liste engagés'!L199,\"\")","v":""},0]
[195,{"$f":"IF('liste engagés'!$G200=12,'liste engagés'!A200,\"\")","v":""},{"$f":"IF('liste engagés'!$G200=12,'liste engagés'!B200,\"\")","v":""},{"$f":"IF('liste engagés'!$G200=12,'liste engagés'!C200,\"\")","v":""},{"$f":"IF('liste engagés'!$G200=12,'liste engagés'!D200,\"\")","v":""},{"$f":"IF('liste engagés'!$G200=12,'liste engagés'!E200,\"\")","v":""},{"$f":"IF('liste engagés'!$G200=12,'liste engagés'!K200,\"\")","v":""},{"$f":"IF('liste engagés'!$G200=12,'liste engagés'!L200,\"\")","v":""},0]
[196,{"$f":"IF('liste engagés'!$G201=12,'liste engagés'!A201,\"\")","v":""},{"$f":"IF('liste engagés'!$G201=12,'liste engagés'!B201,\"\")","v":""},{"$f":"IF('liste engagés'!$G201=12,'liste engagés'!C201,\"\")","v":""},{"$f":"IF('liste engagés'!$G201=12,'liste engagés'!D201,\"\")","v":""},{"$f":"IF('liste engagés'!$G201=12,'liste engagés'!E201,\"\")","v":""},{"$f":"IF('liste engagés'!$G201=12,'liste engagés'!K201,\"\")","v":""},{"$f":"IF('liste engagés'!$G201=12,'liste engagés'!L201,\"\")","v":""},0]
[197,{"$f":"IF('liste engagés'!$G202=12,'liste engagés'!A202,\"\")","v":""},{"$f":"IF('liste engagés'!$G202=12,'liste engagés'!B202,\"\")","v":""},{"$f":"IF('liste engagés'!$G202=12,'liste engagés'!C202,\"\")","v":""},{"$f":"IF('liste engagés'!$G202=12,'liste engagés'!D202,\"\")","v":""},{"$f":"IF('liste engagés'!$G202=12,'liste engagés'!E202,\"\")","v":""},{"$f":"IF('liste engagés'!$G202=12,'liste engagés'!K202,\"\")","v":""},{"$f":"IF('liste engagés'!$G202=12,'liste engagés'!L202,\"\")","v":""},0]
[198,{"$f":"IF('liste engagés'!$G203=12,'liste engagés'!A203,\"\")","v":""},{"$f":"IF('liste engagés'!$G203=12,'liste engagés'!B203,\"\")","v":""},{"$f":"IF('liste engagés'!$G203=12,'liste engagés'!C203,\"\")","v":""},{"$f":"IF('liste engagés'!$G203=12,'liste engagés'!D203,\"\")","v":""},{"$f":"IF('liste engagés'!$G203=12,'liste engagés'!E203,\"\")","v":""},{"$f":"IF('liste engagés'!$G203=12,'liste engagés'!K203,\"\")","v":""},{"$f":"IF('liste engagés'!$G203=12,'liste engagés'!L203,\"\")","v":""},0]
[199,{"$f":"IF('liste engagés'!$G204=12,'liste engagés'!A204,\"\")","v":""},{"$f":"IF('liste engagés'!$G204=12,'liste engagés'!B204,\"\")","v":""},{"$f":"IF('liste engagés'!$G204=12,'liste engagés'!C204,\"\")","v":""},{"$f":"IF('liste engagés'!$G204=12,'liste engagés'!D204,\"\")","v":""},{"$f":"IF('liste engagés'!$G204=12,'liste engagés'!E204,\"\")","v":""},{"$f":"IF('liste engagés'!$G204=12,'liste engagés'!K204,\"\")","v":""},{"$f":"IF('liste engagés'!$G204=12,'liste engagés'!L204,\"\")","v":""},0]
[200,{"$f":"IF('liste engagés'!$G205=12,'liste engagés'!A205,\"\")","v":""},{"$f":"IF('liste engagés'!$G205=12,'liste engagés'!B205,\"\")","v":""},{"$f":"IF('liste engagés'!$G205=12,'liste engagés'!C205,\"\")","v":""},{"$f":"IF('liste engagés'!$G205=12,'liste engagés'!D205,\"\")","v":""},{"$f":"IF('liste engagés'!$G205=12,'liste engagés'!E205,\"\")","v":""},{"$f":"IF('liste engagés'!$G205=12,'liste engagés'!K205,\"\")","v":""},{"$f":"IF('liste engagés'!$G205=12,'liste engagés'!L205,\"\")","v":""},0]
[201,{"$f":"IF('liste engagés'!$G206=12,'liste engagés'!A206,\"\")","v":""},{"$f":"IF('liste engagés'!$G206=12,'liste engagés'!B206,\"\")","v":""},{"$f":"IF('liste engagés'!$G206=12,'liste engagés'!C206,\"\")","v":""},{"$f":"IF('liste engagés'!$G206=12,'liste engagés'!D206,\"\")","v":""},{"$f":"IF('liste engagés'!$G206=12,'liste engagés'!E206,\"\")","v":""},{"$f":"IF('liste engagés'!$G206=12,'liste engagés'!K206,\"\")","v":""},{"$f":"IF('liste engagés'!$G206=12,'liste engagés'!L206,\"\")","v":""},0]
[202,{"$f":"IF('liste engagés'!$G207=12,'liste engagés'!A207,\"\")","v":""},{"$f":"IF('liste engagés'!$G207=12,'liste engagés'!B207,\"\")","v":""},{"$f":"IF('liste engagés'!$G207=12,'liste engagés'!C207,\"\")","v":""},{"$f":"IF('liste engagés'!$G207=12,'liste engagés'!D207,\"\")","v":""},{"$f":"IF('liste engagés'!$G207=12,'liste engagés'!E207,\"\")","v":""},{"$f":"IF('liste engagés'!$G207=12,'liste engagés'!K207,\"\")","v":""},{"$f":"IF('liste engagés'!$G207=12,'liste engagés'!L207,\"\")","v":""},0]
[203,{"$f":"IF('liste engagés'!$G208=12,'liste engagés'!A208,\"\")","v":""},{"$f":"IF('liste engagés'!$G208=12,'liste engagés'!B208,\"\")","v":""},{"$f":"IF('liste engagés'!$G208=12,'liste engagés'!C208,\"\")","v":""},{"$f":"IF('liste engagés'!$G208=12,'liste engagés'!D208,\"\")","v":""},{"$f":"IF('liste engagés'!$G208=12,'liste engagés'!E208,\"\")","v":""},{"$f":"IF('liste engagés'!$G208=12,'liste engagés'!K208,\"\")","v":""},{"$f":"IF('liste engagés'!$G208=12,'liste engagés'!L208,\"\")","v":""},0]
[204,{"$f":"IF('liste engagés'!$G209=12,'liste engagés'!A209,\"\")","v":""},{"$f":"IF('liste engagés'!$G209=12,'liste engagés'!B209,\"\")","v":""},{"$f":"IF('liste engagés'!$G209=12,'liste engagés'!C209,\"\")","v":""},{"$f":"IF('liste engagés'!$G209=12,'liste engagés'!D209,\"\")","v":""},{"$f":"IF('liste engagés'!$G209=12,'liste engagés'!E209,\"\")","v":""},{"$f":"IF('liste engagés'!$G209=12,'liste engagés'!K209,\"\")","v":""},{"$f":"IF('liste engagés'!$G209=12,'liste engagés'!L209,\"\")","v":""},0]
[205,{"$f":"IF('liste engagés'!$G210=12,'liste engagés'!A210,\"\")","v":""},{"$f":"IF('liste engagés'!$G210=12,'liste engagés'!B210,\"\")","v":""},{"$f":"IF('liste engagés'!$G210=12,'liste engagés'!C210,\"\")","v":""},{"$f":"IF('liste engagés'!$G210=12,'liste engagés'!D210,\"\")","v":""},{"$f":"IF('liste engagés'!$G210=12,'liste engagés'!E210,\"\")","v":""},{"$f":"IF('liste engagés'!$G210=12,'liste engagés'!K210,\"\")","v":""},{"$f":"IF('liste engagés'!$G210=12,'liste engagés'!L210,\"\")","v":""},0]
[206,{"$f":"IF('liste engagés'!$G211=12,'liste engagés'!A211,\"\")","v":""},{"$f":"IF('liste engagés'!$G211=12,'liste engagés'!B211,\"\")","v":""},{"$f":"IF('liste engagés'!$G211=12,'liste engagés'!C211,\"\")","v":""},{"$f":"IF('liste engagés'!$G211=12,'liste engagés'!D211,\"\")","v":""},{"$f":"IF('liste engagés'!$G211=12,'liste engagés'!E211,\"\")","v":""},{"$f":"IF('liste engagés'!$G211=12,'liste engagés'!K211,\"\")","v":""},{"$f":"IF('liste engagés'!$G211=12,'liste engagés'!L211,\"\")","v":""},0]
[207,{"$f":"IF('liste engagés'!$G212=12,'liste engagés'!A212,\"\")","v":""},{"$f":"IF('liste engagés'!$G212=12,'liste engagés'!B212,\"\")","v":""},{"$f":"IF('liste engagés'!$G212=12,'liste engagés'!C212,\"\")","v":""},{"$f":"IF('liste engagés'!$G212=12,'liste engagés'!D212,\"\")","v":""},{"$f":"IF('liste engagés'!$G212=12,'liste engagés'!E212,\"\")","v":""},{"$f":"IF('liste engagés'!$G212=12,'liste engagés'!K212,\"\")","v":""},{"$f":"IF('liste engagés'!$G212=12,'liste engagés'!L212,\"\")","v":""},0]
[208,{"$f":"IF('liste engagés'!$G213=12,'liste engagés'!A213,\"\")","v":""},{"$f":"IF('liste engagés'!$G213=12,'liste engagés'!B213,\"\")","v":""},{"$f":"IF('liste engagés'!$G213=12,'liste engagés'!C213,\"\")","v":""},{"$f":"IF('liste engagés'!$G213=12,'liste engagés'!D213,\"\")","v":""},{"$f":"IF('liste engagés'!$G213=12,'liste engagés'!E213,\"\")","v":""},{"$f":"IF('liste engagés'!$G213=12,'liste engagés'!K213,\"\")","v":""},{"$f":"IF('liste engagés'!$G213=12,'liste engagés'!L213,\"\")","v":""},0]
[209,{"$f":"IF('liste engagés'!$G214=12,'liste engagés'!A214,\"\")","v":""},{"$f":"IF('liste engagés'!$G214=12,'liste engagés'!B214,\"\")","v":""},{"$f":"IF('liste engagés'!$G214=12,'liste engagés'!C214,\"\")","v":""},{"$f":"IF('liste engagés'!$G214=12,'liste engagés'!D214,\"\")","v":""},{"$f":"IF('liste engagés'!$G214=12,'liste engagés'!E214,\"\")","v":""},{"$f":"IF('liste engagés'!$G214=12,'liste engagés'!K214,\"\")","v":""},{"$f":"IF('liste engagés'!$G214=12,'liste engagés'!L214,\"\")","v":""},0]
[210,{"$f":"IF('liste engagés'!$G215=12,'liste engagés'!A215,\"\")","v":""},{"$f":"IF('liste engagés'!$G215=12,'liste engagés'!B215,\"\")","v":""},{"$f":"IF('liste engagés'!$G215=12,'liste engagés'!C215,\"\")","v":""},{"$f":"IF('liste engagés'!$G215=12,'liste engagés'!D215,\"\")","v":""},{"$f":"IF('liste engagés'!$G215=12,'liste engagés'!E215,\"\")","v":""},{"$f":"IF('liste engagés'!$G215=12,'liste engagés'!K215,\"\")","v":""},{"$f":"IF('liste engagés'!$G215=12,'liste engagés'!L215,\"\")","v":""},0]
[null,null,null,null,null,null,null,null,{"$f":"SUM(I7:I216)","v":5}]

{"sheet":"records","index":16,"n_rows":4,"n_cols":5,"rows_kept":4,"cut":false,"hidden":false,"merged":[[0,0,0,2]]}
["Record de l'épreuve"]
[null,null,null,null,"MENU"]
[null,"Meilleurs temps","Edition"]
["Scratch","00:28:30",2010,null,{"$f":"+IF(D4=1,\"record battu\",\"\")","v":""}]